{"text_format":"1","workbook":"xlsx","n_sheets":19,"sheets":["parameters","index","rates","foundation budget","municipal contribution","regional allocation","summary","regional dist members","ceyregionalcalc","localcont","regionals","comparison to fy15","townwide contributions","aid436","Chart Base","frac","disthist","dist435","leas"],"not_rendered":{"charts":6,"images":0,"macros":1,"external_links":0,"defined_names":91,"comments":4,"pivot_tables":0},"unopened":[],"bounds":{"document_bytes":16777216,"sheet_cells":100000,"rows_first":2000,"rows_last":500,"rows_between":2000,"halvings":0,"cell_chars":16384,"cell_head_chars":4096},"cells_cut":0,"cells_raw":0,"read":"whole","date_system":"1900"}

{"sheet":"parameters","index":0,"n_rows":46,"n_cols":21,"rows_kept":46,"cut":false,"hidden":false,"merged":[]}
[]
[]
[]
[]
["parameters",null,null,"Base"]
[null,"which version of foundation budget? ",1,1]
[null,"effort reduction",1,0,null,null,null,null,null,null,"Progress Towards Target Local Share"]
[null,"pct downpayment",0,0]
[null,"growth aid?","no","no",null,null,null,null,null,null,null,"FY07","FY08","FY09","FY10","FY11","FY12","FY13","FY14","FY15","FY16"]
[null,"target aid share floor?","no","no",null,null,"c70 FY15 (GAA)",4400696186.8829308,null,null,"excess effort before effort reduction",621.084157,494.05891200000002,372.382091,228.110232,366,293.3,229.8,234.5,307.90301399999998,{"$f":"'townwide contributions'!T361/1000000","v":235.358789}]
[null,"percentage points below target aid share",5,5,null,null,null,null,null,null,"effort reduction",124.21683139999998,123.51472800000001,122.88609003000001,34.216535,109.8,58.7,34.5,35.200000000000003,153.95150699999999,{"$f":"'townwide contributions'!U361/1000000","v":235.358789}]
[null,"target aid phase-in",0,0,null,null,"fy16 foundation aid increase",{"$f":"'aid436'!I448","v":145377081.95481998},null,null,"net excess after effort reduction",496.86732560000002,370.54418399999997,249.49600097000001,193.893697,256.2,{"$f":"Q10-Q11","v":234.60000000000002},{"$f":"R10-R11","v":195.3},199.3,152.08069825743701,{"$f":"'townwide contributions'!AA361/1000000","v":0}]
[null,"CEY % of foundation cut-off",1.4,1.4,null,null,"fy16 down payment increase",{"$f":"'aid436'!M448","v":0},null,null,"shortfall below target before increment",-321.45232199999998,-352.17487499999999,-359.19356299999998,-427.2,-228,-211,-200,-180.2,-162.97221500000001,{"$f":"'townwide contributions'!Y361/1000000","v":-132.627218}]
[null,"per pupil guaranteed increase",25,0,null,null,"growth aid increase",{"$f":"'aid436'!P448","v":0},null,null,"additional increments toward target",0,-19.739149000000001,-21.387588000000001,-121.2,-10.6,-10,-4.2,-3.9,-7.5630930000000003,{"$f":"'townwide contributions'!S361/1000000*-1","v":-5.8487390000000001}]
[null,"which version of mrgf? ",1,1,null,null,"minimum per pupil aid increase",{"$f":"'aid436'!AF448","v":11008840.42075488},null,null,"net shortfall below target after increment",-321.45232199999998,-332.43572599999999,-337.80597499999999,-306,-217.4,-200.9,-195.7,-176.3,-155.409122,{"$f":"'townwide contributions'!Z361/1000000","v":-126.778479}]
[null,"below effort threshold 1",2.5,2.5,null,null,"non-op reduction",{"$f":"'aid436'!AH448","v":71164.359999999986},null,null,"n of municipalities with effort too high",232,218,214,193,282,257,249,255,279,{"$f":"'townwide contributions'!AA364","v":0}]
[null,"below effort threshold 2",7.5,7.5,null,null,"target aid phase-in",{"$f":"'aid436'!AC448","v":0}]
[null,"below effort contribution increment, 5-10% under",0.01,0.01,null,null,"c70fy16",{"$f":"'aid436'!AI448","v":4557150719.8985062}]
[null,"below effort contribution increment, >10% under",0.02,0.02,null,null,"Devens and Southfield",{"$f":"308558+51667","v":360225}]
[null,"maximum local contribution pct of foundation",0.82499999999999996,0.82499999999999996,null,null,"change in c70 appropriation",{"$f":"H18+H19-H10","v":156814758.01557541}]
[null,"statewide target for local contribution % of foundation",0.59,0.59,null,null,"percent change",{"$f":"H20/H10","v":3.5634079553819253E-2}]
[null,"cap contributions at fixed percentage of foundation",0.9,0.9]
[null,"percentage cut to base aid",0,0,null,null,"n of foundation aid operating dists",{"$f":"'aid436'!X448","v":134}]
["eqv/income percentages",null,null,null,null,null,"n of districts with aid increase",{"$f":"'comparison to fy15'!O335","v":322}]
[null,null,null,null,null,null,"total c70 including Devens and Southfield",{"$f":"H18+H19","v":4557510944.8985062}]
[null,"target effort FY15",{"$f":"C21*localcont!H1765","v":5953204590.5394335}]
[null,"effort based upon following percentages",{"$f":"'townwide contributions'!J361","v":5953204595}]
[null,"difference  from target",{"$f":"IF(ABS(C27-C26)<10,0,C27-C26)","v":0}]
[null,"           percentage of EQV ",3.8078205033868049E-3]
[null,"           percentage of  INCOME",{"$f":"C29*1/C34","v":1.4930037603273993E-2}]
[]
[null,"total eqv",{"$f":"'townwide contributions'!C361","v":977191967900}]
[null,"total income",{"$f":"'townwide contributions'!E361","v":249227209601.84}]
[null,"st avg income pct of eqv",{"$f":"C33/C32","v":0.25504426744054493}]
[]
[]
["See Progress Towards Targets"]
[]
[]
[]
[]
[null,null,null,null,null,null,null,null,null,null,"Progress Towards Target Aid Share"]
[]
[null,null,null,null,null,null,null,null,null,null,null,"FY07","FY08","FY09","FY10","FY11","FY12","FY13","FY14","FY15","FY16"]
[null,null,null,null,null,null,null,null,null,null,"aid above target",394.9,421,440.4,413.59914561056684,489.29058672761249,360.5802896250691,372.91397258755205,385.3,404.65393358144092,{"$f":"'aid436'!AP449/1000000","v":420.24080535207941}]
[null,null,null,null,null,null,null,null,null,null,"aid below target",-176.3,-143,-105.5,-97.823632622684812,-75.730739773442338,-110.4290612110001,-84.706296922117531,-66.900000000000006,-49.399214270156875,{"$f":"'aid436'!AP450/1000000","v":-2.6970104151635293E-2}]

{"sheet":"index","index":1,"n_rows":468,"n_cols":10,"rows_kept":468,"cut":false,"hidden":false,"merged":[]}
["Massachusetts Department of Elementary and Secondary Education",null,null,null,null,null,null,null,null,"2015-07-19"]
["FY16 Chapter 70 and Net School Spending Formula Spreadsheet"]
[]
[{"$f":"VLOOKUP(lea_order, leas,4)","v":26}]
[]
[null,"Use the drop-down menu to select a municipal district LEA code (1-351) or regional district LEA code (406-915) and then go to"]
[null,"any of the first four links below.  Only municipal LEA codes will activate the Municipal Contribution Requirement and Regional Allocation tables."]
[null,"A list of codes begins on row 30 of this sheet."]
[]
[null,"We recommend that you save this workbook to your computer before proceeding, then leave this browser, and open the workbook using EXCEL or My Computer."]
[]
[null,"If you get a \"macros not enabled\" or similar macro security error message, access the various sheets manually using the tabs at the bottom the screen."]
[]
[null,"To enable macros, use the macro security commands to enable macros.  Then save the file, close, and then re-open the file."]
[]
[null,"Summary"]
[null,"Foundation Budget"]
[null,"Municipal Contribution Requirement"]
[null,"Regional Allocation"]
[]
[null,"Regional District Detail",null,"(go to this sheet to see any particular regional district's comparison of enrollment and minimum contributions to the prior year)"]
[]
[null,"There are also a number of \"hidden\" sheets which contain the underlying spreadsheet calculations."]
[null,"They can be accessed by the \"format, sheet, unhide\" commands, or by right-clicking on any of the tabs below and choosing a sheet to unhide."]
[]
[null,"Questions or comments about Chapter 70 may be directed to:"]
[null,"Melissa King",null,"mking@doe.mass.edu",null,null,"781-338-6532"]
[null,"Roger Hatch",null,"rhatch@doe.mass.edu",null,null,"781-338-6527"]
[]
["LEA","District"]
[1,"ABINGTON                     "]
[2,"ACTON                        "]
[3,"ACUSHNET                     "]
[4,"ADAMS                        "]
[5,"AGAWAM                       "]
[6,"ALFORD                       "]
[7,"AMESBURY                     "]
[8,"AMHERST                      "]
[9,"ANDOVER                      "]
[10,"ARLINGTON                    "]
[11,"ASHBURNHAM                   "]
[12,"ASHBY                        "]
[13,"ASHFIELD                     "]
[14,"ASHLAND                      "]
[15,"ATHOL                        "]
[16,"ATTLEBORO                    "]
[17,"AUBURN                       "]
[18,"AVON                         "]
[19,"AYER                         "]
[20,"BARNSTABLE                   "]
[21,"BARRE                        "]
[22,"BECKET                       "]
[23,"BEDFORD                      "]
[24,"BELCHERTOWN                  "]
[25,"BELLINGHAM                   "]
[26,"BELMONT                      "]
[27,"BERKLEY                      "]
[28,"BERLIN                       "]
[29,"BERNARDSTON                  "]
[30,"BEVERLY                      "]
[31,"BILLERICA                    "]
[32,"BLACKSTONE                   "]
[33,"BLANDFORD                    "]
[34,"BOLTON                       "]
[35,"BOSTON                       "]
[36,"BOURNE                       "]
[37,"BOXBOROUGH                   "]
[38,"BOXFORD                      "]
[39,"BOYLSTON                     "]
[40,"BRAINTREE                    "]
[41,"BREWSTER                     "]
[42,"BRIDGEWATER                  "]
[43,"BRIMFIELD                    "]
[44,"BROCKTON                     "]
[45,"BROOKFIELD                   "]
[46,"BROOKLINE                    "]
[47,"BUCKLAND                     "]
[48,"BURLINGTON                   "]
[49,"CAMBRIDGE                    "]
[50,"CANTON                       "]
[51,"CARLISLE                     "]
[52,"CARVER                       "]
[53,"CHARLEMONT                   "]
[54,"CHARLTON                     "]
[55,"CHATHAM                      "]
[56,"CHELMSFORD                   "]
[57,"CHELSEA                      "]
[58,"CHESHIRE                     "]
[59,"CHESTER                      "]
[60,"CHESTERFIELD                 "]
[61,"CHICOPEE                     "]
[62,"CHILMARK                     "]
[63,"CLARKSBURG                   "]
[64,"CLINTON                      "]
[65,"COHASSET                     "]
[66,"COLRAIN                      "]
[67,"CONCORD                      "]
[68,"CONWAY                       "]
[69,"CUMMINGTON                   "]
[70,"DALTON                       "]
[71,"DANVERS                      "]
[72,"DARTMOUTH                    "]
[73,"DEDHAM                       "]
[74,"DEERFIELD                    "]
[75,"DENNIS                       "]
[76,"DIGHTON                      "]
[77,"DOUGLAS                      "]
[78,"DOVER                        "]
[79,"DRACUT                       "]
[80,"DUDLEY                       "]
[81,"DUNSTABLE                    "]
[82,"DUXBURY                      "]
[83,"EAST BRIDGEWATER             "]
[84,"EAST BROOKFIELD              "]
[85,"EASTHAM                      "]
[86,"EASTHAMPTON                  "]
[87,"EAST LONGMEADOW              "]
[88,"EASTON                       "]
[89,"EDGARTOWN                    "]
[90,"EGREMONT                     "]
[91,"ERVING                       "]
[92,"ESSEX                        "]
[93,"EVERETT                      "]
[94,"FAIRHAVEN                    "]
[95,"FALL RIVER                   "]
[96,"FALMOUTH                     "]
[97,"FITCHBURG                    "]
[98,"FLORIDA                      "]
[99,"FOXBOROUGH                   "]
[100,"FRAMINGHAM                   "]
[101,"FRANKLIN                     "]
[102,"FREETOWN                     "]
[103,"GARDNER                      "]
[104,"GAY HEAD                     "]
[105,"GEORGETOWN                   "]
[106,"GILL                         "]
[107,"GLOUCESTER                   "]
[108,"GOSHEN                       "]
[109,"GOSNOLD                      "]
[110,"GRAFTON                      "]
[111,"GRANBY                       "]
[112,"GRANVILLE                    "]
[113,"GREAT BARRINGTON             "]
[114,"GREENFIELD                   "]
[115,"GROTON                       "]
[116,"GROVELAND                    "]
[117,"HADLEY                       "]
[118,"HALIFAX                      "]
[119,"HAMILTON                     "]
[120,"HAMPDEN                      "]
[121,"HANCOCK                      "]
[122,"HANOVER                      "]
[123,"HANSON                       "]
[124,"HARDWICK                     "]
[125,"HARVARD                      "]
[126,"HARWICH                      "]
[127,"HATFIELD                     "]
[128,"HAVERHILL                    "]
[129,"HAWLEY                       "]
[130,"HEATH                        "]
[131,"HINGHAM                      "]
[132,"HINSDALE                     "]
[133,"HOLBROOK                     "]
[134,"HOLDEN                       "]
[135,"HOLLAND                      "]
[136,"HOLLISTON                    "]
[137,"HOLYOKE                      "]
[138,"HOPEDALE                     "]
[139,"HOPKINTON                    "]
[140,"HUBBARDSTON                  "]
[141,"HUDSON                       "]
[142,"HULL                         "]
[143,"HUNTINGTON                   "]
[144,"IPSWICH                      "]
[145,"KINGSTON                     "]
[146,"LAKEVILLE                    "]
[147,"LANCASTER                    "]
[148,"LANESBOROUGH                 "]
[149,"LAWRENCE                     "]
[150,"LEE                          "]
[151,"LEICESTER                    "]
[152,"LENOX                        "]
[153,"LEOMINSTER                   "]
[154,"LEVERETT                     "]
[155,"LEXINGTON                    "]
[156,"LEYDEN                       "]
[157,"LINCOLN                      "]
[158,"LITTLETON                    "]
[159,"LONGMEADOW                   "]
[160,"LOWELL                       "]
[161,"LUDLOW                       "]
[162,"LUNENBURG                    "]
[163,"LYNN                         "]
[164,"LYNNFIELD                    "]
[165,"MALDEN                       "]
[166,"MANCHESTER                   "]
[167,"MANSFIELD                    "]
[168,"MARBLEHEAD                   "]
[169,"MARION                       "]
[170,"MARLBOROUGH                  "]
[171,"MARSHFIELD                   "]
[172,"MASHPEE                      "]
[173,"MATTAPOISETT                 "]
[174,"MAYNARD                      "]
[175,"MEDFIELD                     "]
[176,"MEDFORD                      "]
[177,"MEDWAY                       "]
[178,"MELROSE                      "]
[179,"MENDON                       "]
[180,"MERRIMAC                     "]
[181,"METHUEN                      "]
[182,"MIDDLEBOROUGH                "]
[183,"MIDDLEFIELD                  "]
[184,"MIDDLETON                    "]
[185,"MILFORD                      "]
[186,"MILLBURY                     "]
[187,"MILLIS                       "]
[188,"MILLVILLE                    "]
[189,"MILTON                       "]
[190,"MONROE                       "]
[191,"MONSON                       "]
[192,"MONTAGUE                     "]
[193,"MONTEREY                     "]
[194,"MONTGOMERY                   "]
[195,"MOUNT WASHINGTON             "]
[196,"NAHANT                       "]
[197,"NANTUCKET                    "]
[198,"NATICK                       "]
[199,"NEEDHAM                      "]
[200,"NEW ASHFORD                  "]
[201,"NEW BEDFORD                  "]
[202,"NEW BRAINTREE                "]
[203,"NEWBURY                      "]
[204,"NEWBURYPORT                  "]
[205,"NEW MARLBOROUGH              "]
[206,"NEW SALEM                    "]
[207,"NEWTON                       "]
[208,"NORFOLK                      "]
[209,"NORTH ADAMS                  "]
[210,"NORTHAMPTON                  "]
[211,"NORTH ANDOVER                "]
[212,"NORTH ATTLEBOROUGH           "]
[213,"NORTHBOROUGH                 "]
[214,"NORTHBRIDGE                  "]
[215,"NORTH BROOKFIELD             "]
[216,"NORTHFIELD                   "]
[217,"NORTH READING                "]
[218,"NORTON                       "]
[219,"NORWELL                      "]
[220,"NORWOOD                      "]
[221,"OAK BLUFFS                   "]
[222,"OAKHAM                       "]
[223,"ORANGE                       "]
[224,"ORLEANS                      "]
[225,"OTIS                         "]
[226,"OXFORD                       "]
[227,"PALMER                       "]
[228,"PAXTON                       "]
[229,"PEABODY                      "]
[230,"PELHAM                       "]
[231,"PEMBROKE                     "]
[232,"PEPPERELL                    "]
[233,"PERU                         "]
[234,"PETERSHAM                    "]
[235,"PHILLIPSTON                  "]
[236,"PITTSFIELD                   "]
[237,"PLAINFIELD                   "]
[238,"PLAINVILLE                   "]
[239,"PLYMOUTH                     "]
[240,"PLYMPTON                     "]
[241,"PRINCETON                    "]
[242,"PROVINCETOWN                 "]
[243,"QUINCY                       "]
[244,"RANDOLPH                     "]
[245,"RAYNHAM                      "]
[246,"READING                      "]
[247,"REHOBOTH                     "]
[248,"REVERE                       "]
[249,"RICHMOND                     "]
[250,"ROCHESTER                    "]
[251,"ROCKLAND                     "]
[252,"ROCKPORT                     "]
[253,"ROWE                         "]
[254,"ROWLEY                       "]
[255,"ROYALSTON                    "]
[256,"RUSSELL                      "]
[257,"RUTLAND                      "]
[258,"SALEM                        "]
[259,"SALISBURY                    "]
[260,"SANDISFIELD                  "]
[261,"SANDWICH                     "]
[262,"SAUGUS                       "]
[263,"SAVOY                        "]
[264,"SCITUATE                     "]
[265,"SEEKONK                      "]
[266,"SHARON                       "]
[267,"SHEFFIELD                    "]
[268,"SHELBURNE                    "]
[269,"SHERBORN                     "]
[270,"SHIRLEY                      "]
[271,"SHREWSBURY                   "]
[272,"SHUTESBURY                   "]
[273,"SOMERSET                     "]
[274,"SOMERVILLE                   "]
[275,"SOUTHAMPTON                  "]
[276,"SOUTHBOROUGH                 "]
[277,"SOUTHBRIDGE                  "]
[278,"SOUTH HADLEY                 "]
[279,"SOUTHWICK                    "]
[280,"SPENCER                      "]
[281,"SPRINGFIELD                  "]
[282,"STERLING                     "]
[283,"STOCKBRIDGE                  "]
[284,"STONEHAM                     "]
[285,"STOUGHTON                    "]
[286,"STOW                         "]
[287,"STURBRIDGE                   "]
[288,"SUDBURY                      "]
[289,"SUNDERLAND                   "]
[290,"SUTTON                       "]
[291,"SWAMPSCOTT                   "]
[292,"SWANSEA                      "]
[293,"TAUNTON                      "]
[294,"TEMPLETON                    "]
[295,"TEWKSBURY                    "]
[296,"TISBURY                      "]
[297,"TOLLAND                      "]
[298,"TOPSFIELD                    "]
[299,"TOWNSEND                     "]
[300,"TRURO                        "]
[301,"TYNGSBOROUGH                 "]
[302,"TYRINGHAM                    "]
[303,"UPTON                        "]
[304,"UXBRIDGE                     "]
[305,"WAKEFIELD                    "]
[306,"WALES                        "]
[307,"WALPOLE                      "]
[308,"WALTHAM                      "]
[309,"WARE                         "]
[310,"WAREHAM                      "]
[311,"WARREN                       "]
[312,"WARWICK                      "]
[313,"WASHINGTON                   "]
[314,"WATERTOWN                    "]
[315,"WAYLAND                      "]
[316,"WEBSTER                      "]
[317,"WELLESLEY                    "]
[318,"WELLFLEET                    "]
[319,"WENDELL                      "]
[320,"WENHAM                       "]
[321,"WESTBOROUGH                  "]
[322,"WEST BOYLSTON                "]
[323,"WEST BRIDGEWATER             "]
[324,"WEST BROOKFIELD              "]
[325,"WESTFIELD                    "]
[326,"WESTFORD                     "]
[327,"WESTHAMPTON                  "]
[328,"WESTMINSTER                  "]
[329,"WEST NEWBURY                 "]
[330,"WESTON                       "]
[331,"WESTPORT                     "]
[332,"WEST SPRINGFIELD             "]
[333,"WEST STOCKBRIDGE             "]
[334,"WEST TISBURY                 "]
[335,"WESTWOOD                     "]
[336,"WEYMOUTH                     "]
[337,"WHATELY                      "]
[338,"WHITMAN                      "]
[339,"WILBRAHAM                    "]
[340,"WILLIAMSBURG                 "]
[341,"WILLIAMSTOWN                 "]
[342,"WILMINGTON                   "]
[343,"WINCHENDON                   "]
[344,"WINCHESTER                   "]
[345,"WINDSOR                      "]
[346,"WINTHROP                     "]
[347,"WOBURN"]
[348,"WORCESTER                    "]
[349,"WORTHINGTON                  "]
[350,"WRENTHAM                     "]
[351,"YARMOUTH                     "]
[406,"NORTHAMPTON SMITH            "]
[600,"ACTON BOXBOROUGH             "]
[603,"ADAMS CHESHIRE               "]
[605,"AMHERST PELHAM               "]
[610,"ASHBURNHAM WESTMINSTER       "]
[615,"ATHOL ROYALSTON              "]
[616,"AYER SHIRLEY"]
[618,"BERKSHIRE HILLS              "]
[620,"BERLIN BOYLSTON              "]
[622,"BLACKSTONE MILLVILLE         "]
[625,"BRIDGEWATER RAYNHAM          "]
[632,"CHESTERFIELD GOSHEN"]
[635,"CENTRAL BERKSHIRE            "]
[640,"CONCORD CARLISLE             "]
[645,"DENNIS YARMOUTH              "]
[650,"DIGHTON REHOBOTH             "]
[655,"DOVER SHERBORN               "]
[658,"DUDLEY CHARLTON              "]
[660,"NAUSET                       "]
[662,"FARMINGTON RIVER"]
[665,"FREETOWN LAKEVILLE           "]
[670,"FRONTIER                     "]
[672,"GATEWAY                      "]
[673,"GROTON DUNSTABLE             "]
[674,"GILL MONTAGUE                "]
[675,"HAMILTON WENHAM              "]
[680,"HAMPDEN WILBRAHAM            "]
[683,"HAMPSHIRE                    "]
[685,"HAWLEMONT                    "]
[690,"KING PHILIP                  "]
[695,"LINCOLN SUDBURY              "]
[698,"MANCHESTER ESSEX"]
[700,"MARTHAS VINEYARD             "]
[705,"MASCONOMET                   "]
[710,"MENDON UPTON                 "]
[712,"MONOMOY"]
[715,"MOUNT GREYLOCK               "]
[717,"MOHAWK TRAIL                 "]
[720,"NARRAGANSETT                 "]
[725,"NASHOBA                      "]
[728,"NEW SALEM WENDELL            "]
[730,"NORTHBORO SOUTHBORO          "]
[735,"NORTH MIDDLESEX              "]
[740,"OLD ROCHESTER                "]
[745,"PENTUCKET                    "]
[750,"PIONEER                      "]
[753,"QUABBIN                      "]
[755,"RALPH C MAHAR                "]
[760,"SILVER LAKE                  "]
[763,"SOMERSET BERKLEY"]
[765,"SOUTHERN BERKSHIRE           "]
[766,"SOUTHWICK TOLLAND GRANVILLE"]
[767,"SPENCER EAST BROOKFIELD      "]
[770,"TANTASQUA                    "]
[773,"TRITON                       "]
[774,"UPISLAND"]
[775,"WACHUSETT                    "]
[778,"QUABOAG"]
[780,"WHITMAN HANSON               "]
[801,"ASSABET VALLEY               "]
[805,"BLACKSTONE VALLEY            "]
[806,"BLUE HILLS                   "]
[810,"BRISTOL PLYMOUTH             "]
[815,"CAPE COD                     "]
[817,"ESSEX NORTH SHORE"]
[818,"FRANKLIN COUNTY              "]
[821,"GREATER FALL RIVER           "]
[823,"GREATER LAWRENCE             "]
[825,"GREATER NEW BEDFORD          "]
[828,"GREATER LOWELL               "]
[829,"SOUTH MIDDLESEX              "]
[830,"MINUTEMAN                    "]
[832,"MONTACHUSETT                 "]
[851,"NORTHERN BERKSHIRE           "]
[852,"NASHOBA VALLEY               "]
[853,"NORTHEAST METROPOLITAN       "]
[855,"OLD COLONY                   "]
[860,"PATHFINDER                   "]
[871,"SHAWSHEEN VALLEY             "]
[872,"SOUTHEASTERN                 "]
[873,"SOUTH SHORE                  "]
[876,"SOUTHERN WORCESTER           "]
[878,"TRI COUNTY                   "]
[879,"UPPER CAPE COD               "]
[885,"WHITTIER                     "]
[910,"BRISTOL COUNTY               "]
[915,"NORFOLK COUNTY               "]

{"sheet":"rates","index":2,"n_rows":40,"n_cols":14,"rows_kept":40,"cut":false,"hidden":true,"merged":[[2,0,2,13],[3,0,3,13],[5,0,5,13]]}
[]
[]
["Massachusetts Department of Elementary and Secondary Education"]
["Office of School Finance"]
[]
["Foundation Budget Rates Per Pupil,  FY16 Chapter 70"]
[]
[null,null,null,null,"classroom","other ",null,"instructional ",null,null,null,"employee ","special","total"]
[null,null,"adminis-","instructional","& specialist","teaching","professional","materials, equip-","guidance &","pupil","operations &","benefits &","education","all"]
[null,null,"tration","leadership","teachers","services","development","ment  & tech","psychological","services","maintenance","fixed charges","tuition","categories"]
[]
[1,"Pre-School",182.41,329.44,1510.58,387.42,59.74,218.64,109.9,43.72,419.47,378.11,0,3639.43]
[2,"Kindergarten-Half",182.41,329.44,1510.58,387.42,59.74,218.64,109.9,43.72,419.47,378.11,0,3639.43]
[3,"Kindergarten-Full",364.8,658.87,3021.16,774.86,119.54,437.27,219.84,87.46,838.94,756.18,0,7278.92]
[4,"Elementary",364.8,658.87,3021.12,774.86,119.56,437.27,219.84,131.19,838.94,756.23,0,7322.6799999999985]
[5,"Junior/Middle",364.8,658.87,2658.6,557.78,129.61000000000001,437.27,292.63,214.28,909.52,719.02,0,6942.380000000001]
[6,"High School",364.8,658.87,3909.69,464.36,125.67,699.64,366.83,494.12,881.87,690.79,0,8656.64]
[7,"Special Ed-In School",2517.8000000000002,0,8308.11,7757.17,400.78,349.82,0,0,2812.51,3186.23,0,25332.420000000002]
[8,"Special Ed-Tuitioned Out",2517.8000000000002,0,0,38.46,0,0,0,0,0,0,23905.21,26461.47]
[9,"ELL PK ",182.42,329.44,2274.98,309.79000000000002,80.930000000000007,218.64,146.30000000000001,65.58,567.89,475.65,0,4651.62]
[10,"ELL K Half Time",182.42,329.44,2274.98,309.79000000000002,80.930000000000007,218.64,146.30000000000001,65.58,567.89,475.65,0,4651.62]
[11,"ELL Full Time",364.8,658.87,4549.95,619.58000000000004,161.83000000000001,437.27,292.63,131.19,1135.73,951.3,0,9303.1499999999978]
[12,"Vocational",364.8,658.87,6646.51,464.36,207.77,1224.3499999999999,366.83,494.12,1650.45,1121.9000000000001,0,13199.960000000001]
[13,"Low Income Elem",0,0,2718.08,0,59.82,0,0,0,419.79,275.91000000000003,0,3473.6]
[14,"Low Income Secondary",0,0,2053.44,0,59.82,0,0,0,419.79,275.91000000000003,0,2808.96]
[]
[]
[]
[null,null,null,null,null,"PK/Half Day K",{"$f":"N13","v":3639.43}]
[null,null,null,null,null,"Kindergarten-Full",{"$f":"N14","v":7278.92}]
[null,null,null,null,null,"Elementary",{"$f":"N15","v":7322.6799999999985}]
[null,null,null,null,null,"Junior/Middle",{"$f":"N16","v":6942.380000000001}]
[null,null,null,null,null,"High School",{"$f":"N17","v":8656.64}]
[null,null,null,null,null,"Limited English PK/Half Day K",{"$f":"N21","v":4651.62}]
[null,null,null,null,null,"Limited English Full Time",{"$f":"N22","v":9303.1499999999978}]
[null,null,null,null,null,"Vocational",{"$f":"N23","v":13199.960000000001}]
[null,null,null,null,null,"Special Ed-In School",{"$f":"N18","v":25332.420000000002}]
[null,null,null,null,null,"Special Ed-Tuitioned Out",{"$f":"N19","v":26461.47}]
[null,null,null,null,null,"Low Income Elem",{"$f":"N24","v":3473.6}]
[null,null,null,null,null,"Low Income Secondary",{"$f":"N25","v":2808.96}]

{"sheet":"foundation budget","index":3,"n_rows":38,"n_cols":19,"rows_kept":38,"cut":false,"hidden":false,"merged":[[1,0,1,18],[2,0,2,18],[4,0,4,18]]}
[null,"Return to Index"]
["Massachusetts Department of Elementary and Secondary Education"]
["Office of School Finance"]
[]
["FY16 Chapter 70 Foundation Budget"]
[{"$f":"lea","v":26},{"$f":"IF(lea=999,\"State total cannot be computed on this page; Please enter an lea code on the index sheet\",VLOOKUP(A6,dist915,2))","v":"BELMONT                      "}]
[null,null,"         -------------------------------------- Base Foundation Components -----------------------------------------------------------",null,null,null,null,null,null,null,null,null,null,"   --- Incremental Costs Above The Base ------"]
[null,null,"(1)","(2)","(3)","(4)","(5)","(6)","(7)","(8)","(9)","(10)",null,"(11)","(12)","(13)","(14)"]
[null,null,"Pre-"," ------ Kindergarten ------",null,null," Jr High/","High","ELL","ELL","ELL","Voca-",null,"Special Ed","Special Ed"," ---- Low Income ----"]
[null,null,"School","Half-Day","Full-Day","Elementary","Middle","School","PK","K Half","KF - 12","tional",null,"In District","Out of Dist","Elem","Other",null,"TOTAL*"]
[null,"Foundation Enrollment",{"$f":"IF($A$6<>999,VLOOKUP(lea,dist915,3),0)","v":28},{"$f":"IF(A6<>999,VLOOKUP(lea,dist915,4),0)","v":280},{"$f":"IF(A6<>999,VLOOKUP(lea,dist915,5),0)","v":26},{"$f":"IF(A6<>999,VLOOKUP(lea,dist915,6),0)","v":1599},{"$f":"IF(A6<>999,VLOOKUP(lea,dist915,7),0)","v":938},{"$f":"IF(A6<>999,VLOOKUP(lea,dist915,8),0)","v":1239},{"$f":"IF(A6<>999,VLOOKUP(lea,dist915,11),0)","v":1},{"$f":"IF(A6<>999,VLOOKUP(lea,dist915,12),0)","v":48},{"$f":"IF(A6<>999,VLOOKUP(lea,dist915,13),0)","v":175},{"$f":"IF(A6<>999,VLOOKUP(lea,dist915,14),0)","v":0},null,{"$f":"IF(A6<>999,VLOOKUP(lea,dist915,9),0)","v":155},{"$f":"IF(A6<>999,VLOOKUP(lea,dist915,10),0)","v":41},{"$f":"IF(A6<>999,VLOOKUP(lea,dist915,15),0)","v":195},{"$f":"IF(A6<>999,VLOOKUP(lea,dist915,16),0)","v":112},null,{"$f":"IF(A6<>999,VLOOKUP(lea,dist915,17),0)","v":4156}]
[]
[1,"Administration",{"$f":"(VLOOKUP(VALUE(C$8)/-1,newrates,$A13+2)*C$11*waf)","v":5281.1343200000001},52811.343199999996,9807.2832000000017,603147.91680000012,353816.60160000005,467354.7648,{"$f":"(VLOOKUP(9,newrates,$A13+2)*I$11*waf)","v":188.62227999999999},{"$f":"(VLOOKUP(10,newrates,$A13+2)*J$11*waf)","v":9053.8694400000004},{"$f":"(VLOOKUP(11,newrates,$A13+2)*K$11*waf)","v":66010.559999999998},{"$f":"(VLOOKUP(12,newrates,$A13+2)*L$11*waf)","v":0},null,{"$f":"(VLOOKUP(7,newrates,$A13+2)*N$11*waf)","v":403527.80600000004},{"$f":"(VLOOKUP(8,newrates,$A13+2)*O$11*waf)","v":106739.61320000001},{"$f":"(VLOOKUP(VALUE(P$8)/-1,newrates,$A13+2)*P$11*waf)","v":0},0,null,{"$f":"SUM(C13:Q13)","v":2077739.5148400003}]
[2,"Instructional Leadership",9537.9468799999995,95379.468800000002,17713.061079999999,1089353.2564200002,639032.74204000004,844095.48762000003,{"$f":"(VLOOKUP(9,newrates,$A14+2)*I$11*waf)","v":340.64096000000001},{"$f":"(VLOOKUP(10,newrates,$A14+2)*J$11*waf)","v":16350.766079999999},{"$f":"(VLOOKUP(11,newrates,$A14+2)*K$11*waf)","v":119222.52650000001},{"$f":"(VLOOKUP(12,newrates,$A14+2)*L$11*waf)","v":0},null,{"$f":"(VLOOKUP(7,newrates,$A14+2)*N$11*waf)","v":0},{"$f":"(VLOOKUP(8,newrates,$A14+2)*O$11*waf)","v":0},0,0,null,2831025.8963800003]
[3,"Classroom and Specialist Teachers",43734.312160000001,437343.12159999995,81220.865440000009,4995017.0899200002,2578554.8711999999,5008805.5109400004,{"$f":"(VLOOKUP(9,newrates,$A15+2)*I$11*waf)","v":2352.3293200000003},{"$f":"(VLOOKUP(10,newrates,$A15+2)*J$11*waf)","v":112911.80736000001},{"$f":"(VLOOKUP(11,newrates,$A15+2)*K$11*waf)","v":823313.45250000001},{"$f":"(VLOOKUP(12,newrates,$A15+2)*L$11*waf)","v":0},null,{"$f":"(VLOOKUP(7,newrates,$A15+2)*N$11*waf)","v":1331540.7897000001},{"$f":"(VLOOKUP(8,newrates,$A15+2)*O$11*waf)","v":0},548046.47039999999,237804.77952000001,null,16200645.400060002]
[4,"Other Teaching Services",11216.583840000001,112165.83840000001,20831.336240000001,1281127.1787600003,540986.35976000002,594903.66936000006,{"$f":"(VLOOKUP(9,newrates,$A16+2)*I$11*waf)","v":320.32286000000005},{"$f":"(VLOOKUP(10,newrates,$A16+2)*J$11*waf)","v":15375.497280000003},{"$f":"(VLOOKUP(11,newrates,$A16+2)*K$11*waf)","v":112113.001},{"$f":"(VLOOKUP(12,newrates,$A16+2)*L$11*waf)","v":0},null,{"$f":"(VLOOKUP(7,newrates,$A16+2)*N$11*waf)","v":1243241.6359000001},{"$f":"(VLOOKUP(8,newrates,$A16+2)*O$11*waf)","v":1630.4732400000003},0,0,null,3933911.8966400009]
[5,"Professional Development",1729.59248,17295.924800000001,3213.7133600000002,197676.43896,125707.70212000002,160999.10442000002,{"$f":"(VLOOKUP(9,newrates,$A17+2)*I$11*waf)","v":83.681620000000009},{"$f":"(VLOOKUP(10,newrates,$A17+2)*J$11*waf)","v":4016.7177600000005},{"$f":"(VLOOKUP(11,newrates,$A17+2)*K$11*waf)","v":29283.138500000005},{"$f":"(VLOOKUP(12,newrates,$A17+2)*L$11*waf)","v":0},null,{"$f":"(VLOOKUP(7,newrates,$A17+2)*N$11*waf)","v":64233.010599999994},{"$f":"(VLOOKUP(8,newrates,$A17+2)*O$11*waf)","v":0},12061.506600000001,6927.6345600000004,null,623228.16578000016]
[6,"Instructional Equipment & Tech",{"$f":"(VLOOKUP(VALUE(C$8)/-1,newrates,$A18+2)*C$11)","v":6121.92},61219.199999999997,11369.02,699194.73,410159.26,866853.96,{"$f":"(VLOOKUP(9,newrates,$A18+2)*I$11)","v":218.64},{"$f":"(VLOOKUP(10,newrates,$A18+2)*J$11)","v":10494.72},{"$f":"(VLOOKUP(11,newrates,$A18+2)*K$11)","v":76522.25},{"$f":"(VLOOKUP(12,newrates,$A18+2)*L$11)","v":0},null,{"$f":"(VLOOKUP(7,newrates,$A18+2)*N$11)","v":54222.1},{"$f":"(VLOOKUP(8,newrates,$A18+2))","v":0},{"$f":"(VLOOKUP(VALUE(P$8)/-1,newrates,$A18+2)*P$11)","v":0},{"$f":"(VLOOKUP(VALUE(Q$8)/-1,newrates,$A18+2)*Q$11)","v":0},null,2196375.7999999998]
[7,"Guidance and Psychological",{"$f":"(VLOOKUP(VALUE(C$8)/-1,newrates,$A19+2)*C$11*waf)","v":3181.8248000000003},31818.248,5910.1785600000003,363475.98144000006,283819.49596000003,469955.45058,{"$f":"(VLOOKUP(9,newrates,$A19+2)*I$11*waf)","v":151.27420000000001},{"$f":"(VLOOKUP(10,newrates,$A19+2)*J$11*waf)","v":7261.1616000000004},{"$f":"(VLOOKUP(11,newrates,$A19+2)*K$11*waf)","v":52951.398500000003},{"$f":"(VLOOKUP(12,newrates,$A19+2)*L$11*waf)","v":0},null,{"$f":"(VLOOKUP(7,newrates,$A19+2)*N$11*waf)","v":0},{"$f":"(VLOOKUP(8,newrates,$A19+2)*O$11*waf)","v":0},{"$f":"(VLOOKUP(VALUE(P$8)/-1,newrates,$A19+2)*P$11*waf)","v":0},0,null,1218525.01364]
[8,"Pupil Services",1265.78144,12657.814400000001,2351.2746400000001,216905.08554,207828.45776000002,633029.97912000003,{"$f":"(VLOOKUP(9,newrates,$A20+2)*I$11*waf)","v":67.809719999999999},{"$f":"(VLOOKUP(10,newrates,$A20+2)*J$11*waf)","v":3254.8665600000004},{"$f":"(VLOOKUP(11,newrates,$A20+2)*K$11*waf)","v":23738.8305},{"$f":"(VLOOKUP(12,newrates,$A20+2)*L$11*waf)","v":0},null,{"$f":"(VLOOKUP(7,newrates,$A20+2)*N$11*waf)","v":0},{"$f":"(VLOOKUP(8,newrates,$A20+2)*O$11*waf)","v":0},0,0,null,1101099.89968]
[9,"Operations and Maintenance",12144.495440000001,121444.9544,22554.062960000003,1387074.87204,882136.17184000008,1129786.58562,{"$f":"(VLOOKUP(9,newrates,$A21+2)*I$11*waf)","v":587.19826},{"$f":"(VLOOKUP(10,newrates,$A21+2)*J$11*waf)","v":28185.516480000002},{"$f":"(VLOOKUP(11,newrates,$A21+2)*K$11*waf)","v":205510.34350000002},{"$f":"(VLOOKUP(12,newrates,$A21+2)*L$11*waf)","v":0},null,{"$f":"(VLOOKUP(7,newrates,$A21+2)*N$11*waf)","v":450760.97770000005},{"$f":"(VLOOKUP(8,newrates,$A21+2)*O$11*waf)","v":0},84642.257700000002,48615.040320000007,null,4373442.4762599999]
[10,"Employee Benefits/Fixed Charges",{"$f":"(VLOOKUP(VALUE(C$8)/-1,newrates,$A22+2)*C$11)","v":10587.08},105870.8,19660.68,1209211.77,674440.76,855888.80999999994,{"$f":"(VLOOKUP(9,newrates,$A22+2)*I$11)","v":475.65},{"$f":"(VLOOKUP(10,newrates,$A22+2)*J$11)","v":22831.199999999997},{"$f":"(VLOOKUP(11,newrates,$A22+2)*K$11)","v":166477.5},{"$f":"(VLOOKUP(12,newrates,$A22+2)*L$11)","v":0},null,{"$f":"(VLOOKUP(7,newrates,$A22+2)*N$11)","v":493865.65},{"$f":"(VLOOKUP(8,newrates,$A22+2)*O$11)","v":0},{"$f":"(VLOOKUP(VALUE(P$8)/-1,newrates,$A22+2)*P$11)","v":53802.450000000004},{"$f":"(VLOOKUP(VALUE(Q$8)/-1,newrates,$A22+2)*Q$11)","v":30901.920000000002},null,3644014.27]
[11,"Special Ed Tuition",0,0,0,0,0,0,{"$f":"(VLOOKUP(9,newrates,$A23+2)*I$11)","v":0},{"$f":"(VLOOKUP(10,newrates,$A23+2)*J$11)","v":0},{"$f":"(VLOOKUP(11,newrates,$A23+2)*K$11)","v":0},{"$f":"(VLOOKUP(12,newrates,$A23+2)*L$11)","v":0},null,{"$f":"(VLOOKUP(7,newrates,$A23+2)*N$11)","v":0},{"$f":"(VLOOKUP(8,newrates,$A23+2)*O$11)","v":980113.61},{"$f":"(VLOOKUP(VALUE(P$8)/-1,newrates,$A23+2)*P$11)","v":0},{"$f":"(VLOOKUP(VALUE(Q$8)/-1,newrates,$A23+2)*Q$11)","v":0},null,980113.61]
[]
[12,"Total",{"$f":"SUM(C13:C23)","v":104800.67136000002},1048006.7136000001,194631.47547999999,12042184.319880001,6696482.4222799987,11031673.322460001,4786.1692199999998,229736.12255999999,1675143.0009999999,0,null,{"$f":"SUM(N13:N23)","v":4041391.9699000008},{"$f":"SUM(O13:O23)","v":1088483.6964400001},{"$f":"SUM(P13:P23)","v":698552.68469999987},{"$f":"SUM(Q13:Q23)","v":324249.37440000003},null,{"$f":"SUM(S13:S24)","v":39180121.943280011}]
[]
[13,"Wage Adjustment Factor",{"$f":"VLOOKUP(lea,dist915,18)","v":1.034},null,null,null,null,null,null,null,null,null,null,null,null,null,"Foundation Budget Per Pupil",null,{"$f":"IF(A6<>999,S25/S11,\" \")","v":9427.3633164773855}]
[]
["*","Total foundation enrollment does not include columns 11 through 14, because those columns represent increments above the base.  The pupils are already counted in columns 1 to 10."]
[null,"Total foundation enrollment assigns pupils in pre-kindergarten and half-time kindergarten an enrollment count of .5."]
[null,"Special education in-district headcount is an assumed percentage, representing 3.75 percent of K to 12 non-vocational enrollment and 4.75 percent of vocational enrollment."]
[null,"Special education out-of-district headcount is also an assumed percentage, representing 1 percent of non-vocational K-12 enrollment."]
[null,"Low income headcounts are the number of pupils in columns 1 through 10 who are eligible for free or reduced lunch."]
[null,"Each component of the foundation budget represents the enrollment on line 1 multiplied by the appropriate state-wide foundation allotment."]
[null,"The wage adjustment factor is applied to underlying rates in all functions except instructional equipment, benefits and special education tuition."]
[null,"The foundation budget shown on this page may differ from the final number used in the formula, due to rounding error."]
[]
[null,"Return to Index"]

{"sheet":"municipal contribution","index":4,"n_rows":29,"n_cols":12,"rows_kept":29,"cut":false,"hidden":false,"merged":[[3,0,3,6],[2,0,2,6]]}
[null,null,null,null,null,null,null,null,null,null,null,{"$f":"IF(VLOOKUP(A6,town351,17)>0,\"lo\",\"hi\")","v":"hi"}]
[null,"Return to Index"]
["Massachusetts Department of Elementary and Secondary Education"]
["FY16 Determination of City and Town Total Required Contribution"]
[]
[{"$f":"lea","v":26},{"$f":"IF(lea>351, \"This lea code does not refer to a city or a town - this table shows municipal data only\",VLOOKUP(A6,aidcalc,2))","v":"BELMONT                      "}]
[]
["Effort Goal",null,null,null,"FY16 Increments Toward Goal"]
[]
["1)","2014 equalized valuation",{"$f":"IF(A6<352,VLOOKUP($A$6,town351,3),\" \")","v":5760631800},null,"13)","Required local contribution FY15",{"$f":"IF(A6<352,VLOOKUP($A$6,town351,13),\" \")","v":31696182}]
["2)","Property percentage",{"$f":"IF(A6<352,'townwide contributions'!D5,\" \")","v":3.8078205033868049E-3},null,"14)","Municipal revenue growth factor (DOR)",{"$f":"IF(A$6<352,VLOOKUP($A$6,town351,14),\" \")","v":3.8800000000000001E-2}]
["3)","Local effort from property wealth",{"$f":"IF(A6<352,VLOOKUP($A$6,town351,4),\" \")","v":21935451.880502034},null,"15)","FY16 preliminary contribution (13 x 14)",{"$f":"IF(A$6<352,VLOOKUP($A$6,town351,15),\" \")","v":32925994}]
[null,null,null,null,"16)","Preliminary contribution pct of foundation (15/8)",{"$f":"IF(A$6<352,VLOOKUP($A$6,town351,16)/100,\" \")","v":0.82961568919444639}]
["4)","2012 income",{"$f":"IF(A6<352,VLOOKUP($A$6,town351,5),\" \")","v":2012464000}]
["5)","Income percentage",{"$f":"IF(A6<352,'townwide contributions'!F5,\" \")","v":1.4930037603273993E-2},null,"If preliminary contribution is above the target share:"]
["6)","Local effort from income",{"$f":"IF(A6<352,VLOOKUP($A$6,town351,6),\" \")","v":30046163.195235193},null,"17)","Excess local effort (15 - 10)",{"$f":"IF(AND(A$6<352,L$1=\"hi\"),VLOOKUP($A$6,town351,20),\" \")","v":183189}]
[null,null,null,null,"18)","50% reduction toward target (17 x 50%)",{"$f":"IF(AND(A$6<352,L$1=\"hi\"),VLOOKUP($A$6,town351,21),\" \")","v":183189}]
["7)","Combined effort yield (row 3+ row 6)",{"$f":"IF(A6<352,VLOOKUP($A$6,town351,7),\" \")","v":51981615},null,"19)","FY16 required local contribution (15 - 18), capped at 90% of foundation",{"$f":"IF(AND(A$6<352,L$1=\"hi\"),VLOOKUP($A$6,town351,22),\" \")","v":32742805}]
[null,null,null,null,"20)","Contribution as percentage of foundation (19 / 8)",{"$f":"IF(AND(A$6<352,L$1=\"hi\"),VLOOKUP($A$6,town351,23),\" \")","v":82.499999047057969}]
["8)","Foundation budget FY16",{"$f":"IF(A6<352,VLOOKUP($A$6,town351,8),\" \")","v":39688248.943280004}]
["9)","Maximum local contribution (82.5% * row 8)",{"$f":"IF(A6<352,VLOOKUP($A$6,town351,9),\" \")","v":32742805},null,"If preliminary contribution is below the target share:"]
[null,null,null,null,"21)","Shortfall from target local share (11 - 16)",{"$f":"IF(AND(A$6<352,L1=\"lo\"),VLOOKUP($A$6,town351,17)/100,\" \")","v":" "}]
["10)","Target local contribution (lesser of row 7 or row 9)",{"$f":"IF(A6<352,VLOOKUP($A$6,town351,10),\" \")","v":32742805},null,"22)","Added increment toward target (13 x 1% or 2%)*",{"$f":"IF(AND(A$6<352,L1=\"lo\"),VLOOKUP($A$6,town351,19),\" \")","v":" "}]
[null,null,null,null,null,"*1% if shortfall is between 2.5% and 7.5%; 2% if shortfall > 7.5%"]
["11)","Target local share (row 10 as % of row 8)",{"$f":"IF(A6<352,VLOOKUP(lea,town351,11)/100,\" \")","v":0.82499999999999996},null,"23)","Shortfall from target after adding increment (10 - 15 - 22)",{"$f":"IF(AND(A$6<352,L1=\"lo\"),VLOOKUP($A$6,town351,26),\" \")","v":" "}]
["12)","Target aid share (100% minus row 11)",{"$f":"IF(A6<352,VLOOKUP(lea,aidcalc,10)/100,\" \")","v":0.17499999999999999},null,"24)","FY16 required local contribution (15 + 22 )",{"$f":"IF(AND(A$6<352,L1=\"lo\"),VLOOKUP($A$6,town351,22),\" \")","v":" "}]
[null,null,null,null,"25)","Contribution as percentage of foundation (24 / 8)",{"$f":"IF(AND(A$6<352,L1=\"lo\"),VLOOKUP($A$6,town351,23)/100,\" \")","v":" "}]
[]
[null,"See a listing of all 351 communities"]

{"sheet":"regional allocation","index":5,"n_rows":23,"n_cols":10,"rows_kept":23,"cut":false,"hidden":false,"merged":[[2,4,2,9],[3,4,3,9],[5,4,5,9]]}
[]
[null,null,null,null,"Return to Index"]
[null,null,null,null,"Massachusetts Department of Elementary and Secondary Education"]
[null,null,null,null,"FY16 Chapter 70"]
[]
[null,null,null,null,"Apportionment of Local Contribution Across School Districts"]
[null,null,null,null,4,4,3,2,1]
[null,null,null,null,null,null,null," "," "]
[5,null,null,{"$f":"lea","v":26},{"$f":"IF($D$9>351, \"\", IF(AND($D$9>0, VLOOKUP($D$9*5-E$7, order1755, $A9)<>0), VLOOKUP($D$9*5-E$7, order1755, $A9), \"\"))","v":"BELMONT"},{"$f":"IF(OR($D$9=\"\", $D$9>351), \"\", IF(AND($D$9>0, VLOOKUP($D$9*5-F$7, order1755, $A9)<>0), VLOOKUP($D$9*5-F$7, order1755, $A9), \"\"))","v":"BELMONT"},{"$f":"IF(OR($D$9=\"\", $D$9>351), \"\", IF(AND($D$9>0, VLOOKUP($D$9*5-G$7, order1755, $A9)<>0), VLOOKUP($D$9*5-G$7, order1755, $A9), \"\"))","v":"MINUTEMAN"},{"$f":"IF(OR($D$9=\"\", $D$9>351), \"\", IF(AND($D$9>0, VLOOKUP($D$9*5-H$7, order1755, $A9)<>0), VLOOKUP($D$9*5-H$7, order1755, $A9), \"\"))","v":""},{"$f":"IF(OR($D$9=\"\", $D$9>351), \"\", IF(AND($D$9>0, VLOOKUP($D$9*5-I$7, order1755, $A9)<>0), VLOOKUP($D$9*5-I$7, order1755, $A9), \"\"))","v":""},"COMBINED TOTAL ALL DISTRICTS"]
[6]
[null,null,null,null,"Prior Year Data (for comparison purposes)"]
[]
[15,null,null,1,"FY15 foundation enrollment",{"$f":"IF(OR($D$9=\"\", $D$9>351), \"\", IF(AND($D$9>0, VLOOKUP($D$9*5-F$7, order1755, $A13)<>0), VLOOKUP($D$9*5-F$7, order1755, $A13), \"\"))","v":4068},31,"","",{"$f":"IF(OR($D$9=\"\", $D$9>351), \"\", VLOOKUP($D$9*5, order1755, $A13))","v":4099}]
[6,null,null,2,"FY15 foundation budget",37689370.076880001,514569,"","",{"$f":"IF(OR($D$9=\"\", $D$9>351), \"\", VLOOKUP($D$9*5, order1755, $A14))","v":38203939.076880001}]
[7,null,null,3,"Each district's share of municipality's combined FY15 foundation",0.98653099621574358,1.346900378425646E-2,"","",{"$f":"IF(OR($D$9=\"\", $D$9>351), \"\", VLOOKUP($D$9*5, order1755, $A15))","v":1}]
[12,null,null,4,"FY15 required contribution ",31269266,426916,"","",{"$f":"IF(OR($D$9=\"\", $D$9>351), \"\", VLOOKUP($D$9*5, order1755, $A16))","v":31696182}]
[null,null,null,null,"Apportionment of FY16 contribution among community's districts"]
[null,null,null,5,"FY16 total unapportioned required contribution (\"municipal contribution\" sheet row 19 or 24)  ",null,null,null,null,{"$f":"IF(OR($D$9=\"\", $D$9>351), \"\", VLOOKUP($D$9,town351,22))","v":32742805}]
[20,null,null,6,"FY16 foundation enrollment",{"$f":"IF(OR($D$9=\"\", $D$9>351), \"\", IF(AND($D$9>0, VLOOKUP($D$9*5-F$7, order1755, $A19)<>0), VLOOKUP($D$9*5-F$7, order1755, $A19), \"\"))","v":4156},30,"","",{"$f":"IF(OR($D$9=\"\", $D$9>351), \"\", VLOOKUP($D$9*5, order1755, $A19))","v":4186}]
[8,null,null,7,"FY16 foundation budget ",39180121.943280004,508127,"","",{"$f":"IF(OR($D$9=\"\", $D$9>351), \"\", VLOOKUP($D$9*5, order1755, $A20))","v":39688248.943280004}]
[9,null,null,8,"Each district's share of municipality's total FY16 foundation ",0.98719704160477872,1.280295839522131E-2,"","",{"$f":"IF(OR($D$9=\"\", $D$9>351), \"\", VLOOKUP($D$9*5, order1755, $A21))","v":1}]
[11,null,null,9,"FY16 Required Contribution",32323600,419205,"","",{"$f":"VLOOKUP($D$9*5, order1755, $A22)","v":32742805}]
[13,null,null,10,"Change FY15 to FY16 (9 - 4)",{"$f":"IF(OR($D$9=\"\", $D$9>351), \"\", IF(AND($D$9>0, VLOOKUP($D$9*5-F$7, order1755, $A23)<>0), VLOOKUP($D$9*5-F$7, order1755, $A23), \"\"))","v":1054334},{"$f":"IF(OR($D$9=\"\", $D$9>351), \"\", IF(AND($D$9>0, VLOOKUP($D$9*5-G$7, order1755, $A23)<>0), VLOOKUP($D$9*5-G$7, order1755, $A23), \"\"))","v":-7711},{"$f":"IF(OR($D$9=\"\", $D$9>351), \"\", IF(AND($D$9>0, VLOOKUP($D$9*5-H$7, order1755, $A23)<>0), VLOOKUP($D$9*5-H$7, order1755, $A23), \"\"))","v":""},{"$f":"IF(OR($D$9=\"\", $D$9>351), \"\", IF(AND($D$9>0, VLOOKUP($D$9*5-I$7, order1755, $A23)<>0), VLOOKUP($D$9*5-I$7, order1755, $A23), \"\"))","v":""},{"$f":"IF(OR($D$9=\"\", $D$9>351), \"\", VLOOKUP($D$9*5, order1755, $A23))","v":1046623}]

{"sheet":"summary","index":6,"n_rows":28,"n_cols":29,"rows_kept":28,"cut":false,"hidden":false,"merged":[[3,0,3,8],[4,0,4,8]]}
[]
[null,"Return to Index"]
[null,null,null,null,null,null,null,null,"2015-07-19"]
["Massachusetts Department of Elementary and Secondary Education"]
["FY16 Chapter 70 Summary"]
[]
[{"$f":"lea","v":26},{"$f":"PROPER(VLOOKUP(A7,dist915,2))","v":"Belmont                      "}]
[]
["Aid Calculation FY16",null,null,null,"Comparison to FY15"]
[]
[null,null,null,null,null,"FY15","FY16","Change","Pct Chg",null,null,null,null,null,null,null,null,null,"FY06","FY07","FY08","FY09","FY10","FY11","FY12","FY13","FY14","FY15","FY16"]
["Prior Year Aid",null,null,null,"Enrollment",{"$f":"VLOOKUP(A7,aidcalc,17)","v":4068},{"$f":"VLOOKUP(A7,aidcalc,18)","v":4156},{"$f":"G12-F12","v":88},{"$f":"IF(F12>0, H12/F12, 0)","v":2.1632251720747297E-2},null,null,null,null,null,null,null,null,"foundation budget",{"$f":"VLOOKUP($A$7,disthist,4)","v":25508704},{"$f":"VLOOKUP($A$7,disthist,7)","v":26906930.229400001},{"$f":"VLOOKUP($A$7,disthist,10)","v":28888243.350710981},{"$f":"VLOOKUP($A$7,disthist,13)","v":31086767.443360008},{"$f":"VLOOKUP($A$7,disthist,17)","v":33630843.731472418},{"$f":"VLOOKUP($A$7,disthist,21)","v":32919934.323621243},{"$f":"VLOOKUP($A$7,disthist,26)","v":33178102.924880005},{"$f":"VLOOKUP($A$7,disthist,29)","v":34247348.968879998},{"$f":"VLOOKUP($A$7,disthist, 32)","v":35925169.712800004},{"$f":"VLOOKUP($A$7,disthist, 35)","v":37689370.076880001},{"$f":"VLOOKUP($A$7, aidcalc, 6)","v":39180121.943280004}]
[1,"Chapter 70 FY15",{"$f":"VLOOKUP(A7,aidcalc,5)","v":6420104},null,"Foundation budget",{"$f":"VLOOKUP(A7,aidcalc,4)","v":37689370.076880001},{"$f":"VLOOKUP(A7,aidcalc,6)","v":39180121.943280004},{"$f":"G13-F13","v":1490751.8664000034},{"$f":"IF(F13>0, H13/F13, 0)","v":3.9553642402595728E-2},null,null,null,null,null,null,null,null,"required district contribution",{"$f":"VLOOKUP($A$7,disthist,5)","v":25370522},{"$f":"VLOOKUP($A$7,disthist,8)","v":25515369},{"$f":"VLOOKUP($A$7,disthist,11)","v":25916568},{"$f":"VLOOKUP($A$7,disthist,14)","v":26482952},{"$f":"VLOOKUP($A$7,disthist,18)","v":27745446},{"$f":"VLOOKUP($A$7,disthist,22)","v":28127012},{"$f":"VLOOKUP($A$7,disthist,27)","v":28699894},{"$f":"VLOOKUP($A$7,disthist,30)","v":29351497},{"$f":"VLOOKUP($A$7,disthist, 33)","v":30375090},{"$f":"VLOOKUP($A$7,disthist, 36)","v":31269266},{"$f":"VLOOKUP($A$7, aidcalc, 7)","v":32323600}]
[null,null,null,null,"Required district contribution",{"$f":"VLOOKUP(A7,disthist,36)","v":31269266},{"$f":"VLOOKUP($A$7, aidcalc, 7)","v":32323600},{"$f":"G14-F14","v":1054334},{"$f":"IF(F14>0, H14/F14, 0)","v":3.3717900509720948E-2},null,null,null,null,null,null,null,null,"c70 aid +sfsf + edjobs",{"$f":"VLOOKUP($A$7,disthist,6)","v":3002919.2},{"$f":"VLOOKUP($A$7,disthist,9)","v":3344078.2},{"$f":"VLOOKUP($A$7,disthist,12)","v":3857487.2},{"$f":"VLOOKUP($A$7,disthist,15)+VLOOKUP($A$7,disthist,16)","v":4603815},{"$f":"VLOOKUP($A$7,disthist,19)+VLOOKUP($A$7,disthist,20)","v":5885398},{"$f":"VLOOKUP($A$7,disthist,23)+VLOOKUP($A$7,disthist,24)+VLOOKUP($A$7,disthist,25)","v":5981623},{"$f":"VLOOKUP($A$7,disthist,28)","v":5571323},{"$f":"VLOOKUP($A$7,disthist,31)","v":5724243},{"$f":"VLOOKUP($A$7,disthist,34)","v":5864908.424935},{"$f":"VLOOKUP($A$7,disthist,37)","v":6420104},{"$f":"VLOOKUP($A$7, aidcalc, 35)","v":6856522}]
["Foundation Aid",null,null,null,"Chapter 70 aid ",{"$f":"VLOOKUP($A$7, disthist,37)","v":6420104},{"$f":"VLOOKUP($A$7, aidcalc, 35)","v":6856522},{"$f":"G15-F15","v":436418},{"$f":"IF(F15>0, H15/F15, 0)","v":6.7976780438447723E-2}]
[2,"Foundation budget FY16",{"$f":"VLOOKUP($A$7, aidcalc, 6)","v":39180121.943280004},null,"Required net school spending (NSS)",{"$f":"F14+F15","v":37689370},{"$f":"G14+G15","v":39180122},{"$f":"G16-F16","v":1490752},{"$f":"IF(F16>0, H16/F16, 0)","v":3.9553646028044509E-2}]
[3,"Required district contribution FY16 ",{"$f":"VLOOKUP($A$7, aidcalc, 7)","v":32323600}]
[4,"Foundation aid (2 -3)",{"$f":"VLOOKUP($A$7, aidcalc, 8)","v":6856522},null,"Target aid share",{"$f":"VLOOKUP(A$7,disthist,3)/100","v":0.17499999999999999},{"$f":"VLOOKUP(A7,aidcalc,10)/100","v":0.17499999999999999}]
[5,"Increase over FY15 (4 - 1)",{"$f":"VLOOKUP($A$7, aidcalc, 9)","v":436418},null,"C70 % of foundation",{"$f":"IF(F13>0,F15/F13,IF(F15>0,1,0))","v":0.17034256573946616},{"$f":"IF(G13>0,G15/G13,IF(G15>0,1,0))","v":0.17500001684338809}]
[null,null,null,null,"Amount above/below target",{"$f":"(F18-F19) * C16","v":182478.8422705257},{"$f":"(G18-G19) * C16","v":-0.6599259997323853}]
["Minimum Aid",null,null,null,"Required NSS % of foundation",{"$f":"IF(F13>0,F16/F13,IF(F16>0,1,0))","v":0.99999999796016759},{"$f":"IF(G13>0,G16/G13,IF(G16>0,1,0))","v":1.0000000014476729}]
[6,"Minimum $25 per pupil increase",{"$f":"VLOOKUP($A$7, aidcalc, 32)","v":0}]
[]
["Non-Operating District Reduction to Foundation"]
[6,"Reduction to foundation",{"$f":"VLOOKUP($A$7, aidcalc, 34)","v":0}]
[]
["FY16 Chapter 70 Aid"]
[7,"sum of line 1, 5 minus 6",{"$f":"VLOOKUP($A$7, aidcalc, 35)","v":6856522}]

{"sheet":"regional dist members","index":7,"n_rows":66,"n_cols":12,"rows_kept":66,"cut":false,"hidden":false,"merged":[[5,3,5,11],[6,3,6,11],[7,3,7,11],[12,5,12,6],[12,9,12,10],[11,5,11,7],[11,9,11,11]]}
[]
[null,null,null,"Return to Index"]
[]
[null,null,null,{"$f":"VLOOKUP(reg_order, regdistricts, 3, FALSE)","v":810}]
[]
[null,null,null,"Massachusetts Department of Elementary and Secondary Education"]
[null,null,null,"FY16 Chapter 70"]
[null,null,null,"Regional District Enrollment and Contributions by Member City or Town"]
[]
[null,null,2,{"$f":"VLOOKUP(reg_order, regdistricts, 2, FALSE)","v":"810 Bristol Plymouth"}]
[]
[null,null,null,null,null,"Foundation Enrollment",null,null,null,"Required Minimum Contribution"]
[]
[{"$f":"VLOOKUP($D$4, regcount, 2)","v":7},null,null,"LEA","Member","FY15","FY16","Change",null,"FY15","FY16","Change"]
[]
[null,null,null,null,"District Total",{"$f":"SUM(F18:F65)","v":1309},{"$f":"SUM(G18:G65)","v":1346},{"$f":"SUM(H18:H60)","v":37},null,{"$f":"SUM(J18:J65)","v":9454533},{"$f":"SUM(K18:K65)","v":10001847},{"$f":"SUM(L18:L60)","v":547314}]
[]
[{"$f":"$D$4*100+B18","v":81001},1,null,{"$f":"IF($B18<=$A$14, VLOOKUP($A18, regdetail, 5), \" \")","v":27},{"$f":"IF($B18<=$A$14, VLOOKUP($A18, regdetail, 6), \" \")","v":"BERKLEY                      "},{"$f":"IF($B18<=$A$14, VLOOKUP($A18, regdetail, 7), \" \")","v":106},{"$f":"IF($B18<=$A$14, VLOOKUP($A18, regdetail, 8), \" \")","v":105},{"$f":"IF($B18<=$A$14, G18-F18, \" \")","v":-1},null,{"$f":"IF($B18<=$A$14, VLOOKUP($A18, regdetail, 9), \" \")","v":778215},{"$f":"IF($B18<=$A$14, VLOOKUP($A18, regdetail, 10), \" \")","v":836385},{"$f":"IF($B18<=$A$14, K18-J18, \" \")","v":58170}]
[{"$f":"$D$4*100+B19","v":81002},2,null,42,"BRIDGEWATER                  ",112,110,-2,null,1051957,1049274,-2683]
[81003,3,null,76,"DIGHTON                      ",18,37,19,null,147768,296779,149011]
[81004,4,null,182,"MIDDLEBOROUGH                ",275,289,14,null,2061516,2237902,176386]
[81005,5,null,245,"RAYNHAM                      ",148,159,11,null,1421477,1519991,98514]
[81006,6,null,247,"REHOBOTH                     ",19,41,22,null,202595,443919,241324]
[81007,7,null,293,"TAUNTON                      ",631,605,-26,null,3791005,3617597,-173408]
[81008,8,null," "," "," "," "," ",null," "," "," "]
[81009,9,null," "," "," "," "," ",null," "," "," "]
[81010,10,null," "," "," "," "," ",null," "," "," "]
[81011,11,null," "," "," "," "," ",null," "," "," "]
[81012,12,null," "," "," "," "," ",null," "," "," "]
[81013,13,null," "," "," "," "," ",null," "," "," "]
[81014,14,null," "," "," "," "," ",null," "," "," "]
[81015,15,null," "," "," "," "," ",null," "," "," "]
[81016,16,null," "," "," "," "," ",null," "," "," "]
[81017,17,null," "," "," "," "," ",null," "," "," "]
[81018,18,null," "," "," "," "," ",null," "," "," "]
[81019,19,null," "," "," "," "," ",null," "," "," "]
[81020,20,null," "," "," "," "," ",null," "," "," "]
[81021,21,null," "," "," "," "," ",null," "," "," "]
[81022,22,null," "," "," "," "," ",null," "," "," "]
[81023,23,null," "," "," "," "," ",null," "," "," "]
[81024,24,null," "," "," "," "," ",null," "," "," "]
[81025,25,null," "," "," "," "," ",null," "," "," "]
[81026,26,null," "," "," "," "," ",null," "," "," "]
[81027,27,null," "," "," "," "," ",null," "," "," "]
[81028,28,null," "," "," "," "," ",null," "," "," "]
[81029,29,null," "," "," "," "," ",null," "," "," "]
[81030,30,null," "," "," "," "," ",null," "," "," "]
[81031,31,null," "," "," "," "," ",null," "," "," "]
[81032,32,null," "," "," "," "," ",null," "," "," "]
[81033,33,null," "," "," "," "," ",null," "," "," "]
[81034,34,null," "," "," "," "," ",null," "," "," "]
[81035,35,null," "," "," "," "," ",null," "," "," "]
[81036,36,null," "," "," "," "," ",null," "," "," "]
[81037,37,null," "," "," "," "," ",null," "," "," "]
[81038,38,null," "," "," "," "," ",null," "," "," "]
[81039,39,null," "," "," "," "," ",null," "," "," "]
[81040,40,null," "," "," "," "," ",null," "," "," "]
[81041,41,null," "," "," "," "," ",null," "," "," "]
[81042,42,null," "," "," "," "," ",null," "," "," "]
[81043,43,null," "," "," "," "," ",null," "," "," "]
[81044,44,null," "," "," "," "," ",null," "," "," "]
[81045,45,null," "," "," "," "," ",null," "," "," "]
[81046,46,null," "," "," "," ",{"$f":"IF($B63<=$A$14, G63-F63, \" \")","v":" "},null," "," ",{"$f":"IF($B63<=$A$14, K63-J63, \" \")","v":" "}]
[81047,47,null," "," "," "," ",{"$f":"IF($B64<=$A$14, G64-F64, \" \")","v":" "},null," "," ",{"$f":"IF($B64<=$A$14, K64-J64, \" \")","v":" "}]
[81048,48,null," "," "," "," ",{"$f":"IF($B65<=$A$14, G65-F65, \" \")","v":" "},null," "," ",{"$f":"IF($B65<=$A$14, K65-J65, \" \")","v":" "}]
[81049,49,null," "," "," "," ",{"$f":"IF($B66<=$A$14, G66-F66, \" \")","v":" "},null," "," ",{"$f":"IF($B66<=$A$14, K66-J66, \" \")","v":" "}]

{"sheet":"ceyregionalcalc","index":8,"n_rows":821,"n_cols":8,"rows_kept":821,"cut":false,"hidden":true,"merged":[]}
[null,null,null,null,null,"Total CEY for town","FB for school district/town combo","CEY*% of town's fb"]
["Calculation of CEY as a % of Foundation"]
[]
[]
[]
[]
[null,null,null,null,null,"FY16 Total","FY16 Proportional","FY16 Prop"]
[null,null,null,null,null,"CEY","Foundation","CEY"]
["Order","LEA","School District","Town","City or Town","Members","Members","Members"]
[1,1,"ABINGTON                     ",1,"ABINGTON",{"$f":"VLOOKUP(D10, town351, 7)","v":14104411},{"$f":"VLOOKUP(A10, localcont!$A$10:$I$1764, 8)","v":18870910.490000002},{"$f":"VLOOKUP(A10, localcont!$A$10:$I$1764, 9)*F10","v":12546659.77309023}]
[6,2,"ACTON                        ",2,"ACTON",34961499,{"$f":"VLOOKUP(A11, localcont!$A$10:$I$1764, 8)","v":0},{"$f":"VLOOKUP(A11, localcont!$A$10:$I$1764, 9)*F11","v":0}]
[11,3,"ACUSHNET                     ",3,"ACUSHNET",8148342,{"$f":"VLOOKUP(A12, localcont!$A$10:$I$1764, 8)","v":11701370.220000003},{"$f":"VLOOKUP(A12, localcont!$A$10:$I$1764, 9)*F12","v":6709873.4507304113}]
[16,4,"ADAMS                        ",4,"ADAMS",4286736,{"$f":"VLOOKUP(A13, localcont!$A$10:$I$1764, 8)","v":0},{"$f":"VLOOKUP(A13, localcont!$A$10:$I$1764, 9)*F13","v":0}]
[21,5,"AGAWAM                       ",5,"AGAWAM",22234809,{"$f":"VLOOKUP(A14, localcont!$A$10:$I$1764, 8)","v":40806967.850000001},{"$f":"VLOOKUP(A14, localcont!$A$10:$I$1764, 9)*F14","v":22234809}]
[26,6,"ALFORD                       ",6,"ALFORD",1364086,{"$f":"VLOOKUP(A15, localcont!$A$10:$I$1764, 8)","v":0},{"$f":"VLOOKUP(A15, localcont!$A$10:$I$1764, 9)*F15","v":0}]
[31,7,"AMESBURY                     ",7,"AMESBURY",14813871,{"$f":"VLOOKUP(A16, localcont!$A$10:$I$1764, 8)","v":23284050.52},{"$f":"VLOOKUP(A16, localcont!$A$10:$I$1764, 9)*F16","v":14202424.524800533}]
[36,8,"AMHERST                      ",8,"AMHERST",18265918,{"$f":"VLOOKUP(A17, localcont!$A$10:$I$1764, 8)","v":12222179.260000002},{"$f":"VLOOKUP(A17, localcont!$A$10:$I$1764, 9)*F17","v":8979351.7644421179}]
[41,9,"ANDOVER                      ",9,"ANDOVER",64853505,{"$f":"VLOOKUP(A18, localcont!$A$10:$I$1764, 8)","v":57593754.781260006},{"$f":"VLOOKUP(A18, localcont!$A$10:$I$1764, 9)*F18","v":64386152.820881873}]
[46,10,"ARLINGTON                    ",10,"ARLINGTON",61393360,{"$f":"VLOOKUP(A19, localcont!$A$10:$I$1764, 8)","v":50290292.382299997},{"$f":"VLOOKUP(A19, localcont!$A$10:$I$1764, 9)*F19","v":58291451.033011489}]
[51,11,"ASHBURNHAM                   ",11,"ASHBURNHAM",4909213,{"$f":"VLOOKUP(A20, localcont!$A$10:$I$1764, 8)","v":0},{"$f":"VLOOKUP(A20, localcont!$A$10:$I$1764, 9)*F20","v":0}]
[56,12,"ASHBY                        ",12,"ASHBY",2395035,{"$f":"VLOOKUP(A21, localcont!$A$10:$I$1764, 8)","v":0},{"$f":"VLOOKUP(A21, localcont!$A$10:$I$1764, 9)*F21","v":0}]
[61,13,"ASHFIELD                     ",13,"ASHFIELD",1574812,{"$f":"VLOOKUP(A22, localcont!$A$10:$I$1764, 8)","v":276131.65999999997},{"$f":"VLOOKUP(A22, localcont!$A$10:$I$1764, 9)*F22","v":226993.3789484099}]
[66,14,"ASHLAND                      ",14,"ASHLAND",19525238,{"$f":"VLOOKUP(A23, localcont!$A$10:$I$1764, 8)","v":23999962.492609996},{"$f":"VLOOKUP(A23, localcont!$A$10:$I$1764, 9)*F23","v":18558228.299560949}]
[71,15,"ATHOL                        ",15,"ATHOL",5446802,{"$f":"VLOOKUP(A24, localcont!$A$10:$I$1764, 8)","v":0},{"$f":"VLOOKUP(A24, localcont!$A$10:$I$1764, 9)*F24","v":0}]
[76,16,"ATTLEBORO                    ",16,"ATTLEBORO",32598936,{"$f":"VLOOKUP(A25, localcont!$A$10:$I$1764, 8)","v":68325590.250000015},{"$f":"VLOOKUP(A25, localcont!$A$10:$I$1764, 9)*F25","v":32304158.666197062}]
[81,17,"AUBURN                       ",17,"AUBURN",14661555,{"$f":"VLOOKUP(A26, localcont!$A$10:$I$1764, 8)","v":22643826.370000001},{"$f":"VLOOKUP(A26, localcont!$A$10:$I$1764, 9)*F26","v":13773514.756008338}]
[86,18,"AVON                         ",18,"AVON",4733904,{"$f":"VLOOKUP(A27, localcont!$A$10:$I$1764, 8)","v":5497208.8500000006},{"$f":"VLOOKUP(A27, localcont!$A$10:$I$1764, 9)*F27","v":4116665.0870719315}]
[91,19,"AYER                         ",19,"AYER",7122054,{"$f":"VLOOKUP(A28, localcont!$A$10:$I$1764, 8)","v":0},{"$f":"VLOOKUP(A28, localcont!$A$10:$I$1764, 9)*F28","v":0}]
[96,20,"BARNSTABLE                   ",20,"BARNSTABLE",74439876,{"$f":"VLOOKUP(A29, localcont!$A$10:$I$1764, 8)","v":55521659.879999995},{"$f":"VLOOKUP(A29, localcont!$A$10:$I$1764, 9)*F29","v":70909987.339747041}]
[101,21,"BARRE                        ",21,"BARRE",3429239,{"$f":"VLOOKUP(A30, localcont!$A$10:$I$1764, 8)","v":0},{"$f":"VLOOKUP(A30, localcont!$A$10:$I$1764, 9)*F30","v":0}]
[106,22,"BECKET                       ",22,"BECKET",2549621,{"$f":"VLOOKUP(A31, localcont!$A$10:$I$1764, 8)","v":118799.64000000001},{"$f":"VLOOKUP(A31, localcont!$A$10:$I$1764, 9)*F31","v":158201.79916342458}]
[111,23,"BEDFORD                      ",23,"BEDFORD",23087597,{"$f":"VLOOKUP(A32, localcont!$A$10:$I$1764, 8)","v":26053076.229189999},{"$f":"VLOOKUP(A32, localcont!$A$10:$I$1764, 9)*F32","v":22849987.817305285}]
[116,24,"BELCHERTOWN                  ",24,"BELCHERTOWN",11887037,{"$f":"VLOOKUP(A33, localcont!$A$10:$I$1764, 8)","v":22973661.619999997},{"$f":"VLOOKUP(A33, localcont!$A$10:$I$1764, 9)*F33","v":11198624.860489061}]
[121,25,"BELLINGHAM                   ",25,"BELLINGHAM",16063995,{"$f":"VLOOKUP(A34, localcont!$A$10:$I$1764, 8)","v":23462633.450000003},{"$f":"VLOOKUP(A34, localcont!$A$10:$I$1764, 9)*F34","v":14932641.506138116}]
[126,26,"BELMONT                      ",26,"BELMONT",51981615,{"$f":"VLOOKUP(A35, localcont!$A$10:$I$1764, 8)","v":39180121.943280004},{"$f":"VLOOKUP(A35, localcont!$A$10:$I$1764, 9)*F35","v":51316096.545838587}]
[131,27,"BERKLEY                      ",27,"BERKLEY",6079634,{"$f":"VLOOKUP(A36, localcont!$A$10:$I$1764, 8)","v":6569709.3200000003},{"$f":"VLOOKUP(A36, localcont!$A$10:$I$1764, 9)*F36","v":3568016.2985005905}]
[136,28,"BERLIN                       ",28,"BERLIN",3991718,{"$f":"VLOOKUP(A37, localcont!$A$10:$I$1764, 8)","v":1394075.23704},{"$f":"VLOOKUP(A37, localcont!$A$10:$I$1764, 9)*F37","v":1429205.9552788706}]
[141,29,"BERNARDSTON                  ",29,"BERNARDSTON",1646013,{"$f":"VLOOKUP(A38, localcont!$A$10:$I$1764, 8)","v":0},{"$f":"VLOOKUP(A38, localcont!$A$10:$I$1764, 9)*F38","v":0}]
[146,30,"BEVERLY                      ",30,"BEVERLY",45012609,{"$f":"VLOOKUP(A39, localcont!$A$10:$I$1764, 8)","v":44949344.692879997},{"$f":"VLOOKUP(A39, localcont!$A$10:$I$1764, 9)*F39","v":43364465.172378786}]
[151,31,"BILLERICA                    ",31,"BILLERICA",40907712,{"$f":"VLOOKUP(A40, localcont!$A$10:$I$1764, 8)","v":51437518.584149994},{"$f":"VLOOKUP(A40, localcont!$A$10:$I$1764, 9)*F40","v":34395998.633416712}]
[156,32,"BLACKSTONE                   ",32,"BLACKSTONE",6750480,{"$f":"VLOOKUP(A41, localcont!$A$10:$I$1764, 8)","v":223331.82000000004},{"$f":"VLOOKUP(A41, localcont!$A$10:$I$1764, 9)*F41","v":108072.61637805699}]
[161,33,"BLANDFORD                    ",33,"BLANDFORD",1176648,{"$f":"VLOOKUP(A42, localcont!$A$10:$I$1764, 8)","v":92399.719999999987},{"$f":"VLOOKUP(A42, localcont!$A$10:$I$1764, 9)*F42","v":77047.888529177872}]
[166,34,"BOLTON                       ",34,"BOLTON",8270398,{"$f":"VLOOKUP(A43, localcont!$A$10:$I$1764, 8)","v":13623.25469},{"$f":"VLOOKUP(A43, localcont!$A$10:$I$1764, 9)*F43","v":11602.312866999673}]
[171,35,"BOSTON                       ",35,"BOSTON",799418169,{"$f":"VLOOKUP(A44, localcont!$A$10:$I$1764, 8)","v":805600562.75407994},{"$f":"VLOOKUP(A44, localcont!$A$10:$I$1764, 9)*F44","v":799418169}]
[176,36,"BOURNE                       ",36,"BOURNE",25269971,{"$f":"VLOOKUP(A45, localcont!$A$10:$I$1764, 8)","v":19473369.859999999},{"$f":"VLOOKUP(A45, localcont!$A$10:$I$1764, 9)*F45","v":21674216.348308623}]
[181,37,"BOXBOROUGH                   ",37,"BOXBOROUGH",7931428,{"$f":"VLOOKUP(A46, localcont!$A$10:$I$1764, 8)","v":0},{"$f":"VLOOKUP(A46, localcont!$A$10:$I$1764, 9)*F46","v":0}]
[186,38,"BOXFORD",38,"BOXFORD",16901478,{"$f":"VLOOKUP(A47, localcont!$A$10:$I$1764, 8)","v":6380974.8437599996},{"$f":"VLOOKUP(A47, localcont!$A$10:$I$1764, 9)*F47","v":7686691.8538466617}]
[191,39,"BOYLSTON                     ",39,"BOYLSTON",5613937,{"$f":"VLOOKUP(A48, localcont!$A$10:$I$1764, 8)","v":2619960.2999999998},{"$f":"VLOOKUP(A48, localcont!$A$10:$I$1764, 9)*F48","v":2583445.007271301}]
[196,40,"BRAINTREE                    ",40,"BRAINTREE",41390564,{"$f":"VLOOKUP(A49, localcont!$A$10:$I$1764, 8)","v":55247735.783950001},{"$f":"VLOOKUP(A49, localcont!$A$10:$I$1764, 9)*F49","v":39433581.097131751}]
[201,41,"BREWSTER                     ",41,"BREWSTER",17714989,{"$f":"VLOOKUP(A50, localcont!$A$10:$I$1764, 8)","v":4481450.93},{"$f":"VLOOKUP(A50, localcont!$A$10:$I$1764, 9)*F50","v":7185392.8180303797}]
[206,42,"BRIDGEWATER                  ",42,"BRIDGEWATER",19999766,{"$f":"VLOOKUP(A51, localcont!$A$10:$I$1764, 8)","v":131999.6},{"$f":"VLOOKUP(A51, localcont!$A$10:$I$1764, 9)*F51","v":79381.692425340865}]
[211,43,"BRIMFIELD                    ",43,"BRIMFIELD",3228093,{"$f":"VLOOKUP(A52, localcont!$A$10:$I$1764, 8)","v":2535170.4500000002},{"$f":"VLOOKUP(A52, localcont!$A$10:$I$1764, 9)*F52","v":1422292.6686427351}]
[216,44,"BROCKTON                     ",44,"BROCKTON",47304684,{"$f":"VLOOKUP(A53, localcont!$A$10:$I$1764, 8)","v":209479318.44},{"$f":"VLOOKUP(A53, localcont!$A$10:$I$1764, 9)*F53","v":44380858.527371839}]
[221,45,"BROOKFIELD                   ",45,"BROOKFIELD",2192324,{"$f":"VLOOKUP(A54, localcont!$A$10:$I$1764, 8)","v":2475237.4299999997},{"$f":"VLOOKUP(A54, localcont!$A$10:$I$1764, 9)*F54","v":1028506.5613069114}]
[226,46,"BROOKLINE                    ",46,"BROOKLINE",126530548,{"$f":"VLOOKUP(A55, localcont!$A$10:$I$1764, 8)","v":71400245.83788},{"$f":"VLOOKUP(A55, localcont!$A$10:$I$1764, 9)*F55","v":126530548}]
[231,47,"BUCKLAND                     ",47,"BUCKLAND",1367005,{"$f":"VLOOKUP(A56, localcont!$A$10:$I$1764, 8)","v":0},{"$f":"VLOOKUP(A56, localcont!$A$10:$I$1764, 9)*F56","v":0}]
[236,48,"BURLINGTON                   ",48,"BURLINGTON",34327472,{"$f":"VLOOKUP(A57, localcont!$A$10:$I$1764, 8)","v":34239007.273680001},{"$f":"VLOOKUP(A57, localcont!$A$10:$I$1764, 9)*F57","v":32744153.510009822}]
[241,49,"CAMBRIDGE                    ",49,"CAMBRIDGE",200660223,{"$f":"VLOOKUP(A58, localcont!$A$10:$I$1764, 8)","v":79533780.825280011},{"$f":"VLOOKUP(A58, localcont!$A$10:$I$1764, 9)*F58","v":200660223}]
[246,50,"CANTON                       ",50,"CANTON",32793642,{"$f":"VLOOKUP(A59, localcont!$A$10:$I$1764, 8)","v":31710377.389359999},{"$f":"VLOOKUP(A59, localcont!$A$10:$I$1764, 9)*F59","v":31712797.516544688}]
[251,51,"CARLISLE                     ",51,"CARLISLE",12756643,{"$f":"VLOOKUP(A60, localcont!$A$10:$I$1764, 8)","v":5330419.6237000003},{"$f":"VLOOKUP(A60, localcont!$A$10:$I$1764, 9)*F60","v":7555374.3108958825}]
[256,52,"CARVER                       ",52,"CARVER",9006229,{"$f":"VLOOKUP(A61, localcont!$A$10:$I$1764, 8)","v":16197468.462199999},{"$f":"VLOOKUP(A61, localcont!$A$10:$I$1764, 9)*F61","v":8264513.7844901346}]
[261,53,"CHARLEMONT                   ",53,"CHARLEMONT",886853,{"$f":"VLOOKUP(A62, localcont!$A$10:$I$1764, 8)","v":65999.8},{"$f":"VLOOKUP(A62, localcont!$A$10:$I$1764, 9)*F62","v":36647.767190235536}]
[266,54,"CHARLTON                     ",54,"CHARLTON",11814629,{"$f":"VLOOKUP(A63, localcont!$A$10:$I$1764, 8)","v":26399.920000000002},{"$f":"VLOOKUP(A63, localcont!$A$10:$I$1764, 9)*F63","v":13548.553544229842}]
[271,55,"CHATHAM                      ",55,"CHATHAM",27949796,{"$f":"VLOOKUP(A64, localcont!$A$10:$I$1764, 8)","v":0},{"$f":"VLOOKUP(A64, localcont!$A$10:$I$1764, 9)*F64","v":0}]
[276,56,"CHELMSFORD                   ",56,"CHELMSFORD",40329571,{"$f":"VLOOKUP(A65, localcont!$A$10:$I$1764, 8)","v":47241970.625249989},{"$f":"VLOOKUP(A65, localcont!$A$10:$I$1764, 9)*F65","v":38029640.863813438}]
[281,57,"CHELSEA                      ",57,"CHELSEA",16795351,{"$f":"VLOOKUP(A66, localcont!$A$10:$I$1764, 8)","v":84321341.850099981},{"$f":"VLOOKUP(A66, localcont!$A$10:$I$1764, 9)*F66","v":16137175.058477977}]
[286,58,"CHESHIRE                     ",58,"CHESHIRE",2371976,{"$f":"VLOOKUP(A67, localcont!$A$10:$I$1764, 8)","v":13199.960000000001},{"$f":"VLOOKUP(A67, localcont!$A$10:$I$1764, 9)*F67","v":6647.8114311553072}]
[291,59,"CHESTER                      ",59,"CHESTER",898470,{"$f":"VLOOKUP(A68, localcont!$A$10:$I$1764, 8)","v":210131.86},{"$f":"VLOOKUP(A68, localcont!$A$10:$I$1764, 9)*F68","v":95754.816168743127}]
[296,60,"CHESTERFIELD                 ",60,"CHESTERFIELD",917409,{"$f":"VLOOKUP(A69, localcont!$A$10:$I$1764, 8)","v":289331.62},{"$f":"VLOOKUP(A69, localcont!$A$10:$I$1764, 9)*F69","v":157903.51456451198}]
[301,61,"CHICOPEE                     ",61,"CHICOPEE",29813236,{"$f":"VLOOKUP(A70, localcont!$A$10:$I$1764, 8)","v":89726607.379999995},{"$f":"VLOOKUP(A70, localcont!$A$10:$I$1764, 9)*F70","v":29813236}]
[306,62,"CHILMARK                     ",62,"CHILMARK",13113690,{"$f":"VLOOKUP(A71, localcont!$A$10:$I$1764, 8)","v":0},{"$f":"VLOOKUP(A71, localcont!$A$10:$I$1764, 9)*F71","v":0}]
[311,63,"CLARKSBURG                   ",63,"CLARKSBURG",956866,{"$f":"VLOOKUP(A72, localcont!$A$10:$I$1764, 8)","v":1772262.85},{"$f":"VLOOKUP(A72, localcont!$A$10:$I$1764, 9)*F72","v":665317.90541499178}]
[316,64,"CLINTON                      ",64,"CLINTON",9447493,{"$f":"VLOOKUP(A73, localcont!$A$10:$I$1764, 8)","v":21129205.020000003},{"$f":"VLOOKUP(A73, localcont!$A$10:$I$1764, 9)*F73","v":9447493}]
[321,65,"COHASSET                     ",65,"COHASSET",{"$f":"VLOOKUP(D74, town351, 7)","v":21879996},{"$f":"VLOOKUP(A74, localcont!$A$10:$I$1764, 8)","v":14047813.289400002},{"$f":"VLOOKUP(A74, localcont!$A$10:$I$1764, 9)*F74","v":21734262.49123786}]
[326,66,"COLRAIN                      ",66,"COLRAIN",1247248,{"$f":"VLOOKUP(A75, localcont!$A$10:$I$1764, 8)","v":13199.960000000001},{"$f":"VLOOKUP(A75, localcont!$A$10:$I$1764, 9)*F75","v":8002.2164225954321}]
[331,67,"CONCORD                      ",67,"CONCORD",55415833,{"$f":"VLOOKUP(A76, localcont!$A$10:$I$1764, 8)","v":18462886.786499996},{"$f":"VLOOKUP(A76, localcont!$A$10:$I$1764, 9)*F76","v":35535491.023288205}]
[336,68,"CONWAY                       ",68,"CONWAY",1933872,{"$f":"VLOOKUP(A77, localcont!$A$10:$I$1764, 8)","v":1311758.95},{"$f":"VLOOKUP(A77, localcont!$A$10:$I$1764, 9)*F77","v":1102127.7084305231}]
[341,69,"CUMMINGTON                   ",69,"CUMMINGTON",844164,{"$f":"VLOOKUP(A78, localcont!$A$10:$I$1764, 8)","v":118799.64000000001},{"$f":"VLOOKUP(A78, localcont!$A$10:$I$1764, 9)*F78","v":114690.12386541424}]
[346,70,"DALTON                       ",70,"DALTON",5049744,{"$f":"VLOOKUP(A79, localcont!$A$10:$I$1764, 8)","v":289331.62},{"$f":"VLOOKUP(A79, localcont!$A$10:$I$1764, 9)*F79","v":148222.40913523547}]
[351,71,"DANVERS                      ",71,"DANVERS",30511766,{"$f":"VLOOKUP(A80, localcont!$A$10:$I$1764, 8)","v":34881940.840000004},{"$f":"VLOOKUP(A80, localcont!$A$10:$I$1764, 9)*F80","v":29124275.226422776}]
[356,72,"DARTMOUTH                    ",72,"DARTMOUTH",34091942,{"$f":"VLOOKUP(A81, localcont!$A$10:$I$1764, 8)","v":36075718.260000005},{"$f":"VLOOKUP(A81, localcont!$A$10:$I$1764, 9)*F81","v":30536623.73902363}]
[361,73,"DEDHAM                       ",73,"DEDHAM",32715386,{"$f":"VLOOKUP(A82, localcont!$A$10:$I$1764, 8)","v":26929202.733199999},{"$f":"VLOOKUP(A82, localcont!$A$10:$I$1764, 9)*F82","v":30723174.976885624}]
[366,74,"DEERFIELD                    ",74,"DEERFIELD",5257783,{"$f":"VLOOKUP(A83, localcont!$A$10:$I$1764, 8)","v":3228031.8499999992},{"$f":"VLOOKUP(A83, localcont!$A$10:$I$1764, 9)*F83","v":2776101.1759304651}]
[371,75,"DENNIS                       ",75,"DENNIS",29802701,{"$f":"VLOOKUP(A84, localcont!$A$10:$I$1764, 8)","v":0},{"$f":"VLOOKUP(A84, localcont!$A$10:$I$1764, 9)*F84","v":0}]
[376,76,"DIGHTON                      ",76,"DIGHTON",6331921,{"$f":"VLOOKUP(A85, localcont!$A$10:$I$1764, 8)","v":0},{"$f":"VLOOKUP(A85, localcont!$A$10:$I$1764, 9)*F85","v":0}]
[381,77,"DOUGLAS                      ",77,"DOUGLAS",7483956,{"$f":"VLOOKUP(A86, localcont!$A$10:$I$1764, 8)","v":13645814.699999997},{"$f":"VLOOKUP(A86, localcont!$A$10:$I$1764, 9)*F86","v":6867155.6652144603}]
[386,78,"DOVER                        ",78,"DOVER",27457742,{"$f":"VLOOKUP(A87, localcont!$A$10:$I$1764, 8)","v":4322776.7936200006},{"$f":"VLOOKUP(A87, localcont!$A$10:$I$1764, 9)*F87","v":11181966.761937266}]
[391,79,"DRACUT                       ",79,"DRACUT",24505326,{"$f":"VLOOKUP(A88, localcont!$A$10:$I$1764, 8)","v":37644250.119999997},{"$f":"VLOOKUP(A88, localcont!$A$10:$I$1764, 9)*F88","v":20560906.851383515}]
[396,80,"DUDLEY                       ",80,"DUDLEY",7691493,{"$f":"VLOOKUP(A89, localcont!$A$10:$I$1764, 8)","v":13199.960000000001},{"$f":"VLOOKUP(A89, localcont!$A$10:$I$1764, 9)*F89","v":5234.251251403718}]
[401,81,"DUNSTABLE                    ",81,"DUNSTABLE",4223598,{"$f":"VLOOKUP(A90, localcont!$A$10:$I$1764, 8)","v":13199.960000000001},{"$f":"VLOOKUP(A90, localcont!$A$10:$I$1764, 9)*F90","v":10022.495708762335}]
[406,82,"DUXBURY                      ",82,"DUXBURY",30937315,{"$f":"VLOOKUP(A91, localcont!$A$10:$I$1764, 8)","v":29322453.03464001},{"$f":"VLOOKUP(A91, localcont!$A$10:$I$1764, 9)*F91","v":30937315}]
[411,83,"EAST BRIDGEWATER             ",83,"EAST BRIDGEWATER",11755318,{"$f":"VLOOKUP(A92, localcont!$A$10:$I$1764, 8)","v":20764631.130000003},{"$f":"VLOOKUP(A92, localcont!$A$10:$I$1764, 9)*F92","v":10964338.718736501}]
[416,84,"EAST BROOKFIELD              ",84,"EAST BROOKFIELD",1699668,{"$f":"VLOOKUP(A93, localcont!$A$10:$I$1764, 8)","v":276131.65999999997},{"$f":"VLOOKUP(A93, localcont!$A$10:$I$1764, 9)*F93","v":127875.83455987183}]
[421,85,"EASTHAM                      ",85,"EASTHAM",13032677,{"$f":"VLOOKUP(A94, localcont!$A$10:$I$1764, 8)","v":1830657.57},{"$f":"VLOOKUP(A94, localcont!$A$10:$I$1764, 9)*F94","v":4740814.3125071749}]
[426,86,"EASTHAMPTON                  ",86,"EASTHAMPTON",11740238,{"$f":"VLOOKUP(A95, localcont!$A$10:$I$1764, 8)","v":18095294},{"$f":"VLOOKUP(A95, localcont!$A$10:$I$1764, 9)*F95","v":11740238}]
[431,87,"EAST LONGMEADOW              ",87,"EAST LONGMEADOW",15989870,{"$f":"VLOOKUP(A96, localcont!$A$10:$I$1764, 8)","v":25486357.480000004},{"$f":"VLOOKUP(A96, localcont!$A$10:$I$1764, 9)*F96","v":15989870}]
[436,88,"EASTON                       ",88,"EASTON",26748126,{"$f":"VLOOKUP(A97, localcont!$A$10:$I$1764, 8)","v":34281775.100000001},{"$f":"VLOOKUP(A97, localcont!$A$10:$I$1764, 9)*F97","v":26036262.481546193}]
[441,89,"EDGARTOWN                    ",89,"EDGARTOWN",29348085,{"$f":"VLOOKUP(A98, localcont!$A$10:$I$1764, 8)","v":3949969.68},{"$f":"VLOOKUP(A98, localcont!$A$10:$I$1764, 9)*F98","v":19066098.434538286}]
[446,90,"EGREMONT                     ",90,"EGREMONT",2031153,{"$f":"VLOOKUP(A99, localcont!$A$10:$I$1764, 8)","v":0},{"$f":"VLOOKUP(A99, localcont!$A$10:$I$1764, 9)*F99","v":0}]
[451,91,"ERVING                       ",91,"ERVING",2973215,{"$f":"VLOOKUP(A100, localcont!$A$10:$I$1764, 8)","v":2412269.36},{"$f":"VLOOKUP(A100, localcont!$A$10:$I$1764, 9)*F100","v":2468931.6364686321}]
[456,92,"ESSEX                        ",92,"ESSEX",5691033,{"$f":"VLOOKUP(A101, localcont!$A$10:$I$1764, 8)","v":0},{"$f":"VLOOKUP(A101, localcont!$A$10:$I$1764, 9)*F101","v":0}]
[461,93,"EVERETT                      ",93,"EVERETT",25962442,{"$f":"VLOOKUP(A102, localcont!$A$10:$I$1764, 8)","v":89667949.965919986},{"$f":"VLOOKUP(A102, localcont!$A$10:$I$1764, 9)*F102","v":25962442}]
[466,94,"FAIRHAVEN                    ",94,"FAIRHAVEN",13535661,{"$f":"VLOOKUP(A103, localcont!$A$10:$I$1764, 8)","v":17707799.16},{"$f":"VLOOKUP(A103, localcont!$A$10:$I$1764, 9)*F103","v":11363006.212914472}]
[471,95,"FALL RIVER                   ",95,"FALL RIVER",40260927,{"$f":"VLOOKUP(A104, localcont!$A$10:$I$1764, 8)","v":130963260.19999999},{"$f":"VLOOKUP(A104, localcont!$A$10:$I$1764, 9)*F104","v":35356835.198291019}]
[476,96,"FALMOUTH                     ",96,"FALMOUTH",60149657,{"$f":"VLOOKUP(A105, localcont!$A$10:$I$1764, 8)","v":35910247.149999999},{"$f":"VLOOKUP(A105, localcont!$A$10:$I$1764, 9)*F105","v":57036848.349108905}]
[481,97,"FITCHBURG                    ",97,"FITCHBURG",18523225,{"$f":"VLOOKUP(A106, localcont!$A$10:$I$1764, 8)","v":62363310.040000007},{"$f":"VLOOKUP(A106, localcont!$A$10:$I$1764, 9)*F106","v":16824832.645791776}]
[486,98,"FLORIDA                      ",98,"FLORIDA",635411,{"$f":"VLOOKUP(A107, localcont!$A$10:$I$1764, 8)","v":872994.29},{"$f":"VLOOKUP(A107, localcont!$A$10:$I$1764, 9)*F107","v":468646.40680993511}]
[491,99,"FOXBOROUGH                   ",99,"FOXBOROUGH",21489293,{"$f":"VLOOKUP(A108, localcont!$A$10:$I$1764, 8)","v":26484573.869379997},{"$f":"VLOOKUP(A108, localcont!$A$10:$I$1764, 9)*F108","v":21012275.336949296}]
[496,100,"FRAMINGHAM                   ",100,"FRAMINGHAM",61010995,{"$f":"VLOOKUP(A109, localcont!$A$10:$I$1764, 8)","v":95619668.628199995},{"$f":"VLOOKUP(A109, localcont!$A$10:$I$1764, 9)*F109","v":55930158.815136231}]
[501,101,"FRANKLIN                     ",101,"FRANKLIN",37235119,{"$f":"VLOOKUP(A110, localcont!$A$10:$I$1764, 8)","v":57388919.031509995},{"$f":"VLOOKUP(A110, localcont!$A$10:$I$1764, 9)*F110","v":35141951.117889494}]
[506,102,"FREETOWN                     ",102,"FREETOWN",8684883,{"$f":"VLOOKUP(A111, localcont!$A$10:$I$1764, 8)","v":1342125.9200000004},{"$f":"VLOOKUP(A111, localcont!$A$10:$I$1764, 9)*F111","v":919463.03396000538}]
[511,103,"GARDNER                      ",103,"GARDNER",10128273,{"$f":"VLOOKUP(A112, localcont!$A$10:$I$1764, 8)","v":27133681.380000003},{"$f":"VLOOKUP(A112, localcont!$A$10:$I$1764, 9)*F112","v":9305552.5580409691}]
[516,104,"AQUINNAH",104,"AQUINNAH",3081989,{"$f":"VLOOKUP(A113, localcont!$A$10:$I$1764, 8)","v":0},{"$f":"VLOOKUP(A113, localcont!$A$10:$I$1764, 9)*F113","v":0}]
[521,105,"GEORGETOWN                   ",105,"GEORGETOWN",9632529,{"$f":"VLOOKUP(A114, localcont!$A$10:$I$1764, 8)","v":12726852.809999999},{"$f":"VLOOKUP(A114, localcont!$A$10:$I$1764, 9)*F114","v":9137713.2678968087}]
[526,106,"GILL                         ",106,"GILL",1061076,{"$f":"VLOOKUP(A115, localcont!$A$10:$I$1764, 8)","v":0},{"$f":"VLOOKUP(A115, localcont!$A$10:$I$1764, 9)*F115","v":0}]
[531,107,"GLOUCESTER                   ",107,"GLOUCESTER",35528910,{"$f":"VLOOKUP(A116, localcont!$A$10:$I$1764, 8)","v":34881817.403679989},{"$f":"VLOOKUP(A116, localcont!$A$10:$I$1764, 9)*F116","v":34306928.992284536}]
[536,108,"GOSHEN                       ",108,"GOSHEN",758832,{"$f":"VLOOKUP(A117, localcont!$A$10:$I$1764, 8)","v":105599.68000000001},{"$f":"VLOOKUP(A117, localcont!$A$10:$I$1764, 9)*F117","v":71157.677117741521}]
[541,109,"GOSNOLD                      ",109,"GOSNOLD",903586,{"$f":"VLOOKUP(A118, localcont!$A$10:$I$1764, 8)","v":31484.75},{"$f":"VLOOKUP(A118, localcont!$A$10:$I$1764, 9)*F118","v":903586}]
[546,110,"GRAFTON                      ",110,"GRAFTON",19852259,{"$f":"VLOOKUP(A119, localcont!$A$10:$I$1764, 8)","v":29002097.030000001},{"$f":"VLOOKUP(A119, localcont!$A$10:$I$1764, 9)*F119","v":19143131.835655678}]
[551,111,"GRANBY                       ",111,"GRANBY",4852796,{"$f":"VLOOKUP(A120, localcont!$A$10:$I$1764, 8)","v":7978374.4699999979},{"$f":"VLOOKUP(A120, localcont!$A$10:$I$1764, 9)*F120","v":4658237.589685943}]
[556,112,"GRANVILLE                    ",112,"GRANVILLE",1495541,{"$f":"VLOOKUP(A121, localcont!$A$10:$I$1764, 8)","v":0},{"$f":"VLOOKUP(A121, localcont!$A$10:$I$1764, 9)*F121","v":0}]
[561,113,"GREAT BARRINGTON             ",113,"GREAT BARRINGTON",8920276,{"$f":"VLOOKUP(A122, localcont!$A$10:$I$1764, 8)","v":0},{"$f":"VLOOKUP(A122, localcont!$A$10:$I$1764, 9)*F122","v":0}]
[566,114,"GREENFIELD                   ",114,"GREENFIELD",10381623,{"$f":"VLOOKUP(A123, localcont!$A$10:$I$1764, 8)","v":21378359.310000002},{"$f":"VLOOKUP(A123, localcont!$A$10:$I$1764, 9)*F123","v":9577049.2531263363}]
[571,115,"GROTON                       ",115,"GROTON",16057838,{"$f":"VLOOKUP(A124, localcont!$A$10:$I$1764, 8)","v":0},{"$f":"VLOOKUP(A124, localcont!$A$10:$I$1764, 9)*F124","v":0}]
[576,116,"GROVELAND                    ",116,"GROVELAND",6584807,{"$f":"VLOOKUP(A125, localcont!$A$10:$I$1764, 8)","v":79199.760000000009},{"$f":"VLOOKUP(A125, localcont!$A$10:$I$1764, 9)*F125","v":50391.836715127509}]
[581,117,"HADLEY                       ",117,"HADLEY",5849879,{"$f":"VLOOKUP(A126, localcont!$A$10:$I$1764, 8)","v":5986156.3800000008},{"$f":"VLOOKUP(A126, localcont!$A$10:$I$1764, 9)*F126","v":5849879}]
[586,118,"HALIFAX                      ",118,"HALIFAX",6289045,{"$f":"VLOOKUP(A127, localcont!$A$10:$I$1764, 8)","v":5540979.4299999988},{"$f":"VLOOKUP(A127, localcont!$A$10:$I$1764, 9)*F127","v":2871458.866812557}]
[591,119,"HAMILTON                     ",119,"HAMILTON",13196140,{"$f":"VLOOKUP(A128, localcont!$A$10:$I$1764, 8)","v":0},{"$f":"VLOOKUP(A128, localcont!$A$10:$I$1764, 9)*F128","v":0}]
[596,120,"HAMPDEN                      ",120,"HAMPDEN",5152759,{"$f":"VLOOKUP(A129, localcont!$A$10:$I$1764, 8)","v":0},{"$f":"VLOOKUP(A129, localcont!$A$10:$I$1764, 9)*F129","v":0}]
[601,121,"HANCOCK                      ",121,"HANCOCK",1269716,{"$f":"VLOOKUP(A130, localcont!$A$10:$I$1764, 8)","v":700017.85},{"$f":"VLOOKUP(A130, localcont!$A$10:$I$1764, 9)*F130","v":1269716}]
[606,122,"HANOVER                      ",122,"HANOVER",18911830,{"$f":"VLOOKUP(A131, localcont!$A$10:$I$1764, 8)","v":24041587.167499997},{"$f":"VLOOKUP(A131, localcont!$A$10:$I$1764, 9)*F131","v":18359459.060757942}]
[611,123,"HANSON                       ",123,"HANSON",9049001,{"$f":"VLOOKUP(A132, localcont!$A$10:$I$1764, 8)","v":105599.68000000001},{"$f":"VLOOKUP(A132, localcont!$A$10:$I$1764, 9)*F132","v":55347.479233269471}]
[616,124,"HARDWICK                     ",124,"HARDWICK",1511165,{"$f":"VLOOKUP(A133, localcont!$A$10:$I$1764, 8)","v":13199.960000000001},{"$f":"VLOOKUP(A133, localcont!$A$10:$I$1764, 9)*F133","v":4654.2549903052959}]
[621,125,"HARVARD                      ",125,"HARVARD",10154871,{"$f":"VLOOKUP(A134, localcont!$A$10:$I$1764, 8)","v":9693663.2637600005},{"$f":"VLOOKUP(A134, localcont!$A$10:$I$1764, 9)*F134","v":10028410.768142158}]
[626,126,"HARWICH                      ",126,"HARWICH",24550588,{"$f":"VLOOKUP(A135, localcont!$A$10:$I$1764, 8)","v":0},{"$f":"VLOOKUP(A135, localcont!$A$10:$I$1764, 9)*F135","v":0}]
[631,127,"HATFIELD                     ",127,"HATFIELD",3433212,{"$f":"VLOOKUP(A136, localcont!$A$10:$I$1764, 8)","v":3617908.4000000004},{"$f":"VLOOKUP(A136, localcont!$A$10:$I$1764, 9)*F136","v":3433212}]
[636,128,"HAVERHILL                    ",128,"HAVERHILL",43134153,{"$f":"VLOOKUP(A137, localcont!$A$10:$I$1764, 8)","v":85387258.689999998},{"$f":"VLOOKUP(A137, localcont!$A$10:$I$1764, 9)*F137","v":37789635.64062766}]
[641,129,"HAWLEY                       ",129,"HAWLEY",{"$f":"VLOOKUP(D138, town351, 7)","v":262537},{"$f":"VLOOKUP(A138, localcont!$A$10:$I$1764, 8)","v":65999.8},{"$f":"VLOOKUP(A138, localcont!$A$10:$I$1764, 9)*F138","v":37534.029393594385}]
[646,130,"HEATH                        ",130,"HEATH",459920,{"$f":"VLOOKUP(A139, localcont!$A$10:$I$1764, 8)","v":0},{"$f":"VLOOKUP(A139, localcont!$A$10:$I$1764, 9)*F139","v":0}]
[651,131,"HINGHAM                      ",131,"HINGHAM",53513691,{"$f":"VLOOKUP(A140, localcont!$A$10:$I$1764, 8)","v":39001020.533249997},{"$f":"VLOOKUP(A140, localcont!$A$10:$I$1764, 9)*F140","v":53513691}]
[656,132,"HINSDALE                     ",132,"HINSDALE",1985362,{"$f":"VLOOKUP(A141, localcont!$A$10:$I$1764, 8)","v":210131.86},{"$f":"VLOOKUP(A141, localcont!$A$10:$I$1764, 9)*F141","v":165799.29475428688}]
[661,133,"HOLBROOK                     ",133,"HOLBROOK",8284114,{"$f":"VLOOKUP(A142, localcont!$A$10:$I$1764, 8)","v":12443297.537840001},{"$f":"VLOOKUP(A142, localcont!$A$10:$I$1764, 9)*F142","v":6790413.6904844651}]
[666,134,"HOLDEN                       ",134,"HOLDEN",17578908,{"$f":"VLOOKUP(A143, localcont!$A$10:$I$1764, 8)","v":13199.960000000001},{"$f":"VLOOKUP(A143, localcont!$A$10:$I$1764, 9)*F143","v":7728.190243606844}]
[671,135,"HOLLAND                      ",135,"HOLLAND",2175997,{"$f":"VLOOKUP(A144, localcont!$A$10:$I$1764, 8)","v":1599126.75},{"$f":"VLOOKUP(A144, localcont!$A$10:$I$1764, 9)*F144","v":929166.54016203759}]
[676,136,"HOLLISTON                    ",136,"HOLLISTON",18013128,{"$f":"VLOOKUP(A145, localcont!$A$10:$I$1764, 8)","v":24361946.347450003},{"$f":"VLOOKUP(A145, localcont!$A$10:$I$1764, 9)*F145","v":17526805.907281078}]
[681,137,"HOLYOKE                      ",137,"HOLYOKE",16981999,{"$f":"VLOOKUP(A146, localcont!$A$10:$I$1764, 8)","v":80596955.480000004},{"$f":"VLOOKUP(A146, localcont!$A$10:$I$1764, 9)*F146","v":16981999}]
[686,138,"HOPEDALE                     ",138,"HOPEDALE",5659696,{"$f":"VLOOKUP(A147, localcont!$A$10:$I$1764, 8)","v":10396781.262500001},{"$f":"VLOOKUP(A147, localcont!$A$10:$I$1764, 9)*F147","v":5476378.064592042}]
[691,139,"HOPKINTON                    ",139,"HOPKINTON",29004147,{"$f":"VLOOKUP(A148, localcont!$A$10:$I$1764, 8)","v":33687637.267440006},{"$f":"VLOOKUP(A148, localcont!$A$10:$I$1764, 9)*F148","v":28744590.485102914}]
[696,140,"HUBBARDSTON                  ",140,"HUBBARDSTON",3654918,{"$f":"VLOOKUP(A149, localcont!$A$10:$I$1764, 8)","v":0},{"$f":"VLOOKUP(A149, localcont!$A$10:$I$1764, 9)*F149","v":0}]
[701,141,"HUDSON                       ",141,"HUDSON",17883684,{"$f":"VLOOKUP(A150, localcont!$A$10:$I$1764, 8)","v":28189612.605080001},{"$f":"VLOOKUP(A150, localcont!$A$10:$I$1764, 9)*F150","v":16152250.665526817}]
[706,142,"HULL                         ",142,"HULL",12728451,{"$f":"VLOOKUP(A151, localcont!$A$10:$I$1764, 8)","v":10627740.812809998},{"$f":"VLOOKUP(A151, localcont!$A$10:$I$1764, 9)*F151","v":12728451}]
[711,143,"HUNTINGTON                   ",143,"HUNTINGTON",1693587,{"$f":"VLOOKUP(A152, localcont!$A$10:$I$1764, 8)","v":328931.5},{"$f":"VLOOKUP(A152, localcont!$A$10:$I$1764, 9)*F152","v":189687.42081407981}]
[716,144,"IPSWICH                      ",144,"IPSWICH",18627322,{"$f":"VLOOKUP(A153, localcont!$A$10:$I$1764, 8)","v":18118176.856480002},{"$f":"VLOOKUP(A153, localcont!$A$10:$I$1764, 9)*F153","v":18110658.485195909}]
[721,145,"KINGSTON                     ",145,"KINGSTON",13280058,{"$f":"VLOOKUP(A154, localcont!$A$10:$I$1764, 8)","v":10093730.667000001},{"$f":"VLOOKUP(A154, localcont!$A$10:$I$1764, 9)*F154","v":6415834.4975145645}]
[726,146,"LAKEVILLE                    ",146,"LAKEVILLE",11117419,{"$f":"VLOOKUP(A155, localcont!$A$10:$I$1764, 8)","v":196931.90000000002},{"$f":"VLOOKUP(A155, localcont!$A$10:$I$1764, 9)*F155","v":128965.3347375506}]
[731,147,"LANCASTER                    ",147,"LANCASTER",6863926,{"$f":"VLOOKUP(A156, localcont!$A$10:$I$1764, 8)","v":26399.920000000002},{"$f":"VLOOKUP(A156, localcont!$A$10:$I$1764, 9)*F156","v":18424.165087051606}]
[736,148,"LANESBOROUGH                 ",148,"LANESBOROUGH",2640853,{"$f":"VLOOKUP(A157, localcont!$A$10:$I$1764, 8)","v":1924866.88},{"$f":"VLOOKUP(A157, localcont!$A$10:$I$1764, 9)*F157","v":1248594.8583037674}]
[741,149,"LAWRENCE                     ",149,"LAWRENCE",26290096,{"$f":"VLOOKUP(A158, localcont!$A$10:$I$1764, 8)","v":186136094.67000002},{"$f":"VLOOKUP(A158, localcont!$A$10:$I$1764, 9)*F158","v":23903335.967496473}]
[746,150,"LEE                          ",150,"LEE",5642981,{"$f":"VLOOKUP(A159, localcont!$A$10:$I$1764, 8)","v":6274000.4799999986},{"$f":"VLOOKUP(A159, localcont!$A$10:$I$1764, 9)*F159","v":5642981}]
[751,151,"LEICESTER                    ",151,"LEICESTER",8064134,{"$f":"VLOOKUP(A160, localcont!$A$10:$I$1764, 8)","v":16315414.450000001},{"$f":"VLOOKUP(A160, localcont!$A$10:$I$1764, 9)*F160","v":8064134}]
[756,152,"LENOX                        ",152,"LENOX",7621876,{"$f":"VLOOKUP(A161, localcont!$A$10:$I$1764, 8)","v":5259228.0599999996},{"$f":"VLOOKUP(A161, localcont!$A$10:$I$1764, 9)*F161","v":7621876}]
[761,153,"LEOMINSTER                   ",153,"LEOMINSTER",27854000,{"$f":"VLOOKUP(A162, localcont!$A$10:$I$1764, 8)","v":68789894.089999989},{"$f":"VLOOKUP(A162, localcont!$A$10:$I$1764, 9)*F162","v":27854000}]
[766,154,"LEVERETT                     ",154,"LEVERETT",2056481,{"$f":"VLOOKUP(A163, localcont!$A$10:$I$1764, 8)","v":982131.53},{"$f":"VLOOKUP(A163, localcont!$A$10:$I$1764, 9)*F163","v":939391.65602038661}]
[771,155,"LEXINGTON                    ",155,"LEXINGTON",85840064,{"$f":"VLOOKUP(A164, localcont!$A$10:$I$1764, 8)","v":67063773.197500005},{"$f":"VLOOKUP(A164, localcont!$A$10:$I$1764, 9)*F164","v":84875440.422667414}]
[776,156,"LEYDEN                       ",156,"LEYDEN",675463,{"$f":"VLOOKUP(A165, localcont!$A$10:$I$1764, 8)","v":0},{"$f":"VLOOKUP(A165, localcont!$A$10:$I$1764, 9)*F165","v":0}]
[781,157,"LINCOLN                      ",157,"LINCOLN",20706463,{"$f":"VLOOKUP(A166, localcont!$A$10:$I$1764, 8)","v":5601678.0140399989},{"$f":"VLOOKUP(A166, localcont!$A$10:$I$1764, 9)*F166","v":13710170.862540182}]
[786,158,"LITTLETON                    ",158,"LITTLETON",11857476,{"$f":"VLOOKUP(A167, localcont!$A$10:$I$1764, 8)","v":15178691.897499997},{"$f":"VLOOKUP(A167, localcont!$A$10:$I$1764, 9)*F167","v":11472283.193279753}]
[791,159,"LONGMEADOW                   ",159,"LONGMEADOW",23000744,{"$f":"VLOOKUP(A168, localcont!$A$10:$I$1764, 8)","v":25612986.450000003},{"$f":"VLOOKUP(A168, localcont!$A$10:$I$1764, 9)*F168","v":23000744}]
[796,160,"LOWELL                       ",160,"LOWELL",54480157,{"$f":"VLOOKUP(A169, localcont!$A$10:$I$1764, 8)","v":177537953.73000002},{"$f":"VLOOKUP(A169, localcont!$A$10:$I$1764, 9)*F169","v":47539156.630141385}]
[801,161,"LUDLOW                       ",161,"LUDLOW",15164414,{"$f":"VLOOKUP(A170, localcont!$A$10:$I$1764, 8)","v":27187438.540000007},{"$f":"VLOOKUP(A170, localcont!$A$10:$I$1764, 9)*F170","v":15164414}]
[806,162,"LUNENBURG                    ",162,"LUNENBURG",9968537,{"$f":"VLOOKUP(A171, localcont!$A$10:$I$1764, 8)","v":15341249.750000002},{"$f":"VLOOKUP(A171, localcont!$A$10:$I$1764, 9)*F171","v":9249929.6756277625}]
[811,163,"LYNN                         ",163,"LYNN",45813772,{"$f":"VLOOKUP(A172, localcont!$A$10:$I$1764, 8)","v":191949856.55000001},{"$f":"VLOOKUP(A172, localcont!$A$10:$I$1764, 9)*F172","v":45813772}]
[816,164,"LYNNFIELD                    ",164,"LYNNFIELD",20975954,{"$f":"VLOOKUP(A173, localcont!$A$10:$I$1764, 8)","v":19743094.595660001},{"$f":"VLOOKUP(A173, localcont!$A$10:$I$1764, 9)*F173","v":20667060.235999085}]
[821,165,"MALDEN                       ",165,"MALDEN",39601515,{"$f":"VLOOKUP(A174, localcont!$A$10:$I$1764, 8)","v":84059175.637440011},{"$f":"VLOOKUP(A174, localcont!$A$10:$I$1764, 9)*F174","v":38320130.779138848}]
[826,166,"MANCHESTER                   ",166,"MANCHESTER",17914135,{"$f":"VLOOKUP(A175, localcont!$A$10:$I$1764, 8)","v":0},{"$f":"VLOOKUP(A175, localcont!$A$10:$I$1764, 9)*F175","v":0}]
[831,167,"MANSFIELD                    ",167,"MANSFIELD",26778931,{"$f":"VLOOKUP(A176, localcont!$A$10:$I$1764, 8)","v":40931631.918399997},{"$f":"VLOOKUP(A176, localcont!$A$10:$I$1764, 9)*F176","v":25990128.707085155}]
[836,168,"MARBLEHEAD                   ",168,"MARBLEHEAD",43180350,{"$f":"VLOOKUP(A177, localcont!$A$10:$I$1764, 8)","v":30592758.849999998},{"$f":"VLOOKUP(A177, localcont!$A$10:$I$1764, 9)*F177","v":42918891.04351595}]
[841,169,"MARION                       ",169,"MARION",9867851,{"$f":"VLOOKUP(A178, localcont!$A$10:$I$1764, 8)","v":4014302.5699999994},{"$f":"VLOOKUP(A178, localcont!$A$10:$I$1764, 9)*F178","v":5251910.0277332878}]
[846,170,"MARLBOROUGH                  ",170,"MARLBOROUGH",35717343,{"$f":"VLOOKUP(A179, localcont!$A$10:$I$1764, 8)","v":55409404.919719994},{"$f":"VLOOKUP(A179, localcont!$A$10:$I$1764, 9)*F179","v":32195951.304237973}]
[851,171,"MARSHFIELD                   ",171,"MARSHFIELD",31962838,{"$f":"VLOOKUP(A180, localcont!$A$10:$I$1764, 8)","v":40254049.280549996},{"$f":"VLOOKUP(A180, localcont!$A$10:$I$1764, 9)*F180","v":31962838}]
[856,172,"MASHPEE                      ",172,"MASHPEE",24410717,{"$f":"VLOOKUP(A181, localcont!$A$10:$I$1764, 8)","v":16578175.300000003},{"$f":"VLOOKUP(A181, localcont!$A$10:$I$1764, 9)*F181","v":23043328.555478808}]
[861,173,"MATTAPOISETT                 ",173,"MATTAPOISETT",10680142,{"$f":"VLOOKUP(A182, localcont!$A$10:$I$1764, 8)","v":4686148.55},{"$f":"VLOOKUP(A182, localcont!$A$10:$I$1764, 9)*F182","v":5559374.3361697653}]
[866,174,"MAYNARD                      ",174,"MAYNARD",9716784,{"$f":"VLOOKUP(A183, localcont!$A$10:$I$1764, 8)","v":13850824.283779997},{"$f":"VLOOKUP(A183, localcont!$A$10:$I$1764, 9)*F183","v":9037642.0315578654}]
[871,175,"MEDFIELD                     ",175,"MEDFIELD",24517920,{"$f":"VLOOKUP(A184, localcont!$A$10:$I$1764, 8)","v":23395043.4848},{"$f":"VLOOKUP(A184, localcont!$A$10:$I$1764, 9)*F184","v":24321142.106145993}]
[876,176,"MEDFORD                      ",176,"MEDFORD",54398963,{"$f":"VLOOKUP(A185, localcont!$A$10:$I$1764, 8)","v":52826959.864799984},{"$f":"VLOOKUP(A185, localcont!$A$10:$I$1764, 9)*F185","v":54398963}]
[881,177,"MEDWAY                       ",177,"MEDWAY",14809194,{"$f":"VLOOKUP(A186, localcont!$A$10:$I$1764, 8)","v":21958660.335269995},{"$f":"VLOOKUP(A186, localcont!$A$10:$I$1764, 9)*F186","v":14185958.304265141}]
[886,178,"MELROSE                      ",178,"MELROSE",31369226,{"$f":"VLOOKUP(A187, localcont!$A$10:$I$1764, 8)","v":36086251.428580001},{"$f":"VLOOKUP(A187, localcont!$A$10:$I$1764, 9)*F187","v":30502709.451178048}]
[891,179,"MENDON                       ",179,"MENDON",7164260,{"$f":"VLOOKUP(A188, localcont!$A$10:$I$1764, 8)","v":26877.483239999998},{"$f":"VLOOKUP(A188, localcont!$A$10:$I$1764, 9)*F188","v":17630.693586373083}]
[896,180,"MERRIMAC                     ",180,"MERRIMAC",5590059,{"$f":"VLOOKUP(A189, localcont!$A$10:$I$1764, 8)","v":39599.880000000005},{"$f":"VLOOKUP(A189, localcont!$A$10:$I$1764, 9)*F189","v":23460.320094194802}]
[901,181,"METHUEN                      ",181,"METHUEN",36615907,{"$f":"VLOOKUP(A190, localcont!$A$10:$I$1764, 8)","v":75476679.289999992},{"$f":"VLOOKUP(A190, localcont!$A$10:$I$1764, 9)*F190","v":33685127.353937998}]
[906,182,"MIDDLEBOROUGH                ",182,"MIDDLEBOROUGH",17786421,{"$f":"VLOOKUP(A191, localcont!$A$10:$I$1764, 8)","v":32000342.629999999},{"$f":"VLOOKUP(A191, localcont!$A$10:$I$1764, 9)*F191","v":15610347.257266127}]
[911,183,"MIDDLEFIELD                  ",183,"MIDDLEFIELD",382029,{"$f":"VLOOKUP(A192, localcont!$A$10:$I$1764, 8)","v":13199.960000000001},{"$f":"VLOOKUP(A192, localcont!$A$10:$I$1764, 9)*F192","v":12394.935649645504}]
[916,184,"MIDDLETON                    ",184,"MIDDLETON",12548055,{"$f":"VLOOKUP(A193, localcont!$A$10:$I$1764, 8)","v":6509297.9842300005},{"$f":"VLOOKUP(A193, localcont!$A$10:$I$1764, 9)*F193","v":5957307.10264544}]
[921,185,"MILFORD                      ",185,"MILFORD",23881573,{"$f":"VLOOKUP(A194, localcont!$A$10:$I$1764, 8)","v":44418717.093200006},{"$f":"VLOOKUP(A194, localcont!$A$10:$I$1764, 9)*F194","v":22720587.521640684}]
[926,186,"MILLBURY                     ",186,"MILLBURY",10952848,{"$f":"VLOOKUP(A195, localcont!$A$10:$I$1764, 8)","v":17130949.16},{"$f":"VLOOKUP(A195, localcont!$A$10:$I$1764, 9)*F195","v":10272342.702401232}]
[931,187,"MILLIS                       ",187,"MILLIS",8420776,{"$f":"VLOOKUP(A196, localcont!$A$10:$I$1764, 8)","v":12205625.68949},{"$f":"VLOOKUP(A196, localcont!$A$10:$I$1764, 9)*F196","v":8055577.730388049}]
[936,188,"MILLVILLE                    ",188,"MILLVILLE",2267647,{"$f":"VLOOKUP(A197, localcont!$A$10:$I$1764, 8)","v":79199.760000000009},{"$f":"VLOOKUP(A197, localcont!$A$10:$I$1764, 9)*F197","v":31743.219688022888}]
[941,189,"MILTON                       ",189,"MILTON",43169352,{"$f":"VLOOKUP(A198, localcont!$A$10:$I$1764, 8)","v":36501504.885839999},{"$f":"VLOOKUP(A198, localcont!$A$10:$I$1764, 9)*F198","v":42162472.803296983}]
[946,190,"MONROE                       ",190,"MONROE",96603,{"$f":"VLOOKUP(A199, localcont!$A$10:$I$1764, 8)","v":57396.78},{"$f":"VLOOKUP(A199, localcont!$A$10:$I$1764, 9)*F199","v":46388.776961447467}]
[951,191,"MONSON                       ",191,"MONSON",6237205,{"$f":"VLOOKUP(A200, localcont!$A$10:$I$1764, 8)","v":10642912.68},{"$f":"VLOOKUP(A200, localcont!$A$10:$I$1764, 9)*F200","v":5358401.7741230661}]
[956,192,"MONTAGUE                     ",192,"MONTAGUE",5607850,{"$f":"VLOOKUP(A201, localcont!$A$10:$I$1764, 8)","v":0},{"$f":"VLOOKUP(A201, localcont!$A$10:$I$1764, 9)*F201","v":0}]
[961,193,"MONTEREY                     ",193,"MONTEREY",{"$f":"VLOOKUP(D202, town351, 7)","v":2136346},{"$f":"VLOOKUP(A202, localcont!$A$10:$I$1764, 8)","v":0},{"$f":"VLOOKUP(A202, localcont!$A$10:$I$1764, 9)*F202","v":0}]
[966,194,"MONTGOMERY                   ",194,"MONTGOMERY",850165,{"$f":"VLOOKUP(A203, localcont!$A$10:$I$1764, 8)","v":39599.880000000005},{"$f":"VLOOKUP(A203, localcont!$A$10:$I$1764, 9)*F203","v":40236.108060422659}]
[971,195,"MOUNT WASHINGTON             ",195,"MOUNT WASHINGTON",365989,{"$f":"VLOOKUP(A204, localcont!$A$10:$I$1764, 8)","v":89843.44},{"$f":"VLOOKUP(A204, localcont!$A$10:$I$1764, 9)*F204","v":365989}]
[976,196,"NAHANT                       ",196,"NAHANT",5883911,{"$f":"VLOOKUP(A205, localcont!$A$10:$I$1764, 8)","v":2552657.5399999991},{"$f":"VLOOKUP(A205, localcont!$A$10:$I$1764, 9)*F205","v":5744118.6933565522}]
[981,197,"NANTUCKET                    ",197,"NANTUCKET",75259434,{"$f":"VLOOKUP(A206, localcont!$A$10:$I$1764, 8)","v":15206451.73},{"$f":"VLOOKUP(A206, localcont!$A$10:$I$1764, 9)*F206","v":75259434}]
[986,198,"NATICK                       ",198,"NATICK",51811270,{"$f":"VLOOKUP(A207, localcont!$A$10:$I$1764, 8)","v":51546022.215100005},{"$f":"VLOOKUP(A207, localcont!$A$10:$I$1764, 9)*F207","v":50828088.196779713}]
[991,199,"NEEDHAM                      ",199,"NEEDHAM",73400615,{"$f":"VLOOKUP(A208, localcont!$A$10:$I$1764, 8)","v":51969545.140780009},{"$f":"VLOOKUP(A208, localcont!$A$10:$I$1764, 9)*F208","v":72767508.333224505}]
[996,200,"NEW ASHFORD                  ",200,"NEW ASHFORD",230326,{"$f":"VLOOKUP(A209, localcont!$A$10:$I$1764, 8)","v":217953.86999999997},{"$f":"VLOOKUP(A209, localcont!$A$10:$I$1764, 9)*F209","v":230326}]
[1001,201,"NEW BEDFORD                  ",201,"NEW BEDFORD",42057195,{"$f":"VLOOKUP(A210, localcont!$A$10:$I$1764, 8)","v":149495329.88},{"$f":"VLOOKUP(A210, localcont!$A$10:$I$1764, 9)*F210","v":35535338.850701362}]
[1006,202,"NEW BRAINTREE                ",202,"NEW BRAINTREE",928332,{"$f":"VLOOKUP(A211, localcont!$A$10:$I$1764, 8)","v":13199.960000000001},{"$f":"VLOOKUP(A211, localcont!$A$10:$I$1764, 9)*F211","v":7313.7056248866593}]
[1011,203,"NEWBURY                      ",203,"NEWBURY",10086859,{"$f":"VLOOKUP(A212, localcont!$A$10:$I$1764, 8)","v":26986.020340000003},{"$f":"VLOOKUP(A212, localcont!$A$10:$I$1764, 9)*F212","v":32351.544582189748}]
[1016,204,"NEWBURYPORT                  ",204,"NEWBURYPORT",27094184,{"$f":"VLOOKUP(A213, localcont!$A$10:$I$1764, 8)","v":22958152.764539998},{"$f":"VLOOKUP(A213, localcont!$A$10:$I$1764, 9)*F213","v":26765494.535573758}]
[1021,205,"NEW MARLBOROUGH              ",205,"NEW MARLBOROUGH",2389061,{"$f":"VLOOKUP(A214, localcont!$A$10:$I$1764, 8)","v":0},{"$f":"VLOOKUP(A214, localcont!$A$10:$I$1764, 9)*F214","v":0}]
[1026,206,"NEW SALEM                    ",206,"NEW SALEM",774988,{"$f":"VLOOKUP(A215, localcont!$A$10:$I$1764, 8)","v":0},{"$f":"VLOOKUP(A215, localcont!$A$10:$I$1764, 9)*F215","v":0}]
[1031,207,"NEWTON                       ",207,"NEWTON",227783460,{"$f":"VLOOKUP(A216, localcont!$A$10:$I$1764, 8)","v":126316298.67331998},{"$f":"VLOOKUP(A216, localcont!$A$10:$I$1764, 9)*F216","v":227783460}]
[1036,208,"NORFOLK                      ",208,"NORFOLK",13321419,{"$f":"VLOOKUP(A217, localcont!$A$10:$I$1764, 8)","v":7167206.0455},{"$f":"VLOOKUP(A217, localcont!$A$10:$I$1764, 9)*F217","v":6312478.4922662918}]
[1041,209,"NORTH ADAMS                  ",209,"NORTH ADAMS",5780861,{"$f":"VLOOKUP(A218, localcont!$A$10:$I$1764, 8)","v":16664714.390000004},{"$f":"VLOOKUP(A218, localcont!$A$10:$I$1764, 9)*F218","v":5022499.4148895107}]
[1046,210,"NORTHAMPTON                  ",210,"NORTHAMPTON",25351517,{"$f":"VLOOKUP(A219, localcont!$A$10:$I$1764, 8)","v":27323757.340000004},{"$f":"VLOOKUP(A219, localcont!$A$10:$I$1764, 9)*F219","v":23638493.103849798}]
[1051,211,"NORTH ANDOVER                ",211,"NORTH ANDOVER",38506033,{"$f":"VLOOKUP(A220, localcont!$A$10:$I$1764, 8)","v":45462873.919999987},{"$f":"VLOOKUP(A220, localcont!$A$10:$I$1764, 9)*F220","v":38184174.031630382}]
[1056,212,"NORTH ATTLEBOROUGH           ",212,"NORTH ATTLEBOROUGH",28559828,{"$f":"VLOOKUP(A221, localcont!$A$10:$I$1764, 8)","v":42858323.110000007},{"$f":"VLOOKUP(A221, localcont!$A$10:$I$1764, 9)*F221","v":25661642.786280483}]
[1061,213,"NORTHBOROUGH                 ",213,"NORTHBOROUGH",20374181,{"$f":"VLOOKUP(A222, localcont!$A$10:$I$1764, 8)","v":15526446.370000001},{"$f":"VLOOKUP(A222, localcont!$A$10:$I$1764, 9)*F222","v":12557223.022117643}]
[1066,214,"NORTHBRIDGE                  ",214,"NORTHBRIDGE",13181842,{"$f":"VLOOKUP(A223, localcont!$A$10:$I$1764, 8)","v":24091597.779999997},{"$f":"VLOOKUP(A223, localcont!$A$10:$I$1764, 9)*F223","v":12074601.317972343}]
[1071,215,"NORTH BROOKFIELD             ",215,"NORTH BROOKFIELD",3131949,{"$f":"VLOOKUP(A224, localcont!$A$10:$I$1764, 8)","v":6330664.1299999999},{"$f":"VLOOKUP(A224, localcont!$A$10:$I$1764, 9)*F224","v":2817345.8921409287}]
[1076,216,"NORTHFIELD                   ",216,"NORTHFIELD",2775427,{"$f":"VLOOKUP(A225, localcont!$A$10:$I$1764, 8)","v":26399.920000000002},{"$f":"VLOOKUP(A225, localcont!$A$10:$I$1764, 9)*F225","v":16985.174203827959}]
[1081,217,"NORTH READING                ",217,"NORTH READING",21277382,{"$f":"VLOOKUP(A226, localcont!$A$10:$I$1764, 8)","v":23928340.855640002},{"$f":"VLOOKUP(A226, localcont!$A$10:$I$1764, 9)*F226","v":20788968.103309669}]
[1086,218,"NORTON                       ",218,"NORTON",16529318,{"$f":"VLOOKUP(A227, localcont!$A$10:$I$1764, 8)","v":24716889.330000006},{"$f":"VLOOKUP(A227, localcont!$A$10:$I$1764, 9)*F227","v":15331089.119046021}]
[1091,219,"NORWELL                      ",219,"NORWELL",20168818,{"$f":"VLOOKUP(A228, localcont!$A$10:$I$1764, 8)","v":20603272.396599997},{"$f":"VLOOKUP(A228, localcont!$A$10:$I$1764, 9)*F228","v":20061640.615665108}]
[1096,220,"NORWOOD                      ",220,"NORWOOD",32604638,{"$f":"VLOOKUP(A229, localcont!$A$10:$I$1764, 8)","v":36030240.360470004},{"$f":"VLOOKUP(A229, localcont!$A$10:$I$1764, 9)*F229","v":31741122.256943427}]
[1101,221,"OAK BLUFFS                   ",221,"OAK BLUFFS",11328987,{"$f":"VLOOKUP(A230, localcont!$A$10:$I$1764, 8)","v":4306524.25},{"$f":"VLOOKUP(A230, localcont!$A$10:$I$1764, 9)*F230","v":7185572.2643487686}]
[1106,222,"OAKHAM                       ",222,"OAKHAM",1623361,{"$f":"VLOOKUP(A231, localcont!$A$10:$I$1764, 8)","v":13199.960000000001},{"$f":"VLOOKUP(A231, localcont!$A$10:$I$1764, 9)*F231","v":7734.8377486240115}]
[1111,223,"ORANGE                       ",223,"ORANGE",3868805,{"$f":"VLOOKUP(A232, localcont!$A$10:$I$1764, 8)","v":6497667.1399999978},{"$f":"VLOOKUP(A232, localcont!$A$10:$I$1764, 9)*F232","v":1842294.5562502733}]
[1116,224,"ORLEANS                      ",224,"ORLEANS",18491493,{"$f":"VLOOKUP(A233, localcont!$A$10:$I$1764, 8)","v":2072439.67},{"$f":"VLOOKUP(A233, localcont!$A$10:$I$1764, 9)*F233","v":8262872.0264608245}]
[1121,225,"OTIS                         ",225,"OTIS",3131621,{"$f":"VLOOKUP(A234, localcont!$A$10:$I$1764, 8)","v":0},{"$f":"VLOOKUP(A234, localcont!$A$10:$I$1764, 9)*F234","v":0}]
[1126,226,"OXFORD                       ",226,"OXFORD",10223722,{"$f":"VLOOKUP(A235, localcont!$A$10:$I$1764, 8)","v":19226330.559999999},{"$f":"VLOOKUP(A235, localcont!$A$10:$I$1764, 9)*F235","v":9103172.2909519039}]
[1131,227,"PALMER                       ",227,"PALMER",7604218,{"$f":"VLOOKUP(A236, localcont!$A$10:$I$1764, 8)","v":15466730.400000002},{"$f":"VLOOKUP(A236, localcont!$A$10:$I$1764, 9)*F236","v":6526229.9120846968}]
[1136,228,"PAXTON                       ",228,"PAXTON",4640180,{"$f":"VLOOKUP(A237, localcont!$A$10:$I$1764, 8)","v":0},{"$f":"VLOOKUP(A237, localcont!$A$10:$I$1764, 9)*F237","v":0}]
[1141,229,"PEABODY                      ",229,"PEABODY",46833091,{"$f":"VLOOKUP(A238, localcont!$A$10:$I$1764, 8)","v":62367587.499999993},{"$f":"VLOOKUP(A238, localcont!$A$10:$I$1764, 9)*F238","v":45049402.264866091}]
[1146,230,"PELHAM                       ",230,"PELHAM",1342086,{"$f":"VLOOKUP(A239, localcont!$A$10:$I$1764, 8)","v":696611.65},{"$f":"VLOOKUP(A239, localcont!$A$10:$I$1764, 9)*F239","v":710019.3366576985}]
[1151,231,"PEMBROKE                     ",231,"PEMBROKE",18500755,{"$f":"VLOOKUP(A240, localcont!$A$10:$I$1764, 8)","v":30953452.00279},{"$f":"VLOOKUP(A240, localcont!$A$10:$I$1764, 9)*F240","v":18500755}]
[1156,232,"PEPPERELL                    ",232,"PEPPERELL",10005489,{"$f":"VLOOKUP(A241, localcont!$A$10:$I$1764, 8)","v":0},{"$f":"VLOOKUP(A241, localcont!$A$10:$I$1764, 9)*F241","v":0}]
[1161,233,"PERU                         ",233,"PERU",568667,{"$f":"VLOOKUP(A242, localcont!$A$10:$I$1764, 8)","v":105599.68000000001},{"$f":"VLOOKUP(A242, localcont!$A$10:$I$1764, 9)*F242","v":53792.139805155661}]
[1166,234,"PETERSHAM                    ",234,"PETERSHAM",1083203,{"$f":"VLOOKUP(A243, localcont!$A$10:$I$1764, 8)","v":611232.30999999994},{"$f":"VLOOKUP(A243, localcont!$A$10:$I$1764, 9)*F243","v":466258.54124870308}]
[1171,235,"PHILLIPSTON                  ",235,"PHILLIPSTON",1315585,{"$f":"VLOOKUP(A244, localcont!$A$10:$I$1764, 8)","v":0},{"$f":"VLOOKUP(A244, localcont!$A$10:$I$1764, 9)*F244","v":0}]
[1176,236,"PITTSFIELD                   ",236,"PITTSFIELD",28464819,{"$f":"VLOOKUP(A245, localcont!$A$10:$I$1764, 8)","v":68905111.570000008},{"$f":"VLOOKUP(A245, localcont!$A$10:$I$1764, 9)*F245","v":28464819}]
[1181,237,"PLAINFIELD                   ",237,"PLAINFIELD",512918,{"$f":"VLOOKUP(A246, localcont!$A$10:$I$1764, 8)","v":39599.880000000005},{"$f":"VLOOKUP(A246, localcont!$A$10:$I$1764, 9)*F246","v":33536.799055319076}]
[1186,238,"PLAINVILLE                   ",238,"PLAINVILLE",9380561,{"$f":"VLOOKUP(A247, localcont!$A$10:$I$1764, 8)","v":6450343.1600000001},{"$f":"VLOOKUP(A247, localcont!$A$10:$I$1764, 9)*F247","v":4469183.4513791008}]
[1191,239,"PLYMOUTH                     ",239,"PLYMOUTH",60349251,{"$f":"VLOOKUP(A248, localcont!$A$10:$I$1764, 8)","v":84831859.535599992},{"$f":"VLOOKUP(A248, localcont!$A$10:$I$1764, 9)*F248","v":60349251}]
[1196,240,"PLYMPTON                     ",240,"PLYMPTON",3308092,{"$f":"VLOOKUP(A249, localcont!$A$10:$I$1764, 8)","v":2074615.8599999996},{"$f":"VLOOKUP(A249, localcont!$A$10:$I$1764, 9)*F249","v":1577785.9864671649}]
[1201,241,"PRINCETON                    ",241,"PRINCETON",4220837,{"$f":"VLOOKUP(A250, localcont!$A$10:$I$1764, 8)","v":0},{"$f":"VLOOKUP(A250, localcont!$A$10:$I$1764, 9)*F250","v":0}]
[1206,242,"PROVINCETOWN                 ",242,"PROVINCETOWN",11654554,{"$f":"VLOOKUP(A251, localcont!$A$10:$I$1764, 8)","v":1284862.27},{"$f":"VLOOKUP(A251, localcont!$A$10:$I$1764, 9)*F251","v":11114264.969640546}]
[1211,243,"QUINCY                       ",243,"QUINCY",84186556,{"$f":"VLOOKUP(A252, localcont!$A$10:$I$1764, 8)","v":109837246.19363996},{"$f":"VLOOKUP(A252, localcont!$A$10:$I$1764, 9)*F252","v":83899688.105374455}]
[1216,244,"RANDOLPH                     ",244,"RANDOLPH",22863982,{"$f":"VLOOKUP(A253, localcont!$A$10:$I$1764, 8)","v":36417465.611719996},{"$f":"VLOOKUP(A253, localcont!$A$10:$I$1764, 9)*F253","v":20444407.711169135}]
[1221,245,"RAYNHAM                      ",245,"RAYNHAM",13819204,{"$f":"VLOOKUP(A254, localcont!$A$10:$I$1764, 8)","v":0},{"$f":"VLOOKUP(A254, localcont!$A$10:$I$1764, 9)*F254","v":0}]
[1226,246,"READING                      ",246,"READING",32809840,{"$f":"VLOOKUP(A255, localcont!$A$10:$I$1764, 8)","v":39638139.190400004},{"$f":"VLOOKUP(A255, localcont!$A$10:$I$1764, 9)*F255","v":32578814.62154042}]
[1231,247,"REHOBOTH                     ",247,"REHOBOTH",12532286,{"$f":"VLOOKUP(A256, localcont!$A$10:$I$1764, 8)","v":26399.920000000002},{"$f":"VLOOKUP(A256, localcont!$A$10:$I$1764, 9)*F256","v":18197.028562639283}]
[1236,248,"REVERE                       ",248,"REVERE",31141502,{"$f":"VLOOKUP(A257, localcont!$A$10:$I$1764, 8)","v":84281832.122129992},{"$f":"VLOOKUP(A257, localcont!$A$10:$I$1764, 9)*F257","v":29875530.178893261}]
[1241,249,"RICHMOND                     ",249,"RICHMOND",2857116,{"$f":"VLOOKUP(A258, localcont!$A$10:$I$1764, 8)","v":1238912.1900000002},{"$f":"VLOOKUP(A258, localcont!$A$10:$I$1764, 9)*F258","v":2857116}]
[1246,250,"ROCHESTER                    ",250,"ROCHESTER",6169672,{"$f":"VLOOKUP(A259, localcont!$A$10:$I$1764, 8)","v":4382165.5599999996},{"$f":"VLOOKUP(A259, localcont!$A$10:$I$1764, 9)*F259","v":2799990.9886380071}]
[1251,251,"ROCKLAND                     ",251,"ROCKLAND",13282068,{"$f":"VLOOKUP(A260, localcont!$A$10:$I$1764, 8)","v":25189073.019840002},{"$f":"VLOOKUP(A260, localcont!$A$10:$I$1764, 9)*F260","v":12069059.849212771}]
[1256,252,"ROCKPORT                     ",252,"ROCKPORT",11387357,{"$f":"VLOOKUP(A261, localcont!$A$10:$I$1764, 8)","v":7726823.8438600004},{"$f":"VLOOKUP(A261, localcont!$A$10:$I$1764, 9)*F261","v":11011112.378516763}]
[1261,253,"ROWE                         ",253,"ROWE",1205456,{"$f":"VLOOKUP(A262, localcont!$A$10:$I$1764, 8)","v":676330.15},{"$f":"VLOOKUP(A262, localcont!$A$10:$I$1764, 9)*F262","v":1205456}]
[1266,254,"ROWLEY                       ",254,"ROWLEY",6892079,{"$f":"VLOOKUP(A263, localcont!$A$10:$I$1764, 8)","v":27029.435180000004},{"$f":"VLOOKUP(A263, localcont!$A$10:$I$1764, 9)*F263","v":21529.609436591709}]
[1271,255,"ROYALSTON                    ",255,"ROYALSTON",875196,{"$f":"VLOOKUP(A264, localcont!$A$10:$I$1764, 8)","v":0},{"$f":"VLOOKUP(A264, localcont!$A$10:$I$1764, 9)*F264","v":0}]
[1276,256,"RUSSELL                      ",256,"RUSSELL",1144100,{"$f":"VLOOKUP(A265, localcont!$A$10:$I$1764, 8)","v":210131.86},{"$f":"VLOOKUP(A265, localcont!$A$10:$I$1764, 9)*F265","v":82994.257538484278}]
[1281,257,"RUTLAND                      ",257,"RUTLAND",{"$f":"VLOOKUP(D266, town351, 7)","v":6817498},{"$f":"VLOOKUP(A266, localcont!$A$10:$I$1764, 8)","v":13199.960000000001},{"$f":"VLOOKUP(A266, localcont!$A$10:$I$1764, 9)*F266","v":5737.3042256342706}]
[1286,258,"SALEM                        ",258,"SALEM",32613977,{"$f":"VLOOKUP(A267, localcont!$A$10:$I$1764, 8)","v":52542429.829999998},{"$f":"VLOOKUP(A267, localcont!$A$10:$I$1764, 9)*F267","v":31053555.403095298}]
[1291,259,"SALISBURY                    ",259,"SALISBURY",8634208,{"$f":"VLOOKUP(A268, localcont!$A$10:$I$1764, 8)","v":79199.760000000009},{"$f":"VLOOKUP(A268, localcont!$A$10:$I$1764, 9)*F268","v":67671.608202650692}]
[1296,260,"SANDISFIELD                  ",260,"SANDISFIELD",1083372,{"$f":"VLOOKUP(A269, localcont!$A$10:$I$1764, 8)","v":0},{"$f":"VLOOKUP(A269, localcont!$A$10:$I$1764, 9)*F269","v":0}]
[1301,261,"SANDWICH                     ",261,"SANDWICH",24905520,{"$f":"VLOOKUP(A270, localcont!$A$10:$I$1764, 8)","v":27987804.329999994},{"$f":"VLOOKUP(A270, localcont!$A$10:$I$1764, 9)*F270","v":23287572.395834971}]
[1306,262,"SAUGUS                       ",262,"SAUGUS",26109575,{"$f":"VLOOKUP(A271, localcont!$A$10:$I$1764, 8)","v":28704386.50144},{"$f":"VLOOKUP(A271, localcont!$A$10:$I$1764, 9)*F271","v":23424459.283419382}]
[1311,263,"SAVOY                        ",263,"SAVOY",480303,{"$f":"VLOOKUP(A272, localcont!$A$10:$I$1764, 8)","v":592852.67000000004},{"$f":"VLOOKUP(A272, localcont!$A$10:$I$1764, 9)*F272","v":315161.47165395942}]
[1316,264,"SCITUATE                     ",264,"SCITUATE",29615577,{"$f":"VLOOKUP(A273, localcont!$A$10:$I$1764, 8)","v":28197733.99712},{"$f":"VLOOKUP(A273, localcont!$A$10:$I$1764, 9)*F273","v":29096357.214114986}]
[1321,265,"SEEKONK                      ",265,"SEEKONK",14897144,{"$f":"VLOOKUP(A274, localcont!$A$10:$I$1764, 8)","v":18460114.679999996},{"$f":"VLOOKUP(A274, localcont!$A$10:$I$1764, 9)*F274","v":13812194.622070884}]
[1326,266,"SHARON                       ",266,"SHARON",27378649,{"$f":"VLOOKUP(A275, localcont!$A$10:$I$1764, 8)","v":32275546.17168},{"$f":"VLOOKUP(A275, localcont!$A$10:$I$1764, 9)*F275","v":27019887.887996461}]
[1331,267,"SHEFFIELD                    ",267,"SHEFFIELD",3812024,{"$f":"VLOOKUP(A276, localcont!$A$10:$I$1764, 8)","v":92399.719999999987},{"$f":"VLOOKUP(A276, localcont!$A$10:$I$1764, 9)*F276","v":89998.56030728668}]
[1336,268,"SHELBURNE                    ",268,"SHELBURNE",1421380,{"$f":"VLOOKUP(A277, localcont!$A$10:$I$1764, 8)","v":0},{"$f":"VLOOKUP(A277, localcont!$A$10:$I$1764, 9)*F277","v":0}]
[1341,269,"SHERBORN                     ",269,"SHERBORN",15786808,{"$f":"VLOOKUP(A278, localcont!$A$10:$I$1764, 8)","v":3380505.0839999993},{"$f":"VLOOKUP(A278, localcont!$A$10:$I$1764, 9)*F278","v":6098667.5171748465}]
[1346,270,"SHIRLEY                      ",270,"SHIRLEY",4784811,{"$f":"VLOOKUP(A279, localcont!$A$10:$I$1764, 8)","v":0},{"$f":"VLOOKUP(A279, localcont!$A$10:$I$1764, 9)*F279","v":0}]
[1351,271,"SHREWSBURY                   ",271,"SHREWSBURY",44213372,{"$f":"VLOOKUP(A280, localcont!$A$10:$I$1764, 8)","v":57096131.690000013},{"$f":"VLOOKUP(A280, localcont!$A$10:$I$1764, 9)*F280","v":44213372}]
[1356,272,"SHUTESBURY                   ",272,"SHUTESBURY",1469625,{"$f":"VLOOKUP(A281, localcont!$A$10:$I$1764, 8)","v":1336733.0899999999},{"$f":"VLOOKUP(A281, localcont!$A$10:$I$1764, 9)*F281","v":716351.40445237153}]
[1361,273,"SOMERSET                     ",273,"SOMERSET",16633140,{"$f":"VLOOKUP(A282, localcont!$A$10:$I$1764, 8)","v":16337259.259999998},{"$f":"VLOOKUP(A282, localcont!$A$10:$I$1764, 9)*F282","v":10727871.230237378}]
[1366,274,"SOMERVILLE                   ",274,"SOMERVILLE",74597801,{"$f":"VLOOKUP(A283, localcont!$A$10:$I$1764, 8)","v":64208758.285060003},{"$f":"VLOOKUP(A283, localcont!$A$10:$I$1764, 9)*F283","v":74597801}]
[1371,275,"SOUTHAMPTON                  ",275,"SOUTHAMPTON",5670612,{"$f":"VLOOKUP(A284, localcont!$A$10:$I$1764, 8)","v":4683286.6400000006},{"$f":"VLOOKUP(A284, localcont!$A$10:$I$1764, 9)*F284","v":2975605.3839954371}]
[1376,276,"SOUTHBOROUGH                 ",276,"SOUTHBOROUGH",22528618,{"$f":"VLOOKUP(A285, localcont!$A$10:$I$1764, 8)","v":11574099.806239998},{"$f":"VLOOKUP(A285, localcont!$A$10:$I$1764, 9)*F285","v":14372658.904163724}]
[1381,277,"SOUTHBRIDGE                  ",277,"SOUTHBRIDGE",8438351,{"$f":"VLOOKUP(A286, localcont!$A$10:$I$1764, 8)","v":27590853.959999993},{"$f":"VLOOKUP(A286, localcont!$A$10:$I$1764, 9)*F286","v":7681090.7209984893}]
[1386,278,"SOUTH HADLEY                 ",278,"SOUTH HADLEY",12744778,{"$f":"VLOOKUP(A287, localcont!$A$10:$I$1764, 8)","v":19296183.16},{"$f":"VLOOKUP(A287, localcont!$A$10:$I$1764, 9)*F287","v":12744778}]
[1391,279,"SOUTHWICK                    ",279,"SOUTHWICK",8498124,{"$f":"VLOOKUP(A288, localcont!$A$10:$I$1764, 8)","v":0},{"$f":"VLOOKUP(A288, localcont!$A$10:$I$1764, 9)*F288","v":0}]
[1396,280,"SPENCER                      ",280,"SPENCER",7846659,{"$f":"VLOOKUP(A289, localcont!$A$10:$I$1764, 8)","v":79199.760000000009},{"$f":"VLOOKUP(A289, localcont!$A$10:$I$1764, 9)*F289","v":34102.079564063213}]
[1401,281,"SPRINGFIELD                  ",281,"SPRINGFIELD",58069883,{"$f":"VLOOKUP(A290, localcont!$A$10:$I$1764, 8)","v":345592031.43000001},{"$f":"VLOOKUP(A290, localcont!$A$10:$I$1764, 9)*F290","v":58069883}]
[1406,282,"STERLING                     ",282,"STERLING",8528413,{"$f":"VLOOKUP(A291, localcont!$A$10:$I$1764, 8)","v":0},{"$f":"VLOOKUP(A291, localcont!$A$10:$I$1764, 9)*F291","v":0}]
[1411,283,"STOCKBRIDGE                  ",283,"STOCKBRIDGE",4086944,{"$f":"VLOOKUP(A292, localcont!$A$10:$I$1764, 8)","v":0},{"$f":"VLOOKUP(A292, localcont!$A$10:$I$1764, 9)*F292","v":0}]
[1416,284,"STONEHAM                     ",284,"STONEHAM",24045251,{"$f":"VLOOKUP(A293, localcont!$A$10:$I$1764, 8)","v":23623782.041999996},{"$f":"VLOOKUP(A293, localcont!$A$10:$I$1764, 9)*F293","v":22906930.688484184}]
[1421,285,"STOUGHTON                    ",285,"STOUGHTON",24059132,{"$f":"VLOOKUP(A294, localcont!$A$10:$I$1764, 8)","v":38474628.719349995},{"$f":"VLOOKUP(A294, localcont!$A$10:$I$1764, 9)*F294","v":22627872.743848622}]
[1426,286,"STOW                         ",286,"STOW",10545096,{"$f":"VLOOKUP(A295, localcont!$A$10:$I$1764, 8)","v":13655.815820000002},{"$f":"VLOOKUP(A295, localcont!$A$10:$I$1764, 9)*F295","v":11535.624697932828}]
[1431,287,"STURBRIDGE                   ",287,"STURBRIDGE",9725959,{"$f":"VLOOKUP(A296, localcont!$A$10:$I$1764, 8)","v":8483866.0799999982},{"$f":"VLOOKUP(A296, localcont!$A$10:$I$1764, 9)*F296","v":4796546.2518408848}]
[1436,288,"SUDBURY                      ",288,"SUDBURY",42729400,{"$f":"VLOOKUP(A297, localcont!$A$10:$I$1764, 8)","v":24450575.494369991},{"$f":"VLOOKUP(A297, localcont!$A$10:$I$1764, 9)*F297","v":26302784.430403236}]
[1441,289,"SUNDERLAND                   ",289,"SUNDERLAND",2680862,{"$f":"VLOOKUP(A298, localcont!$A$10:$I$1764, 8)","v":1744222.4},{"$f":"VLOOKUP(A298, localcont!$A$10:$I$1764, 9)*F298","v":1415304.533068531}]
[1446,290,"SUTTON                       ",290,"SUTTON",10687801,{"$f":"VLOOKUP(A299, localcont!$A$10:$I$1764, 8)","v":13719822.630000001},{"$f":"VLOOKUP(A299, localcont!$A$10:$I$1764, 9)*F299","v":9693542.9267913271}]
[1451,291,"SWAMPSCOTT                   ",291,"SWAMPSCOTT",22742313,{"$f":"VLOOKUP(A300, localcont!$A$10:$I$1764, 8)","v":20062283.009999998},{"$f":"VLOOKUP(A300, localcont!$A$10:$I$1764, 9)*F300","v":22293603.606448274}]
[1456,292,"SWANSEA                      ",292,"SWANSEA",14510298,{"$f":"VLOOKUP(A301, localcont!$A$10:$I$1764, 8)","v":20558168.07},{"$f":"VLOOKUP(A301, localcont!$A$10:$I$1764, 9)*F301","v":13116615.123535972}]
[1461,293,"TAUNTON                      ",293,"TAUNTON",35998419,{"$f":"VLOOKUP(A302, localcont!$A$10:$I$1764, 8)","v":86795145.73999998},{"$f":"VLOOKUP(A302, localcont!$A$10:$I$1764, 9)*F302","v":32271813.641510103}]
[1466,294,"TEMPLETON                    ",294,"TEMPLETON",4905001,{"$f":"VLOOKUP(A303, localcont!$A$10:$I$1764, 8)","v":0},{"$f":"VLOOKUP(A303, localcont!$A$10:$I$1764, 9)*F303","v":0}]
[1471,295,"TEWKSBURY                    ",295,"TEWKSBURY",30460121,{"$f":"VLOOKUP(A304, localcont!$A$10:$I$1764, 8)","v":34761232.521389998},{"$f":"VLOOKUP(A304, localcont!$A$10:$I$1764, 9)*F304","v":26303220.026890658}]
[1476,296,"TISBURY                      ",296,"TISBURY",11261294,{"$f":"VLOOKUP(A305, localcont!$A$10:$I$1764, 8)","v":3757350.99},{"$f":"VLOOKUP(A305, localcont!$A$10:$I$1764, 9)*F305","v":7521578.8385700276}]
[1481,297,"TOLLAND                      ",297,"TOLLAND",862352,{"$f":"VLOOKUP(A306, localcont!$A$10:$I$1764, 8)","v":0},{"$f":"VLOOKUP(A306, localcont!$A$10:$I$1764, 9)*F306","v":0}]
[1486,298,"TOPSFIELD                    ",298,"TOPSFIELD",11014070,{"$f":"VLOOKUP(A307, localcont!$A$10:$I$1764, 8)","v":4876256.0624799998},{"$f":"VLOOKUP(A307, localcont!$A$10:$I$1764, 9)*F307","v":5265128.7833336182}]
[1491,299,"TOWNSEND                     ",299,"TOWNSEND",6955420,{"$f":"VLOOKUP(A308, localcont!$A$10:$I$1764, 8)","v":0},{"$f":"VLOOKUP(A308, localcont!$A$10:$I$1764, 9)*F308","v":0}]
[1496,300,"TRURO                        ",300,"TRURO",9113020,{"$f":"VLOOKUP(A309, localcont!$A$10:$I$1764, 8)","v":1879850.1199999996},{"$f":"VLOOKUP(A309, localcont!$A$10:$I$1764, 9)*F309","v":8964099.1820700858}]
[1501,301,"TYNGSBOROUGH                 ",301,"TYNGSBOROUGH",11980511,{"$f":"VLOOKUP(A310, localcont!$A$10:$I$1764, 8)","v":16310112.57},{"$f":"VLOOKUP(A310, localcont!$A$10:$I$1764, 9)*F310","v":10865397.187304931}]
[1506,302,"TYRINGHAM                    ",302,"TYRINGHAM",824438,{"$f":"VLOOKUP(A311, localcont!$A$10:$I$1764, 8)","v":249733.64},{"$f":"VLOOKUP(A311, localcont!$A$10:$I$1764, 9)*F311","v":824438}]
[1511,303,"UPTON                        ",303,"UPTON",8782974,{"$f":"VLOOKUP(A312, localcont!$A$10:$I$1764, 8)","v":27007.727760000002},{"$f":"VLOOKUP(A312, localcont!$A$10:$I$1764, 9)*F312","v":17514.767828295229}]
[1516,304,"UXBRIDGE                     ",304,"UXBRIDGE",12067877,{"$f":"VLOOKUP(A313, localcont!$A$10:$I$1764, 8)","v":18526071.940000001},{"$f":"VLOOKUP(A313, localcont!$A$10:$I$1764, 9)*F313","v":10719548.124961637}]
[1521,305,"WAKEFIELD                    ",305,"WAKEFIELD",30734362,{"$f":"VLOOKUP(A314, localcont!$A$10:$I$1764, 8)","v":32600249.418120001},{"$f":"VLOOKUP(A314, localcont!$A$10:$I$1764, 9)*F314","v":29768091.658768106}]
[1526,306,"WALES                        ",306,"WALES",1208849,{"$f":"VLOOKUP(A315, localcont!$A$10:$I$1764, 8)","v":1467392.6599999997},{"$f":"VLOOKUP(A315, localcont!$A$10:$I$1764, 9)*F315","v":641263.61853003188}]
[1531,307,"WALPOLE                      ",307,"WALPOLE",31308832,{"$f":"VLOOKUP(A316, localcont!$A$10:$I$1764, 8)","v":37317617.441239998},{"$f":"VLOOKUP(A316, localcont!$A$10:$I$1764, 9)*F316","v":30270297.400140435}]
[1536,308,"WALTHAM                      ",308,"WALTHAM",64759293,{"$f":"VLOOKUP(A317, localcont!$A$10:$I$1764, 8)","v":62218743.565559998},{"$f":"VLOOKUP(A317, localcont!$A$10:$I$1764, 9)*F317","v":64759293}]
[1541,309,"WARE                         ",309,"WARE",5972346,{"$f":"VLOOKUP(A318, localcont!$A$10:$I$1764, 8)","v":14379106.989999996},{"$f":"VLOOKUP(A318, localcont!$A$10:$I$1764, 9)*F318","v":5325839.3261075355}]
[1546,310,"WAREHAM                      ",310,"WAREHAM",19552963,{"$f":"VLOOKUP(A319, localcont!$A$10:$I$1764, 8)","v":30579432.949999999},{"$f":"VLOOKUP(A319, localcont!$A$10:$I$1764, 9)*F319","v":17432016.205002662}]
[1551,311,"WARREN                       ",311,"WARREN",2552841,{"$f":"VLOOKUP(A320, localcont!$A$10:$I$1764, 8)","v":0},{"$f":"VLOOKUP(A320, localcont!$A$10:$I$1764, 9)*F320","v":0}]
[1556,312,"WARWICK                      ",312,"WARWICK",537702,{"$f":"VLOOKUP(A321, localcont!$A$10:$I$1764, 8)","v":0},{"$f":"VLOOKUP(A321, localcont!$A$10:$I$1764, 9)*F321","v":0}]
[1561,313,"WASHINGTON                   ",313,"WASHINGTON",500982,{"$f":"VLOOKUP(A322, localcont!$A$10:$I$1764, 8)","v":13199.960000000001},{"$f":"VLOOKUP(A322, localcont!$A$10:$I$1764, 9)*F322","v":10808.959096371644}]
[1566,314,"WATERTOWN                    ",314,"WATERTOWN",40353706,{"$f":"VLOOKUP(A323, localcont!$A$10:$I$1764, 8)","v":26987815.659180008},{"$f":"VLOOKUP(A323, localcont!$A$10:$I$1764, 9)*F323","v":40353706}]
[1571,315,"WAYLAND                      ",315,"WAYLAND",41019010,{"$f":"VLOOKUP(A324, localcont!$A$10:$I$1764, 8)","v":24601190.323630001},{"$f":"VLOOKUP(A324, localcont!$A$10:$I$1764, 9)*F324","v":40878289.144402377}]
[1576,316,"WEBSTER                      ",316,"WEBSTER",11210452,{"$f":"VLOOKUP(A325, localcont!$A$10:$I$1764, 8)","v":21401884.859999996},{"$f":"VLOOKUP(A325, localcont!$A$10:$I$1764, 9)*F325","v":10061689.702696411}]
[1581,317,"WELLESLEY                    ",317,"WELLESLEY",110183127,{"$f":"VLOOKUP(A326, localcont!$A$10:$I$1764, 8)","v":48641677.772080004},{"$f":"VLOOKUP(A326, localcont!$A$10:$I$1764, 9)*F326","v":110183127}]
[1586,318,"WELLFLEET                    ",318,"WELLFLEET",10369275,{"$f":"VLOOKUP(A327, localcont!$A$10:$I$1764, 8)","v":1150249.74},{"$f":"VLOOKUP(A327, localcont!$A$10:$I$1764, 9)*F327","v":4225196.6678414568}]
[1591,319,"WENDELL                      ",319,"WENDELL",609284,{"$f":"VLOOKUP(A328, localcont!$A$10:$I$1764, 8)","v":0},{"$f":"VLOOKUP(A328, localcont!$A$10:$I$1764, 9)*F328","v":0}]
[1596,320,"WENHAM                       ",320,"WENHAM",8011127,{"$f":"VLOOKUP(A329, localcont!$A$10:$I$1764, 8)","v":0},{"$f":"VLOOKUP(A329, localcont!$A$10:$I$1764, 9)*F329","v":0}]
[1601,321,"WESTBOROUGH                  ",321,"WESTBOROUGH",{"$f":"VLOOKUP(D330, town351, 7)","v":28350125},{"$f":"VLOOKUP(A330, localcont!$A$10:$I$1764, 8)","v":32643542.910000004},{"$f":"VLOOKUP(A330, localcont!$A$10:$I$1764, 9)*F330","v":27806717.702788226}]
[1606,322,"WEST BOYLSTON                ",322,"WEST BOYLSTON",6681715,{"$f":"VLOOKUP(A331, localcont!$A$10:$I$1764, 8)","v":8930152.6600000001},{"$f":"VLOOKUP(A331, localcont!$A$10:$I$1764, 9)*F331","v":6681715}]
[1611,323,"WEST BRIDGEWATER             ",323,"WEST BRIDGEWATER",6972144,{"$f":"VLOOKUP(A332, localcont!$A$10:$I$1764, 8)","v":9864782.7299999986},{"$f":"VLOOKUP(A332, localcont!$A$10:$I$1764, 9)*F332","v":6568899.886534472}]
[1616,324,"WEST BROOKFIELD              ",324,"WEST BROOKFIELD",3040495,{"$f":"VLOOKUP(A333, localcont!$A$10:$I$1764, 8)","v":355331.41999999993},{"$f":"VLOOKUP(A333, localcont!$A$10:$I$1764, 9)*F333","v":198000.26953171348}]
[1621,325,"WESTFIELD                    ",325,"WESTFIELD",26751463,{"$f":"VLOOKUP(A334, localcont!$A$10:$I$1764, 8)","v":59194723.68},{"$f":"VLOOKUP(A334, localcont!$A$10:$I$1764, 9)*F334","v":26751463}]
[1626,326,"WESTFORD                     ",326,"WESTFORD",33675630,{"$f":"VLOOKUP(A335, localcont!$A$10:$I$1764, 8)","v":45124999.36552},{"$f":"VLOOKUP(A335, localcont!$A$10:$I$1764, 9)*F335","v":33086800.787335545}]
[1631,327,"WESTHAMPTON                  ",327,"WESTHAMPTON",1575143,{"$f":"VLOOKUP(A336, localcont!$A$10:$I$1764, 8)","v":1294416.6200000001},{"$f":"VLOOKUP(A336, localcont!$A$10:$I$1764, 9)*F336","v":922713.17830611253}]
[1636,328,"WESTMINSTER                  ",328,"WESTMINSTER",6968100,{"$f":"VLOOKUP(A337, localcont!$A$10:$I$1764, 8)","v":0},{"$f":"VLOOKUP(A337, localcont!$A$10:$I$1764, 9)*F337","v":0}]
[1641,329,"WEST NEWBURY                 ",329,"WEST NEWBURY",6728049,{"$f":"VLOOKUP(A338, localcont!$A$10:$I$1764, 8)","v":13199.960000000001},{"$f":"VLOOKUP(A338, localcont!$A$10:$I$1764, 9)*F338","v":13925.540010349152}]
[1646,330,"WESTON                       ",330,"WESTON",75498814,{"$f":"VLOOKUP(A339, localcont!$A$10:$I$1764, 8)","v":21219806.953260001},{"$f":"VLOOKUP(A339, localcont!$A$10:$I$1764, 9)*F339","v":75318456.246243328}]
[1651,331,"WESTPORT                     ",331,"WESTPORT",19366341,{"$f":"VLOOKUP(A340, localcont!$A$10:$I$1764, 8)","v":14995933.330000002},{"$f":"VLOOKUP(A340, localcont!$A$10:$I$1764, 9)*F340","v":16832964.1434099}]
[1656,332,"WEST SPRINGFIELD             ",332,"WEST SPRINGFIELD",20624896,{"$f":"VLOOKUP(A341, localcont!$A$10:$I$1764, 8)","v":42891023.810000002},{"$f":"VLOOKUP(A341, localcont!$A$10:$I$1764, 9)*F341","v":20624896}]
[1661,333,"WEST STOCKBRIDGE             ",333,"WEST STOCKBRIDGE",2201091,{"$f":"VLOOKUP(A342, localcont!$A$10:$I$1764, 8)","v":0},{"$f":"VLOOKUP(A342, localcont!$A$10:$I$1764, 9)*F342","v":0}]
[1666,334,"WEST TISBURY                 ",334,"WEST TISBURY",10667318,{"$f":"VLOOKUP(A343, localcont!$A$10:$I$1764, 8)","v":0},{"$f":"VLOOKUP(A343, localcont!$A$10:$I$1764, 9)*F343","v":0}]
[1671,335,"WESTWOOD                     ",335,"WESTWOOD",36055517,{"$f":"VLOOKUP(A344, localcont!$A$10:$I$1764, 8)","v":29539997.822689999},{"$f":"VLOOKUP(A344, localcont!$A$10:$I$1764, 9)*F344","v":35765733.417306021}]
[1676,336,"WEYMOUTH                     ",336,"WEYMOUTH",47777826,{"$f":"VLOOKUP(A345, localcont!$A$10:$I$1764, 8)","v":69769188.724899977},{"$f":"VLOOKUP(A345, localcont!$A$10:$I$1764, 9)*F345","v":47490241.574105486}]
[1681,337,"WHATELY                      ",337,"WHATELY",1525841,{"$f":"VLOOKUP(A346, localcont!$A$10:$I$1764, 8)","v":877253.83999999985},{"$f":"VLOOKUP(A346, localcont!$A$10:$I$1764, 9)*F346","v":776068.64205550647}]
[1686,338,"WHITMAN                      ",338,"WHITMAN",10936666,{"$f":"VLOOKUP(A347, localcont!$A$10:$I$1764, 8)","v":118799.64000000001},{"$f":"VLOOKUP(A347, localcont!$A$10:$I$1764, 9)*F347","v":53569.97383353355}]
[1691,339,"WILBRAHAM                    ",339,"WILBRAHAM",15493968,{"$f":"VLOOKUP(A348, localcont!$A$10:$I$1764, 8)","v":0},{"$f":"VLOOKUP(A348, localcont!$A$10:$I$1764, 9)*F348","v":0}]
[1696,340,"WILLIAMSBURG                 ",340,"WILLIAMSBURG",2123994,{"$f":"VLOOKUP(A349, localcont!$A$10:$I$1764, 8)","v":1731396.01},{"$f":"VLOOKUP(A349, localcont!$A$10:$I$1764, 9)*F349","v":1374154.3327439583}]
[1701,341,"WILLIAMSTOWN                 ",341,"WILLIAMSTOWN",7579845,{"$f":"VLOOKUP(A350, localcont!$A$10:$I$1764, 8)","v":3691422.7599999993},{"$f":"VLOOKUP(A350, localcont!$A$10:$I$1764, 9)*F350","v":4046756.7519303616}]
[1706,342,"WILMINGTON                   ",342,"WILMINGTON",26789185,{"$f":"VLOOKUP(A351, localcont!$A$10:$I$1764, 8)","v":33895541.813259996},{"$f":"VLOOKUP(A351, localcont!$A$10:$I$1764, 9)*F351","v":24122110.719888199}]
[1711,343,"WINCHENDON                   ",343,"WINCHENDON",5545982,{"$f":"VLOOKUP(A352, localcont!$A$10:$I$1764, 8)","v":14868534.459999999},{"$f":"VLOOKUP(A352, localcont!$A$10:$I$1764, 9)*F352","v":4796712.0535038281}]
[1716,344,"WINCHESTER                   ",344,"WINCHESTER",53080792,{"$f":"VLOOKUP(A353, localcont!$A$10:$I$1764, 8)","v":40749515.511779994},{"$f":"VLOOKUP(A353, localcont!$A$10:$I$1764, 9)*F353","v":52887655.665964887}]
[1721,345,"WINDSOR                      ",345,"WINDSOR",755039,{"$f":"VLOOKUP(A354, localcont!$A$10:$I$1764, 8)","v":39599.880000000005},{"$f":"VLOOKUP(A354, localcont!$A$10:$I$1764, 9)*F354","v":32060.46095262613}]
[1726,346,"WINTHROP                     ",346,"WINTHROP",14363417,{"$f":"VLOOKUP(A355, localcont!$A$10:$I$1764, 8)","v":19501001.633919992},{"$f":"VLOOKUP(A355, localcont!$A$10:$I$1764, 9)*F355","v":13580430.489695555}]
[1731,347,"WOBURN",347,"WOBURN",42832944,{"$f":"VLOOKUP(A356, localcont!$A$10:$I$1764, 8)","v":49230530.561499998},{"$f":"VLOOKUP(A356, localcont!$A$10:$I$1764, 9)*F356","v":41240105.444654413}]
[1736,348,"WORCESTER                    ",348,"WORCESTER",96907634,{"$f":"VLOOKUP(A357, localcont!$A$10:$I$1764, 8)","v":329468506.71999997},{"$f":"VLOOKUP(A357, localcont!$A$10:$I$1764, 9)*F357","v":96907634}]
[1741,349,"WORTHINGTON                  ",349,"WORTHINGTON",1087785,{"$f":"VLOOKUP(A358, localcont!$A$10:$I$1764, 8)","v":1164871.5999999999},{"$f":"VLOOKUP(A358, localcont!$A$10:$I$1764, 9)*F358","v":1087785}]
[1746,350,"WRENTHAM                     ",350,"WRENTHAM",15116109,{"$f":"VLOOKUP(A359, localcont!$A$10:$I$1764, 8)","v":8534196.4301100001},{"$f":"VLOOKUP(A359, localcont!$A$10:$I$1764, 9)*F359","v":7147682.933717561}]
[1751,351,"YARMOUTH                     ",351,"YARMOUTH",30071296,{"$f":"VLOOKUP(A360, localcont!$A$10:$I$1764, 8)","v":0},{"$f":"VLOOKUP(A360, localcont!$A$10:$I$1764, 9)*F360","v":0}]
[1047,210,"NORTHAMPTON                  ",406,"NORTHAMPTON SMITH",30071296,{"$f":"VLOOKUP(A361, localcont!$A$10:$I$1764, 8)","v":1980086},{"$f":"VLOOKUP(A361, localcont!$A$10:$I$1764, 9)*F361","v":2031943.4389747183}]
[7,2,"ACTON                        ",600,"ACTON BOXBOROUGH",30071296,{"$f":"VLOOKUP(A362, localcont!$A$10:$I$1764, 8)","v":44729363},{"$f":"VLOOKUP(A362, localcont!$A$10:$I$1764, 9)*F362","v":29755804.146735787}]
[182,37,"BOXBOROUGH                   ",600,"ACTON BOXBOROUGH",30071296,{"$f":"VLOOKUP(A363, localcont!$A$10:$I$1764, 8)","v":7870594},{"$f":"VLOOKUP(A363, localcont!$A$10:$I$1764, 9)*F363","v":29751171.846557293}]
[17,4,"ADAMS                        ",603,"ADAMS CHESHIRE",30071296,{"$f":"VLOOKUP(A364, localcont!$A$10:$I$1764, 8)","v":10603441},{"$f":"VLOOKUP(A364, localcont!$A$10:$I$1764, 9)*F364","v":25014616.314215612}]
[287,58,"CHESHIRE                     ",603,"ADAMS CHESHIRE",30071296,{"$f":"VLOOKUP(A365, localcont!$A$10:$I$1764, 8)","v":3919998},{"$f":"VLOOKUP(A365, localcont!$A$10:$I$1764, 9)*F365","v":25028439.772005163}]
[37,8,"AMHERST                      ",605,"AMHERST PELHAM",30071296,{"$f":"VLOOKUP(A366, localcont!$A$10:$I$1764, 8)","v":12640342},{"$f":"VLOOKUP(A366, localcont!$A$10:$I$1764, 9)*F366","v":15288532.560644735}]
[767,154,"LEVERETT                     ",605,"AMHERST PELHAM",30071296,{"$f":"VLOOKUP(A367, localcont!$A$10:$I$1764, 8)","v":1167914},{"$f":"VLOOKUP(A367, localcont!$A$10:$I$1764, 9)*F367","v":16334857.614175266}]
[1147,230,"PELHAM                       ",605,"AMHERST PELHAM",30071296,{"$f":"VLOOKUP(A368, localcont!$A$10:$I$1764, 8)","v":620131},{"$f":"VLOOKUP(A368, localcont!$A$10:$I$1764, 9)*F368","v":14162329.183896337}]
[1357,272,"SHUTESBURY                   ",605,"AMHERST PELHAM",30071296,{"$f":"VLOOKUP(A369, localcont!$A$10:$I$1764, 8)","v":1405631},{"$f":"VLOOKUP(A369, localcont!$A$10:$I$1764, 9)*F369","v":15413396.792172845}]
[52,11,"ASHBURNHAM                   ",610,"ASHBURNHAM WESTMINSTER",30071296,{"$f":"VLOOKUP(A370, localcont!$A$10:$I$1764, 8)","v":10195136},{"$f":"VLOOKUP(A370, localcont!$A$10:$I$1764, 9)*F370","v":27590259.764688518}]
[1637,328,"WESTMINSTER                  ",610,"ASHBURNHAM WESTMINSTER",30071296,{"$f":"VLOOKUP(A371, localcont!$A$10:$I$1764, 8)","v":11456488},{"$f":"VLOOKUP(A371, localcont!$A$10:$I$1764, 9)*F371","v":27074194.957942322}]
[72,15,"ATHOL                        ",615,"ATHOL ROYALSTON",30071296,{"$f":"VLOOKUP(A372, localcont!$A$10:$I$1764, 8)","v":16760410},{"$f":"VLOOKUP(A372, localcont!$A$10:$I$1764, 9)*F372","v":27744296.726674773}]
[1272,255,"ROYALSTON                    ",615,"ATHOL ROYALSTON",30071296,{"$f":"VLOOKUP(A373, localcont!$A$10:$I$1764, 8)","v":1118729},{"$f":"VLOOKUP(A373, localcont!$A$10:$I$1764, 9)*F373","v":23619333.567444533}]
[92,19,"AYER                         ",616,"AYER SHIRLEY",30071296,{"$f":"VLOOKUP(A374, localcont!$A$10:$I$1764, 8)","v":10377001},{"$f":"VLOOKUP(A374, localcont!$A$10:$I$1764, 9)*F374","v":27719813.520176709}]
[1347,270,"SHIRLEY                      ",616,"AYER SHIRLEY",30071296,{"$f":"VLOOKUP(A375, localcont!$A$10:$I$1764, 8)","v":7399165},{"$f":"VLOOKUP(A375, localcont!$A$10:$I$1764, 9)*F375","v":25540148.708336014}]
[562,113,"GREAT BARRINGTON             ",618,"BERKSHIRE HILLS",30071296,{"$f":"VLOOKUP(A376, localcont!$A$10:$I$1764, 8)","v":7736366},{"$f":"VLOOKUP(A376, localcont!$A$10:$I$1764, 9)*F376","v":30071296}]
[1412,283,"STOCKBRIDGE                  ",618,"BERKSHIRE HILLS",30071296,{"$f":"VLOOKUP(A377, localcont!$A$10:$I$1764, 8)","v":1521419},{"$f":"VLOOKUP(A377, localcont!$A$10:$I$1764, 9)*F377","v":30071296}]
[1662,333,"WEST STOCKBRIDGE             ",618,"BERKSHIRE HILLS",30071296,{"$f":"VLOOKUP(A378, localcont!$A$10:$I$1764, 8)","v":1620858},{"$f":"VLOOKUP(A378, localcont!$A$10:$I$1764, 9)*F378","v":30071296}]
[137,28,"BERLIN                       ",620,"BERLIN BOYLSTON",30071296,{"$f":"VLOOKUP(A379, localcont!$A$10:$I$1764, 8)","v":1979108},{"$f":"VLOOKUP(A379, localcont!$A$10:$I$1764, 9)*F379","v":15285174.169391945}]
[192,39,"BOYLSTON                     ",620,"BERLIN BOYLSTON",30071296,{"$f":"VLOOKUP(A380, localcont!$A$10:$I$1764, 8)","v":3073326},{"$f":"VLOOKUP(A380, localcont!$A$10:$I$1764, 9)*F380","v":16232961.242524551}]
[157,32,"BLACKSTONE                   ",622,"BLACKSTONE MILLVILLE",30071296,{"$f":"VLOOKUP(A381, localcont!$A$10:$I$1764, 8)","v":12546263},{"$f":"VLOOKUP(A381, localcont!$A$10:$I$1764, 9)*F381","v":27045619.783999112}]
[937,188,"MILLVILLE                    ",622,"BLACKSTONE MILLVILLE",30071296,{"$f":"VLOOKUP(A382, localcont!$A$10:$I$1764, 8)","v":5033876},{"$f":"VLOOKUP(A382, localcont!$A$10:$I$1764, 9)*F382","v":26755083.971451171}]
[207,42,"BRIDGEWATER                  ",625,"BRIDGEWATER RAYNHAM",30071296,{"$f":"VLOOKUP(A383, localcont!$A$10:$I$1764, 8)","v":31426655},{"$f":"VLOOKUP(A383, localcont!$A$10:$I$1764, 9)*F383","v":28416666.328233469}]
[1222,245,"RAYNHAM                      ",625,"BRIDGEWATER RAYNHAM",30071296,{"$f":"VLOOKUP(A384, localcont!$A$10:$I$1764, 8)","v":20062383},{"$f":"VLOOKUP(A384, localcont!$A$10:$I$1764, 9)*F384","v":26596055.202112339}]
[297,60,"CHESTERFIELD                 ",632,"CHESTERFIELD GOSHEN",30071296,{"$f":"VLOOKUP(A385, localcont!$A$10:$I$1764, 8)","v":683083},{"$f":"VLOOKUP(A385, localcont!$A$10:$I$1764, 9)*F385","v":12219643.169731554}]
[537,108,"GOSHEN                       ",632,"CHESTERFIELD GOSHEN",30071296,{"$f":"VLOOKUP(A386, localcont!$A$10:$I$1764, 8)","v":607185},{"$f":"VLOOKUP(A386, localcont!$A$10:$I$1764, 9)*F386","v":16213870.618446972}]
[107,22,"BECKET                       ",635,"CENTRAL BERKSHIRE",30071296,{"$f":"VLOOKUP(A387, localcont!$A$10:$I$1764, 8)","v":1795806},{"$f":"VLOOKUP(A387, localcont!$A$10:$I$1764, 9)*F387","v":28205397.840871289}]
[342,69,"CUMMINGTON                   ",635,"CENTRAL BERKSHIRE",30071296,{"$f":"VLOOKUP(A388, localcont!$A$10:$I$1764, 8)","v":755612},{"$f":"VLOOKUP(A388, localcont!$A$10:$I$1764, 9)*F388","v":25985738.37964005}]
[347,70,"DALTON                       ",635,"CENTRAL BERKSHIRE",30071296,{"$f":"VLOOKUP(A389, localcont!$A$10:$I$1764, 8)","v":9567819},{"$f":"VLOOKUP(A389, localcont!$A$10:$I$1764, 9)*F389","v":29188629.484838292}]
[657,132,"HINSDALE                     ",635,"CENTRAL BERKSHIRE",30071296,{"$f":"VLOOKUP(A390, localcont!$A$10:$I$1764, 8)","v":2306090},{"$f":"VLOOKUP(A390, localcont!$A$10:$I$1764, 9)*F390","v":27560016.107895989}]
[1162,233,"PERU                         ",635,"CENTRAL BERKSHIRE",30071296,{"$f":"VLOOKUP(A391, localcont!$A$10:$I$1764, 8)","v":1010754},{"$f":"VLOOKUP(A391, localcont!$A$10:$I$1764, 9)*F391","v":27226750.143542323}]
[1562,313,"WASHINGTON                   ",635,"CENTRAL BERKSHIRE",30071296,{"$f":"VLOOKUP(A392, localcont!$A$10:$I$1764, 8)","v":598602},{"$f":"VLOOKUP(A392, localcont!$A$10:$I$1764, 9)*F392","v":29422491.43528733}]
[1722,345,"WINDSOR                      ",635,"CENTRAL BERKSHIRE",30071296,{"$f":"VLOOKUP(A393, localcont!$A$10:$I$1764, 8)","v":892996},{"$f":"VLOOKUP(A393, localcont!$A$10:$I$1764, 9)*F393","v":28794408.830989044}]
[252,51,"CARLISLE                     ",640,"CONCORD CARLISLE",{"$f":"VLOOKUP(D394, town351, 7)","v":30071296},{"$f":"VLOOKUP(A394, localcont!$A$10:$I$1764, 8)","v":3534065},{"$f":"VLOOKUP(A394, localcont!$A$10:$I$1764, 9)*F394","v":11808231.606324449}]
[332,67,"CONCORD                      ",640,"CONCORD CARLISLE",30071296,{"$f":"VLOOKUP(A395, localcont!$A$10:$I$1764, 8)","v":10125817},{"$f":"VLOOKUP(A395, localcont!$A$10:$I$1764, 9)*F395","v":10575747.374805015}]
[372,75,"DENNIS                       ",645,"DENNIS YARMOUTH",30071296,{"$f":"VLOOKUP(A396, localcont!$A$10:$I$1764, 8)","v":12665945},{"$f":"VLOOKUP(A396, localcont!$A$10:$I$1764, 9)*F396","v":27402460.832114346}]
[1752,351,"YARMOUTH                     ",645,"DENNIS YARMOUTH",30071296,{"$f":"VLOOKUP(A397, localcont!$A$10:$I$1764, 8)","v":22794558},{"$f":"VLOOKUP(A397, localcont!$A$10:$I$1764, 9)*F397","v":27034134.979381055}]
[377,76,"DIGHTON                      ",650,"DIGHTON REHOBOTH",30071296,{"$f":"VLOOKUP(A398, localcont!$A$10:$I$1764, 8)","v":11657321},{"$f":"VLOOKUP(A398, localcont!$A$10:$I$1764, 9)*F398","v":27702282.563468833}]
[1232,247,"REHOBOTH                     ",650,"DIGHTON REHOBOTH",30071296,{"$f":"VLOOKUP(A399, localcont!$A$10:$I$1764, 8)","v":17066162},{"$f":"VLOOKUP(A399, localcont!$A$10:$I$1764, 9)*F399","v":28226405.606458504}]
[387,78,"DOVER                        ",655,"DOVER SHERBORN",30071296,{"$f":"VLOOKUP(A400, localcont!$A$10:$I$1764, 8)","v":6209856},{"$f":"VLOOKUP(A400, localcont!$A$10:$I$1764, 9)*F400","v":17592365.553876709}]
[1342,269,"SHERBORN                     ",655,"DOVER SHERBORN",30071296,{"$f":"VLOOKUP(A401, localcont!$A$10:$I$1764, 8)","v":5370158},{"$f":"VLOOKUP(A401, localcont!$A$10:$I$1764, 9)*F401","v":18454328.458838426}]
[267,54,"CHARLTON                     ",658,"DUDLEY CHARLTON",30071296,{"$f":"VLOOKUP(A402, localcont!$A$10:$I$1764, 8)","v":20044262},{"$f":"VLOOKUP(A402, localcont!$A$10:$I$1764, 9)*F402","v":26182580.58964875}]
[397,80,"DUDLEY                       ",658,"DUDLEY CHARLTON",30071296,{"$f":"VLOOKUP(A403, localcont!$A$10:$I$1764, 8)","v":17416449},{"$f":"VLOOKUP(A403, localcont!$A$10:$I$1764, 9)*F403","v":27001199.594898481}]
[202,41,"BREWSTER                     ",660,"NAUSET",30071296,{"$f":"VLOOKUP(A404, localcont!$A$10:$I$1764, 8)","v":5958208},{"$f":"VLOOKUP(A404, localcont!$A$10:$I$1764, 9)*F404","v":16216562.079126205}]
[422,85,"EASTHAM                      ",660,"NAUSET",30071296,{"$f":"VLOOKUP(A405, localcont!$A$10:$I$1764, 8)","v":3014509},{"$f":"VLOOKUP(A405, localcont!$A$10:$I$1764, 9)*F405","v":18012787.596253481}]
[1117,224,"ORLEANS                      ",660,"NAUSET",30071296,{"$f":"VLOOKUP(A406, localcont!$A$10:$I$1764, 8)","v":2346866},{"$f":"VLOOKUP(A406, localcont!$A$10:$I$1764, 9)*F406","v":15216598.830124049}]
[1587,318,"WELLFLEET                    ",660,"NAUSET",30071296,{"$f":"VLOOKUP(A407, localcont!$A$10:$I$1764, 8)","v":1547718},{"$f":"VLOOKUP(A407, localcont!$A$10:$I$1764, 9)*F407","v":16487331.551671267}]
[1122,225,"OTIS                         ",662,"FARMINGTON RIVER",30071296,{"$f":"VLOOKUP(A408, localcont!$A$10:$I$1764, 8)","v":1618522},{"$f":"VLOOKUP(A408, localcont!$A$10:$I$1764, 9)*F408","v":30071296}]
[1297,260,"SANDISFIELD                  ",662,"FARMINGTON RIVER",30071296,{"$f":"VLOOKUP(A409, localcont!$A$10:$I$1764, 8)","v":877512},{"$f":"VLOOKUP(A409, localcont!$A$10:$I$1764, 9)*F409","v":30071296}]
[507,102,"FREETOWN                     ",665,"FREETOWN LAKEVILLE",30071296,{"$f":"VLOOKUP(A410, localcont!$A$10:$I$1764, 8)","v":11076549},{"$f":"VLOOKUP(A410, localcont!$A$10:$I$1764, 9)*F410","v":26274451.358219877}]
[727,146,"LAKEVILLE                    ",665,"FREETOWN LAKEVILLE",30071296,{"$f":"VLOOKUP(A411, localcont!$A$10:$I$1764, 8)","v":14759683},{"$f":"VLOOKUP(A411, localcont!$A$10:$I$1764, 9)*F411","v":26144607.144684475}]
[337,68,"CONWAY                       ",670,"FRONTIER",30071296,{"$f":"VLOOKUP(A412, localcont!$A$10:$I$1764, 8)","v":910478},{"$f":"VLOOKUP(A412, localcont!$A$10:$I$1764, 9)*F412","v":11895200.357581731}]
[367,74,"DEERFIELD                    ",670,"FRONTIER",30071296,{"$f":"VLOOKUP(A413, localcont!$A$10:$I$1764, 8)","v":2631381},{"$f":"VLOOKUP(A413, localcont!$A$10:$I$1764, 9)*F413","v":12942873.339893503}]
[1442,289,"SUNDERLAND                   ",670,"FRONTIER",30071296,{"$f":"VLOOKUP(A414, localcont!$A$10:$I$1764, 8)","v":1400735},{"$f":"VLOOKUP(A414, localcont!$A$10:$I$1764, 9)*F414","v":12749163.927343484}]
[1682,337,"WHATELY                      ",670,"FRONTIER",30071296,{"$f":"VLOOKUP(A415, localcont!$A$10:$I$1764, 8)","v":720378},{"$f":"VLOOKUP(A415, localcont!$A$10:$I$1764, 9)*F415","v":12559668.131837398}]
[162,33,"BLANDFORD                    ",672,"GATEWAY",30071296,{"$f":"VLOOKUP(A416, localcont!$A$10:$I$1764, 8)","v":1318696},{"$f":"VLOOKUP(A416, localcont!$A$10:$I$1764, 9)*F416","v":28102202.556475759}]
[292,59,"CHESTER                      ",672,"GATEWAY",30071296,{"$f":"VLOOKUP(A417, localcont!$A$10:$I$1764, 8)","v":1761541},{"$f":"VLOOKUP(A417, localcont!$A$10:$I$1764, 9)*F417","v":26866435.047006737}]
[712,143,"HUNTINGTON                   ",672,"GATEWAY",30071296,{"$f":"VLOOKUP(A418, localcont!$A$10:$I$1764, 8)","v":2607869},{"$f":"VLOOKUP(A418, localcont!$A$10:$I$1764, 9)*F418","v":26703210.050605752}]
[912,183,"MIDDLEFIELD                  ",672,"GATEWAY",30071296,{"$f":"VLOOKUP(A419, localcont!$A$10:$I$1764, 8)","v":393641},{"$f":"VLOOKUP(A419, localcont!$A$10:$I$1764, 9)*F419","v":29095632.427806675}]
[967,194,"MONTGOMERY                   ",672,"GATEWAY",30071296,{"$f":"VLOOKUP(A420, localcont!$A$10:$I$1764, 8)","v":797122},{"$f":"VLOOKUP(A420, localcont!$A$10:$I$1764, 9)*F420","v":28648099.425955012}]
[1277,256,"RUSSELL                      ",672,"GATEWAY",30071296,{"$f":"VLOOKUP(A421, localcont!$A$10:$I$1764, 8)","v":2686597},{"$f":"VLOOKUP(A421, localcont!$A$10:$I$1764, 9)*F421","v":27889891.503242731}]
[1742,349,"WORTHINGTON                  ",672,"GATEWAY",30071296,{"$f":"VLOOKUP(A422, localcont!$A$10:$I$1764, 8)","v":0},{"$f":"VLOOKUP(A422, localcont!$A$10:$I$1764, 9)*F422","v":0}]
[402,81,"DUNSTABLE                    ",673,"GROTON DUNSTABLE",30071296,{"$f":"VLOOKUP(A423, localcont!$A$10:$I$1764, 8)","v":5374058},{"$f":"VLOOKUP(A423, localcont!$A$10:$I$1764, 9)*F423","v":29051942.978882018}]
[572,115,"GROTON                       ",673,"GROTON DUNSTABLE",30071296,{"$f":"VLOOKUP(A424, localcont!$A$10:$I$1764, 8)","v":17992203},{"$f":"VLOOKUP(A424, localcont!$A$10:$I$1764, 9)*F424","v":29097246.267235093}]
[527,106,"GILL                         ",674,"GILL MONTAGUE",30071296,{"$f":"VLOOKUP(A425, localcont!$A$10:$I$1764, 8)","v":1659812},{"$f":"VLOOKUP(A425, localcont!$A$10:$I$1764, 9)*F425","v":28697316.854695704}]
[957,192,"MONTAGUE                     ",674,"GILL MONTAGUE",30071296,{"$f":"VLOOKUP(A426, localcont!$A$10:$I$1764, 8)","v":9732064},{"$f":"VLOOKUP(A426, localcont!$A$10:$I$1764, 9)*F426","v":26986224.086723056}]
[592,119,"HAMILTON                     ",675,"HAMILTON WENHAM",30071296,{"$f":"VLOOKUP(A427, localcont!$A$10:$I$1764, 8)","v":11100854},{"$f":"VLOOKUP(A427, localcont!$A$10:$I$1764, 9)*F427","v":29574773.749644529}]
[1597,320,"WENHAM                       ",675,"HAMILTON WENHAM",30071296,{"$f":"VLOOKUP(A428, localcont!$A$10:$I$1764, 8)","v":5606681},{"$f":"VLOOKUP(A428, localcont!$A$10:$I$1764, 9)*F428","v":29419352.912465297}]
[597,120,"HAMPDEN                      ",680,"HAMPDEN WILBRAHAM",30071296,{"$f":"VLOOKUP(A429, localcont!$A$10:$I$1764, 8)","v":7107506},{"$f":"VLOOKUP(A429, localcont!$A$10:$I$1764, 9)*F429","v":30071296}]
[1692,339,"WILBRAHAM                    ",680,"HAMPDEN WILBRAHAM",30071296,{"$f":"VLOOKUP(A430, localcont!$A$10:$I$1764, 8)","v":22846917},{"$f":"VLOOKUP(A430, localcont!$A$10:$I$1764, 9)*F430","v":30071296}]
[298,60,"CHESTERFIELD                 ",683,"HAMPSHIRE",30071296,{"$f":"VLOOKUP(A431, localcont!$A$10:$I$1764, 8)","v":708583},{"$f":"VLOOKUP(A431, localcont!$A$10:$I$1764, 9)*F431","v":12675811.60142749}]
[538,108,"GOSHEN                       ",683,"HAMPSHIRE",30071296,{"$f":"VLOOKUP(A432, localcont!$A$10:$I$1764, 8)","v":413340},{"$f":"VLOOKUP(A432, localcont!$A$10:$I$1764, 9)*F432","v":11037560.679906242}]
[1372,275,"SOUTHAMPTON                  ",683,"HAMPSHIRE",30071296,{"$f":"VLOOKUP(A433, localcont!$A$10:$I$1764, 8)","v":4241654},{"$f":"VLOOKUP(A433, localcont!$A$10:$I$1764, 9)*F433","v":14291639.36305844}]
[1632,327,"WESTHAMPTON                  ",683,"HAMPSHIRE",30071296,{"$f":"VLOOKUP(A434, localcont!$A$10:$I$1764, 8)","v":915253},{"$f":"VLOOKUP(A434, localcont!$A$10:$I$1764, 9)*F434","v":12455637.543628806}]
[1697,340,"WILLIAMSBURG                 ",683,"HAMPSHIRE",30071296,{"$f":"VLOOKUP(A435, localcont!$A$10:$I$1764, 8)","v":944777},{"$f":"VLOOKUP(A435, localcont!$A$10:$I$1764, 9)*F435","v":10616155.500720786}]
[262,53,"CHARLEMONT                   ",685,"HAWLEMONT",30071296,{"$f":"VLOOKUP(A436, localcont!$A$10:$I$1764, 8)","v":701601},{"$f":"VLOOKUP(A436, localcont!$A$10:$I$1764, 9)*F436","v":13209780.639094369}]
[642,129,"HAWLEY                       ",685,"HAWLEMONT",30071296,{"$f":"VLOOKUP(A437, localcont!$A$10:$I$1764, 8)","v":249253},{"$f":"VLOOKUP(A437, localcont!$A$10:$I$1764, 9)*F437","v":16236207.451893751}]
[1037,208,"NORFOLK                      ",690,"KING PHILIP",30071296,{"$f":"VLOOKUP(A438, localcont!$A$10:$I$1764, 8)","v":7136161},{"$f":"VLOOKUP(A438, localcont!$A$10:$I$1764, 9)*F438","v":14187841.179584824}]
[1187,238,"PLAINVILLE                   ",690,"KING PHILIP",30071296,{"$f":"VLOOKUP(A439, localcont!$A$10:$I$1764, 8)","v":5395167},{"$f":"VLOOKUP(A439, localcont!$A$10:$I$1764, 9)*F439","v":11983221.527795721}]
[1747,350,"WRENTHAM                     ",690,"KING PHILIP",30071296,{"$f":"VLOOKUP(A440, localcont!$A$10:$I$1764, 8)","v":8264937},{"$f":"VLOOKUP(A440, localcont!$A$10:$I$1764, 9)*F440","v":13770646.272337193}]
[782,157,"LINCOLN                      ",695,"LINCOLN SUDBURY",30071296,{"$f":"VLOOKUP(A441, localcont!$A$10:$I$1764, 8)","v":2773845},{"$f":"VLOOKUP(A441, localcont!$A$10:$I$1764, 9)*F441","v":9859460.2326931562}]
[1437,288,"SUDBURY                      ",695,"LINCOLN SUDBURY",30071296,{"$f":"VLOOKUP(A442, localcont!$A$10:$I$1764, 8)","v":14812559},{"$f":"VLOOKUP(A442, localcont!$A$10:$I$1764, 9)*F442","v":11214194.498720363}]
[457,92,"ESSEX                        ",698,"MANCHESTER ESSEX",30071296,{"$f":"VLOOKUP(A443, localcont!$A$10:$I$1764, 8)","v":5270503},{"$f":"VLOOKUP(A443, localcont!$A$10:$I$1764, 9)*F443","v":29127168.428129755}]
[827,166,"MANCHESTER                   ",698,"MANCHESTER ESSEX",30071296,{"$f":"VLOOKUP(A444, localcont!$A$10:$I$1764, 8)","v":8365877},{"$f":"VLOOKUP(A444, localcont!$A$10:$I$1764, 9)*F444","v":29849639.720763173}]
[307,62,"CHILMARK                     ",700,"MARTHAS VINEYARD",30071296,{"$f":"VLOOKUP(A445, localcont!$A$10:$I$1764, 8)","v":353126},{"$f":"VLOOKUP(A445, localcont!$A$10:$I$1764, 9)*F445","v":9735168.6552650705}]
[442,89,"EDGARTOWN                    ",700,"MARTHAS VINEYARD",30071296,{"$f":"VLOOKUP(A446, localcont!$A$10:$I$1764, 8)","v":2130144},{"$f":"VLOOKUP(A446, localcont!$A$10:$I$1764, 9)*F446","v":10535360.705068924}]
[517,104,"AQUINNAH",700,"MARTHAS VINEYARD",30071296,{"$f":"VLOOKUP(A447, localcont!$A$10:$I$1764, 8)","v":170867},{"$f":"VLOOKUP(A447, localcont!$A$10:$I$1764, 9)*F447","v":10409796.215562651}]
[1102,221,"OAK BLUFFS                   ",700,"MARTHAS VINEYARD",30071296,{"$f":"VLOOKUP(A448, localcont!$A$10:$I$1764, 8)","v":2483270},{"$f":"VLOOKUP(A448, localcont!$A$10:$I$1764, 9)*F448","v":10998145.81537872}]
[1477,296,"TISBURY                      ",700,"MARTHAS VINEYARD",30071296,{"$f":"VLOOKUP(A449, localcont!$A$10:$I$1764, 8)","v":1868148},{"$f":"VLOOKUP(A449, localcont!$A$10:$I$1764, 9)*F449","v":9986248.6118423417}]
[1667,334,"WEST TISBURY                 ",700,"MARTHAS VINEYARD",30071296,{"$f":"VLOOKUP(A450, localcont!$A$10:$I$1764, 8)","v":1309982},{"$f":"VLOOKUP(A450, localcont!$A$10:$I$1764, 9)*F450","v":10813829.628972264}]
[187,38,"BOXFORD",705,"MASCONOMET",30071296,{"$f":"VLOOKUP(A451, localcont!$A$10:$I$1764, 8)","v":7401004},{"$f":"VLOOKUP(A451, localcont!$A$10:$I$1764, 9)*F451","v":15862459.960149217}]
[917,184,"MIDDLETON                    ",705,"MASCONOMET",30071296,{"$f":"VLOOKUP(A452, localcont!$A$10:$I$1764, 8)","v":6813164},{"$f":"VLOOKUP(A452, localcont!$A$10:$I$1764, 9)*F452","v":14943089.943146463}]
[1487,298,"TOPSFIELD                    ",705,"MASCONOMET",30071296,{"$f":"VLOOKUP(A453, localcont!$A$10:$I$1764, 8)","v":5184558},{"$f":"VLOOKUP(A453, localcont!$A$10:$I$1764, 9)*F453","v":15284053.374183943}]
[892,179,"MENDON                       ",710,"MENDON UPTON",30071296,{"$f":"VLOOKUP(A454, localcont!$A$10:$I$1764, 8)","v":9759967},{"$f":"VLOOKUP(A454, localcont!$A$10:$I$1764, 9)*F454","v":26872616.489465319}]
[1512,303,"UPTON                        ",710,"MENDON UPTON",30071296,{"$f":"VLOOKUP(A455, localcont!$A$10:$I$1764, 8)","v":11715667},{"$f":"VLOOKUP(A455, localcont!$A$10:$I$1764, 9)*F455","v":26013207.487044364}]
[272,55,"CHATHAM                      ",712,"MONOMOY",30071296,{"$f":"VLOOKUP(A456, localcont!$A$10:$I$1764, 8)","v":4915318},{"$f":"VLOOKUP(A456, localcont!$A$10:$I$1764, 9)*F456","v":28530488.116759412}]
[627,126,"HARWICH                      ",712,"MONOMOY",30071296,{"$f":"VLOOKUP(A457, localcont!$A$10:$I$1764, 8)","v":13548758},{"$f":"VLOOKUP(A457, localcont!$A$10:$I$1764, 9)*F457","v":27737645.975779813}]
[737,148,"LANESBOROUGH                 ",715,"MOUNT GREYLOCK",{"$f":"VLOOKUP(D458, town351, 7)","v":30071296},{"$f":"VLOOKUP(A458, localcont!$A$10:$I$1764, 8)","v":1866758},{"$f":"VLOOKUP(A458, localcont!$A$10:$I$1764, 9)*F458","v":13788492.320828304}]
[1702,341,"WILLIAMSTOWN                 ",715,"MOUNT GREYLOCK",30071296,{"$f":"VLOOKUP(A459, localcont!$A$10:$I$1764, 8)","v":3020936},{"$f":"VLOOKUP(A459, localcont!$A$10:$I$1764, 9)*F459","v":13138526.45073325}]
[62,13,"ASHFIELD                     ",717,"MOHAWK TRAIL",30071296,{"$f":"VLOOKUP(A460, localcont!$A$10:$I$1764, 8)","v":1639587},{"$f":"VLOOKUP(A460, localcont!$A$10:$I$1764, 9)*F460","v":25736819.828623481}]
[232,47,"BUCKLAND                     ",717,"MOHAWK TRAIL",30071296,{"$f":"VLOOKUP(A461, localcont!$A$10:$I$1764, 8)","v":1707903},{"$f":"VLOOKUP(A461, localcont!$A$10:$I$1764, 9)*F461","v":27511089.129282501}]
[263,53,"CHARLEMONT                   ",717,"MOHAWK TRAIL",30071296,{"$f":"VLOOKUP(A462, localcont!$A$10:$I$1764, 8)","v":829553},{"$f":"VLOOKUP(A462, localcont!$A$10:$I$1764, 9)*F462","v":15618867.644861752}]
[327,66,"COLRAIN                      ",717,"MOHAWK TRAIL",30071296,{"$f":"VLOOKUP(A463, localcont!$A$10:$I$1764, 8)","v":1678624},{"$f":"VLOOKUP(A463, localcont!$A$10:$I$1764, 9)*F463","v":24535247.038647581}]
[643,129,"HAWLEY                       ",717,"MOHAWK TRAIL",30071296,{"$f":"VLOOKUP(A464, localcont!$A$10:$I$1764, 8)","v":146392},{"$f":"VLOOKUP(A464, localcont!$A$10:$I$1764, 9)*F464","v":9535896.7847834527}]
[647,130,"HEATH                        ",717,"MOHAWK TRAIL",30071296,{"$f":"VLOOKUP(A465, localcont!$A$10:$I$1764, 8)","v":936907},{"$f":"VLOOKUP(A465, localcont!$A$10:$I$1764, 9)*F465","v":26879388.837502528}]
[1182,237,"PLAINFIELD                   ",717,"MOHAWK TRAIL",30071296,{"$f":"VLOOKUP(A466, localcont!$A$10:$I$1764, 8)","v":566048},{"$f":"VLOOKUP(A466, localcont!$A$10:$I$1764, 9)*F466","v":28105104.500998169}]
[1337,268,"SHELBURNE                    ",717,"MOHAWK TRAIL",30071296,{"$f":"VLOOKUP(A467, localcont!$A$10:$I$1764, 8)","v":1805497},{"$f":"VLOOKUP(A467, localcont!$A$10:$I$1764, 9)*F467","v":28803508.771039903}]
[1172,235,"PHILLIPSTON                  ",720,"NARRAGANSETT",30071296,{"$f":"VLOOKUP(A468, localcont!$A$10:$I$1764, 8)","v":2236515},{"$f":"VLOOKUP(A468, localcont!$A$10:$I$1764, 9)*F468","v":26616294.464151155}]
[1467,294,"TEMPLETON                    ",720,"NARRAGANSETT",30071296,{"$f":"VLOOKUP(A469, localcont!$A$10:$I$1764, 8)","v":10934072},{"$f":"VLOOKUP(A469, localcont!$A$10:$I$1764, 9)*F469","v":26416612.845293134}]
[167,34,"BOLTON                       ",725,"NASHOBA",30071296,{"$f":"VLOOKUP(A470, localcont!$A$10:$I$1764, 8)","v":9527973},{"$f":"VLOOKUP(A470, localcont!$A$10:$I$1764, 9)*F470","v":29504614.867438357}]
[732,147,"LANCASTER                    ",725,"NASHOBA",30071296,{"$f":"VLOOKUP(A471, localcont!$A$10:$I$1764, 8)","v":9233017},{"$f":"VLOOKUP(A471, localcont!$A$10:$I$1764, 9)*F471","v":28229838.498837005}]
[1427,286,"STOW                         ",725,"NASHOBA",30071296,{"$f":"VLOOKUP(A472, localcont!$A$10:$I$1764, 8)","v":12164701},{"$f":"VLOOKUP(A472, localcont!$A$10:$I$1764, 9)*F472","v":29303973.571566105}]
[1027,206,"NEW SALEM                    ",728,"NEW SALEM WENDELL",30071296,{"$f":"VLOOKUP(A473, localcont!$A$10:$I$1764, 8)","v":685457},{"$f":"VLOOKUP(A473, localcont!$A$10:$I$1764, 9)*F473","v":13436715.738722818}]
[1592,319,"WENDELL                      ",728,"NEW SALEM WENDELL",30071296,{"$f":"VLOOKUP(A474, localcont!$A$10:$I$1764, 8)","v":569605},{"$f":"VLOOKUP(A474, localcont!$A$10:$I$1764, 9)*F474","v":16996443.247398999}]
[1062,213,"NORTHBOROUGH                 ",730,"NORTHBORO SOUTHBORO",30071296,{"$f":"VLOOKUP(A475, localcont!$A$10:$I$1764, 8)","v":8691638},{"$f":"VLOOKUP(A475, localcont!$A$10:$I$1764, 9)*F475","v":10375168.425430583}]
[1377,276,"SOUTHBOROUGH                 ",730,"NORTHBORO SOUTHBORO",30071296,{"$f":"VLOOKUP(A476, localcont!$A$10:$I$1764, 8)","v":6349640},{"$f":"VLOOKUP(A476, localcont!$A$10:$I$1764, 9)*F476","v":10524866.44222982}]
[57,12,"ASHBY                        ",735,"NORTH MIDDLESEX",30071296,{"$f":"VLOOKUP(A477, localcont!$A$10:$I$1764, 8)","v":3974007},{"$f":"VLOOKUP(A477, localcont!$A$10:$I$1764, 9)*F477","v":26062879.425148867}]
[1157,232,"PEPPERELL                    ",735,"NORTH MIDDLESEX",30071296,{"$f":"VLOOKUP(A478, localcont!$A$10:$I$1764, 8)","v":15709017},{"$f":"VLOOKUP(A478, localcont!$A$10:$I$1764, 9)*F478","v":26006176.870664675}]
[1492,299,"TOWNSEND                     ",735,"NORTH MIDDLESEX",30071296,{"$f":"VLOOKUP(A479, localcont!$A$10:$I$1764, 8)","v":12688771},{"$f":"VLOOKUP(A479, localcont!$A$10:$I$1764, 9)*F479","v":26984095.197487496}]
[842,169,"MARION                       ",740,"OLD ROCHESTER",30071296,{"$f":"VLOOKUP(A480, localcont!$A$10:$I$1764, 8)","v":3329155},{"$f":"VLOOKUP(A480, localcont!$A$10:$I$1764, 9)*F480","v":13273050.659090551}]
[862,173,"MATTAPOISETT                 ",740,"OLD ROCHESTER",30071296,{"$f":"VLOOKUP(A481, localcont!$A$10:$I$1764, 8)","v":3842078},{"$f":"VLOOKUP(A481, localcont!$A$10:$I$1764, 9)*F481","v":12833678.704718934}]
[1247,250,"ROCHESTER                    ",740,"OLD ROCHESTER",30071296,{"$f":"VLOOKUP(A482, localcont!$A$10:$I$1764, 8)","v":4248544},{"$f":"VLOOKUP(A482, localcont!$A$10:$I$1764, 9)*F482","v":13231163.680892983}]
[577,116,"GROVELAND                    ",745,"PENTUCKET",30071296,{"$f":"VLOOKUP(A483, localcont!$A$10:$I$1764, 8)","v":9126601},{"$f":"VLOOKUP(A483, localcont!$A$10:$I$1764, 9)*F483","v":26518837.497415695}]
[897,180,"MERRIMAC                     ",745,"PENTUCKET",30071296,{"$f":"VLOOKUP(A484, localcont!$A$10:$I$1764, 8)","v":8362391},{"$f":"VLOOKUP(A484, localcont!$A$10:$I$1764, 9)*F484","v":26650556.821441479}]
[1642,329,"WEST NEWBURY                 ",745,"PENTUCKET",30071296,{"$f":"VLOOKUP(A485, localcont!$A$10:$I$1764, 8)","v":6113681},{"$f":"VLOOKUP(A485, localcont!$A$10:$I$1764, 9)*F485","v":28827382.086220972}]
[142,29,"BERNARDSTON                  ",750,"PIONEER",30071296,{"$f":"VLOOKUP(A486, localcont!$A$10:$I$1764, 8)","v":2607180},{"$f":"VLOOKUP(A486, localcont!$A$10:$I$1764, 9)*F486","v":26658470.286247447}]
[777,156,"LEYDEN                       ",750,"PIONEER",30071296,{"$f":"VLOOKUP(A487, localcont!$A$10:$I$1764, 8)","v":525327},{"$f":"VLOOKUP(A487, localcont!$A$10:$I$1764, 9)*F487","v":22061553.617174122}]
[1077,216,"NORTHFIELD                   ",750,"PIONEER",30071296,{"$f":"VLOOKUP(A488, localcont!$A$10:$I$1764, 8)","v":3667563},{"$f":"VLOOKUP(A488, localcont!$A$10:$I$1764, 9)*F488","v":25566266.638821919}]
[1557,312,"WARWICK                      ",750,"PIONEER",30071296,{"$f":"VLOOKUP(A489, localcont!$A$10:$I$1764, 8)","v":680980},{"$f":"VLOOKUP(A489, localcont!$A$10:$I$1764, 9)*F489","v":25848264.029677987}]
[102,21,"BARRE                        ",753,"QUABBIN",30071296,{"$f":"VLOOKUP(A490, localcont!$A$10:$I$1764, 8)","v":8182502},{"$f":"VLOOKUP(A490, localcont!$A$10:$I$1764, 9)*F490","v":28078811.017265052}]
[617,124,"HARDWICK                     ",753,"QUABBIN",30071296,{"$f":"VLOOKUP(A491, localcont!$A$10:$I$1764, 8)","v":3875922},{"$f":"VLOOKUP(A491, localcont!$A$10:$I$1764, 9)*F491","v":27195236.860571381}]
[697,140,"HUBBARDSTON                  ",753,"QUABBIN",30071296,{"$f":"VLOOKUP(A492, localcont!$A$10:$I$1764, 8)","v":5970486},{"$f":"VLOOKUP(A492, localcont!$A$10:$I$1764, 9)*F492","v":26010687.310493197}]
[1007,202,"NEW BRAINTREE                ",753,"QUABBIN",30071296,{"$f":"VLOOKUP(A493, localcont!$A$10:$I$1764, 8)","v":1487728},{"$f":"VLOOKUP(A493, localcont!$A$10:$I$1764, 9)*F493","v":26701596.096843969}]
[1107,222,"OAKHAM                       ",753,"QUABBIN",30071296,{"$f":"VLOOKUP(A494, localcont!$A$10:$I$1764, 8)","v":2535009},{"$f":"VLOOKUP(A494, localcont!$A$10:$I$1764, 9)*F494","v":27516623.135290235}]
[1028,206,"NEW SALEM                    ",755,"RALPH C MAHAR",30071296,{"$f":"VLOOKUP(A495, localcont!$A$10:$I$1764, 8)","v":721441},{"$f":"VLOOKUP(A495, localcont!$A$10:$I$1764, 9)*F495","v":14142094.455611262}]
[1112,223,"ORANGE                       ",755,"RALPH C MAHAR",30071296,{"$f":"VLOOKUP(A496, localcont!$A$10:$I$1764, 8)","v":5891769},{"$f":"VLOOKUP(A496, localcont!$A$10:$I$1764, 9)*F496","v":12984422.101167724}]
[1167,234,"PETERSHAM                    ",755,"RALPH C MAHAR",30071296,{"$f":"VLOOKUP(A497, localcont!$A$10:$I$1764, 8)","v":732372},{"$f":"VLOOKUP(A497, localcont!$A$10:$I$1764, 9)*F497","v":15509382.998629771}]
[1593,319,"WENDELL                      ",755,"RALPH C MAHAR",30071296,{"$f":"VLOOKUP(A498, localcont!$A$10:$I$1764, 8)","v":295135},{"$f":"VLOOKUP(A498, localcont!$A$10:$I$1764, 9)*F498","v":8806533.0848941002}]
[587,118,"HALIFAX                      ",760,"SILVER LAKE",30071296,{"$f":"VLOOKUP(A499, localcont!$A$10:$I$1764, 8)","v":6594827},{"$f":"VLOOKUP(A499, localcont!$A$10:$I$1764, 9)*F499","v":16341311.632620694}]
[722,145,"KINGSTON                     ",760,"SILVER LAKE",30071296,{"$f":"VLOOKUP(A500, localcont!$A$10:$I$1764, 8)","v":10799160},{"$f":"VLOOKUP(A500, localcont!$A$10:$I$1764, 9)*F500","v":15543312.894672316}]
[1197,240,"PLYMPTON                     ",760,"SILVER LAKE",30071296,{"$f":"VLOOKUP(A501, localcont!$A$10:$I$1764, 8)","v":2275163},{"$f":"VLOOKUP(A501, localcont!$A$10:$I$1764, 9)*F501","v":15728868.575458571}]
[132,27,"BERKLEY                      ",763,"SOMERSET BERKLEY",30071296,{"$f":"VLOOKUP(A502, localcont!$A$10:$I$1764, 8)","v":2836595},{"$f":"VLOOKUP(A502, localcont!$A$10:$I$1764, 9)*F502","v":7619960.4743963452}]
[1362,273,"SOMERSET                     ",763,"SOMERSET BERKLEY",30071296,{"$f":"VLOOKUP(A503, localcont!$A$10:$I$1764, 8)","v":6757770},{"$f":"VLOOKUP(A503, localcont!$A$10:$I$1764, 9)*F503","v":8022609.6205687122}]
[27,6,"ALFORD                       ",765,"SOUTHERN BERKSHIRE",30071296,{"$f":"VLOOKUP(A504, localcont!$A$10:$I$1764, 8)","v":257395},{"$f":"VLOOKUP(A504, localcont!$A$10:$I$1764, 9)*F504","v":30071296}]
[447,90,"EGREMONT                     ",765,"SOUTHERN BERKSHIRE",30071296,{"$f":"VLOOKUP(A505, localcont!$A$10:$I$1764, 8)","v":1009781},{"$f":"VLOOKUP(A505, localcont!$A$10:$I$1764, 9)*F505","v":30071296}]
[962,193,"MONTEREY                     ",765,"SOUTHERN BERKSHIRE",30071296,{"$f":"VLOOKUP(A506, localcont!$A$10:$I$1764, 8)","v":900883},{"$f":"VLOOKUP(A506, localcont!$A$10:$I$1764, 9)*F506","v":30071296}]
[1022,205,"NEW MARLBOROUGH              ",765,"SOUTHERN BERKSHIRE",30071296,{"$f":"VLOOKUP(A507, localcont!$A$10:$I$1764, 8)","v":1564171},{"$f":"VLOOKUP(A507, localcont!$A$10:$I$1764, 9)*F507","v":30071296}]
[1332,267,"SHEFFIELD                    ",765,"SOUTHERN BERKSHIRE",30071296,{"$f":"VLOOKUP(A508, localcont!$A$10:$I$1764, 8)","v":3821329},{"$f":"VLOOKUP(A508, localcont!$A$10:$I$1764, 9)*F508","v":29361338.941341851}]
[557,112,"GRANVILLE                    ",766,"SOUTHWICK TOLLAND GRANVILLE",30071296,{"$f":"VLOOKUP(A509, localcont!$A$10:$I$1764, 8)","v":2168004},{"$f":"VLOOKUP(A509, localcont!$A$10:$I$1764, 9)*F509","v":30071296}]
[1392,279,"SOUTHWICK                    ",766,"SOUTHWICK TOLLAND",30071296,{"$f":"VLOOKUP(A510, localcont!$A$10:$I$1764, 8)","v":13547480},{"$f":"VLOOKUP(A510, localcont!$A$10:$I$1764, 9)*F510","v":30071296}]
[1482,297,"TOLLAND                      ",766,"SOUTHWICK TOLLAND",30071296,{"$f":"VLOOKUP(A511, localcont!$A$10:$I$1764, 8)","v":559813},{"$f":"VLOOKUP(A511, localcont!$A$10:$I$1764, 9)*F511","v":30071296}]
[417,84,"EAST BROOKFIELD              ",767,"SPENCER EAST BROOKFIELD",30071296,{"$f":"VLOOKUP(A512, localcont!$A$10:$I$1764, 8)","v":3394086},{"$f":"VLOOKUP(A512, localcont!$A$10:$I$1764, 9)*F512","v":27808858.822682466}]
[1397,280,"SPENCER                      ",767,"SPENCER EAST BROOKFIELD",30071296,{"$f":"VLOOKUP(A513, localcont!$A$10:$I$1764, 8)","v":15808214},{"$f":"VLOOKUP(A513, localcont!$A$10:$I$1764, 9)*F513","v":26085980.801204711}]
[212,43,"BRIMFIELD                    ",770,"TANTASQUA",30071296,{"$f":"VLOOKUP(A514, localcont!$A$10:$I$1764, 8)","v":3218755},{"$f":"VLOOKUP(A514, localcont!$A$10:$I$1764, 9)*F514","v":16821930.558116633}]
[222,45,"BROOKFIELD                   ",770,"TANTASQUA",30071296,{"$f":"VLOOKUP(A515, localcont!$A$10:$I$1764, 8)","v":2800881},{"$f":"VLOOKUP(A515, localcont!$A$10:$I$1764, 9)*F515","v":15963652.58460963}]
[672,135,"HOLLAND                      ",770,"TANTASQUA",30071296,{"$f":"VLOOKUP(A516, localcont!$A$10:$I$1764, 8)","v":2145837},{"$f":"VLOOKUP(A516, localcont!$A$10:$I$1764, 9)*F516","v":17230633.966684457}]
[1432,287,"STURBRIDGE                   ",770,"TANTASQUA",30071296,{"$f":"VLOOKUP(A517, localcont!$A$10:$I$1764, 8)","v":8718873},{"$f":"VLOOKUP(A517, localcont!$A$10:$I$1764, 9)*F517","v":15241050.250784133}]
[1527,306,"WALES                        ",770,"TANTASQUA",30071296,{"$f":"VLOOKUP(A518, localcont!$A$10:$I$1764, 8)","v":1298796},{"$f":"VLOOKUP(A518, localcont!$A$10:$I$1764, 9)*F518","v":14119239.054221271}]
[1012,203,"NEWBURY                      ",773,"TRITON",30071296,{"$f":"VLOOKUP(A519, localcont!$A$10:$I$1764, 8)","v":8026712},{"$f":"VLOOKUP(A519, localcont!$A$10:$I$1764, 9)*F519","v":28687324.970700648}]
[1267,254,"ROWLEY                       ",773,"TRITON",30071296,{"$f":"VLOOKUP(A520, localcont!$A$10:$I$1764, 8)","v":8390714},{"$f":"VLOOKUP(A520, localcont!$A$10:$I$1764, 9)*F520","v":29160837.840810928}]
[1292,259,"SALISBURY                    ",773,"TRITON",30071296,{"$f":"VLOOKUP(A521, localcont!$A$10:$I$1764, 8)","v":9305386},{"$f":"VLOOKUP(A521, localcont!$A$10:$I$1764, 9)*F521","v":27691511.632929564}]
[308,62,"CHILMARK                     ",774,"UPISLAND",{"$f":"VLOOKUP(D522, town351, 7)","v":30071296},{"$f":"VLOOKUP(A522, localcont!$A$10:$I$1764, 8)","v":737657},{"$f":"VLOOKUP(A522, localcont!$A$10:$I$1764, 9)*F522","v":20336127.34473493}]
[518,104,"AQUINNAH",774,"UPISLAND",30071296,{"$f":"VLOOKUP(A523, localcont!$A$10:$I$1764, 8)","v":322725},{"$f":"VLOOKUP(A523, localcont!$A$10:$I$1764, 9)*F523","v":19661499.784437351}]
[1668,334,"WEST TISBURY                 ",774,"UPISLAND",30071296,{"$f":"VLOOKUP(A524, localcont!$A$10:$I$1764, 8)","v":2332840},{"$f":"VLOOKUP(A524, localcont!$A$10:$I$1764, 9)*F524","v":19257466.371027734}]
[667,134,"HOLDEN                       ",775,"WACHUSETT",30071296,{"$f":"VLOOKUP(A525, localcont!$A$10:$I$1764, 8)","v":28835506},{"$f":"VLOOKUP(A525, localcont!$A$10:$I$1764, 9)*F525","v":28879722.666500747}]
[1137,228,"PAXTON                       ",775,"WACHUSETT",30071296,{"$f":"VLOOKUP(A526, localcont!$A$10:$I$1764, 8)","v":6603620},{"$f":"VLOOKUP(A526, localcont!$A$10:$I$1764, 9)*F526","v":29320710.983061768}]
[1202,241,"PRINCETON                    ",775,"WACHUSETT",30071296,{"$f":"VLOOKUP(A527, localcont!$A$10:$I$1764, 8)","v":4047089},{"$f":"VLOOKUP(A527, localcont!$A$10:$I$1764, 9)*F527","v":27862215.790448915}]
[1282,257,"RUTLAND                      ",775,"WACHUSETT",30071296,{"$f":"VLOOKUP(A528, localcont!$A$10:$I$1764, 8)","v":15149481},{"$f":"VLOOKUP(A528, localcont!$A$10:$I$1764, 9)*F528","v":29044248.593953565}]
[1407,282,"STERLING                     ",775,"WACHUSETT",30071296,{"$f":"VLOOKUP(A529, localcont!$A$10:$I$1764, 8)","v":11021089},{"$f":"VLOOKUP(A529, localcont!$A$10:$I$1764, 9)*F529","v":27620504.172126342}]
[1552,311,"WARREN                       ",778,"QUABOAG",30071296,{"$f":"VLOOKUP(A530, localcont!$A$10:$I$1764, 8)","v":8256066},{"$f":"VLOOKUP(A530, localcont!$A$10:$I$1764, 9)*F530","v":27579907.550439384}]
[1617,324,"WEST BROOKFIELD              ",778,"QUABOAG",30071296,{"$f":"VLOOKUP(A531, localcont!$A$10:$I$1764, 8)","v":5101143},{"$f":"VLOOKUP(A531, localcont!$A$10:$I$1764, 9)*F531","v":28113021.208175663}]
[612,123,"HANSON                       ",780,"WHITMAN HANSON",30071296,{"$f":"VLOOKUP(A532, localcont!$A$10:$I$1764, 8)","v":15980016},{"$f":"VLOOKUP(A532, localcont!$A$10:$I$1764, 9)*F532","v":27833252.724602081}]
[1687,338,"WHITMAN                      ",780,"WHITMAN HANSON",30071296,{"$f":"VLOOKUP(A533, localcont!$A$10:$I$1764, 8)","v":22342344},{"$f":"VLOOKUP(A533, localcont!$A$10:$I$1764, 9)*F533","v":27701433.285591133}]
[138,28,"BERLIN                       ",801,"ASSABET VALLEY",30071296,{"$f":"VLOOKUP(A534, localcont!$A$10:$I$1764, 8)","v":520416},{"$f":"VLOOKUP(A534, localcont!$A$10:$I$1764, 9)*F534","v":4019310.3158282819}]
[702,141,"HUDSON                       ",801,"ASSABET VALLEY",30071296,{"$f":"VLOOKUP(A535, localcont!$A$10:$I$1764, 8)","v":3021773},{"$f":"VLOOKUP(A535, localcont!$A$10:$I$1764, 9)*F535","v":2911393.6650418402}]
[847,170,"MARLBOROUGH                  ",801,"ASSABET VALLEY",30071296,{"$f":"VLOOKUP(A536, localcont!$A$10:$I$1764, 8)","v":6060334},{"$f":"VLOOKUP(A536, localcont!$A$10:$I$1764, 9)*F536","v":2964744.9423996052}]
[867,174,"MAYNARD                      ",801,"ASSABET VALLEY",30071296,{"$f":"VLOOKUP(A537, localcont!$A$10:$I$1764, 8)","v":1040833},{"$f":"VLOOKUP(A537, localcont!$A$10:$I$1764, 9)*F537","v":2101794.0873282854}]
[1063,213,"NORTHBOROUGH                 ",801,"ASSABET VALLEY",30071296,{"$f":"VLOOKUP(A538, localcont!$A$10:$I$1764, 8)","v":973682},{"$f":"VLOOKUP(A538, localcont!$A$10:$I$1764, 9)*F538","v":1162279.7386189001}]
[1378,276,"SOUTHBOROUGH                 ",801,"ASSABET VALLEY",30071296,{"$f":"VLOOKUP(A539, localcont!$A$10:$I$1764, 8)","v":218239},{"$f":"VLOOKUP(A539, localcont!$A$10:$I$1764, 9)*F539","v":361742.7645481939}]
[1602,321,"WESTBOROUGH                  ",801,"ASSABET VALLEY",30071296,{"$f":"VLOOKUP(A540, localcont!$A$10:$I$1764, 8)","v":637930},{"$f":"VLOOKUP(A540, localcont!$A$10:$I$1764, 9)*F540","v":576398.22339461464}]
[122,25,"BELLINGHAM                   ",805,"BLACKSTONE VALLEY",30071296,{"$f":"VLOOKUP(A541, localcont!$A$10:$I$1764, 8)","v":1558545},{"$f":"VLOOKUP(A541, localcont!$A$10:$I$1764, 9)*F541","v":1856854.2439905049}]
[158,32,"BLACKSTONE                   ",805,"BLACKSTONE VALLEY",30071296,{"$f":"VLOOKUP(A542, localcont!$A$10:$I$1764, 8)","v":1180257},{"$f":"VLOOKUP(A542, localcont!$A$10:$I$1764, 9)*F542","v":2544246.2085645292}]
[382,77,"DOUGLAS                      ",805,"BLACKSTONE VALLEY",30071296,{"$f":"VLOOKUP(A543, localcont!$A$10:$I$1764, 8)","v":1225652},{"$f":"VLOOKUP(A543, localcont!$A$10:$I$1764, 9)*F543","v":2478366.4468678134}]
[547,110,"GRAFTON                      ",805,"BLACKSTONE VALLEY",30071296,{"$f":"VLOOKUP(A544, localcont!$A$10:$I$1764, 8)","v":1074337},{"$f":"VLOOKUP(A544, localcont!$A$10:$I$1764, 9)*F544","v":1074153.468410763}]
[687,138,"HOPEDALE                     ",805,"BLACKSTONE VALLEY",30071296,{"$f":"VLOOKUP(A545, localcont!$A$10:$I$1764, 8)","v":348025},{"$f":"VLOOKUP(A545, localcont!$A$10:$I$1764, 9)*F545","v":974011.30692560028}]
[893,179,"MENDON                       ",805,"BLACKSTONE VALLEY",30071296,{"$f":"VLOOKUP(A546, localcont!$A$10:$I$1764, 8)","v":1134863},{"$f":"VLOOKUP(A546, localcont!$A$10:$I$1764, 9)*F546","v":3124676.3607995887}]
[922,185,"MILFORD                      ",805,"BLACKSTONE VALLEY",30071296,{"$f":"VLOOKUP(A547, localcont!$A$10:$I$1764, 8)","v":2269725},{"$f":"VLOOKUP(A547, localcont!$A$10:$I$1764, 9)*F547","v":1461894.4058435583}]
[927,186,"MILLBURY                     ",805,"BLACKSTONE VALLEY",30071296,{"$f":"VLOOKUP(A548, localcont!$A$10:$I$1764, 8)","v":1134863},{"$f":"VLOOKUP(A548, localcont!$A$10:$I$1764, 9)*F548","v":1868342.9399970355}]
[938,188,"MILLVILLE                    ",805,"BLACKSTONE VALLEY",30071296,{"$f":"VLOOKUP(A549, localcont!$A$10:$I$1764, 8)","v":544734},{"$f":"VLOOKUP(A549, localcont!$A$10:$I$1764, 9)*F549","v":2895264.7844532686}]
[1067,214,"NORTHBRIDGE                  ",805,"BLACKSTONE VALLEY",30071296,{"$f":"VLOOKUP(A550, localcont!$A$10:$I$1764, 8)","v":2209199},{"$f":"VLOOKUP(A550, localcont!$A$10:$I$1764, 9)*F550","v":2525911.1960601225}]
[1447,290,"SUTTON                       ",805,"BLACKSTONE VALLEY",30071296,{"$f":"VLOOKUP(A551, localcont!$A$10:$I$1764, 8)","v":1407230},{"$f":"VLOOKUP(A551, localcont!$A$10:$I$1764, 9)*F551","v":2797453.7343881773}]
[1513,303,"UPTON                        ",805,"BLACKSTONE VALLEY",30071296,{"$f":"VLOOKUP(A552, localcont!$A$10:$I$1764, 8)","v":1800649},{"$f":"VLOOKUP(A552, localcont!$A$10:$I$1764, 9)*F552","v":3998121.1524993796}]
[1517,304,"UXBRIDGE                     ",805,"BLACKSTONE VALLEY",30071296,{"$f":"VLOOKUP(A553, localcont!$A$10:$I$1764, 8)","v":2330251},{"$f":"VLOOKUP(A553, localcont!$A$10:$I$1764, 9)*F553","v":3359828.4691355089}]
[87,18,"AVON                         ",806,"BLUE HILLS",30071296,{"$f":"VLOOKUP(A554, localcont!$A$10:$I$1764, 8)","v":824233},{"$f":"VLOOKUP(A554, localcont!$A$10:$I$1764, 9)*F554","v":3920902.0828006184}]
[197,40,"BRAINTREE                    ",806,"BLUE HILLS",30071296,{"$f":"VLOOKUP(A555, localcont!$A$10:$I$1764, 8)","v":2569668},{"$f":"VLOOKUP(A555, localcont!$A$10:$I$1764, 9)*F555","v":1332537.8450214937}]
[247,50,"CANTON                       ",806,"BLUE HILLS",30071296,{"$f":"VLOOKUP(A556, localcont!$A$10:$I$1764, 8)","v":1018170},{"$f":"VLOOKUP(A556, localcont!$A$10:$I$1764, 9)*F556","v":933718.43792212859}]
[362,73,"DEDHAM                       ",806,"BLUE HILLS",30071296,{"$f":"VLOOKUP(A557, localcont!$A$10:$I$1764, 8)","v":1276753},{"$f":"VLOOKUP(A557, localcont!$A$10:$I$1764, 9)*F557","v":1338904.4413300804}]
[662,133,"HOLBROOK                     ",806,"BLUE HILLS",30071296,{"$f":"VLOOKUP(A558, localcont!$A$10:$I$1764, 8)","v":2424215},{"$f":"VLOOKUP(A558, localcont!$A$10:$I$1764, 9)*F558","v":4802174.7576533565}]
[942,189,"MILTON                       ",806,"BLUE HILLS",30071296,{"$f":"VLOOKUP(A559, localcont!$A$10:$I$1764, 8)","v":840394},{"$f":"VLOOKUP(A559, localcont!$A$10:$I$1764, 9)*F559","v":676199.52770478791}]
[1097,220,"NORWOOD                      ",806,"BLUE HILLS",30071296,{"$f":"VLOOKUP(A560, localcont!$A$10:$I$1764, 8)","v":808072},{"$f":"VLOOKUP(A560, localcont!$A$10:$I$1764, 9)*F560","v":656565.32070611906}]
[1217,244,"RANDOLPH                     ",806,"BLUE HILLS",30071296,{"$f":"VLOOKUP(A561, localcont!$A$10:$I$1764, 8)","v":4153488},{"$f":"VLOOKUP(A561, localcont!$A$10:$I$1764, 9)*F561","v":3066747.7161575439}]
[1672,335,"WESTWOOD                     ",806,"BLUE HILLS",30071296,{"$f":"VLOOKUP(A562, localcont!$A$10:$I$1764, 8)","v":145453},{"$f":"VLOOKUP(A562, localcont!$A$10:$I$1764, 9)*F562","v":146879.02384707466}]
[133,27,"BERKLEY                      ",810,"BRISTOL PLYMOUTH",30071296,{"$f":"VLOOKUP(A563, localcont!$A$10:$I$1764, 8)","v":1620717},{"$f":"VLOOKUP(A563, localcont!$A$10:$I$1764, 9)*F563","v":4353740.8337045731}]
[208,42,"BRIDGEWATER                  ",810,"BRISTOL PLYMOUTH",30071296,{"$f":"VLOOKUP(A564, localcont!$A$10:$I$1764, 8)","v":1697894},{"$f":"VLOOKUP(A564, localcont!$A$10:$I$1764, 9)*F564","v":1535272.7567954541}]
[378,76,"DIGHTON                      ",810,"BRISTOL PLYMOUTH",30071296,{"$f":"VLOOKUP(A565, localcont!$A$10:$I$1764, 8)","v":571110},{"$f":"VLOOKUP(A565, localcont!$A$10:$I$1764, 9)*F565","v":1357177.227497011}]
[907,182,"MIDDLEBOROUGH                ",810,"BRISTOL PLYMOUTH",30071296,{"$f":"VLOOKUP(A566, localcont!$A$10:$I$1764, 8)","v":4460830},{"$f":"VLOOKUP(A566, localcont!$A$10:$I$1764, 9)*F566","v":3679062.675710768}]
[1223,245,"RAYNHAM                      ",810,"BRISTOL PLYMOUTH",30071296,{"$f":"VLOOKUP(A567, localcont!$A$10:$I$1764, 8)","v":2454228},{"$f":"VLOOKUP(A567, localcont!$A$10:$I$1764, 9)*F567","v":3253491.0417456268}]
[1233,247,"REHOBOTH                     ",810,"BRISTOL PLYMOUTH",30071296,{"$f":"VLOOKUP(A568, localcont!$A$10:$I$1764, 8)","v":632851},{"$f":"VLOOKUP(A568, localcont!$A$10:$I$1764, 9)*F568","v":1046697.4949876176}]
[1462,293,"TAUNTON                      ",810,"BRISTOL PLYMOUTH",30071296,{"$f":"VLOOKUP(A569, localcont!$A$10:$I$1764, 8)","v":9338416},{"$f":"VLOOKUP(A569, localcont!$A$10:$I$1764, 9)*F569","v":2900479.9709456596}]
[97,20,"BARNSTABLE                   ",815,"CAPE COD",30071296,{"$f":"VLOOKUP(A570, localcont!$A$10:$I$1764, 8)","v":2763860},{"$f":"VLOOKUP(A570, localcont!$A$10:$I$1764, 9)*F570","v":1425960.5530443115}]
[203,41,"BREWSTER                     ",815,"CAPE COD",30071296,{"$f":"VLOOKUP(A571, localcont!$A$10:$I$1764, 8)","v":608986},{"$f":"VLOOKUP(A571, localcont!$A$10:$I$1764, 9)*F571","v":1657488.1699864711}]
[273,55,"CHATHAM                      ",815,"CAPE COD",30071296,{"$f":"VLOOKUP(A572, localcont!$A$10:$I$1764, 8)","v":265455},{"$f":"VLOOKUP(A572, localcont!$A$10:$I$1764, 9)*F572","v":1540807.8832405896}]
[373,75,"DENNIS                       ",815,"CAPE COD",30071296,{"$f":"VLOOKUP(A573, localcont!$A$10:$I$1764, 8)","v":1233587},{"$f":"VLOOKUP(A573, localcont!$A$10:$I$1764, 9)*F573","v":2668835.1678856523}]
[423,85,"EASTHAM                      ",815,"CAPE COD",30071296,{"$f":"VLOOKUP(A574, localcont!$A$10:$I$1764, 8)","v":187380},{"$f":"VLOOKUP(A574, localcont!$A$10:$I$1764, 9)*F574","v":1119663.6466455986}]
[628,126,"HARWICH                      ",815,"CAPE COD",30071296,{"$f":"VLOOKUP(A575, localcont!$A$10:$I$1764, 8)","v":1139897},{"$f":"VLOOKUP(A575, localcont!$A$10:$I$1764, 9)*F575","v":2333650.0242201891}]
[857,172,"MASHPEE                      ",815,"CAPE COD",30071296,{"$f":"VLOOKUP(A576, localcont!$A$10:$I$1764, 8)","v":983747},{"$f":"VLOOKUP(A576, localcont!$A$10:$I$1764, 9)*F576","v":1684470.9093213556}]
[1118,224,"ORLEANS                      ",815,"CAPE COD",30071296,{"$f":"VLOOKUP(A577, localcont!$A$10:$I$1764, 8)","v":218610},{"$f":"VLOOKUP(A577, localcont!$A$10:$I$1764, 9)*F577","v":1417422.4988786827}]
[1207,242,"PROVINCETOWN                 ",815,"CAPE COD",30071296,{"$f":"VLOOKUP(A578, localcont!$A$10:$I$1764, 8)","v":62460},{"$f":"VLOOKUP(A578, localcont!$A$10:$I$1764, 9)*F578","v":1394063.7588956351}]
[1497,300,"TRURO                        ",815,"CAPE COD",30071296,{"$f":"VLOOKUP(A579, localcont!$A$10:$I$1764, 8)","v":31230},{"$f":"VLOOKUP(A579, localcont!$A$10:$I$1764, 9)*F579","v":491411.40879012446}]
[1588,318,"WELLFLEET                    ",815,"CAPE COD",30071296,{"$f":"VLOOKUP(A580, localcont!$A$10:$I$1764, 8)","v":124920},{"$f":"VLOOKUP(A580, localcont!$A$10:$I$1764, 9)*F580","v":1330731.7337103882}]
[1753,351,"YARMOUTH                     ",815,"CAPE COD",30071296,{"$f":"VLOOKUP(A581, localcont!$A$10:$I$1764, 8)","v":2560864},{"$f":"VLOOKUP(A581, localcont!$A$10:$I$1764, 9)*F581","v":3037161.020618943}]
[147,30,"BEVERLY                      ",817,"ESSEX NORTH SHORE",30071296,{"$f":"VLOOKUP(A582, localcont!$A$10:$I$1764, 8)","v":1708380},{"$f":"VLOOKUP(A582, localcont!$A$10:$I$1764, 9)*F582","v":1101065.2790859214}]
[188,38,"BOXFORD",817,"ESSEX NORTH SHORE",30071296,{"$f":"VLOOKUP(A583, localcont!$A$10:$I$1764, 8)","v":248492},{"$f":"VLOOKUP(A583, localcont!$A$10:$I$1764, 9)*F583","v":532589.1460695602}]
[352,71,"DANVERS                      ",817,"ESSEX NORTH SHORE",30071296,{"$f":"VLOOKUP(A584, localcont!$A$10:$I$1764, 8)","v":1661788},{"$f":"VLOOKUP(A584, localcont!$A$10:$I$1764, 9)*F584","v":1367460.8591816598}]
[458,92,"ESSEX                        ",817,"ESSEX NORTH SHORE",30071296,{"$f":"VLOOKUP(A585, localcont!$A$10:$I$1764, 8)","v":170838},{"$f":"VLOOKUP(A585, localcont!$A$10:$I$1764, 9)*F585","v":944127.57187024294}]
[532,107,"GLOUCESTER                   ",817,"ESSEX NORTH SHORE",{"$f":"VLOOKUP(D586, town351, 7)","v":30071296},{"$f":"VLOOKUP(A586, localcont!$A$10:$I$1764, 8)","v":1242458},{"$f":"VLOOKUP(A586, localcont!$A$10:$I$1764, 9)*F586","v":1034271.8813887099}]
[593,119,"HAMILTON                     ",817,"ESSEX NORTH SHORE",30071296,{"$f":"VLOOKUP(A587, localcont!$A$10:$I$1764, 8)","v":186369},{"$f":"VLOOKUP(A587, localcont!$A$10:$I$1764, 9)*F587","v":496522.25035546831}]
[817,164,"LYNNFIELD                    ",817,"ESSEX NORTH SHORE",30071296,{"$f":"VLOOKUP(A588, localcont!$A$10:$I$1764, 8)","v":295084},{"$f":"VLOOKUP(A588, localcont!$A$10:$I$1764, 9)*F588","v":442832.57914398931}]
[828,166,"MANCHESTER                   ",817,"ESSEX NORTH SHORE",30071296,{"$f":"VLOOKUP(A589, localcont!$A$10:$I$1764, 8)","v":62123},{"$f":"VLOOKUP(A589, localcont!$A$10:$I$1764, 9)*F589","v":221656.27923682961}]
[837,168,"MARBLEHEAD                   ",817,"ESSEX NORTH SHORE",30071296,{"$f":"VLOOKUP(A590, localcont!$A$10:$I$1764, 8)","v":186369},{"$f":"VLOOKUP(A590, localcont!$A$10:$I$1764, 9)*F590","v":182083.04639223233}]
[918,184,"MIDDLETON                    ",817,"ESSEX NORTH SHORE",30071296,{"$f":"VLOOKUP(A591, localcont!$A$10:$I$1764, 8)","v":388268},{"$f":"VLOOKUP(A591, localcont!$A$10:$I$1764, 9)*F591","v":851575.51558212761}]
[977,196,"NAHANT                       ",817,"ESSEX NORTH SHORE",30071296,{"$f":"VLOOKUP(A592, localcont!$A$10:$I$1764, 8)","v":62123},{"$f":"VLOOKUP(A592, localcont!$A$10:$I$1764, 9)*F592","v":714445.85609773605}]
[1142,229,"PEABODY                      ",817,"ESSEX NORTH SHORE",30071296,{"$f":"VLOOKUP(A593, localcont!$A$10:$I$1764, 8)","v":2469386},{"$f":"VLOOKUP(A593, localcont!$A$10:$I$1764, 9)*F593","v":1145297.7111008428}]
[1257,252,"ROCKPORT                     ",817,"ESSEX NORTH SHORE",30071296,{"$f":"VLOOKUP(A594, localcont!$A$10:$I$1764, 8)","v":264022},{"$f":"VLOOKUP(A594, localcont!$A$10:$I$1764, 9)*F594","v":993572.37865031953}]
[1287,258,"SALEM                        ",817,"ESSEX NORTH SHORE",30071296,{"$f":"VLOOKUP(A595, localcont!$A$10:$I$1764, 8)","v":2640224},{"$f":"VLOOKUP(A595, localcont!$A$10:$I$1764, 9)*F595","v":1438766.567024745}]
[1452,291,"SWAMPSCOTT                   ",817,"ESSEX NORTH SHORE",30071296,{"$f":"VLOOKUP(A596, localcont!$A$10:$I$1764, 8)","v":403799},{"$f":"VLOOKUP(A596, localcont!$A$10:$I$1764, 9)*F596","v":593311.37476977217}]
[1488,298,"TOPSFIELD                    ",817,"ESSEX NORTH SHORE",30071296,{"$f":"VLOOKUP(A597, localcont!$A$10:$I$1764, 8)","v":139777},{"$f":"VLOOKUP(A597, localcont!$A$10:$I$1764, 9)*F597","v":412061.95947336475}]
[1598,320,"WENHAM                       ",817,"ESSEX NORTH SHORE",30071296,{"$f":"VLOOKUP(A598, localcont!$A$10:$I$1764, 8)","v":124246},{"$f":"VLOOKUP(A598, localcont!$A$10:$I$1764, 9)*F598","v":651943.08753470425}]
[143,29,"BERNARDSTON                  ",818,"FRANKLIN COUNTY",30071296,{"$f":"VLOOKUP(A599, localcont!$A$10:$I$1764, 8)","v":333772},{"$f":"VLOOKUP(A599, localcont!$A$10:$I$1764, 9)*F599","v":3412825.7137525533}]
[233,47,"BUCKLAND                     ",818,"FRANKLIN COUNTY",30071296,{"$f":"VLOOKUP(A600, localcont!$A$10:$I$1764, 8)","v":158939},{"$f":"VLOOKUP(A600, localcont!$A$10:$I$1764, 9)*F600","v":2560206.8707175003}]
[328,66,"COLRAIN                      ",818,"FRANKLIN COUNTY",30071296,{"$f":"VLOOKUP(A601, localcont!$A$10:$I$1764, 8)","v":365559},{"$f":"VLOOKUP(A601, localcont!$A$10:$I$1764, 9)*F601","v":5343114.5820630305}]
[338,68,"CONWAY                       ",818,"FRANKLIN COUNTY",30071296,{"$f":"VLOOKUP(A602, localcont!$A$10:$I$1764, 8)","v":79469},{"$f":"VLOOKUP(A602, localcont!$A$10:$I$1764, 9)*F602","v":1038245.4899697329}]
[368,74,"DEERFIELD                    ",818,"FRANKLIN COUNTY",30071296,{"$f":"VLOOKUP(A603, localcont!$A$10:$I$1764, 8)","v":254302},{"$f":"VLOOKUP(A603, localcont!$A$10:$I$1764, 9)*F603","v":1250825.5460085778}]
[452,91,"ERVING                       ",818,"FRANKLIN COUNTY",30071296,{"$f":"VLOOKUP(A604, localcont!$A$10:$I$1764, 8)","v":492710},{"$f":"VLOOKUP(A604, localcont!$A$10:$I$1764, 9)*F604","v":5100355.7740114201}]
[528,106,"GILL                         ",818,"FRANKLIN COUNTY",30071296,{"$f":"VLOOKUP(A605, localcont!$A$10:$I$1764, 8)","v":79469},{"$f":"VLOOKUP(A605, localcont!$A$10:$I$1764, 9)*F605","v":1373979.1453042955}]
[567,114,"GREENFIELD                   ",818,"FRANKLIN COUNTY",30071296,{"$f":"VLOOKUP(A606, localcont!$A$10:$I$1764, 8)","v":1796009},{"$f":"VLOOKUP(A606, localcont!$A$10:$I$1764, 9)*F606","v":2330519.5436269473}]
[648,130,"HEATH                        ",818,"FRANKLIN COUNTY",30071296,{"$f":"VLOOKUP(A607, localcont!$A$10:$I$1764, 8)","v":111257},{"$f":"VLOOKUP(A607, localcont!$A$10:$I$1764, 9)*F607","v":3191907.1624974716}]
[778,156,"LEYDEN                       ",818,"FRANKLIN COUNTY",30071296,{"$f":"VLOOKUP(A608, localcont!$A$10:$I$1764, 8)","v":190727},{"$f":"VLOOKUP(A608, localcont!$A$10:$I$1764, 9)*F608","v":8009742.3828258757}]
[958,192,"MONTAGUE                     ",818,"FRANKLIN COUNTY",30071296,{"$f":"VLOOKUP(A609, localcont!$A$10:$I$1764, 8)","v":1112572},{"$f":"VLOOKUP(A609, localcont!$A$10:$I$1764, 9)*F609","v":3085071.9132769415}]
[1029,206,"NEW SALEM                    ",818,"FRANKLIN COUNTY",30071296,{"$f":"VLOOKUP(A610, localcont!$A$10:$I$1764, 8)","v":127151},{"$f":"VLOOKUP(A610, localcont!$A$10:$I$1764, 9)*F610","v":2492485.8056659205}]
[1078,216,"NORTHFIELD                   ",818,"FRANKLIN COUNTY",30071296,{"$f":"VLOOKUP(A611, localcont!$A$10:$I$1764, 8)","v":619861},{"$f":"VLOOKUP(A611, localcont!$A$10:$I$1764, 9)*F611","v":4320997.7865429427}]
[1113,223,"ORANGE                       ",818,"FRANKLIN COUNTY",30071296,{"$f":"VLOOKUP(A612, localcont!$A$10:$I$1764, 8)","v":1255617},{"$f":"VLOOKUP(A612, localcont!$A$10:$I$1764, 9)*F612","v":2767158.9170250758}]
[1338,268,"SHELBURNE                    ",818,"FRANKLIN COUNTY",30071296,{"$f":"VLOOKUP(A613, localcont!$A$10:$I$1764, 8)","v":79469},{"$f":"VLOOKUP(A613, localcont!$A$10:$I$1764, 9)*F613","v":1267787.228960098}]
[1443,289,"SUNDERLAND                   ",818,"FRANKLIN COUNTY",30071296,{"$f":"VLOOKUP(A614, localcont!$A$10:$I$1764, 8)","v":158939},{"$f":"VLOOKUP(A614, localcont!$A$10:$I$1764, 9)*F614","v":1446625.7824985071}]
[1558,312,"WARWICK                      ",818,"FRANKLIN COUNTY",30071296,{"$f":"VLOOKUP(A615, localcont!$A$10:$I$1764, 8)","v":111257},{"$f":"VLOOKUP(A615, localcont!$A$10:$I$1764, 9)*F615","v":4223031.9703220129}]
[1594,319,"WENDELL                      ",818,"FRANKLIN COUNTY",30071296,{"$f":"VLOOKUP(A616, localcont!$A$10:$I$1764, 8)","v":143045},{"$f":"VLOOKUP(A616, localcont!$A$10:$I$1764, 9)*F616","v":4268319.6677069021}]
[1683,337,"WHATELY                      ",818,"FRANKLIN COUNTY",30071296,{"$f":"VLOOKUP(A617, localcont!$A$10:$I$1764, 8)","v":127151},{"$f":"VLOOKUP(A617, localcont!$A$10:$I$1764, 9)*F617","v":2216856.0986471782}]
[472,95,"FALL RIVER                   ",821,"GREATER FALL RIVER",30071296,{"$f":"VLOOKUP(A618, localcont!$A$10:$I$1764, 8)","v":17495875},{"$f":"VLOOKUP(A618, localcont!$A$10:$I$1764, 9)*F618","v":3527994.9020946673}]
[1363,273,"SOMERSET                     ",821,"GREATER FALL RIVER",30071296,{"$f":"VLOOKUP(A619, localcont!$A$10:$I$1764, 8)","v":2052765},{"$f":"VLOOKUP(A619, localcont!$A$10:$I$1764, 9)*F619","v":2436977.3220702587}]
[1457,292,"SWANSEA                      ",821,"GREATER FALL RIVER",30071296,{"$f":"VLOOKUP(A620, localcont!$A$10:$I$1764, 8)","v":1910651},{"$f":"VLOOKUP(A620, localcont!$A$10:$I$1764, 9)*F620","v":2526355.9653781452}]
[1652,331,"WESTPORT                     ",821,"GREATER FALL RIVER",30071296,{"$f":"VLOOKUP(A621, localcont!$A$10:$I$1764, 8)","v":1815908},{"$f":"VLOOKUP(A621, localcont!$A$10:$I$1764, 9)*F621","v":3165085.9660044061}]
[42,9,"ANDOVER                      ",823,"GREATER LAWRENCE",30071296,{"$f":"VLOOKUP(A622, localcont!$A$10:$I$1764, 8)","v":418049},{"$f":"VLOOKUP(A622, localcont!$A$10:$I$1764, 9)*F622","v":216702.02272808822}]
[742,149,"LAWRENCE                     ",823,"GREATER LAWRENCE",30071296,{"$f":"VLOOKUP(A623, localcont!$A$10:$I$1764, 8)","v":18585782},{"$f":"VLOOKUP(A623, localcont!$A$10:$I$1764, 9)*F623","v":2730038.2401944497}]
[902,181,"METHUEN                      ",823,"GREATER LAWRENCE",30071296,{"$f":"VLOOKUP(A624, localcont!$A$10:$I$1764, 8)","v":6566860},{"$f":"VLOOKUP(A624, localcont!$A$10:$I$1764, 9)*F624","v":2406941.3942826991}]
[1052,211,"NORTH ANDOVER                ",823,"GREATER LAWRENCE",30071296,{"$f":"VLOOKUP(A625, localcont!$A$10:$I$1764, 8)","v":383212},{"$f":"VLOOKUP(A625, localcont!$A$10:$I$1764, 9)*F625","v":251355.84099503001}]
[357,72,"DARTMOUTH                    ",825,"GREATER NEW BEDFORD",30071296,{"$f":"VLOOKUP(A626, localcont!$A$10:$I$1764, 8)","v":3972124},{"$f":"VLOOKUP(A626, localcont!$A$10:$I$1764, 9)*F626","v":2965713.7698137118}]
[467,94,"FAIRHAVEN                    ",825,"GREATER NEW BEDFORD",30071296,{"$f":"VLOOKUP(A627, localcont!$A$10:$I$1764, 8)","v":3203326},{"$f":"VLOOKUP(A627, localcont!$A$10:$I$1764, 9)*F627","v":4566699.8884175569}]
[1002,201,"NEW BEDFORD                  ",825,"GREATER NEW BEDFORD",30071296,{"$f":"VLOOKUP(A628, localcont!$A$10:$I$1764, 8)","v":27148184},{"$f":"VLOOKUP(A628, localcont!$A$10:$I$1764, 9)*F628","v":4614083.6178265018}]
[392,79,"DRACUT                       ",828,"GREATER LOWELL",30071296,{"$f":"VLOOKUP(A629, localcont!$A$10:$I$1764, 8)","v":7221700},{"$f":"VLOOKUP(A629, localcont!$A$10:$I$1764, 9)*F629","v":4840327.1911630249}]
[403,81,"DUNSTABLE                    ",828,"GREATER LOWELL",30071296,{"$f":"VLOOKUP(A630, localcont!$A$10:$I$1764, 8)","v":175361},{"$f":"VLOOKUP(A630, localcont!$A$10:$I$1764, 9)*F630","v":947994.56439058331}]
[797,160,"LOWELL                       ",828,"GREATER LOWELL",30071296,{"$f":"VLOOKUP(A631, localcont!$A$10:$I$1764, 8)","v":25921600},{"$f":"VLOOKUP(A631, localcont!$A$10:$I$1764, 9)*F631","v":3831209.1622299855}]
[1502,301,"TYNGSBOROUGH                 ",828,"GREATER LOWELL",30071296,{"$f":"VLOOKUP(A632, localcont!$A$10:$I$1764, 8)","v":1673904},{"$f":"VLOOKUP(A632, localcont!$A$10:$I$1764, 9)*F632","v":2798955.5316331652}]
[67,14,"ASHLAND                      ",829,"SOUTH MIDDLESEX",30071296,{"$f":"VLOOKUP(A633, localcont!$A$10:$I$1764, 8)","v":1250561},{"$f":"VLOOKUP(A633, localcont!$A$10:$I$1764, 9)*F633","v":1489315.2614464427}]
[497,100,"FRAMINGHAM                   ",829,"SOUTH MIDDLESEX",30071296,{"$f":"VLOOKUP(A634, localcont!$A$10:$I$1764, 8)","v":8686331},{"$f":"VLOOKUP(A634, localcont!$A$10:$I$1764, 9)*F634","v":2504258.9264861033}]
[677,136,"HOLLISTON                    ",829,"SOUTH MIDDLESEX",30071296,{"$f":"VLOOKUP(A635, localcont!$A$10:$I$1764, 8)","v":675979},{"$f":"VLOOKUP(A635, localcont!$A$10:$I$1764, 9)*F635","v":811870.96441495977}]
[692,139,"HOPKINTON                    ",829,"SOUTH MIDDLESEX",30071296,{"$f":"VLOOKUP(A636, localcont!$A$10:$I$1764, 8)","v":304191},{"$f":"VLOOKUP(A636, localcont!$A$10:$I$1764, 9)*F636","v":269106.37255419715}]
[987,198,"NATICK                       ",829,"SOUTH MIDDLESEX",30071296,{"$f":"VLOOKUP(A637, localcont!$A$10:$I$1764, 8)","v":997069},{"$f":"VLOOKUP(A637, localcont!$A$10:$I$1764, 9)*F637","v":570639.38070715079}]
[8,2,"ACTON                        ",830,"MINUTEMAN",30071296,{"$f":"VLOOKUP(A638, localcont!$A$10:$I$1764, 8)","v":474252},{"$f":"VLOOKUP(A638, localcont!$A$10:$I$1764, 9)*F638","v":315491.85326421348}]
[47,10,"ARLINGTON                    ",830,"MINUTEMAN",30071296,{"$f":"VLOOKUP(A639, localcont!$A$10:$I$1764, 8)","v":2676137},{"$f":"VLOOKUP(A639, localcont!$A$10:$I$1764, 9)*F639","v":1519356.8606013043}]
[127,26,"BELMONT                      ",830,"MINUTEMAN",30071296,{"$f":"VLOOKUP(A640, localcont!$A$10:$I$1764, 8)","v":508127},{"$f":"VLOOKUP(A640, localcont!$A$10:$I$1764, 9)*F640","v":385001.551578385}]
[168,34,"BOLTON                       ",830,"MINUTEMAN",30071296,{"$f":"VLOOKUP(A641, localcont!$A$10:$I$1764, 8)","v":169376},{"$f":"VLOOKUP(A641, localcont!$A$10:$I$1764, 9)*F641","v":524494.94218625932}]
[183,37,"BOXBOROUGH",830,"MINUTEMAN",30071296,{"$f":"VLOOKUP(A642, localcont!$A$10:$I$1764, 8)","v":84688},{"$f":"VLOOKUP(A642, localcont!$A$10:$I$1764, 9)*F642","v":320124.15344270639}]
[253,51,"CARLISLE                     ",830,"MINUTEMAN",30071296,{"$f":"VLOOKUP(A643, localcont!$A$10:$I$1764, 8)","v":135501},{"$f":"VLOOKUP(A643, localcont!$A$10:$I$1764, 9)*F643","v":452744.13200905162}]
[333,67,"CONCORD                      ",830,"MINUTEMAN",30071296,{"$f":"VLOOKUP(A644, localcont!$A$10:$I$1764, 8)","v":203251},{"$f":"VLOOKUP(A644, localcont!$A$10:$I$1764, 9)*F644","v":212282.2513656423}]
[388,78,"DOVER                        ",830,"MINUTEMAN",30071296,{"$f":"VLOOKUP(A645, localcont!$A$10:$I$1764, 8)","v":50813},{"$f":"VLOOKUP(A645, localcont!$A$10:$I$1764, 9)*F645","v":143951.94846533271}]
[733,147,"LANCASTER                    ",830,"MINUTEMAN",30071296,{"$f":"VLOOKUP(A646, localcont!$A$10:$I$1764, 8)","v":575878},{"$f":"VLOOKUP(A646, localcont!$A$10:$I$1764, 9)*F646","v":1760740.0630837413}]
[772,155,"LEXINGTON                    ",830,"MINUTEMAN",30071296,{"$f":"VLOOKUP(A647, localcont!$A$10:$I$1764, 8)","v":762191},{"$f":"VLOOKUP(A647, localcont!$A$10:$I$1764, 9)*F647","v":337924.73783042532}]
[783,157,"LINCOLN                      ",830,"MINUTEMAN",30071296,{"$f":"VLOOKUP(A648, localcont!$A$10:$I$1764, 8)","v":84688},{"$f":"VLOOKUP(A648, localcont!$A$10:$I$1764, 9)*F648","v":301018.25018568733}]
[992,199,"NEEDHAM                      ",830,"MINUTEMAN",30071296,{"$f":"VLOOKUP(A649, localcont!$A$10:$I$1764, 8)","v":389564},{"$f":"VLOOKUP(A649, localcont!$A$10:$I$1764, 9)*F649","v":223470.32049730408}]
[1428,286,"STOW                         ",830,"MINUTEMAN",{"$f":"VLOOKUP(D650, town351, 7)","v":30071296},{"$f":"VLOOKUP(A650, localcont!$A$10:$I$1764, 8)","v":304876},{"$f":"VLOOKUP(A650, localcont!$A$10:$I$1764, 9)*F650","v":734426.45623635035}]
[1438,288,"SUDBURY                      ",830,"MINUTEMAN",30071296,{"$f":"VLOOKUP(A651, localcont!$A$10:$I$1764, 8)","v":457315},{"$f":"VLOOKUP(A651, localcont!$A$10:$I$1764, 9)*F651","v":346221.02481970214}]
[1572,315,"WAYLAND                      ",830,"MINUTEMAN",30071296,{"$f":"VLOOKUP(A652, localcont!$A$10:$I$1764, 8)","v":84688},{"$f":"VLOOKUP(A652, localcont!$A$10:$I$1764, 9)*F652","v":103163.35040873347}]
[1647,330,"WESTON                       ",830,"MINUTEMAN",30071296,{"$f":"VLOOKUP(A653, localcont!$A$10:$I$1764, 8)","v":50813},{"$f":"VLOOKUP(A653, localcont!$A$10:$I$1764, 9)*F653","v":71836.776126208395}]
[53,11,"ASHBURNHAM                   ",832,"MONTACHUSETT",30071296,{"$f":"VLOOKUP(A654, localcont!$A$10:$I$1764, 8)","v":916791},{"$f":"VLOOKUP(A654, localcont!$A$10:$I$1764, 9)*F654","v":2481036.2353114812}]
[58,12,"ASHBY                        ",832,"MONTACHUSETT",30071296,{"$f":"VLOOKUP(A655, localcont!$A$10:$I$1764, 8)","v":611194},{"$f":"VLOOKUP(A655, localcont!$A$10:$I$1764, 9)*F655","v":4008416.5748511348}]
[73,15,"ATHOL                        ",832,"MONTACHUSETT",30071296,{"$f":"VLOOKUP(A656, localcont!$A$10:$I$1764, 8)","v":1405747},{"$f":"VLOOKUP(A656, localcont!$A$10:$I$1764, 9)*F656","v":2326999.2733252277}]
[103,21,"BARRE                        ",832,"MONTACHUSETT",30071296,{"$f":"VLOOKUP(A657, localcont!$A$10:$I$1764, 8)","v":580634},{"$f":"VLOOKUP(A657, localcont!$A$10:$I$1764, 9)*F657","v":1992484.9827349477}]
[482,97,"FITCHBURG                    ",832,"MONTACHUSETT",30071296,{"$f":"VLOOKUP(A658, localcont!$A$10:$I$1764, 8)","v":6295300},{"$f":"VLOOKUP(A658, localcont!$A$10:$I$1764, 9)*F658","v":2757233.6462755459}]
[512,103,"GARDNER                      ",832,"MONTACHUSETT",30071296,{"$f":"VLOOKUP(A659, localcont!$A$10:$I$1764, 8)","v":2398937},{"$f":"VLOOKUP(A659, localcont!$A$10:$I$1764, 9)*F659","v":2442693.8270128421}]
[622,125,"HARVARD                      ",832,"MONTACHUSETT",30071296,{"$f":"VLOOKUP(A660, localcont!$A$10:$I$1764, 8)","v":122239},{"$f":"VLOOKUP(A660, localcont!$A$10:$I$1764, 9)*F660","v":374482.6560993024}]
[668,134,"HOLDEN                       ",832,"MONTACHUSETT",30071296,{"$f":"VLOOKUP(A661, localcont!$A$10:$I$1764, 8)","v":1176549},{"$f":"VLOOKUP(A661, localcont!$A$10:$I$1764, 9)*F661","v":1178353.1325425254}]
[698,140,"HUBBARDSTON                  ",832,"MONTACHUSETT",30071296,{"$f":"VLOOKUP(A662, localcont!$A$10:$I$1764, 8)","v":932071},{"$f":"VLOOKUP(A662, localcont!$A$10:$I$1764, 9)*F662","v":4060608.6895068013}]
[807,162,"LUNENBURG                    ",832,"MONTACHUSETT",30071296,{"$f":"VLOOKUP(A663, localcont!$A$10:$I$1764, 8)","v":1191829},{"$f":"VLOOKUP(A663, localcont!$A$10:$I$1764, 9)*F663","v":2167765.7974249953}]
[1168,234,"PETERSHAM                    ",832,"MONTACHUSETT",30071296,{"$f":"VLOOKUP(A664, localcont!$A$10:$I$1764, 8)","v":76399},{"$f":"VLOOKUP(A664, localcont!$A$10:$I$1764, 9)*F664","v":1617895.4844154553}]
[1173,235,"PHILLIPSTON                  ",832,"MONTACHUSETT",30071296,{"$f":"VLOOKUP(A665, localcont!$A$10:$I$1764, 8)","v":290317},{"$f":"VLOOKUP(A665, localcont!$A$10:$I$1764, 9)*F665","v":3455001.5358488415}]
[1203,241,"PRINCETON                    ",832,"MONTACHUSETT",30071296,{"$f":"VLOOKUP(A666, localcont!$A$10:$I$1764, 8)","v":320877},{"$f":"VLOOKUP(A666, localcont!$A$10:$I$1764, 9)*F666","v":2209080.209551082}]
[1273,255,"ROYALSTON                    ",832,"MONTACHUSETT",30071296,{"$f":"VLOOKUP(A667, localcont!$A$10:$I$1764, 8)","v":305597},{"$f":"VLOOKUP(A667, localcont!$A$10:$I$1764, 9)*F667","v":6451962.4325554678}]
[1408,282,"STERLING                     ",832,"MONTACHUSETT",30071296,{"$f":"VLOOKUP(A668, localcont!$A$10:$I$1764, 8)","v":977911},{"$f":"VLOOKUP(A668, localcont!$A$10:$I$1764, 9)*F668","v":2450791.8278736565}]
[1468,294,"TEMPLETON                    ",832,"MONTACHUSETT",30071296,{"$f":"VLOOKUP(A669, localcont!$A$10:$I$1764, 8)","v":1512706},{"$f":"VLOOKUP(A669, localcont!$A$10:$I$1764, 9)*F669","v":3654683.1547068646}]
[1638,328,"WESTMINSTER                  ",832,"MONTACHUSETT",30071296,{"$f":"VLOOKUP(A670, localcont!$A$10:$I$1764, 8)","v":1268228},{"$f":"VLOOKUP(A670, localcont!$A$10:$I$1764, 9)*F670","v":2997101.0420576772}]
[1712,343,"WINCHENDON                   ",832,"MONTACHUSETT",30071296,{"$f":"VLOOKUP(A671, localcont!$A$10:$I$1764, 8)","v":2322538},{"$f":"VLOOKUP(A671, localcont!$A$10:$I$1764, 9)*F671","v":4062674.2648985377}]
[18,4,"ADAMS                        ",851,"NORTHERN BERKSHIRE",30071296,{"$f":"VLOOKUP(A672, localcont!$A$10:$I$1764, 8)","v":2143475},{"$f":"VLOOKUP(A672, localcont!$A$10:$I$1764, 9)*F672","v":5056679.6857843893}]
[288,58,"CHESHIRE                     ",851,"NORTHERN BERKSHIRE",30071296,{"$f":"VLOOKUP(A673, localcont!$A$10:$I$1764, 8)","v":776621},{"$f":"VLOOKUP(A673, localcont!$A$10:$I$1764, 9)*F673","v":4958577.0003388831}]
[312,63,"CLARKSBURG                   ",851,"NORTHERN BERKSHIRE",30071296,{"$f":"VLOOKUP(A674, localcont!$A$10:$I$1764, 8)","v":776621},{"$f":"VLOOKUP(A674, localcont!$A$10:$I$1764, 9)*F674","v":9162441.8157837987}]
[487,98,"FLORIDA                      ",851,"NORTHERN BERKSHIRE",30071296,{"$f":"VLOOKUP(A675, localcont!$A$10:$I$1764, 8)","v":310649},{"$f":"VLOOKUP(A675, localcont!$A$10:$I$1764, 9)*F675","v":7892257.8364838287}]
[738,148,"LANESBOROUGH                 ",851,"NORTHERN BERKSHIRE",30071296,{"$f":"VLOOKUP(A676, localcont!$A$10:$I$1764, 8)","v":279584},{"$f":"VLOOKUP(A676, localcont!$A$10:$I$1764, 9)*F676","v":2065099.9417313118}]
[947,190,"MONROE                       ",851,"NORTHERN BERKSHIRE",30071296,{"$f":"VLOOKUP(A677, localcont!$A$10:$I$1764, 8)","v":62130},{"$f":"VLOOKUP(A677, localcont!$A$10:$I$1764, 9)*F677","v":15631054.567687675}]
[1042,209,"NORTH ADAMS                  ",851,"NORTHERN BERKSHIRE",30071296,{"$f":"VLOOKUP(A678, localcont!$A$10:$I$1764, 8)","v":2516253},{"$f":"VLOOKUP(A678, localcont!$A$10:$I$1764, 9)*F678","v":3944899.5056076776}]
[1312,263,"SAVOY                        ",851,"NORTHERN BERKSHIRE",30071296,{"$f":"VLOOKUP(A679, localcont!$A$10:$I$1764, 8)","v":310649},{"$f":"VLOOKUP(A679, localcont!$A$10:$I$1764, 9)*F679","v":10339347.829986855}]
[1703,341,"WILLIAMSTOWN                 ",851,"NORTHERN BERKSHIRE",30071296,{"$f":"VLOOKUP(A680, localcont!$A$10:$I$1764, 8)","v":201922},{"$f":"VLOOKUP(A680, localcont!$A$10:$I$1764, 9)*F680","v":878190.58000068832}]
[93,19,"AYER                         ",852,"NASHOBA VALLEY",30071296,{"$f":"VLOOKUP(A681, localcont!$A$10:$I$1764, 8)","v":880285},{"$f":"VLOOKUP(A681, localcont!$A$10:$I$1764, 9)*F681","v":2351482.4798232894}]
[277,56,"CHELMSFORD                   ",852,"NASHOBA VALLEY",30071296,{"$f":"VLOOKUP(A682, localcont!$A$10:$I$1764, 8)","v":2857067},{"$f":"VLOOKUP(A682, localcont!$A$10:$I$1764, 9)*F682","v":1714917.3221948349}]
[573,115,"GROTON                       ",852,"NASHOBA VALLEY",30071296,{"$f":"VLOOKUP(A683, localcont!$A$10:$I$1764, 8)","v":602301},{"$f":"VLOOKUP(A683, localcont!$A$10:$I$1764, 9)*F683","v":974049.73276490741}]
[787,158,"LITTLETON                    ",852,"NASHOBA VALLEY",30071296,{"$f":"VLOOKUP(A684, localcont!$A$10:$I$1764, 8)","v":509639},{"$f":"VLOOKUP(A684, localcont!$A$10:$I$1764, 9)*F684","v":976872.89503730356}]
[1158,232,"PEPPERELL                    ",852,"NASHOBA VALLEY",30071296,{"$f":"VLOOKUP(A685, localcont!$A$10:$I$1764, 8)","v":2455533},{"$f":"VLOOKUP(A685, localcont!$A$10:$I$1764, 9)*F685","v":4065119.1293353261}]
[1348,270,"SHIRLEY                      ",852,"NASHOBA VALLEY",30071296,{"$f":"VLOOKUP(A686, localcont!$A$10:$I$1764, 8)","v":1312706},{"$f":"VLOOKUP(A686, localcont!$A$10:$I$1764, 9)*F686","v":4531147.2916639838}]
[1493,299,"TOWNSEND                     ",852,"NASHOBA VALLEY",30071296,{"$f":"VLOOKUP(A687, localcont!$A$10:$I$1764, 8)","v":1451699},{"$f":"VLOOKUP(A687, localcont!$A$10:$I$1764, 9)*F687","v":3087200.8025125046}]
[1627,326,"WESTFORD                     ",852,"NASHOBA VALLEY",30071296,{"$f":"VLOOKUP(A688, localcont!$A$10:$I$1764, 8)","v":803067},{"$f":"VLOOKUP(A688, localcont!$A$10:$I$1764, 9)*F688","v":525806.27437347989}]
[282,57,"CHELSEA                      ",853,"NORTHEAST METROPOLITAN",30071296,{"$f":"VLOOKUP(A689, localcont!$A$10:$I$1764, 8)","v":3439157},{"$f":"VLOOKUP(A689, localcont!$A$10:$I$1764, 9)*F689","v":1178433.4580198685}]
[822,165,"MALDEN                       ",853,"NORTHEAST METROPOLITAN",30071296,{"$f":"VLOOKUP(A690, localcont!$A$10:$I$1764, 8)","v":2810849},{"$f":"VLOOKUP(A690, localcont!$A$10:$I$1764, 9)*F690","v":973015.4059824486}]
[887,178,"MELROSE                      ",853,"NORTHEAST METROPOLITAN",30071296,{"$f":"VLOOKUP(A691, localcont!$A$10:$I$1764, 8)","v":1025133},{"$f":"VLOOKUP(A691, localcont!$A$10:$I$1764, 9)*F691","v":830663.64559085621}]
[1082,217,"NORTH READING                ",853,"NORTHEAST METROPOLITAN",30071296,{"$f":"VLOOKUP(A692, localcont!$A$10:$I$1764, 8)","v":562170},{"$f":"VLOOKUP(A692, localcont!$A$10:$I$1764, 9)*F692","v":690274.71790882829}]
[1227,246,"READING                      ",853,"NORTHEAST METROPOLITAN",30071296,{"$f":"VLOOKUP(A693, localcont!$A$10:$I$1764, 8)","v":281085},{"$f":"VLOOKUP(A693, localcont!$A$10:$I$1764, 9)*F693","v":211742.3473924307}]
[1237,248,"REVERE                       ",853,"NORTHEAST METROPOLITAN",30071296,{"$f":"VLOOKUP(A694, localcont!$A$10:$I$1764, 8)","v":3571432},{"$f":"VLOOKUP(A694, localcont!$A$10:$I$1764, 9)*F694","v":1222465.5496757899}]
[1307,262,"SAUGUS                       ",853,"NORTHEAST METROPOLITAN",30071296,{"$f":"VLOOKUP(A695, localcont!$A$10:$I$1764, 8)","v":3290347},{"$f":"VLOOKUP(A695, localcont!$A$10:$I$1764, 9)*F695","v":3092540.1699394914}]
[1417,284,"STONEHAM                     ",853,"NORTHEAST METROPOLITAN",30071296,{"$f":"VLOOKUP(A696, localcont!$A$10:$I$1764, 8)","v":1173943},{"$f":"VLOOKUP(A696, localcont!$A$10:$I$1764, 9)*F696","v":1423597.8252173092}]
[1522,305,"WAKEFIELD                    ",853,"NORTHEAST METROPOLITAN",30071296,{"$f":"VLOOKUP(A697, localcont!$A$10:$I$1764, 8)","v":1058202},{"$f":"VLOOKUP(A697, localcont!$A$10:$I$1764, 9)*F697","v":945423.93452661706}]
[1717,344,"WINCHESTER                   ",853,"NORTHEAST METROPOLITAN",30071296,{"$f":"VLOOKUP(A698, localcont!$A$10:$I$1764, 8)","v":148810},{"$f":"VLOOKUP(A698, localcont!$A$10:$I$1764, 9)*F698","v":109415.4712146121}]
[1727,346,"WINTHROP                     ",853,"NORTHEAST METROPOLITAN",30071296,{"$f":"VLOOKUP(A699, localcont!$A$10:$I$1764, 8)","v":1124340},{"$f":"VLOOKUP(A699, localcont!$A$10:$I$1764, 9)*F699","v":1639263.0747524789}]
[1732,347,"WOBURN",853,"NORTHEAST METROPOLITAN",30071296,{"$f":"VLOOKUP(A700, localcont!$A$10:$I$1764, 8)","v":1901457},{"$f":"VLOOKUP(A700, localcont!$A$10:$I$1764, 9)*F700","v":1118268.2114497996}]
[12,3,"ACUSHNET                     ",855,"OLD COLONY",30071296,{"$f":"VLOOKUP(A701, localcont!$A$10:$I$1764, 8)","v":2356483},{"$f":"VLOOKUP(A701, localcont!$A$10:$I$1764, 9)*F701","v":4986832.9107317105}]
[257,52,"CARVER                       ",855,"OLD COLONY",30071296,{"$f":"VLOOKUP(A702, localcont!$A$10:$I$1764, 8)","v":1453674},{"$f":"VLOOKUP(A702, localcont!$A$10:$I$1764, 9)*F702","v":2476545.7100081439}]
[728,146,"LAKEVILLE                    ",855,"OLD COLONY",30071296,{"$f":"VLOOKUP(A703, localcont!$A$10:$I$1764, 8)","v":2019842},{"$f":"VLOOKUP(A703, localcont!$A$10:$I$1764, 9)*F703","v":3577852.9650219302}]
[863,173,"MATTAPOISETT                 ",855,"OLD COLONY",30071296,{"$f":"VLOOKUP(A704, localcont!$A$10:$I$1764, 8)","v":474357},{"$f":"VLOOKUP(A704, localcont!$A$10:$I$1764, 9)*F704","v":1584492.9044476347}]
[1248,250,"ROCHESTER                    ",855,"OLD COLONY",30071296,{"$f":"VLOOKUP(A705, localcont!$A$10:$I$1764, 8)","v":1025223},{"$f":"VLOOKUP(A705, localcont!$A$10:$I$1764, 9)*F705","v":3192833.4324455974}]
[117,24,"BELCHERTOWN                  ",860,"PATHFINDER",30071296,{"$f":"VLOOKUP(A706, localcont!$A$10:$I$1764, 8)","v":1412258},{"$f":"VLOOKUP(A706, localcont!$A$10:$I$1764, 9)*F706","v":1741514.3249934162}]
[552,111,"GRANBY                       ",860,"PATHFINDER",30071296,{"$f":"VLOOKUP(A707, localcont!$A$10:$I$1764, 8)","v":333229},{"$f":"VLOOKUP(A707, localcont!$A$10:$I$1764, 9)*F707","v":1205619.099967001}]
[618,124,"HARDWICK                     ",860,"PATHFINDER",30071296,{"$f":"VLOOKUP(A708, localcont!$A$10:$I$1764, 8)","v":396702},{"$f":"VLOOKUP(A708, localcont!$A$10:$I$1764, 9)*F708","v":2783442.1985433111}]
[952,191,"MONSON                       ",860,"PATHFINDER",30071296,{"$f":"VLOOKUP(A709, localcont!$A$10:$I$1764, 8)","v":1745488},{"$f":"VLOOKUP(A709, localcont!$A$10:$I$1764, 9)*F709","v":4236954.2016175734}]
[1008,202,"NEW BRAINTREE                ",860,"PATHFINDER",30071296,{"$f":"VLOOKUP(A710, localcont!$A$10:$I$1764, 8)","v":174549},{"$f":"VLOOKUP(A710, localcont!$A$10:$I$1764, 9)*F710","v":3132788.3168885834}]
[1108,222,"OAKHAM                       ",860,"PATHFINDER",30071296,{"$f":"VLOOKUP(A711, localcont!$A$10:$I$1764, 8)","v":222153},{"$f":"VLOOKUP(A711, localcont!$A$10:$I$1764, 9)*F711","v":2411391.982976838}]
[1132,227,"PALMER                       ",860,"PATHFINDER",30071296,{"$f":"VLOOKUP(A712, localcont!$A$10:$I$1764, 8)","v":2554760},{"$f":"VLOOKUP(A712, localcont!$A$10:$I$1764, 9)*F712","v":4262962.8551121382}]
[1542,309,"WARE                         ",860,"PATHFINDER",30071296,{"$f":"VLOOKUP(A713, localcont!$A$10:$I$1764, 8)","v":1745488},{"$f":"VLOOKUP(A713, localcont!$A$10:$I$1764, 9)*F713","v":3255218.896660673}]
[1553,311,"WARREN                       ",860,"PATHFINDER",{"$f":"VLOOKUP(D714, town351, 7)","v":30071296},{"$f":"VLOOKUP(A714, localcont!$A$10:$I$1764, 8)","v":745799},{"$f":"VLOOKUP(A714, localcont!$A$10:$I$1764, 9)*F714","v":2491388.449560619}]
[112,23,"BEDFORD                      ",871,"SHAWSHEEN VALLEY",30071296,{"$f":"VLOOKUP(A715, localcont!$A$10:$I$1764, 8)","v":270917},{"$f":"VLOOKUP(A715, localcont!$A$10:$I$1764, 9)*F715","v":309482.882308228}]
[152,31,"BILLERICA                    ",871,"SHAWSHEEN VALLEY",30071296,{"$f":"VLOOKUP(A716, localcont!$A$10:$I$1764, 8)","v":9737946},{"$f":"VLOOKUP(A716, localcont!$A$10:$I$1764, 9)*F716","v":4786766.3709396049}]
[237,48,"BURLINGTON                   ",871,"SHAWSHEEN VALLEY",30071296,{"$f":"VLOOKUP(A717, localcont!$A$10:$I$1764, 8)","v":1655601},{"$f":"VLOOKUP(A717, localcont!$A$10:$I$1764, 9)*F717","v":1387006.8548819355}]
[1472,295,"TEWKSBURY                    ",871,"SHAWSHEEN VALLEY",30071296,{"$f":"VLOOKUP(A718, localcont!$A$10:$I$1764, 8)","v":5493586},{"$f":"VLOOKUP(A718, localcont!$A$10:$I$1764, 9)*F718","v":4103837.9199169637}]
[1707,342,"WILMINGTON                   ",871,"SHAWSHEEN VALLEY",30071296,{"$f":"VLOOKUP(A719, localcont!$A$10:$I$1764, 8)","v":3747679},{"$f":"VLOOKUP(A719, localcont!$A$10:$I$1764, 9)*F719","v":2993834.2704800055}]
[217,44,"BROCKTON                     ",872,"SOUTHEASTERN",30071296,{"$f":"VLOOKUP(A720, localcont!$A$10:$I$1764, 8)","v":13800566},{"$f":"VLOOKUP(A720, localcont!$A$10:$I$1764, 9)*F720","v":1858657.8284666548}]
[412,83,"EAST BRIDGEWATER             ",872,"SOUTHEASTERN",30071296,{"$f":"VLOOKUP(A721, localcont!$A$10:$I$1764, 8)","v":1497983},{"$f":"VLOOKUP(A721, localcont!$A$10:$I$1764, 9)*F721","v":2023405.24490634}]
[437,88,"EASTON                       ",872,"SOUTHEASTERN",30071296,{"$f":"VLOOKUP(A722, localcont!$A$10:$I$1764, 8)","v":876479},{"$f":"VLOOKUP(A722, localcont!$A$10:$I$1764, 9)*F722","v":748368.74283991463}]
[492,99,"FOXBOROUGH                   ",872,"SOUTHEASTERN",30071296,{"$f":"VLOOKUP(A723, localcont!$A$10:$I$1764, 8)","v":366528},{"$f":"VLOOKUP(A723, localcont!$A$10:$I$1764, 9)*F723","v":406927.71393510542}]
[832,167,"MANSFIELD                    ",872,"SOUTHEASTERN",30071296,{"$f":"VLOOKUP(A724, localcont!$A$10:$I$1764, 8)","v":1227071},{"$f":"VLOOKUP(A724, localcont!$A$10:$I$1764, 9)*F724","v":874939.39559815673}]
[1087,218,"NORTON                       ",872,"SOUTHEASTERN",30071296,{"$f":"VLOOKUP(A725, localcont!$A$10:$I$1764, 8)","v":1673279},{"$f":"VLOOKUP(A725, localcont!$A$10:$I$1764, 9)*F725","v":1888185.9701910445}]
[1327,266,"SHARON                       ",872,"SOUTHEASTERN",30071296,{"$f":"VLOOKUP(A726, localcont!$A$10:$I$1764, 8)","v":334656},{"$f":"VLOOKUP(A726, localcont!$A$10:$I$1764, 9)*F726","v":307715.01611411554}]
[1422,285,"STOUGHTON                    ",872,"SOUTHEASTERN",30071296,{"$f":"VLOOKUP(A727, localcont!$A$10:$I$1764, 8)","v":2183230},{"$f":"VLOOKUP(A727, localcont!$A$10:$I$1764, 9)*F727","v":1604874.1103253833}]
[1612,323,"WEST BRIDGEWATER             ",872,"SOUTHEASTERN",30071296,{"$f":"VLOOKUP(A728, localcont!$A$10:$I$1764, 8)","v":605568},{"$f":"VLOOKUP(A728, localcont!$A$10:$I$1764, 9)*F728","v":1739217.247417652}]
[2,1,"ABINGTON                     ",873,"SOUTH SHORE",30071296,{"$f":"VLOOKUP(A729, localcont!$A$10:$I$1764, 8)","v":2342949},{"$f":"VLOOKUP(A729, localcont!$A$10:$I$1764, 9)*F729","v":3321202.0153671713}]
[322,65,"COHASSET                     ",873,"SOUTH SHORE",30071296,{"$f":"VLOOKUP(A730, localcont!$A$10:$I$1764, 8)","v":62898},{"$f":"VLOOKUP(A730, localcont!$A$10:$I$1764, 9)*F730","v":133745.11390795972}]
[607,122,"HANOVER                      ",873,"SOUTH SHORE",30071296,{"$f":"VLOOKUP(A731, localcont!$A$10:$I$1764, 8)","v":723326},{"$f":"VLOOKUP(A731, localcont!$A$10:$I$1764, 9)*F731","v":878313.20479012153}]
[613,123,"HANSON                       ",873,"SOUTH SHORE",30071296,{"$f":"VLOOKUP(A732, localcont!$A$10:$I$1764, 8)","v":1179337},{"$f":"VLOOKUP(A732, localcont!$A$10:$I$1764, 9)*F732","v":2054114.6372115051}]
[1092,219,"NORWELL                      ",873,"SOUTH SHORE",30071296,{"$f":"VLOOKUP(A733, localcont!$A$10:$I$1764, 8)","v":110071},{"$f":"VLOOKUP(A733, localcont!$A$10:$I$1764, 9)*F733","v":159799.29259316574}]
[1252,251,"ROCKLAND                     ",873,"SOUTH SHORE",30071296,{"$f":"VLOOKUP(A734, localcont!$A$10:$I$1764, 8)","v":2531643},{"$f":"VLOOKUP(A734, localcont!$A$10:$I$1764, 9)*F734","v":2746313.838532927}]
[1317,264,"SCITUATE                     ",873,"SOUTH SHORE",30071296,{"$f":"VLOOKUP(A735, localcont!$A$10:$I$1764, 8)","v":503184},{"$f":"VLOOKUP(A735, localcont!$A$10:$I$1764, 9)*F735","v":527209.44354401366}]
[1688,338,"WHITMAN                      ",873,"SOUTH SHORE",30071296,{"$f":"VLOOKUP(A736, localcont!$A$10:$I$1764, 8)","v":1792592},{"$f":"VLOOKUP(A736, localcont!$A$10:$I$1764, 9)*F736","v":2222567.5021512685}]
[82,17,"AUBURN                       ",876,"SOUTHERN WORCESTER",30071296,{"$f":"VLOOKUP(A737, localcont!$A$10:$I$1764, 8)","v":1459949},{"$f":"VLOOKUP(A737, localcont!$A$10:$I$1764, 9)*F737","v":1821397.5964340393}]
[268,54,"CHARLTON                     ",876,"SOUTHERN WORCESTER",30071296,{"$f":"VLOOKUP(A738, localcont!$A$10:$I$1764, 8)","v":2950634},{"$f":"VLOOKUP(A738, localcont!$A$10:$I$1764, 9)*F738","v":3854230.8265356761}]
[398,80,"DUDLEY                       ",876,"SOUTHERN WORCESTER",30071296,{"$f":"VLOOKUP(A739, localcont!$A$10:$I$1764, 8)","v":1967089},{"$f":"VLOOKUP(A739, localcont!$A$10:$I$1764, 9)*F739","v":3049632.1442981432}]
[1072,215,"NORTH BROOKFIELD             ",876,"SOUTHERN WORCESTER",30071296,{"$f":"VLOOKUP(A740, localcont!$A$10:$I$1764, 8)","v":706923},{"$f":"VLOOKUP(A740, localcont!$A$10:$I$1764, 9)*F740","v":3020650.4572552266}]
[1127,226,"OXFORD                       ",876,"SOUTHERN WORCESTER",30071296,{"$f":"VLOOKUP(A741, localcont!$A$10:$I$1764, 8)","v":2366654},{"$f":"VLOOKUP(A741, localcont!$A$10:$I$1764, 9)*F741","v":3295901.6279491102}]
[1138,228,"PAXTON                       ",876,"SOUTHERN WORCESTER",30071296,{"$f":"VLOOKUP(A742, localcont!$A$10:$I$1764, 8)","v":169047},{"$f":"VLOOKUP(A742, localcont!$A$10:$I$1764, 9)*F742","v":750585.0169382313}]
[1283,257,"RUTLAND                      ",876,"SOUTHERN WORCESTER",30071296,{"$f":"VLOOKUP(A743, localcont!$A$10:$I$1764, 8)","v":522508},{"$f":"VLOOKUP(A743, localcont!$A$10:$I$1764, 9)*F743","v":1001740.7358264941}]
[1382,277,"SOUTHBRIDGE                  ",876,"SOUTHERN WORCESTER",30071296,{"$f":"VLOOKUP(A744, localcont!$A$10:$I$1764, 8)","v":2720116},{"$f":"VLOOKUP(A744, localcont!$A$10:$I$1764, 9)*F744","v":2698607.5832703579}]
[1398,280,"SPENCER                      ",876,"SOUTHERN WORCESTER",30071296,{"$f":"VLOOKUP(A745, localcont!$A$10:$I$1764, 8)","v":2335918},{"$f":"VLOOKUP(A745, localcont!$A$10:$I$1764, 9)*F745","v":3854623.431918906}]
[1577,316,"WEBSTER                      ",876,"SOUTHERN WORCESTER",30071296,{"$f":"VLOOKUP(A746, localcont!$A$10:$I$1764, 8)","v":2443494},{"$f":"VLOOKUP(A746, localcont!$A$10:$I$1764, 9)*F746","v":3081478.8802321428}]
[502,101,"FRANKLIN                     ",878,"TRI COUNTY",30071296,{"$f":"VLOOKUP(A747, localcont!$A$10:$I$1764, 8)","v":3214844},{"$f":"VLOOKUP(A747, localcont!$A$10:$I$1764, 9)*F747","v":1589853.5789506943}]
[872,175,"MEDFIELD                     ",878,"TRI COUNTY",30071296,{"$f":"VLOOKUP(A748, localcont!$A$10:$I$1764, 8)","v":126693},{"$f":"VLOOKUP(A748, localcont!$A$10:$I$1764, 9)*F748","v":161540.43591206823}]
[882,177,"MEDWAY                       ",878,"TRI COUNTY",30071296,{"$f":"VLOOKUP(A749, localcont!$A$10:$I$1764, 8)","v":855180},{"$f":"VLOOKUP(A749, localcont!$A$10:$I$1764, 9)*F749","v":1121840.4539174577}]
[932,187,"MILLIS                       ",878,"TRI COUNTY",30071296,{"$f":"VLOOKUP(A750, localcont!$A$10:$I$1764, 8)","v":475100},{"$f":"VLOOKUP(A750, localcont!$A$10:$I$1764, 9)*F750","v":1119751.6379692587}]
[1038,208,"NORFOLK                      ",878,"TRI COUNTY",30071296,{"$f":"VLOOKUP(A751, localcont!$A$10:$I$1764, 8)","v":680977},{"$f":"VLOOKUP(A751, localcont!$A$10:$I$1764, 9)*F751","v":1353892.3131008584}]
[1057,212,"NORTH ATTLEBOROUGH           ",878,"TRI COUNTY",30071296,{"$f":"VLOOKUP(A752, localcont!$A$10:$I$1764, 8)","v":4703491},{"$f":"VLOOKUP(A752, localcont!$A$10:$I$1764, 9)*F752","v":2965283.0552093512}]
[1188,238,"PLAINVILLE                   ",878,"TRI COUNTY",30071296,{"$f":"VLOOKUP(A753, localcont!$A$10:$I$1764, 8)","v":1599504},{"$f":"VLOOKUP(A753, localcont!$A$10:$I$1764, 9)*F753","v":3552663.1087777945}]
[1322,265,"SEEKONK                      ",878,"TRI COUNTY",30071296,{"$f":"VLOOKUP(A754, localcont!$A$10:$I$1764, 8)","v":1282770},{"$f":"VLOOKUP(A754, localcont!$A$10:$I$1764, 9)*F754","v":1937430.8859059282}]
[1343,269,"SHERBORN                     ",878,"TRI COUNTY",30071296,{"$f":"VLOOKUP(A755, localcont!$A$10:$I$1764, 8)","v":0},{"$f":"VLOOKUP(A755, localcont!$A$10:$I$1764, 9)*F755","v":0}]
[1532,307,"WALPOLE                      ",878,"TRI COUNTY",30071296,{"$f":"VLOOKUP(A756, localcont!$A$10:$I$1764, 8)","v":1076894},{"$f":"VLOOKUP(A756, localcont!$A$10:$I$1764, 9)*F756","v":838998.17504294647}]
[1748,350,"WRENTHAM                     ",878,"TRI COUNTY",30071296,{"$f":"VLOOKUP(A757, localcont!$A$10:$I$1764, 8)","v":1092730},{"$f":"VLOOKUP(A757, localcont!$A$10:$I$1764, 9)*F757","v":1820654.9307237335}]
[177,36,"BOURNE                       ",879,"UPPER CAPE COD",30071296,{"$f":"VLOOKUP(A758, localcont!$A$10:$I$1764, 8)","v":3230634},{"$f":"VLOOKUP(A758, localcont!$A$10:$I$1764, 9)*F758","v":4278952.3768898789}]
[477,96,"FALMOUTH                     ",879,"UPPER CAPE COD",30071296,{"$f":"VLOOKUP(A759, localcont!$A$10:$I$1764, 8)","v":1959816},{"$f":"VLOOKUP(A759, localcont!$A$10:$I$1764, 9)*F759","v":1556221.5148177275}]
[843,169,"MARION                       ",879,"UPPER CAPE COD",30071296,{"$f":"VLOOKUP(A760, localcont!$A$10:$I$1764, 8)","v":199044},{"$f":"VLOOKUP(A760, localcont!$A$10:$I$1764, 9)*F760","v":793571.06995259132}]
[1302,261,"SANDWICH                     ",879,"UPPER CAPE COD",30071296,{"$f":"VLOOKUP(A761, localcont!$A$10:$I$1764, 8)","v":1944505},{"$f":"VLOOKUP(A761, localcont!$A$10:$I$1764, 9)*F761","v":1953534.0485698506}]
[1547,310,"WAREHAM                      ",879,"UPPER CAPE COD",30071296,{"$f":"VLOOKUP(A762, localcont!$A$10:$I$1764, 8)","v":3720588},{"$f":"VLOOKUP(A762, localcont!$A$10:$I$1764, 9)*F762","v":3261890.2246486237}]
[32,7,"AMESBURY                     ",885,"WHITTIER",30071296,{"$f":"VLOOKUP(A763, localcont!$A$10:$I$1764, 8)","v":1002431},{"$f":"VLOOKUP(A763, localcont!$A$10:$I$1764, 9)*F763","v":1241200.7600093074}]
[522,105,"GEORGETOWN                   ",885,"WHITTIER",30071296,{"$f":"VLOOKUP(A764, localcont!$A$10:$I$1764, 8)","v":689171},{"$f":"VLOOKUP(A764, localcont!$A$10:$I$1764, 9)*F764","v":1544739.740262581}]
[578,116,"GROVELAND                    ",885,"WHITTIER",30071296,{"$f":"VLOOKUP(A765, localcont!$A$10:$I$1764, 8)","v":1143398},{"$f":"VLOOKUP(A765, localcont!$A$10:$I$1764, 9)*F765","v":3322330.5978721003}]
[637,128,"HAVERHILL                    ",885,"WHITTIER",30071296,{"$f":"VLOOKUP(A766, localcont!$A$10:$I$1764, 8)","v":12076160},{"$f":"VLOOKUP(A766, localcont!$A$10:$I$1764, 9)*F766","v":3725970.0796912401}]
[717,144,"IPSWICH                      ",885,"WHITTIER",30071296,{"$f":"VLOOKUP(A767, localcont!$A$10:$I$1764, 8)","v":516878},{"$f":"VLOOKUP(A767, localcont!$A$10:$I$1764, 9)*F767","v":834083.47620093729}]
[898,180,"MERRIMAC                     ",885,"WHITTIER",30071296,{"$f":"VLOOKUP(A768, localcont!$A$10:$I$1764, 8)","v":1033757},{"$f":"VLOOKUP(A768, localcont!$A$10:$I$1764, 9)*F768","v":3294536.1760844332}]
[1013,203,"NEWBURY                      ",885,"WHITTIER",30071296,{"$f":"VLOOKUP(A769, localcont!$A$10:$I$1764, 8)","v":360249},{"$f":"VLOOKUP(A769, localcont!$A$10:$I$1764, 9)*F769","v":1287523.4757855942}]
[1017,204,"NEWBURYPORT                  ",885,"WHITTIER",30071296,{"$f":"VLOOKUP(A770, localcont!$A$10:$I$1764, 8)","v":281934},{"$f":"VLOOKUP(A770, localcont!$A$10:$I$1764, 9)*F770","v":364805.89992460859}]
[1268,254,"ROWLEY                       ",885,"WHITTIER",30071296,{"$f":"VLOOKUP(A771, localcont!$A$10:$I$1764, 8)","v":234945},{"$f":"VLOOKUP(A771, localcont!$A$10:$I$1764, 9)*F771","v":816520.8641969352}]
[1293,259,"SALISBURY                    ",885,"WHITTIER",30071296,{"$f":"VLOOKUP(A772, localcont!$A$10:$I$1764, 8)","v":720497},{"$f":"VLOOKUP(A772, localcont!$A$10:$I$1764, 9)*F772","v":2144097.0914039304}]
[1643,329,"WEST NEWBURY                 ",885,"WHITTIER",30071296,{"$f":"VLOOKUP(A773, localcont!$A$10:$I$1764, 8)","v":250608},{"$f":"VLOOKUP(A773, localcont!$A$10:$I$1764, 9)*F773","v":1181673.1311077017}]
[13,3,"ACUSHNET                     ",910,"BRISTOL COUNTY",30071296,{"$f":"VLOOKUP(A774, localcont!$A$10:$I$1764, 8)","v":152067},{"$f":"VLOOKUP(A774, localcont!$A$10:$I$1764, 9)*F774","v":321806.99807137973}]
[77,16,"ATTLEBORO                    ",910,"BRISTOL COUNTY",30071296,{"$f":"VLOOKUP(A775, localcont!$A$10:$I$1764, 8)","v":623475},{"$f":"VLOOKUP(A775, localcont!$A$10:$I$1764, 9)*F775","v":271921.03628409957}]
[134,27,"BERKLEY                      ",910,"BRISTOL COUNTY",30071296,{"$f":"VLOOKUP(A776, localcont!$A$10:$I$1764, 8)","v":167274},{"$f":"VLOOKUP(A776, localcont!$A$10:$I$1764, 9)*F776","v":449349.0499680689}]
[358,72,"DARTMOUTH                    ",910,"BRISTOL COUNTY",30071296,{"$f":"VLOOKUP(A777, localcont!$A$10:$I$1764, 8)","v":228100},{"$f":"VLOOKUP(A777, localcont!$A$10:$I$1764, 9)*F777","v":170306.69508165095}]
[379,76,"DIGHTON                      ",910,"BRISTOL COUNTY",{"$f":"VLOOKUP(D778, town351, 7)","v":30071296},{"$f":"VLOOKUP(A778, localcont!$A$10:$I$1764, 8)","v":425788},{"$f":"VLOOKUP(A778, localcont!$A$10:$I$1764, 9)*F778","v":1011836.2090341569}]
[438,88,"EASTON                       ",910,"BRISTOL COUNTY",30071296,{"$f":"VLOOKUP(A779, localcont!$A$10:$I$1764, 8)","v":60827},{"$f":"VLOOKUP(A779, localcont!$A$10:$I$1764, 9)*F779","v":51936.242078502153}]
[468,94,"FAIRHAVEN                    ",910,"BRISTOL COUNTY",30071296,{"$f":"VLOOKUP(A780, localcont!$A$10:$I$1764, 8)","v":182480},{"$f":"VLOOKUP(A780, localcont!$A$10:$I$1764, 9)*F780","v":260145.67222893823}]
[473,95,"FALL RIVER                   ",910,"BRISTOL COUNTY",30071296,{"$f":"VLOOKUP(A781, localcont!$A$10:$I$1764, 8)","v":669095},{"$f":"VLOOKUP(A781, localcont!$A$10:$I$1764, 9)*F781","v":134921.15993152853}]
[508,102,"FREETOWN                     ",910,"BRISTOL COUNTY",30071296,{"$f":"VLOOKUP(A782, localcont!$A$10:$I$1764, 8)","v":258514},{"$f":"VLOOKUP(A782, localcont!$A$10:$I$1764, 9)*F782","v":613215.67921731342}]
[833,167,"MANSFIELD                    ",910,"BRISTOL COUNTY",30071296,{"$f":"VLOOKUP(A783, localcont!$A$10:$I$1764, 8)","v":15207},{"$f":"VLOOKUP(A783, localcont!$A$10:$I$1764, 9)*F783","v":10843.059113010713}]
[1003,201,"NEW BEDFORD                  ",910,"BRISTOL COUNTY",30071296,{"$f":"VLOOKUP(A784, localcont!$A$10:$I$1764, 8)","v":288927},{"$f":"VLOOKUP(A784, localcont!$A$10:$I$1764, 9)*F784","v":49105.801605284447}]
[1058,212,"NORTH ATTLEBOROUGH           ",910,"BRISTOL COUNTY",30071296,{"$f":"VLOOKUP(A785, localcont!$A$10:$I$1764, 8)","v":136860},{"$f":"VLOOKUP(A785, localcont!$A$10:$I$1764, 9)*F785","v":86282.431269869936}]
[1088,218,"NORTON                       ",910,"BRISTOL COUNTY",30071296,{"$f":"VLOOKUP(A786, localcont!$A$10:$I$1764, 8)","v":258514},{"$f":"VLOOKUP(A786, localcont!$A$10:$I$1764, 9)*F786","v":291716.15008493362}]
[1224,245,"RAYNHAM                      ",910,"BRISTOL COUNTY",30071296,{"$f":"VLOOKUP(A787, localcont!$A$10:$I$1764, 8)","v":167274},{"$f":"VLOOKUP(A787, localcont!$A$10:$I$1764, 9)*F787","v":221749.75614203649}]
[1234,247,"REHOBOTH                     ",910,"BRISTOL COUNTY",30071296,{"$f":"VLOOKUP(A788, localcont!$A$10:$I$1764, 8)","v":456201},{"$f":"VLOOKUP(A788, localcont!$A$10:$I$1764, 9)*F788","v":754529.01853808574}]
[1323,265,"SEEKONK                      ",910,"BRISTOL COUNTY",30071296,{"$f":"VLOOKUP(A789, localcont!$A$10:$I$1764, 8)","v":167274},{"$f":"VLOOKUP(A789, localcont!$A$10:$I$1764, 9)*F789","v":252642.18371884924}]
[1364,273,"SOMERSET                     ",910,"BRISTOL COUNTY",30071296,{"$f":"VLOOKUP(A790, localcont!$A$10:$I$1764, 8)","v":182480},{"$f":"VLOOKUP(A790, localcont!$A$10:$I$1764, 9)*F790","v":216634.45242459842}]
[1458,292,"SWANSEA                      ",910,"BRISTOL COUNTY",30071296,{"$f":"VLOOKUP(A791, localcont!$A$10:$I$1764, 8)","v":273721},{"$f":"VLOOKUP(A791, localcont!$A$10:$I$1764, 9)*F791","v":361927.25997540698}]
[1463,293,"TAUNTON                      ",910,"BRISTOL COUNTY",30071296,{"$f":"VLOOKUP(A792, localcont!$A$10:$I$1764, 8)","v":684301},{"$f":"VLOOKUP(A792, localcont!$A$10:$I$1764, 9)*F792","v":212541.5428695922}]
[1653,331,"WESTPORT                     ",910,"BRISTOL COUNTY",{"$f":"VLOOKUP(D793, town351, 7)","v":30071296},{"$f":"VLOOKUP(A793, localcont!$A$10:$I$1764, 8)","v":440994},{"$f":"VLOOKUP(A793, localcont!$A$10:$I$1764, 9)*F793","v":768642.42048173537}]
[88,18,"AVON                         ",915,"NORFOLK COUNTY",30071296,{"$f":"VLOOKUP(A794, localcont!$A$10:$I$1764, 8)","v":0},{"$f":"VLOOKUP(A794, localcont!$A$10:$I$1764, 9)*F794","v":0}]
[123,25,"BELLINGHAM                   ",915,"NORFOLK COUNTY",30071296,{"$f":"VLOOKUP(A795, localcont!$A$10:$I$1764, 8)","v":219073},{"$f":"VLOOKUP(A795, localcont!$A$10:$I$1764, 9)*F795","v":261004.09663739696}]
[198,40,"BRAINTREE                    ",915,"NORFOLK COUNTY",30071296,{"$f":"VLOOKUP(A796, localcont!$A$10:$I$1764, 8)","v":172129},{"$f":"VLOOKUP(A796, localcont!$A$10:$I$1764, 9)*F796","v":89259.938142088664}]
[227,46,"BROOKLINE                    ",915,"NORFOLK COUNTY",30071296,{"$f":"VLOOKUP(A797, localcont!$A$10:$I$1764, 8)","v":0},{"$f":"VLOOKUP(A797, localcont!$A$10:$I$1764, 9)*F797","v":0}]
[248,50,"CANTON                       ",915,"NORFOLK COUNTY",30071296,{"$f":"VLOOKUP(A798, localcont!$A$10:$I$1764, 8)","v":62592},{"$f":"VLOOKUP(A798, localcont!$A$10:$I$1764, 9)*F798","v":57400.340283471203}]
[323,65,"COHASSET                     ",915,"NORFOLK COUNTY",30071296,{"$f":"VLOOKUP(A799, localcont!$A$10:$I$1764, 8)","v":31296},{"$f":"VLOOKUP(A799, localcont!$A$10:$I$1764, 9)*F799","v":66547.220656674413}]
[363,73,"DEDHAM                       ",915,"NORFOLK COUNTY",30071296,{"$f":"VLOOKUP(A800, localcont!$A$10:$I$1764, 8)","v":469442},{"$f":"VLOOKUP(A800, localcont!$A$10:$I$1764, 9)*F800","v":492294.10758923268}]
[389,78,"DOVER                        ",915,"NORFOLK COUNTY",30071296,{"$f":"VLOOKUP(A801, localcont!$A$10:$I$1764, 8)","v":31296},{"$f":"VLOOKUP(A801, localcont!$A$10:$I$1764, 9)*F801","v":88660.779311811013}]
[493,99,"FOXBOROUGH                   ",915,"NORFOLK COUNTY",30071296,{"$f":"VLOOKUP(A802, localcont!$A$10:$I$1764, 8)","v":234721},{"$f":"VLOOKUP(A802, localcont!$A$10:$I$1764, 9)*F802","v":260592.58758556476}]
[503,101,"FRANKLIN                     ",915,"NORFOLK COUNTY",30071296,{"$f":"VLOOKUP(A803, localcont!$A$10:$I$1764, 8)","v":203425},{"$f":"VLOOKUP(A803, localcont!$A$10:$I$1764, 9)*F803","v":100600.82675801533}]
[663,133,"HOLBROOK                     ",915,"NORFOLK COUNTY",30071296,{"$f":"VLOOKUP(A804, localcont!$A$10:$I$1764, 8)","v":312961},{"$f":"VLOOKUP(A804, localcont!$A$10:$I$1764, 9)*F804","v":619950.54660166369}]
[873,175,"MEDFIELD                     ",915,"NORFOLK COUNTY",30071296,{"$f":"VLOOKUP(A805, localcont!$A$10:$I$1764, 8)","v":62592},{"$f":"VLOOKUP(A805, localcont!$A$10:$I$1764, 9)*F805","v":79808.189596964119}]
[883,177,"MEDWAY                       ",915,"NORFOLK COUNTY",30071296,{"$f":"VLOOKUP(A806, localcont!$A$10:$I$1764, 8)","v":109536},{"$f":"VLOOKUP(A806, localcont!$A$10:$I$1764, 9)*F806","v":143691.2883373122}]
[933,187,"MILLIS                       ",915,"NORFOLK COUNTY",30071296,{"$f":"VLOOKUP(A807, localcont!$A$10:$I$1764, 8)","v":78240},{"$f":"VLOOKUP(A807, localcont!$A$10:$I$1764, 9)*F807","v":184401.95359864199}]
[943,189,"MILTON                       ",915,"NORFOLK COUNTY",30071296,{"$f":"VLOOKUP(A808, localcont!$A$10:$I$1764, 8)","v":31296},{"$f":"VLOOKUP(A808, localcont!$A$10:$I$1764, 9)*F808","v":25181.451103945343}]
[993,199,"NEEDHAM                      ",915,"NORFOLK COUNTY",30071296,{"$f":"VLOOKUP(A809, localcont!$A$10:$I$1764, 8)","v":62592},{"$f":"VLOOKUP(A809, localcont!$A$10:$I$1764, 9)*F809","v":35905.40784201635}]
[1039,208,"NORFOLK                      ",915,"NORFOLK COUNTY",30071296,{"$f":"VLOOKUP(A810, localcont!$A$10:$I$1764, 8)","v":140833},{"$f":"VLOOKUP(A810, localcont!$A$10:$I$1764, 9)*F810","v":279998.76079652202}]
[1098,220,"NORWOOD                      ",915,"NORFOLK COUNTY",30071296,{"$f":"VLOOKUP(A811, localcont!$A$10:$I$1764, 8)","v":172129},{"$f":"VLOOKUP(A811, localcont!$A$10:$I$1764, 9)*F811","v":139856.26539197442}]
[1189,238,"PLAINVILLE                   ",915,"NORFOLK COUNTY",30071296,{"$f":"VLOOKUP(A812, localcont!$A$10:$I$1764, 8)","v":93888},{"$f":"VLOOKUP(A812, localcont!$A$10:$I$1764, 9)*F812","v":208534.91704736568}]
[1212,243,"QUINCY                       ",915,"NORFOLK COUNTY",30071296,{"$f":"VLOOKUP(A813, localcont!$A$10:$I$1764, 8)","v":375553},{"$f":"VLOOKUP(A813, localcont!$A$10:$I$1764, 9)*F813","v":102468.72876212824}]
[1218,244,"RANDOLPH                     ",915,"NORFOLK COUNTY",30071296,{"$f":"VLOOKUP(A814, localcont!$A$10:$I$1764, 8)","v":156481},{"$f":"VLOOKUP(A814, localcont!$A$10:$I$1764, 9)*F814","v":115538.49424195968}]
[1328,266,"SHARON                       ",915,"NORFOLK COUNTY",30071296,{"$f":"VLOOKUP(A815, localcont!$A$10:$I$1764, 8)","v":93888},{"$f":"VLOOKUP(A815, localcont!$A$10:$I$1764, 9)*F815","v":86329.686104304375}]
[1423,285,"STOUGHTON                    ",915,"NORFOLK COUNTY",30071296,{"$f":"VLOOKUP(A816, localcont!$A$10:$I$1764, 8)","v":250369},{"$f":"VLOOKUP(A816, localcont!$A$10:$I$1764, 9)*F816","v":184044.15756839904}]
[1533,307,"WALPOLE                      ",915,"NORFOLK COUNTY",30071296,{"$f":"VLOOKUP(A817, localcont!$A$10:$I$1764, 8)","v":203425},{"$f":"VLOOKUP(A817, localcont!$A$10:$I$1764, 9)*F817","v":158486.53976910579}]
[1582,317,"WELLESLEY                    ",915,"NORFOLK COUNTY",30071296,{"$f":"VLOOKUP(A818, localcont!$A$10:$I$1764, 8)","v":0},{"$f":"VLOOKUP(A818, localcont!$A$10:$I$1764, 9)*F818","v":0}]
[1673,335,"WESTWOOD                     ",915,"NORFOLK COUNTY",30071296,{"$f":"VLOOKUP(A819, localcont!$A$10:$I$1764, 8)","v":93888},{"$f":"VLOOKUP(A819, localcont!$A$10:$I$1764, 9)*F819","v":94808.47965290604}]
[1677,336,"WEYMOUTH                     ",915,"NORFOLK COUNTY",30071296,{"$f":"VLOOKUP(A820, localcont!$A$10:$I$1764, 8)","v":422498},{"$f":"VLOOKUP(A820, localcont!$A$10:$I$1764, 9)*F820","v":181005.23025187504}]
[1749,350,"WRENTHAM                     ",915,"NORFOLK COUNTY",{"$f":"VLOOKUP(D821, town351, 7)","v":30071296},{"$f":"VLOOKUP(A821, localcont!$A$10:$I$1764, 8)","v":156481},{"$f":"VLOOKUP(A821, localcont!$A$10:$I$1764, 9)*F821","v":260721.22501860524}]

{"sheet":"localcont","index":9,"n_rows":1767,"n_cols":69,"rows_kept":1767,"cut":false,"hidden":true,"merged":[[4,58,4,62],[5,58,5,62],[4,64,4,68],[5,64,5,68],[5,16,5,20],[4,40,4,44],[5,40,5,44],[4,46,4,50],[5,46,5,50],[4,52,4,56],[5,52,5,56],[4,28,4,32],[5,28,5,32],[4,34,4,38],[5,34,5,38],[5,22,5,26]]}
[null,null,null,null,null,"c70fy15","c70fy15",null,null,null,null,"c70fy15",null,null,"c70fy15",null,null,null,"2015-02-23"]
[null,null,null,null,null,null,null,null,null,null,null,null,null,null,null,null,null,null,"distfrac16prelim2-19"]
[1,2,3,4,5,6,7,8,9,10,11,12,13,14,15,16,17,18,19,20,21]
[null,null,null,"lea1755",null,null,null,"found1755",null,null,"prelcont1755","pynetmin",null,null,"pyenro",null,null,null,null,"enro1755"]
[null,null,null,null,null,null,null,null,null,null,null,null,null,null,null,null,null,null,null,null,null,null,null,null,1,null,null,null,2,null,null,null,null,null,3,null,null,null,null,null,4,null,null,null,null,null,5,null,null,null,null,null,6,null,null,null,null,null,7,null,null,null,null,null,8]
[null,null,null,null,null,null,null,null,null,null,null,null,null,null,null,null,{"$f":"parameters!C6","v":1},null,null,null,null,null,"Oct 1, 2014 SIMS, 1.50% Inflation, Low Income as Reported (CEP district use FY15)"]
[null,null,null,null,null,"FY15","FY15","FY16","FY16","FY16","Net Minimum","FY15"]
[null,null,null,null,null,"Foundation","Share of Total","Foundation","Share of Total","Townwide","Contribution","Net Minimum","Change","Percent","FY15",null,null,null,null,"final","foundation",null,null,null,null,"final","foundation",null,null,null,null,"final","foundation",null,null,null,null,"final","foundation",null,null,null,null,"final","foundation",null,null,null,null,"final","foundation",null,null,null,null,"final","foundation",null,null,null,null,"final","foundation",null,null,null,null,"final","foundation"]
["Order","Town","City or Town","LEA","School District","Budget","Foundation","Budget","Foundation","Contribution","FY16","Contribution","FY15-FY16","Change","Enrollment",null,"Town","LEA","Order","enrollment","budget",null,"Town","LEA","Order","enrollment","budget",null,"Town","LEA","Order","enrollment","budget",null,"Town","LEA","Order","enrollment","budget",null,"Town","LEA","Order","enrollment","budget",null,"Town","LEA","Order","enrollment","budget",null,"Town","LEA","Order","enrollment","budget",null,"Town","LEA","Order","enrollment","budget",null,"Town","LEA","Order","enrollment","budget"]
[1,1,"ABINGTON                     ",1,"ABINGTON",18287521.510000002,0.88842571518141011,{"$f":"U10","v":18870910.490000002},{"$f":"IF(H14>0, H10/H14, 0)","v":0.88955574061832354},null,{"$f":"ROUND(J14*I10,0)","v":12546660},12943494,{"$f":"K10-L10","v":-396834},{"$f":"IF(L10>0,M10*100/L10,IF(M10>0,100,0))","v":-3.0658954993141729},1952,{"$f":"ABS(Q10-B10)+ABS(R10-D10)","v":0},{"$f":"IF($Q$6=1, W10, IF($Q$6=2, AC10, IF($Q$6=3, AI10, IF($Q$6=4, AO10, IF($Q$6=5, AU10, IF($Q$6=6, BA10, IF($Q$6=7, BG10, IF($Q$6=8, BM10, 0))))))))","v":1},{"$f":"IF($Q$6=1, X10, IF($Q$6=2, AD10, IF($Q$6=3, AJ10, IF($Q$6=4, AP10, IF($Q$6=5, AV10, IF($Q$6=6, BB10, IF($Q$6=7, BH10, IF($Q$6=8, BN10, 0))))))))","v":1},{"$f":"IF($Q$6=1, Y10, IF($Q$6=2, AE10, IF($Q$6=3, AK10, IF($Q$6=4, AQ10, IF($Q$6=5, AW10, IF($Q$6=6, BC10, IF($Q$6=7, BI10, IF($Q$6=8, BO10, 0))))))))","v":1},{"$f":"IF($Q$6=1, Z10, IF($Q$6=2, AF10, IF($Q$6=3, AL10, IF($Q$6=4, AR10, IF($Q$6=5, AX10, IF($Q$6=6, BD10, IF($Q$6=7, BJ10, IF($Q$6=8, BP10, 0))))))))","v":1955},{"$f":"IF($Q$6=1, AA10, IF($Q$6=2, AG10, IF($Q$6=3, AM10, IF($Q$6=4, AS10, IF($Q$6=5, AY10, IF($Q$6=6, BE10, IF($Q$6=7, BK10, IF($Q$6=8, BQ10, 0))))))))","v":18870910.490000002},null,1,1,1,1955,18870910.490000002]
[2,1,"ABINGTON                     ",873,"SOUTH SHORE",2296666,0.11157428481858984,{"$f":"U11","v":2342949},{"$f":"IF(H14>0, H11/H14, 0)","v":0.11044425938167651},null,{"$f":"ROUND(J14*I11,0)","v":1557751},1625528,{"$f":"K11-L11","v":-67777},-4.1695375287291272,152,0,1,873,2,149,2342949,null,1,873,2,149,2342949]
[3,1,null,998,null,0,0,{"$f":"U12","v":0},{"$f":"IF(H14>0, H12/H14, 0)","v":0},null,{"$f":"ROUND(J14*I12,0)","v":0},0,{"$f":"K12-L12","v":0},0,0,0,1,998,3,0,0,null,1,998,3,0,0]
[4,1,null,998,null,0,0,{"$f":"U13","v":0},{"$f":"IF(H14>0, H13/H14, 0)","v":0},null,{"$f":"ROUND(J14*I13,0)","v":0},0,{"$f":"K13-L13","v":0},0,0,0,1,998,4,0,0,null,1,998,4,0,0]
[5,1,"ABINGTON                     ",999,"TOTAL",20584187.510000002,1,{"$f":"SUM(H10:H13)","v":21213859.490000002},{"$f":"SUM(I10:I13)","v":1},{"$f":"VLOOKUP(B14,town351,22)","v":14104411},{"$f":"SUM(K10:K13)","v":14104411},14569022,{"$f":"SUM(M10:M13)","v":-464611},-3.1890335535219867,2104,0,1,999,5,2104,21213859.490000002,null,1,999,5,2104,21213859.490000002]
[6,2,"ACTON                        ",2,"ACTON",0,0,{"$f":"U15","v":0},{"$f":"IF(H19>0, H15/H19, 0)","v":0},null,{"$f":"ROUND(J19*I15,0)","v":0},0,{"$f":"K15-L15","v":0},0,0,0,2,2,6,0,0,null,2,2,6,0,0]
[7,2,"ACTON                        ",600,"ACTON BOXBOROUGH",44314667,0.99035507809471635,44729363,{"$f":"IF(H19>0, H16/H19, 0)","v":0.98950853819987628},null,{"$f":"ROUND(J19*I16,0)","v":34296868},32993280,{"$f":"K16-L16","v":1303588},3.9510712484481689,4775,0,2,600,7,4714,44729363,null,2,600,7,4714,44729363]
[8,2,"ACTON                        ",830,"MINUTEMAN",431574,9.6449219052836196E-3,474252,{"$f":"IF(H19>0, H17/H19, 0)","v":1.0491461800123728E-2},null,{"$f":"ROUND(J19*I17,0)","v":363639},321317,{"$f":"K17-L17","v":42322},13.171416389422284,26,0,2,830,8,28,474252,null,2,830,8,28,474252]
[9,2,null,998,null,0,0,0,{"$f":"IF(H19>0, H18/H19, 0)","v":0},null,{"$f":"ROUND(J19*I18,0)","v":0},0,{"$f":"K18-L18","v":0},0,0,0,2,998,9,0,0,null,2,998,9,0,0]
[10,2,"ACTON                        ",999,"TOTAL",44746241,1,{"$f":"SUM(H15:H18)","v":45203615},{"$f":"SUM(I15:I18)","v":1},{"$f":"VLOOKUP(B19,town351,22)","v":34660507},{"$f":"SUM(K15:K18)","v":34660507},33314597,{"$f":"SUM(M15:M18)","v":1345910},{"$f":"IF(L19>0,M19*100/L19,IF(M19>0,100,0))","v":4.0400008440744459},4801,0,2,999,10,4742,45203615,null,2,999,10,4742,45203615]
[11,3,"ACUSHNET                     ",3,"ACUSHNET",11538501.129999999,0.80663891522870945,{"$f":"U20","v":11701370.220000003},{"$f":"IF(H24>0, H20/H24, 0)","v":0.82346487797522627},null,{"$f":"ROUND(J24*I20,0)","v":6709873},6393318,{"$f":"K20-L20","v":316555},4.9513413848646355,1251,0,3,3,11,1244,11701370.220000003,null,3,3,11,1244,11701370.220000003]
[12,3,"ACUSHNET                     ",855,"OLD COLONY",2601127,0.18184079873224465,2356483,{"$f":"IF(H24>0, H21/H24, 0)","v":0.16583365448338877},null,{"$f":"ROUND(J24*I21,0)","v":1351269},1441247,{"$f":"K21-L21","v":-89978},-6.2430659005708256,175,0,3,855,12,154,2356483,null,3,855,12,154,2356483]
[13,3,"ACUSHNET                     ",910,"BRISTOL COUNTY",164791,1.1520286039045894E-2,152067,{"$f":"IF(H24>0, H22/H24, 0)","v":1.0701467541384971E-2},null,{"$f":"ROUND(J24*I22,0)","v":87199},91308,{"$f":"K22-L22","v":-4109},-4.5001533272002456,11,0,3,910,13,10,152067,null,3,910,13,10,152067]
[14,3,null,998,null,0,0,0,{"$f":"IF(H24>0, H23/H24, 0)","v":0},null,{"$f":"ROUND(J24*I23,0)","v":0},0,{"$f":"K23-L23","v":0},0,0,0,3,998,14,0,0,null,3,998,14,0,0]
[15,3,"ACUSHNET                     ",999,"TOTAL",14304419.129999999,1,{"$f":"SUM(H20:H23)","v":14209920.220000003},{"$f":"SUM(I20:I23)","v":1},{"$f":"VLOOKUP(B24,town351,22)","v":8148342},{"$f":"SUM(K20:K23)","v":8148341},7925873,{"$f":"SUM(M20:M23)","v":222468},2.8068579953274546,1437,0,3,999,15,1408,14209920.220000003,null,3,999,15,1408,14209920.220000003]
[16,4,"ADAMS                        ",4,"ADAMS",0,0,{"$f":"U25","v":0},{"$f":"IF(H29>0, H25/H29, 0)","v":0},null,{"$f":"ROUND(J29*I25,0)","v":0},0,{"$f":"K25-L25","v":0},0,0,0,4,4,16,0,0,null,4,4,16,0,0]
[17,4,"ADAMS                        ",603,"ADAMS CHESHIRE",10560408,0.84099755658237529,10603441,{"$f":"IF(H29>0, H26/H29, 0)","v":0.83184363966939145},null,{"$f":"ROUND(J29*I26,0)","v":3326750},3232134,{"$f":"K26-L26","v":94616},2.9273538782736113,1043,0,4,603,17,1021,10603441,null,4,603,17,1021,10603441]
[18,4,"ADAMS                        ",851,"NORTHERN BERKSHIRE",1996594,0.15900244341762468,2143475,{"$f":"IF(H29>0, H27/H29, 0)","v":0.1681563603306086},null,{"$f":"ROUND(J29*I27,0)","v":672499},611081,{"$f":"K27-L27","v":61418},10.050713407878824,131,0,4,851,18,138,2143475,null,4,851,18,138,2143475]
[19,4,null,998,null,0,0,0,{"$f":"IF(H29>0, H28/H29, 0)","v":0},null,{"$f":"ROUND(J29*I28,0)","v":0},0,{"$f":"K28-L28","v":0},0,0,0,4,998,19,0,0,null,4,998,19,0,0]
[20,4,"ADAMS                        ",999,"TOTAL",12557002,1,{"$f":"SUM(H25:H28)","v":12746916},{"$f":"SUM(I25:I28)","v":1},{"$f":"VLOOKUP(B29,town351,22)","v":3999249},{"$f":"SUM(K25:K28)","v":3999249},3843215,{"$f":"SUM(M25:M28)","v":156034},4.0599862354825325,1174,0,4,999,20,1159,12746916,null,4,999,20,1159,12746916]
[21,5,"AGAWAM                       ",5,"AGAWAM",40513463.040000007,1,{"$f":"U30","v":40806967.850000001},{"$f":"IF(H34>0, H30/H34, 0)","v":1},null,{"$f":"ROUND(J34*I30,0)","v":22234809},22228633,{"$f":"K30-L30","v":6176},2.7783984737163099E-2,4051,0,5,5,21,4013,40806967.850000001,null,5,5,21,4013,40806967.850000001]
[22,5,null,998,null,0,0,0,{"$f":"IF(H34>0, H31/H34, 0)","v":0},null,{"$f":"ROUND(J34*I31,0)","v":0},0,{"$f":"K31-L31","v":0},0,0,0,5,998,22,0,0,null,5,998,22,0,0]
[23,5,null,998,null,0,0,0,{"$f":"IF(H34>0, H32/H34, 0)","v":0},null,{"$f":"ROUND(J34*I32,0)","v":0},0,{"$f":"K32-L32","v":0},0,0,0,5,998,23,0,0,null,5,998,23,0,0]
[24,5,null,998,null,0,0,0,{"$f":"IF(H34>0, H33/H34, 0)","v":0},null,{"$f":"ROUND(J34*I33,0)","v":0},0,{"$f":"K33-L33","v":0},0,0,0,5,998,24,0,0,null,5,998,24,0,0]
[25,5,"AGAWAM                       ",999,"TOTAL",40513463.040000007,1,{"$f":"SUM(H30:H33)","v":40806967.850000001},{"$f":"SUM(I30:I33)","v":1},{"$f":"VLOOKUP(B34,town351,22)","v":22234809},{"$f":"SUM(K30:K33)","v":22234809},22228633,{"$f":"SUM(M30:M33)","v":6176},2.7783984737163099E-2,4051,0,5,999,25,4013,40806967.850000001,null,5,999,25,4013,40806967.850000001]
[26,6,"ALFORD                       ",6,"ALFORD",0,0,{"$f":"U35","v":0},{"$f":"IF(H39>0, H35/H39, 0)","v":0},null,{"$f":"ROUND(J39*I35,0)","v":0},0,{"$f":"K35-L35","v":0},0,0,0,6,6,26,0,0,null,6,6,26,0,0]
[27,6,"ALFORD                       ",765,"SOUTHERN BERKSHIRE",238041,1,257395,{"$f":"IF(H39>0, H36/H39, 0)","v":1},null,{"$f":"ROUND(J39*I36,0)","v":212351},214237,{"$f":"K36-L36","v":-1886},-0.8803334624738024,26,0,6,765,27,26,257395,null,6,765,27,26,257395]
[28,6,null,998,null,0,0,0,{"$f":"IF(H39>0, H37/H39, 0)","v":0},null,{"$f":"ROUND(J39*I37,0)","v":0},0,{"$f":"K37-L37","v":0},0,0,0,6,998,28,0,0,null,6,998,28,0,0]
[29,6,null,998,null,0,0,0,{"$f":"IF(H39>0, H38/H39, 0)","v":0},null,{"$f":"ROUND(J39*I38,0)","v":0},0,{"$f":"K38-L38","v":0},0,0,0,6,998,29,0,0,null,6,998,29,0,0]
[30,6,"ALFORD                       ",999,"TOTAL",238041,1,{"$f":"SUM(H35:H38)","v":257395},{"$f":"SUM(I35:I38)","v":1},{"$f":"VLOOKUP(B39,town351,22)","v":212351},{"$f":"SUM(K35:K38)","v":212351},214237,{"$f":"SUM(M35:M38)","v":-1886},-0.8803334624738024,26,0,6,999,30,26,257395,null,6,999,30,26,257395]
[31,7,"AMESBURY                     ",7,"AMESBURY",23277123.93,0.95328689731320004,{"$f":"U40","v":23284050.52},{"$f":"IF(H44>0, H40/H44, 0)","v":0.95872473337998776},null,{"$f":"ROUND(J44*I40,0)","v":14202425},14710835,{"$f":"K40-L40","v":-508410},-3.4560240802102666,2440,0,7,7,31,2394,23284050.52,null,7,7,31,2394,23284050.52]
[32,7,"AMESBURY                     ",885,"WHITTIER",1140629,4.6713102686799936E-2,1002431,{"$f":"IF(H44>0, H41/H44, 0)","v":4.1275266620012234E-2},null,{"$f":"ROUND(J44*I41,0)","v":611446},720862,{"$f":"K41-L41","v":-109416},-15.178494635589059,74,0,7,885,32,64,1002431,null,7,885,32,64,1002431]
[33,7,null,998,"ESSEX COUNTY",0,0,0,{"$f":"IF(H44>0, H42/H44, 0)","v":0},null,{"$f":"ROUND(J44*I42,0)","v":0},0,{"$f":"K42-L42","v":0},0,0,0,7,998,33,0,0,null,7,998,33,0,0]
[34,7,null,998,null,0,0,0,{"$f":"IF(H44>0, H43/H44, 0)","v":0},null,{"$f":"ROUND(J44*I43,0)","v":0},0,{"$f":"K43-L43","v":0},0,0,0,7,998,34,0,0,null,7,998,34,0,0]
[35,7,"AMESBURY                     ",999,"TOTAL",24417752.93,1,{"$f":"SUM(H40:H43)","v":24286481.52},{"$f":"SUM(I40:I43)","v":1},{"$f":"VLOOKUP(B44,town351,22)","v":14813871},{"$f":"SUM(K40:K43)","v":14813871},15431697,{"$f":"SUM(M40:M43)","v":-617826},-4.0036167117589203,2514,0,7,999,35,2458,24286481.52,null,7,999,35,2458,24286481.52]
[36,8,"AMHERST                      ",8,"AMHERST",11927369.58,0.49437999709605207,{"$f":"U45","v":12222179.260000002},{"$f":"IF(H49>0, H45/H49, 0)","v":0.49159050010199973},null,{"$f":"ROUND(J49*I45,0)","v":8979352},8808278,{"$f":"K45-L45","v":171074},1.9421957390536493,1205,0,8,8,36,1192,12222179.260000002,null,8,8,36,1192,12222179.260000002]
[37,8,"AMHERST                      ",605,"AMHERST PELHAM",12198545,0.50562000290394793,12640342,{"$f":"IF(H49>0, H46/H49, 0)","v":0.50840949989800022},null,{"$f":"ROUND(J49*I46,0)","v":9286566},9008539,{"$f":"K46-L46","v":278027},3.086260713307674,1203,0,8,605,37,1223,12640342,null,8,605,37,1223,12640342]
[38,8,null,998,null,0,0,0,{"$f":"IF(H49>0, H47/H49, 0)","v":0},null,{"$f":"ROUND(J49*I47,0)","v":0},0,{"$f":"K47-L47","v":0},0,0,0,8,998,38,0,0,null,8,998,38,0,0]
[39,8,null,998,null,0,0,0,{"$f":"IF(H49>0, H48/H49, 0)","v":0},null,{"$f":"ROUND(J49*I48,0)","v":0},0,{"$f":"K48-L48","v":0},0,0,0,8,998,39,0,0,null,8,998,39,0,0]
[40,8,"AMHERST                      ",999,"TOTAL",24125914.579999998,1,{"$f":"SUM(H45:H48)","v":24862521.260000002},{"$f":"SUM(I45:I48)","v":1},{"$f":"VLOOKUP(B49,town351,22)","v":18265918},{"$f":"SUM(K45:K48)","v":18265918},17816817,{"$f":"SUM(M45:M48)","v":449101},2.5206578705949552,2408,0,8,999,40,2415,24862521.260000002,null,8,999,40,2415,24862521.260000002]
[41,9,"ANDOVER                      ",9,"ANDOVER",56905481.147259988,0.99427218102096049,{"$f":"U50","v":57593754.781260006},{"$f":"IF(H54>0, H50/H54, 0)","v":0.99279372519468101},null,{"$f":"ROUND(J54*I50,0)","v":47514848},49453903,{"$f":"K50-L50","v":-1939055},-3.9209342081655314,5998,0,9,9,41,5950,57593754.781260006,null,9,9,41,5950,57593754.781260006]
[42,9,"ANDOVER                      ",823,"GREATER LAWRENCE",327822,5.7278189790395543E-3,418049,{"$f":"IF(H54>0, H51/H54, 0)","v":7.2062748053189404E-3},null,{"$f":"ROUND(J54*I51,0)","v":344890},284895,{"$f":"K51-L51","v":59995},21.058635637691079,19,0,9,823,42,24,418049,null,9,823,42,24,418049]
[43,9,null,998,"ESSEX COUNTY",0,0,0,{"$f":"IF(H54>0, H52/H54, 0)","v":0},null,{"$f":"ROUND(J54*I52,0)","v":0},0,{"$f":"K52-L52","v":0},0,0,0,9,998,43,0,0,null,9,998,43,0,0]
[44,9,null,998,null,0,0,0,{"$f":"IF(H54>0, H53/H54, 0)","v":0},null,{"$f":"ROUND(J54*I53,0)","v":0},0,{"$f":"K53-L53","v":0},0,0,0,9,998,44,0,0,null,9,998,44,0,0]
[45,9,"ANDOVER                      ",999,"TOTAL",57233303.147259988,1,{"$f":"SUM(H50:H53)","v":58011803.781260006},{"$f":"SUM(I50:I53)","v":1},{"$f":"VLOOKUP(B54,town351,22)","v":47859738},{"$f":"SUM(K50:K53)","v":47859738},49738798,{"$f":"SUM(M50:M53)","v":-1879060},-3.7778556691297607,6017,0,9,999,45,5974,58011803.781260006,null,9,999,45,5974,58011803.781260006]
[46,10,"ARLINGTON                    ",10,"ARLINGTON",47819420.315520003,0.94582815334351344,{"$f":"U55","v":50290292.382299997},{"$f":"IF(H59>0, H55/H59, 0)","v":0.94947484602588117},null,{"$f":"ROUND(J59*I55,0)","v":39574733},37584838,{"$f":"K55-L55","v":1989895},5.2944088783886736,5141,0,10,10,46,5318,50290292.382299997,null,10,10,46,5318,50290292.382299997]
[47,10,"ARLINGTON                    ",830,"MINUTEMAN",2738834,5.4171846656486569E-2,2676137,{"$f":"IF(H59>0, H56/H59, 0)","v":5.0525153974118851E-2},null,{"$f":"ROUND(J59*I56,0)","v":2105921},2152653,{"$f":"K56-L56","v":-46732},-2.1709026025095546,165,0,10,830,47,158,2676137,null,10,830,47,158,2676137]
[48,10,null,998,null,0,0,0,{"$f":"IF(H59>0, H57/H59, 0)","v":0},null,{"$f":"ROUND(J59*I57,0)","v":0},0,{"$f":"K57-L57","v":0},0,0,0,10,998,48,0,0,null,10,998,48,0,0]
[49,10,null,998,null,0,0,0,{"$f":"IF(H59>0, H58/H59, 0)","v":0},null,{"$f":"ROUND(J59*I58,0)","v":0},0,{"$f":"K58-L58","v":0},0,0,0,10,998,49,0,0,null,10,998,49,0,0]
[50,10,"ARLINGTON                    ",999,"TOTAL",50558254.315520003,1,{"$f":"SUM(H55:H58)","v":52966429.382299997},{"$f":"SUM(I55:I58)","v":1},{"$f":"VLOOKUP(B59,town351,22)","v":41680654},{"$f":"SUM(K55:K58)","v":41680654},39737491,{"$f":"SUM(M55:M58)","v":1943163},4.8899992201319407,5306,0,10,999,50,5476,52966429.382299997,null,10,999,50,5476,52966429.382299997]
[51,11,"ASHBURNHAM                   ",11,"ASHBURNHAM",0,0,{"$f":"U60","v":0},{"$f":"IF(H64>0, H60/H64, 0)","v":0},null,{"$f":"ROUND(J64*I60,0)","v":0},0,{"$f":"K60-L60","v":0},0,0,0,11,11,51,0,0,null,11,11,51,0,0]
[52,11,"ASHBURNHAM                   ",610,"ASHBURNHAM WESTMINSTER",9705978,0.92135374567788142,10195136,{"$f":"IF(H64>0, H61/H64, 0)","v":0.91749486835181693},null,{"$f":"ROUND(J64*I61,0)","v":4504178},4668297,{"$f":"K61-L61","v":-164119},-3.5156075116900229,1031,0,11,610,52,1061,10195136,null,11,610,52,1061,10195136]
[53,11,"ASHBURNHAM                   ",832,"MONTACHUSETT",828497,7.8646254322118567E-2,916791,{"$f":"IF(H64>0, H62/H64, 0)","v":8.2505131648183072E-2},null,{"$f":"ROUND(J64*I62,0)","v":405035},398483,{"$f":"K62-L62","v":6552},1.6442357641354839,55,0,11,832,53,60,916791,null,11,832,53,60,916791]
[54,11,null,998,null,0,0,0,{"$f":"IF(H64>0, H63/H64, 0)","v":0},null,{"$f":"ROUND(J64*I63,0)","v":0},0,{"$f":"K63-L63","v":0},0,0,0,11,998,54,0,0,null,11,998,54,0,0]
[55,11,"ASHBURNHAM                   ",999,"TOTAL",10534475,1,{"$f":"SUM(H60:H63)","v":11111927},{"$f":"SUM(I60:I63)","v":1},{"$f":"VLOOKUP(B64,town351,22)","v":4909213},{"$f":"SUM(K60:K63)","v":4909213},5066780,{"$f":"SUM(M60:M63)","v":-157567},-3.1098054385625584,1086,0,11,999,55,1121,11111927,null,11,999,55,1121,11111927]
[56,12,"ASHBY                        ",12,"ASHBY",0,0,{"$f":"U65","v":0},{"$f":"IF(H69>0, H65/H69, 0)","v":0},null,{"$f":"ROUND(J69*I65,0)","v":0},0,{"$f":"K65-L65","v":0},0,0,0,12,12,56,0,0,null,12,12,56,0,0]
[57,12,"ASHBY                        ",735,"NORTH MIDDLESEX",4060991,0.85968932990021363,3974007,{"$f":"IF(H69>0, H66/H69, 0)","v":0.86670289917497623},null,{"$f":"ROUND(J69*I66,0)","v":2075784},2139882,{"$f":"K66-L66","v":-64098},-2.9953988117101784,439,0,12,735,57,420,3974007,null,12,735,57,420,3974007]
[58,12,"ASHBY                        ",832,"MONTACHUSETT",662798,0.14031067009978643,611194,{"$f":"IF(H69>0, H67/H69, 0)","v":0.1332971008250238},null,{"$f":"ROUND(J69*I67,0)","v":319251},349252,{"$f":"K67-L67","v":-30001},-8.5900724977952887,44,0,12,832,58,40,611194,null,12,832,58,40,611194]
[59,12,null,998,null,0,0,0,{"$f":"IF(H69>0, H68/H69, 0)","v":0},null,{"$f":"ROUND(J69*I68,0)","v":0},0,{"$f":"K68-L68","v":0},0,0,0,12,998,59,0,0,null,12,998,59,0,0]
[60,12,"ASHBY                        ",999,"TOTAL",4723789,1,{"$f":"SUM(H65:H68)","v":4585201},{"$f":"SUM(I65:I68)","v":1},{"$f":"VLOOKUP(B69,town351,22)","v":2395035},{"$f":"SUM(K65:K68)","v":2395035},2489134,{"$f":"SUM(M65:M68)","v":-94099},-3.7803910918415804,483,0,12,999,60,460,4585201,null,12,999,60,460,4585201]
[61,13,"ASHFIELD                     ",13,"ASHFIELD",207026.65000000002,0.11108590387858019,{"$f":"U70","v":276131.65999999997},{"$f":"IF(H74>0, H70/H74, 0)","v":0.14413998556552141},null,{"$f":"ROUND(J74*I70,0)","v":226993},168768,{"$f":"K70-L70","v":58225},34.500023701175579,14,0,13,13,61,19,276131.65999999997,null,13,13,61,19,276131.65999999997]
[62,13,"ASHFIELD                     ",717,"MOHAWK TRAIL",1656636,0.88891409612141992,1639587,{"$f":"IF(H74>0, H71/H74, 0)","v":0.85586001443447868},null,{"$f":"ROUND(J74*I71,0)","v":1347819},1350493,{"$f":"K71-L71","v":-2674},-0.19800176676221201,168,0,13,717,62,165,1639587,null,13,717,62,165,1639587]
[63,13,null,998,null,0,0,0,{"$f":"IF(H74>0, H72/H74, 0)","v":0},null,{"$f":"ROUND(J74*I72,0)","v":0},0,{"$f":"K72-L72","v":0},0,0,0,13,998,63,0,0,null,13,998,63,0,0]
[64,13,null,998,null,0,0,0,{"$f":"IF(H74>0, H73/H74, 0)","v":0},null,{"$f":"ROUND(J74*I73,0)","v":0},0,{"$f":"K73-L73","v":0},0,0,0,13,998,64,0,0,null,13,998,64,0,0]
[65,13,"ASHFIELD                     ",999,"TOTAL",1863662.65,1,{"$f":"SUM(H70:H73)","v":1915718.66},{"$f":"SUM(I70:I73)","v":1},{"$f":"VLOOKUP(B74,town351,22)","v":1574812},{"$f":"SUM(K70:K73)","v":1574812},1519261,{"$f":"SUM(M70:M73)","v":55551},3.6564487602854281,182,{"$f":"ABS(Q74-B74)+ABS(R74-D74)","v":0},{"$f":"IF($Q$6=1, W74, IF($Q$6=2, AC74, IF($Q$6=3, AI74, IF($Q$6=4, AO74, IF($Q$6=5, AU74, IF($Q$6=6, BA74, IF($Q$6=7, BG74, IF($Q$6=8, BM74, 0))))))))","v":13},{"$f":"IF($Q$6=1, X74, IF($Q$6=2, AD74, IF($Q$6=3, AJ74, IF($Q$6=4, AP74, IF($Q$6=5, AV74, IF($Q$6=6, BB74, IF($Q$6=7, BH74, IF($Q$6=8, BN74, 0))))))))","v":999},{"$f":"IF($Q$6=1, Y74, IF($Q$6=2, AE74, IF($Q$6=3, AK74, IF($Q$6=4, AQ74, IF($Q$6=5, AW74, IF($Q$6=6, BC74, IF($Q$6=7, BI74, IF($Q$6=8, BO74, 0))))))))","v":65},{"$f":"IF($Q$6=1, Z74, IF($Q$6=2, AF74, IF($Q$6=3, AL74, IF($Q$6=4, AR74, IF($Q$6=5, AX74, IF($Q$6=6, BD74, IF($Q$6=7, BJ74, IF($Q$6=8, BP74, 0))))))))","v":184},{"$f":"IF($Q$6=1, AA74, IF($Q$6=2, AG74, IF($Q$6=3, AM74, IF($Q$6=4, AS74, IF($Q$6=5, AY74, IF($Q$6=6, BE74, IF($Q$6=7, BK74, IF($Q$6=8, BQ74, 0))))))))","v":1915718.66},null,13,999,65,184,1915718.66]
[66,14,"ASHLAND                      ",14,"ASHLAND",23394153.285179999,0.94492249520057325,{"$f":"U75","v":23999962.492609996},{"$f":"IF(H79>0, H75/H79, 0)","v":0.95047385847798371},null,{"$f":"ROUND(J79*I75,0)","v":18558228},18210677,{"$f":"K75-L75","v":347551},1.9085012600025799,2479,0,14,14,66,2494,23999962.492609996,null,14,14,66,2494,23999962.492609996]
[67,14,"ASHLAND                      ",829,"SOUTH MIDDLESEX",1363595,5.5077504799426719E-2,1250561,{"$f":"IF(H79>0, H76/H79, 0)","v":4.9526141522016301E-2},null,{"$f":"ROUND(J79*I76,0)","v":967010},1061461,{"$f":"K76-L76","v":-94451},-8.8982072822270428,82,0,14,829,67,74,1250561,null,14,829,67,74,1250561]
[68,14,null,998,null,0,0,0,{"$f":"IF(H79>0, H77/H79, 0)","v":0},null,{"$f":"ROUND(J79*I77,0)","v":0},0,{"$f":"K77-L77","v":0},0,0,0,14,998,68,0,0,null,14,998,68,0,0]
[69,14,null,998,null,0,0,0,{"$f":"IF(H79>0, H78/H79, 0)","v":0},null,{"$f":"ROUND(J79*I78,0)","v":0},0,{"$f":"K78-L78","v":0},0,0,0,14,998,69,0,0,null,14,998,69,0,0]
[70,14,"ASHLAND                      ",999,"TOTAL",24757748.285179999,1,{"$f":"SUM(H75:H78)","v":25250523.492609996},{"$f":"SUM(I75:I78)","v":1},{"$f":"VLOOKUP(B79,town351,22)","v":19525238},{"$f":"SUM(K75:K78)","v":19525238},19272138,{"$f":"SUM(M75:M78)","v":253100},1.3132948715913098,2561,0,14,999,70,2568,25250523.492609996,null,14,999,70,2568,25250523.492609996]
[71,15,"ATHOL                        ",15,"ATHOL",0,0,{"$f":"U80","v":0},{"$f":"IF(H84>0, H80/H84, 0)","v":0},null,{"$f":"ROUND(J84*I80,0)","v":0},0,{"$f":"K80-L80","v":0},{"$f":"IF(L80>0,M80*100/L80,IF(M80>0,100,0))","v":0},0,0,15,15,71,0,0,null,15,15,71,0,0]
[72,15,"ATHOL                        ",615,"ATHOL ROYALSTON",16441699,0.91838357510001056,16760410,{"$f":"IF(H84>0, H81/H84, 0)","v":0.92261726021634627},null,{"$f":"ROUND(J84*I81,0)","v":2314968},2163703,{"$f":"K81-L81","v":151265},{"$f":"IF(L81>0,M81*100/L81,IF(M81>0,100,0))","v":6.9910241840030727},1611,0,15,615,72,1610,16760410,null,15,615,72,1610,16760410]
[73,15,"ATHOL                        ",832,"MONTACHUSETT",1461168,8.1616424899989479E-2,1405747,{"$f":"IF(H84>0, H82/H84, 0)","v":7.7382739783653745E-2},null,{"$f":"ROUND(J84*I82,0)","v":194163},192288,{"$f":"K82-L82","v":1875},{"$f":"IF(L82>0,M82*100/L82,IF(M82>0,100,0))","v":0.97509985022466306},97,0,15,832,73,92,1405747,null,15,832,73,92,1405747]
[74,15,null,998,null,0,0,0,{"$f":"IF(H84>0, H83/H84, 0)","v":0},null,{"$f":"ROUND(J84*I83,0)","v":0},0,{"$f":"K83-L83","v":0},{"$f":"IF(L83>0,M83*100/L83,IF(M83>0,100,0))","v":0},0,0,15,998,74,0,0,null,15,998,74,0,0]
[75,15,"ATHOL                        ",999,"TOTAL",17902867,1,{"$f":"SUM(H80:H83)","v":18166157},{"$f":"SUM(I80:I83)","v":1},{"$f":"VLOOKUP(B84,town351,22)","v":2509131},{"$f":"SUM(K80:K83)","v":2509131},2355991,{"$f":"SUM(M80:M83)","v":153140},{"$f":"IF(L84>0,M84*100/L84,IF(M84>0,100,0))","v":6.5000248303155654},1708,0,15,999,75,1702,18166157,null,15,999,75,1702,18166157]
[76,16,"ATTLEBORO                    ",16,"ATTLEBORO",66876305.419999994,0.99200016250477419,{"$f":"U85","v":68325590.250000015},{"$f":"IF(H89>0, H85/H89, 0)","v":0.99095745536593771},null,{"$f":"ROUND(J89*I85,0)","v":32304159},32678917,{"$f":"K85-L85","v":-374758},-1.1467883100287564,6227,0,16,16,76,6292,68325590.250000015,null,16,16,76,6292,68325590.250000015]
[77,16,"ATTLEBORO                    ",910,"BRISTOL COUNTY",539314,7.9998374952259706E-3,623475,{"$f":"IF(H89>0, H86/H89, 0)","v":9.0425446340623144E-3},null,{"$f":"ROUND(J89*I86,0)","v":294777},263534,{"$f":"K86-L86","v":31243},11.855396267654269,36,0,16,910,77,41,623475,null,16,910,77,41,623475]
[78,16,null,998,null,0,0,0,{"$f":"IF(H89>0, H87/H89, 0)","v":0},null,{"$f":"ROUND(J89*I87,0)","v":0},0,{"$f":"K87-L87","v":0},0,0,0,16,998,78,0,0,null,16,998,78,0,0]
[79,16,null,998,null,0,0,0,{"$f":"IF(H89>0, H88/H89, 0)","v":0},null,{"$f":"ROUND(J89*I88,0)","v":0},0,{"$f":"K88-L88","v":0},0,0,0,16,998,79,0,0,null,16,998,79,0,0]
[80,16,"ATTLEBORO                    ",999,"TOTAL",67415619.419999987,1.0000000000000002,{"$f":"SUM(H85:H88)","v":68949065.250000015},{"$f":"SUM(I85:I88)","v":1},{"$f":"VLOOKUP(B89,town351,22)","v":32598936},{"$f":"SUM(K85:K88)","v":32598936},32942451,{"$f":"SUM(M85:M88)","v":-343515},-1.0427730468507033,6263,0,16,999,80,6333,68949065.250000015,null,16,999,80,6333,68949065.250000015]
[81,17,"AUBURN                       ",17,"AUBURN",22469656.549999997,0.94700904001378972,{"$f":"U90","v":22643826.370000001},{"$f":"IF(H94>0, H90/H94, 0)","v":0.93943069176552818},null,{"$f":"ROUND(J94*I90,0)","v":13773515},14563293,{"$f":"K90-L90","v":-789778},-5.4230729272562188,2340,0,17,17,81,2343,22643826.370000001,null,17,17,81,2343,22643826.370000001]
[82,17,"AUBURN                       ",876,"SOUTHERN WORCESTER",1257315,5.2990959986210298E-2,1459949,{"$f":"IF(H94>0, H91/H94, 0)","v":6.0569308234471812E-2},null,{"$f":"ROUND(J94*I91,0)","v":888040},814905,{"$f":"K91-L91","v":73135},8.9746657585853562,83,0,17,876,82,95,1459949,null,17,876,82,95,1459949]
[83,17,null,998,null,0,0,0,{"$f":"IF(H94>0, H92/H94, 0)","v":0},null,{"$f":"ROUND(J94*I92,0)","v":0},0,{"$f":"K92-L92","v":0},0,0,0,17,998,83,0,0,null,17,998,83,0,0]
[84,17,null,998,null,0,0,0,{"$f":"IF(H94>0, H93/H94, 0)","v":0},null,{"$f":"ROUND(J94*I93,0)","v":0},0,{"$f":"K93-L93","v":0},0,0,0,17,998,84,0,0,null,17,998,84,0,0]
[85,17,"AUBURN                       ",999,"TOTAL",23726971.549999997,1,{"$f":"SUM(H90:H93)","v":24103775.370000001},{"$f":"SUM(I90:I93)","v":1},{"$f":"VLOOKUP(B94,town351,22)","v":14661555},{"$f":"SUM(K90:K93)","v":14661555},15378198,{"$f":"SUM(M90:M93)","v":-716643},-4.660123377264358,2423,0,17,999,85,2438,24103775.370000001,null,17,999,85,2438,24103775.370000001]
[86,18,"AVON                         ",18,"AVON",5301350.57,0.88109612151762084,{"$f":"U95","v":5497208.8500000006},{"$f":"IF(H99>0, H95/H99, 0)","v":0.86961313264314855},null,{"$f":"ROUND(J99*I95,0)","v":4116665},4680844,{"$f":"K95-L95","v":-564179},-12.052933188971904,537,0,18,18,86,531,5497208.8500000006,null,18,18,86,531,5497208.8500000006]
[87,18,"AVON                         ",806,"BLUE HILLS",715417,0.1189038784823792,824233,{"$f":"IF(H99>0, H96/H99, 0)","v":0.13038686735685148},null,{"$f":"ROUND(J99*I96,0)","v":617239},631680,{"$f":"K96-L96","v":-14441},-2.2861258865248226,45,0,18,806,87,51,824233,null,18,806,87,51,824233]
[88,18,"AVON                         ",915,"NORFOLK COUNTY",0,0,0,{"$f":"IF(H99>0, H97/H99, 0)","v":0},null,{"$f":"ROUND(J99*I97,0)","v":0},0,{"$f":"K97-L97","v":0},0,0,0,18,915,88,0,0,null,18,915,88,0,0]
[89,18,null,998,null,0,0,0,{"$f":"IF(H99>0, H98/H99, 0)","v":0},null,{"$f":"ROUND(J99*I98,0)","v":0},0,{"$f":"K98-L98","v":0},0,0,0,18,998,89,0,0,null,18,998,89,0,0]
[90,18,"AVON                         ",999,"TOTAL",6016767.5700000003,1,{"$f":"SUM(H95:H98)","v":6321441.8500000006},{"$f":"SUM(I95:I98)","v":1},{"$f":"VLOOKUP(B99,town351,22)","v":4733904},{"$f":"SUM(K95:K98)","v":4733904},5312524,{"$f":"SUM(M95:M98)","v":-578620},-10.891621383733984,582,0,18,999,90,582,6321441.8500000006,null,18,999,90,582,6321441.8500000006]
[91,19,"AYER                         ",19,"AYER",0,0,{"$f":"U100","v":0},{"$f":"IF(H104>0, H100/H104, 0)","v":0},null,{"$f":"ROUND(J104*I100,0)","v":0},0,{"$f":"K100-L100","v":0},0,0,0,19,19,91,0,0,null,19,19,91,0,0]
[92,19,"AYER                         ",616,"AYER SHIRLEY",10328000,0.93170615532284951,10377001,{"$f":"IF(H104>0, H101/H104, 0)","v":0.92180308823991852},null,{"$f":"ROUND(J104*I101,0)","v":6565131},6644403,{"$f":"K101-L101","v":-79272},-1.1930642978759718,1015,0,19,616,92,1015,10377001,null,19,616,92,1015,10377001]
[93,19,"AYER                         ",852,"NASHOBA VALLEY",757040,6.8293844677150467E-2,880285,{"$f":"IF(H104>0, H102/H104, 0)","v":7.8196911760081422E-2},null,{"$f":"ROUND(J104*I102,0)","v":556923},487033,{"$f":"K102-L102","v":69890},14.350156970882876,49,0,19,852,93,57,880285,null,19,852,93,57,880285]
[94,19,null,998,null,0,0,0,{"$f":"IF(H104>0, H103/H104, 0)","v":0},null,{"$f":"ROUND(J104*I103,0)","v":0},0,{"$f":"K103-L103","v":0},0,0,0,19,998,94,0,0,null,19,998,94,0,0]
[95,19,"AYER                         ",999,"TOTAL",11085040,1,{"$f":"SUM(H100:H103)","v":11257286},{"$f":"SUM(I100:I103)","v":1},{"$f":"VLOOKUP(B104,town351,22)","v":7122054},{"$f":"SUM(K100:K103)","v":7122054},7131436,{"$f":"SUM(M100:M103)","v":-9382},-0.13155835654978884,1064,0,19,999,95,1072,11257286,null,19,999,95,1072,11257286]
[96,20,"BARNSTABLE                   ",20,"BARNSTABLE",53870372.68999999,0.95443205778616347,{"$f":"U105","v":55521659.879999995},{"$f":"IF(H109>0, H105/H109, 0)","v":0.95258067517128919},null,{"$f":"ROUND(J109*I105,0)","v":45805369},46207751,{"$f":"K105-L105","v":-402382},-0.87081061357000478,5423,0,20,20,96,5492,55521659.879999995,null,20,20,96,5492,55521659.879999995]
[97,20,"BARNSTABLE                   ",815,"CAPE COD",2571961,4.556794221383656E-2,2763860,{"$f":"IF(H109>0, H106/H109, 0)","v":4.7419324828710786E-2},null,{"$f":"ROUND(J109*I106,0)","v":2280185},2206121,{"$f":"K106-L106","v":74064},3.3572047952038897,168,0,20,815,97,177,2763860,null,20,815,97,177,2763860]
[98,20,null,998,null,0,0,0,{"$f":"IF(H109>0, H107/H109, 0)","v":0},null,{"$f":"ROUND(J109*I107,0)","v":0},0,{"$f":"K107-L107","v":0},0,0,0,20,998,98,0,0,null,20,998,98,0,0]
[99,20,null,998,null,0,0,0,{"$f":"IF(H109>0, H108/H109, 0)","v":0},null,{"$f":"ROUND(J109*I108,0)","v":0},0,{"$f":"K108-L108","v":0},0,0,0,20,998,99,0,0,null,20,998,99,0,0]
[100,20,"BARNSTABLE                   ",999,"TOTAL",56442333.68999999,1,{"$f":"SUM(H105:H108)","v":58285519.879999995},{"$f":"SUM(I105:I108)","v":1},{"$f":"VLOOKUP(B109,town351,22)","v":48085554},{"$f":"SUM(K105:K108)","v":48085554},48413872,{"$f":"SUM(M105:M108)","v":-328318},-0.67814860996864701,5591,0,20,999,100,5669,58285519.879999995,null,20,999,100,5669,58285519.879999995]
[101,21,"BARRE                        ",21,"BARRE",0,0,{"$f":"U110","v":0},{"$f":"IF(H114>0, H110/H114, 0)","v":0},null,{"$f":"ROUND(J114*I110,0)","v":0},0,{"$f":"K110-L110","v":0},0,0,0,21,21,101,0,0,null,21,21,101,0,0]
[102,21,"BARRE                        ",753,"QUABBIN",7769384,0.92802815886951717,8182502,{"$f":"IF(H114>0, H111/H114, 0)","v":0.93374129991820276},null,{"$f":"ROUND(J114*I111,0)","v":3202022},3394730,{"$f":"K111-L111","v":-192708},-5.6766812088148395,810,0,21,753,102,823,8182502,null,21,753,102,823,8182502]
[103,21,"BARRE                        ",832,"MONTACHUSETT",602543,7.1971841130482869E-2,580634,{"$f":"IF(H114>0, H112/H114, 0)","v":6.6258700081797198E-2},null,{"$f":"ROUND(J114*I112,0)","v":227217},263273,{"$f":"K112-L112","v":-36056},-13.69528968029384,40,0,21,832,103,38,580634,null,21,832,103,38,580634]
[104,21,null,998,null,0,0,0,{"$f":"IF(H114>0, H113/H114, 0)","v":0},null,{"$f":"ROUND(J114*I113,0)","v":0},0,{"$f":"K113-L113","v":0},0,0,0,21,998,104,0,0,null,21,998,104,0,0]
[105,21,"BARRE                        ",999,"TOTAL",8371927,1,{"$f":"SUM(H110:H113)","v":8763136},{"$f":"SUM(I110:I113)","v":1},{"$f":"VLOOKUP(B114,town351,22)","v":3429239},{"$f":"SUM(K110:K113)","v":3429239},3658003,{"$f":"SUM(M110:M113)","v":-228764},-6.2537947617866907,850,0,21,999,105,861,8763136,null,21,999,105,861,8763136]
[106,22,"BECKET                       ",22,"BECKET",246041.35,0.12977368556537019,{"$f":"U115","v":118799.64000000001},{"$f":"IF(H119>0, H115/H119, 0)","v":6.2049143446584645E-2},null,{"$f":"ROUND(J119*I115,0)","v":98010},221437,{"$f":"K115-L115","v":-123427},-55.739104124423648,17,0,22,22,106,9,118799.64000000001,null,22,22,106,9,118799.64000000001]
[107,22,"BECKET                       ",635,"CENTRAL BERKSHIRE",1649885,0.87022631443462972,1795806,{"$f":"IF(H119>0, H116/H119, 0)","v":0.93795085655341526},null,{"$f":"ROUND(J119*I116,0)","v":1481540},1484897,{"$f":"K116-L116","v":-3357},-0.2260762867727526,168,0,22,635,107,180,1795806,null,22,635,107,180,1795806]
[108,22,null,998,null,0,0,0,{"$f":"IF(H119>0, H117/H119, 0)","v":0},null,{"$f":"ROUND(J119*I117,0)","v":0},0,{"$f":"K117-L117","v":0},0,0,0,22,998,108,0,0,null,22,998,108,0,0]
[109,22,null,998,null,0,0,0,{"$f":"IF(H119>0, H118/H119, 0)","v":0},null,{"$f":"ROUND(J119*I118,0)","v":0},0,{"$f":"K118-L118","v":0},0,0,0,22,998,109,0,0,null,22,998,109,0,0]
[110,22,"BECKET                       ",999,"TOTAL",1895926.35,0.99999999999999989,{"$f":"SUM(H115:H118)","v":1914605.6400000001},{"$f":"SUM(I115:I118)","v":0.99999999999999989},{"$f":"VLOOKUP(B119,town351,22)","v":1579550},{"$f":"SUM(K115:K118)","v":1579550},1706334,{"$f":"SUM(M115:M118)","v":-126784},-7.4301983081858536,185,0,22,999,110,189,1914605.6400000001,null,22,999,110,189,1914605.6400000001]
[111,23,"BEDFORD                      ",23,"BEDFORD",25862895.333689999,0.98518663825600306,{"$f":"U120","v":26053076.229189999},{"$f":"IF(H124>0, H120/H124, 0)","v":0.98970836234300552},null,{"$f":"ROUND(J124*I120,0)","v":21493787},21890571,{"$f":"K120-L120","v":-396784},-1.8125794891325584,2608,0,23,23,111,2585,26053076.229189999,null,23,23,111,2585,26053076.229189999]
[112,23,"BEDFORD                      ",871,"SHAWSHEEN VALLEY",388877,1.4813361743996913E-2,270917,{"$f":"IF(H124>0, H121/H124, 0)","v":1.0291637656994498E-2},null,{"$f":"ROUND(J124*I121,0)","v":223507},329149,{"$f":"K121-L121","v":-105642},-32.095494745540776,26,0,23,871,112,18,270917,null,23,871,112,18,270917]
[113,23,null,998,"ESSEX COUNTY",0,0,0,{"$f":"IF(H124>0, H122/H124, 0)","v":0},null,{"$f":"ROUND(J124*I122,0)","v":0},0,{"$f":"K122-L122","v":0},0,0,0,23,998,113,0,0,null,23,998,113,0,0]
[114,23,null,998,null,0,0,0,{"$f":"IF(H124>0, H123/H124, 0)","v":0},null,{"$f":"ROUND(J124*I123,0)","v":0},0,{"$f":"K123-L123","v":0},0,0,0,23,998,114,0,0,null,23,998,114,0,0]
[115,23,"BEDFORD                      ",999,"TOTAL",26251772.333689999,1,{"$f":"SUM(H120:H123)","v":26323993.229189999},{"$f":"SUM(I120:I123)","v":1},{"$f":"VLOOKUP(B124,town351,22)","v":21717294},{"$f":"SUM(K120:K123)","v":21717294},22219720,{"$f":"SUM(M120:M123)","v":-502426},-2.2611716079230519,2634,0,23,999,115,2603,26323993.229189999,null,23,999,115,2603,26323993.229189999]
[116,24,"BELCHERTOWN                  ",24,"BELCHERTOWN",23327151.939999998,0.94024650833589341,{"$f":"U125","v":22973661.619999997},{"$f":"IF(H129>0, H125/H129, 0)","v":0.94208715430843371},null,{"$f":"ROUND(J129*I125,0)","v":11198625},11128856,{"$f":"K125-L125","v":69769},0.62691978402811577,2493,0,24,24,116,2401,22973661.619999997,null,24,24,116,2401,22973661.619999997]
[117,24,"BELCHERTOWN                  ",860,"PATHFINDER",1482461,5.9753491664106553E-2,1412258,{"$f":"IF(H129>0, H126/H129, 0)","v":5.7912845691566343E-2},null,{"$f":"ROUND(J129*I126,0)","v":688412},707249,{"$f":"K126-L126","v":-18837},-2.6634184000260164,96,0,24,860,117,89,1412258,null,24,860,117,89,1412258]
[118,24,null,998,null,0,0,0,{"$f":"IF(H129>0, H127/H129, 0)","v":0},null,{"$f":"ROUND(J129*I127,0)","v":0},0,{"$f":"K127-L127","v":0},0,0,0,24,998,118,0,0,null,24,998,118,0,0]
[119,24,null,998,null,0,0,0,{"$f":"IF(H129>0, H128/H129, 0)","v":0},null,{"$f":"ROUND(J129*I128,0)","v":0},0,{"$f":"K128-L128","v":0},0,0,0,24,998,119,0,0,null,24,998,119,0,0]
[120,24,"BELCHERTOWN                  ",999,"TOTAL",24809612.939999998,1,{"$f":"SUM(H125:H128)","v":24385919.619999997},{"$f":"SUM(I125:I128)","v":1},{"$f":"VLOOKUP(B129,town351,22)","v":11887037},{"$f":"SUM(K125:K128)","v":11887037},11836105,{"$f":"SUM(M125:M128)","v":50932},0.43031047798241062,2589,0,24,999,120,2490,24385919.619999997,null,24,999,120,2490,24385919.619999997]
[121,25,"BELLINGHAM                   ",25,"BELLINGHAM",22925709.119999997,0.93582615046014328,{"$f":"U130","v":23462633.450000003},{"$f":"IF(H134>0, H130/H134, 0)","v":0.92957209623995252},null,{"$f":"ROUND(J134*I130,0)","v":14932642},15265577,{"$f":"K130-L130","v":-332935},-2.1809526099144501,2424,0,25,25,121,2424,23462633.450000003,null,25,25,121,2424,23462633.450000003]
[122,25,"BELLINGHAM                   ",805,"BLACKSTONE VALLEY",1327925,5.4205823442367129E-2,1558545,{"$f":"IF(H134>0, H131/H134, 0)","v":6.1748394348900192E-2},null,{"$f":"ROUND(J134*I131,0)","v":991926},884227,{"$f":"K131-L131","v":107699},12.180017122300043,89,0,25,805,122,103,1558545,null,25,805,122,103,1558545]
[123,25,"BELLINGHAM                   ",915,"NORFOLK COUNTY",244195,9.9680260974895733E-3,219073,{"$f":"IF(H134>0, H132/H134, 0)","v":8.6795094111473264E-3},null,{"$f":"ROUND(J134*I132,0)","v":139428},162602,{"$f":"K132-L132","v":-23174},-14.251977220452392,16,0,25,915,123,14,219073,null,25,915,123,14,219073]
[124,25,null,998,null,0,0,0,{"$f":"IF(H134>0, H133/H134, 0)","v":0},null,{"$f":"ROUND(J134*I133,0)","v":0},0,{"$f":"K133-L133","v":0},0,0,0,25,998,124,0,0,null,25,998,124,0,0]
[125,25,"BELLINGHAM                   ",999,"TOTAL",24497829.119999997,1,{"$f":"SUM(H130:H133)","v":25240251.450000003},{"$f":"SUM(I130:I133)","v":1},{"$f":"VLOOKUP(B134,town351,22)","v":16063995},{"$f":"SUM(K130:K133)","v":16063996},16312406,{"$f":"SUM(M130:M133)","v":-248410},-1.5228286985990909,2529,0,25,999,125,2541,25240251.450000003,null,25,999,125,2541,25240251.450000003]
[126,26,"BELMONT                      ",26,"BELMONT",37689370.076880001,0.98653099621574358,{"$f":"U135","v":39180121.943280004},{"$f":"IF(H139>0, H135/H139, 0)","v":0.98719704160477872},null,{"$f":"ROUND(J139*I135,0)","v":32323600},31269266,{"$f":"K135-L135","v":1054334},3.3717900509720953,4068,0,26,26,126,4156,39180121.943280004,null,26,26,126,4156,39180121.943280004]
[127,26,"BELMONT                      ",830,"MINUTEMAN",514569,1.346900378425646E-2,508127,{"$f":"IF(H139>0, H136/H139, 0)","v":1.280295839522131E-2},null,{"$f":"ROUND(J139*I136,0)","v":419205},426916,{"$f":"K136-L136","v":-7711},-1.8062101209605637,31,0,26,830,127,30,508127,null,26,830,127,30,508127]
[128,26,null,998,null,0,0,0,{"$f":"IF(H139>0, H137/H139, 0)","v":0},null,{"$f":"ROUND(J139*I137,0)","v":0},0,{"$f":"K137-L137","v":0},0,0,0,26,998,128,0,0,null,26,998,128,0,0]
[129,26,null,998,null,0,0,0,{"$f":"IF(H139>0, H138/H139, 0)","v":0},null,{"$f":"ROUND(J139*I138,0)","v":0},0,{"$f":"K138-L138","v":0},0,0,{"$f":"ABS(Q138-B138)+ABS(R138-D138)","v":0},{"$f":"IF($Q$6=1, W138, IF($Q$6=2, AC138, IF($Q$6=3, AI138, IF($Q$6=4, AO138, IF($Q$6=5, AU138, IF($Q$6=6, BA138, IF($Q$6=7, BG138, IF($Q$6=8, BM138, 0))))))))","v":26},{"$f":"IF($Q$6=1, X138, IF($Q$6=2, AD138, IF($Q$6=3, AJ138, IF($Q$6=4, AP138, IF($Q$6=5, AV138, IF($Q$6=6, BB138, IF($Q$6=7, BH138, IF($Q$6=8, BN138, 0))))))))","v":998},{"$f":"IF($Q$6=1, Y138, IF($Q$6=2, AE138, IF($Q$6=3, AK138, IF($Q$6=4, AQ138, IF($Q$6=5, AW138, IF($Q$6=6, BC138, IF($Q$6=7, BI138, IF($Q$6=8, BO138, 0))))))))","v":129},{"$f":"IF($Q$6=1, Z138, IF($Q$6=2, AF138, IF($Q$6=3, AL138, IF($Q$6=4, AR138, IF($Q$6=5, AX138, IF($Q$6=6, BD138, IF($Q$6=7, BJ138, IF($Q$6=8, BP138, 0))))))))","v":0},{"$f":"IF($Q$6=1, AA138, IF($Q$6=2, AG138, IF($Q$6=3, AM138, IF($Q$6=4, AS138, IF($Q$6=5, AY138, IF($Q$6=6, BE138, IF($Q$6=7, BK138, IF($Q$6=8, BQ138, 0))))))))","v":0},null,26,998,129,0,0]
[130,26,"BELMONT                      ",999,"TOTAL",38203939.076880001,1,{"$f":"SUM(H135:H138)","v":39688248.943280004},{"$f":"SUM(I135:I138)","v":1},{"$f":"VLOOKUP(B139,town351,22)","v":32742805},{"$f":"SUM(K135:K138)","v":32742805},31696182,{"$f":"SUM(M135:M138)","v":1046623},3.3020475462943772,4099,0,26,999,130,4186,39688248.943280004,null,26,999,130,4186,39688248.943280004]
[131,27,"BERKLEY                      ",27,"BERKLEY",6578224.6799999988,0.58417781798100565,{"$f":"U140","v":6569709.3200000003},{"$f":"IF(H144>0, H140/H144, 0)","v":0.58688011457607325},null,{"$f":"ROUND(J144*I140,0)","v":3390355},3202757,{"$f":"K140-L140","v":187598},5.8573909915738218,742,0,27,27,131,723,6569709.3200000003,null,27,27,131,723,6569709.3200000003]
[132,27,"BERKLEY                      ",763,"SOMERSET BERKLEY",2889282,0.25658206224293878,2836595,{"$f":"IF(H144>0, H141/H144, 0)","v":0.25339647730501358},null,{"$f":"ROUND(J144*I141,0)","v":1463849},1406712,{"$f":"K141-L141","v":57137},4.0617411382002855,281,0,27,763,132,273,2836595,null,27,763,132,273,2836595]
[133,27,"BERKLEY                      ",810,"BRISTOL PLYMOUTH",1598396,0.14194521059587276,1620717,{"$f":"IF(H144>0, H142/H144, 0)","v":0.14478061849095472},null,{"$f":"ROUND(J144*I142,0)","v":836385},778215,{"$f":"K142-L142","v":58170},7.4747980956419502,106,0,27,810,133,105,1620717,null,27,810,133,105,1620717]
[134,27,"BERKLEY                      ",910,"BRISTOL COUNTY",194752,1.7294909180182765E-2,167274,{"$f":"IF(H144>0, H143/H144, 0)","v":1.4942789627958466E-2},null,{"$f":"ROUND(J144*I143,0)","v":86323},94819,{"$f":"K143-L143","v":-8496},-8.9602294898701729,13,0,27,910,134,11,167274,null,27,910,134,11,167274]
[135,27,"BERKLEY                      ",999,"TOTAL",11260654.68,0.99999999999999989,{"$f":"SUM(H140:H143)","v":11194295.32},{"$f":"SUM(I140:I143)","v":1},{"$f":"VLOOKUP(B144,town351,22)","v":5776913},{"$f":"SUM(K140:K143)","v":5776912},5482503,{"$f":"SUM(M140:M143)","v":294409},{"$f":"IF(L144>0,M144*100/L144,IF(M144>0,100,0))","v":5.3699742617559902},1142,0,27,999,135,1112,11194295.32,null,27,999,135,1112,11194295.32]
[136,28,"BERLIN                       ",28,"BERLIN",1474055.7653800002,0.38081200166634122,{"$f":"U145","v":1394075.23704},{"$f":"IF(H149>0, H145/H149, 0)","v":0.35804281647122133},null,{"$f":"ROUND(J149*I145,0)","v":1150112},1240618,{"$f":"K145-L145","v":-90506},-7.2952351166918419,166,0,28,28,136,152,1394075.23704,null,28,28,136,152,1394075.23704]
[137,28,"BERLIN                       ",620,"BERLIN BOYLSTON",1919494,0.49588785546257436,1979108,{"$f":"IF(H149>0, H146/H149, 0)","v":0.50829781893643511},null,{"$f":"ROUND(J149*I146,0)","v":1632764},1615515,{"$f":"K146-L146","v":17249},1.0677090587212128,206,0,28,620,137,209,1979108,null,28,620,137,209,1979108]
[138,28,"BERLIN                       ",801,"ASSABET VALLEY",477273,0.12330014287108439,520416,{"$f":"IF(H149>0, H147/H149, 0)","v":0.13365936459234354},null,{"$f":"ROUND(J149*I147,0)","v":429343},401690,{"$f":"K147-L147","v":27653},6.8841644053872386,29,0,28,801,138,31,520416,null,28,801,138,31,520416]
[139,28,null,998,null,0,0,0,{"$f":"IF(H149>0, H148/H149, 0)","v":0},null,{"$f":"ROUND(J149*I148,0)","v":0},0,{"$f":"K148-L148","v":0},0,0,0,28,998,139,0,0,null,28,998,139,0,0]
[140,28,"BERLIN                       ",999,"TOTAL",3870822.7653800002,0.99999999999999989,{"$f":"SUM(H145:H148)","v":3893599.23704},{"$f":"SUM(I145:I148)","v":0.99999999999999989},{"$f":"VLOOKUP(B149,town351,22)","v":3212219},{"$f":"SUM(K145:K148)","v":3212219},3257823,{"$f":"SUM(M145:M148)","v":-45604},-1.399830500306493,401,0,28,999,140,392,3893599.23704,null,28,999,140,392,3893599.23704]
[141,29,"BERNARDSTON                  ",29,"BERNARDSTON",0,0,{"$f":"U150","v":0},{"$f":"IF(H154>0, H150/H154, 0)","v":0},null,{"$f":"ROUND(J154*I150,0)","v":0},0,{"$f":"K150-L150","v":0},0,0,0,29,29,141,0,0,null,29,29,141,0,0]
[142,29,"BERNARDSTON                  ",750,"PIONEER",2522899,0.88994065766531316,2607180,{"$f":"IF(H154>0, H151/H154, 0)","v":0.88650885835606974},null,{"$f":"ROUND(J154*I151,0)","v":1459205},1477075,{"$f":"K151-L151","v":-17870},-1.2098234686796541,259,0,29,750,142,262,2607180,null,29,750,142,262,2607180]
[143,29,"BERNARDSTON                  ",818,"FRANKLIN COUNTY",312008,0.11005934233468681,333772,{"$f":"IF(H154>0, H152/H154, 0)","v":0.11349114164393026},null,{"$f":"ROUND(J154*I152,0)","v":186808},182670,{"$f":"K152-L152","v":4138},2.2652871297969015,20,0,29,818,143,21,333772,null,29,818,143,21,333772]
[144,29,null,998,null,0,0,0,{"$f":"IF(H154>0, H153/H154, 0)","v":0},null,{"$f":"ROUND(J154*I153,0)","v":0},0,{"$f":"K153-L153","v":0},0,0,0,29,998,144,0,0,null,29,998,144,0,0]
[145,29,"BERNARDSTON                  ",999,"TOTAL",2834907,1,{"$f":"SUM(H150:H153)","v":2940952},{"$f":"SUM(I150:I153)","v":1},{"$f":"VLOOKUP(B154,town351,22)","v":1646013},{"$f":"SUM(K150:K153)","v":1646013},1659745,{"$f":"SUM(M150:M153)","v":-13732},-0.82735600950748456,279,0,29,999,145,283,2940952,null,29,999,145,283,2940952]
[146,30,"BEVERLY                      ",30,"BEVERLY",43026226.781149998,0.97358605664087039,{"$f":"U155","v":44949344.692879997},{"$f":"IF(H159>0, H155/H159, 0)","v":0.96338484117592005},null,{"$f":"ROUND(J159*I155,0)","v":37083209},36875947,{"$f":"K155-L155","v":207262},0.56205200642033681,4345,0,30,30,146,4426,44949344.692879997,null,30,30,146,4426,44949344.692879997]
[147,30,"BEVERLY                      ",817,"ESSEX NORTH SHORE",1167326,2.6413943359129589E-2,1708380,{"$f":"IF(H159>0, H156/H159, 0)","v":3.6615158824079994E-2},null,{"$f":"ROUND(J159*I156,0)","v":1409414},1000465,{"$f":"K156-L156","v":408949},40.875892709889904,75,0,30,817,147,110,1708380,null,30,817,147,110,1708380]
[148,30,null,998,"ESSEX COUNTY",0,0,0,{"$f":"IF(H159>0, H157/H159, 0)","v":0},null,{"$f":"ROUND(J159*I157,0)","v":0},0,{"$f":"K157-L157","v":0},0,0,0,30,998,148,0,0,null,30,998,148,0,0]
[149,30,null,998,null,0,0,0,{"$f":"IF(H159>0, H158/H159, 0)","v":0},null,{"$f":"ROUND(J159*I158,0)","v":0},0,{"$f":"K158-L158","v":0},0,0,0,30,998,149,0,0,null,30,998,149,0,0]
[150,30,"BEVERLY                      ",999,"TOTAL",44193552.781149998,1,{"$f":"SUM(H155:H158)","v":46657724.692879997},{"$f":"SUM(I155:I158)","v":1},{"$f":"VLOOKUP(B159,town351,22)","v":38492623},{"$f":"SUM(K155:K158)","v":38492623},37876412,{"$f":"SUM(M155:M158)","v":616211},1.6268990843166453,4420,0,30,999,150,4536,46657724.692879997,null,30,999,150,4536,46657724.692879997]
[151,31,"BILLERICA                    ",31,"BILLERICA",50581059.937599994,0.84931469800967219,{"$f":"U160","v":51437518.584149994},{"$f":"IF(H164>0, H160/H164, 0)","v":0.84081941892562251},null,{"$f":"ROUND(J164*I160,0)","v":34395999},35165450,{"$f":"K160-L160","v":-769451},-2.188088023898457,5385,0,31,31,151,5359,51437518.584149994,null,31,31,151,5359,51437518.584149994]
[152,31,"BILLERICA                    ",871,"SHAWSHEEN VALLEY",8974085,0.15068530199032784,9737946,{"$f":"IF(H164>0, H161/H164, 0)","v":0.15918058107437755},null,{"$f":"ROUND(J164*I161,0)","v":6511713},6239049,{"$f":"K161-L161","v":272664},4.3702814323144441,600,0,31,871,152,647,9737946,null,31,871,152,647,9737946]
[153,31,null,998,"ESSEX COUNTY",0,0,0,{"$f":"IF(H164>0, H162/H164, 0)","v":0},null,{"$f":"ROUND(J164*I162,0)","v":0},0,{"$f":"K162-L162","v":0},0,0,0,31,998,153,0,0,null,31,998,153,0,0]
[154,31,null,998,null,0,0,0,{"$f":"IF(H164>0, H163/H164, 0)","v":0},null,{"$f":"ROUND(J164*I163,0)","v":0},0,{"$f":"K163-L163","v":0},0,0,0,31,998,154,0,0,null,31,998,154,0,0]
[155,31,"BILLERICA                    ",999,"TOTAL",59555144.937599994,1,{"$f":"SUM(H160:H163)","v":61175464.584149994},{"$f":"SUM(I160:I163)","v":1},{"$f":"VLOOKUP(B164,town351,22)","v":40907712},{"$f":"SUM(K160:K163)","v":40907712},41404499,{"$f":"SUM(M160:M163)","v":-496787},-1.1998382108185877,5985,0,31,999,155,6006,61175464.584149994,null,31,999,155,6006,61175464.584149994]
[156,32,"BLACKSTONE                   ",32,"BLACKSTONE",181016.85000000003,1.2850240410409551E-2,{"$f":"U165","v":223331.82000000004},{"$f":"IF(H169>0, H165/H169, 0)","v":1.6009619520101829E-2},null,{"$f":"ROUND(J169*I165,0)","v":108073},89793,{"$f":"K165-L165","v":18280},20.357934360139431,12,0,32,32,156,15,223331.82000000004,null,32,32,156,15,223331.82000000004]
[157,32,"BLACKSTONE                   ",622,"BLACKSTONE MILLVILLE",12726914,0.90347337600122324,12546263,{"$f":"IF(H169>0, H166/H169, 0)","v":0.89938324520496593},null,{"$f":"ROUND(J169*I166,0)","v":6071269},6313167,{"$f":"K166-L166","v":-241898},-3.8316426604903686,1343,0,32,622,157,1285,12546263,null,32,622,157,1285,12546263]
[158,32,"BLACKSTONE                   ",805,"BLACKSTONE VALLEY",1178720,8.3676383588367279E-2,1180257,{"$f":"IF(H169>0, H167/H169, 0)","v":8.4607135274932257E-2},null,{"$f":"ROUND(J169*I167,0)","v":571139},584702,{"$f":"K167-L167","v":-13563},-2.3196431686568544,79,0,32,805,158,78,1180257,null,32,805,158,78,1180257]
[159,32,null,998,null,0,0,0,{"$f":"IF(H169>0, H168/H169, 0)","v":0},null,{"$f":"ROUND(J169*I168,0)","v":0},0,{"$f":"K168-L168","v":0},0,0,0,32,998,159,0,0,null,32,998,159,0,0]
[160,32,"BLACKSTONE                   ",999,"TOTAL",14086650.85,1,{"$f":"SUM(H165:H168)","v":13949851.82},{"$f":"SUM(I165:I168)","v":1},{"$f":"VLOOKUP(B169,town351,22)","v":6750480},{"$f":"SUM(K165:K168)","v":6750481},6987662,{"$f":"SUM(M165:M168)","v":-237181},-3.3942826656469647,1434,0,32,999,160,1378,13949851.82,null,32,999,160,1378,13949851.82]
[161,33,"BLANDFORD                    ",33,"BLANDFORD",181016.85000000003,0.12067525721186707,{"$f":"U170","v":92399.719999999987},{"$f":"IF(H174>0, H170/H174, 0)","v":6.548083074052552E-2},null,{"$f":"ROUND(J174*I170,0)","v":76230},141333,{"$f":"K170-L170","v":-65103},-46.063552036679333,12,0,33,33,161,7,92399.719999999987,null,33,33,161,7,92399.719999999987]
[162,33,"BLANDFORD                    ",672,"GATEWAY",1319016,0.87932474278813288,1318696,{"$f":"IF(H174>0, H171/H174, 0)","v":0.93451916925947454},null,{"$f":"ROUND(J174*I171,0)","v":1087924},1029849,{"$f":"K171-L171","v":58075},5.6391762287480978,134,0,33,672,162,131,1318696,null,33,672,162,131,1318696]
[163,33,null,998,null,0,0,0,{"$f":"IF(H174>0, H172/H174, 0)","v":0},null,{"$f":"ROUND(J174*I172,0)","v":0},0,{"$f":"K172-L172","v":0},0,0,0,33,998,163,0,0,null,33,998,163,0,0]
[164,33,null,998,null,0,0,0,{"$f":"IF(H174>0, H173/H174, 0)","v":0},null,{"$f":"ROUND(J174*I173,0)","v":0},0,{"$f":"K173-L173","v":0},0,0,0,33,998,164,0,0,null,33,998,164,0,0]
[165,33,"BLANDFORD                    ",999,"TOTAL",1500032.85,1,{"$f":"SUM(H170:H173)","v":1411095.72},{"$f":"SUM(I170:I173)","v":1},{"$f":"VLOOKUP(B174,town351,22)","v":1164154},{"$f":"SUM(K170:K173)","v":1164154},1171182,{"$f":"SUM(M170:M173)","v":-7028},-0.6000775285139287,146,0,33,999,165,138,1411095.72,null,33,999,165,138,1411095.72]
[166,34,"BOLTON                       ",34,"BOLTON",0,0,{"$f":"U175","v":13623.25469},{"$f":"IF(H179>0, H175/H179, 0)","v":1.4028723728893909E-3},null,{"$f":"ROUND(J179*I175,0)","v":11239},0,{"$f":"K175-L175","v":11239},100,0,0,34,34,166,1,13623.25469,null,34,34,166,1,13623.25469]
[167,34,"BOLTON                       ",725,"NASHOBA",9352329,0.98085049079604036,9527973,{"$f":"IF(H179>0, H176/H179, 0)","v":0.9811554137021018},null,{"$f":"ROUND(J179*I176,0)","v":7860578},8076577,{"$f":"K176-L176","v":-215999},-2.6743879244883075,1011,0,34,725,167,1010,9527973,null,34,725,167,1010,9527973]
[168,34,"BOLTON                       ",830,"MINUTEMAN",182589,1.9149509203959594E-2,169376,{"$f":"IF(H179>0, H177/H179, 0)","v":1.744171392500873E-2},null,{"$f":"ROUND(J179*I177,0)","v":139735},157682,{"$f":"K177-L177","v":-17947},-11.381768369249501,11,0,34,830,168,10,169376,null,34,830,168,10,169376]
[169,34,null,998,null,0,0,0,{"$f":"IF(H179>0, H178/H179, 0)","v":0},null,{"$f":"ROUND(J179*I178,0)","v":0},0,{"$f":"K178-L178","v":0},0,0,0,34,998,169,0,0,null,34,998,169,0,0]
[170,34,"BOLTON                       ",999,"TOTAL",9534918,1,{"$f":"SUM(H175:H178)","v":9710972.2546900008},{"$f":"SUM(I175:I178)","v":0.99999999999999989},{"$f":"VLOOKUP(B179,town351,22)","v":8011552},{"$f":"SUM(K175:K178)","v":8011552},8234259,{"$f":"SUM(M175:M178)","v":-222707},-2.7046392395478454,1022,0,34,999,170,1021,9710972.2546900008,null,34,999,170,1021,9710972.2546900008]
[171,35,"BOSTON                       ",35,"BOSTON",780383012.88296986,1,{"$f":"U180","v":805600562.75407994},{"$f":"IF(H184>0, H180/H184, 0)","v":1},null,{"$f":"ROUND(J184*I180,0)","v":657393838},627463814,{"$f":"K180-L180","v":29930024},4.7700000115066397,63058,0,35,35,171,64196,805600562.75407994,null,35,35,171,64196,805600562.75407994]
[172,35,null,998,"ESSEX COUNTY",0,0,0,{"$f":"IF(H184>0, H181/H184, 0)","v":0},null,{"$f":"ROUND(J184*I181,0)","v":0},0,{"$f":"K181-L181","v":0},0,0,0,35,998,172,0,0,null,35,998,172,0,0]
[173,35,null,998,null,0,0,0,{"$f":"IF(H184>0, H182/H184, 0)","v":0},null,{"$f":"ROUND(J184*I182,0)","v":0},0,{"$f":"K182-L182","v":0},0,0,0,35,998,173,0,0,null,35,998,173,0,0]
[174,35,null,998,null,0,0,0,{"$f":"IF(H184>0, H183/H184, 0)","v":0},null,{"$f":"ROUND(J184*I183,0)","v":0},0,{"$f":"K183-L183","v":0},0,0,0,35,998,174,0,0,null,35,998,174,0,0]
[175,35,"BOSTON                       ",999,"TOTAL",780383012.88296986,1,{"$f":"SUM(H180:H183)","v":805600562.75407994},{"$f":"SUM(I180:I183)","v":1},{"$f":"VLOOKUP(B184,town351,22)","v":657393838},{"$f":"SUM(K180:K183)","v":657393838},627463814,{"$f":"SUM(M180:M183)","v":29930024},4.7700000115066397,63058,0,35,999,175,64196,805600562.75407994,null,35,999,175,64196,805600562.75407994]
[176,36,"BOURNE                       ",36,"BOURNE",19753593.370000005,0.87461846657155062,{"$f":"U185","v":19473369.859999999},{"$f":"IF(H189>0, H185/H189, 0)","v":0.85770641954075144},null,{"$f":"ROUND(J189*I185,0)","v":16065530},16968423,{"$f":"K185-L185","v":-902893},-5.3210189302800854,2084,0,36,36,176,2001,19473369.859999999,null,36,36,176,2001,19473369.859999999]
[177,36,"BOURNE                       ",879,"UPPER CAPE COD",2831790,0.12538153342844938,3230634,{"$f":"IF(H189>0, H186/H189, 0)","v":0.14229358045924856},null,{"$f":"ROUND(J189*I186,0)","v":2665273},2432520,{"$f":"K186-L186","v":232753},9.568389982405078,193,0,36,879,177,211,3230634,null,36,879,177,211,3230634]
[178,36,null,998,null,0,0,0,{"$f":"IF(H189>0, H187/H189, 0)","v":0},null,{"$f":"ROUND(J189*I187,0)","v":0},0,{"$f":"K187-L187","v":0},0,0,0,36,998,178,0,0,null,36,998,178,0,0]
[179,36,null,998,null,0,0,0,{"$f":"IF(H189>0, H188/H189, 0)","v":0},null,{"$f":"ROUND(J189*I188,0)","v":0},0,{"$f":"K188-L188","v":0},0,0,0,36,998,179,0,0,null,36,998,179,0,0]
[180,36,"BOURNE                       ",999,"TOTAL",22585383.370000005,1,{"$f":"SUM(H185:H188)","v":22704003.859999999},{"$f":"SUM(I185:I188)","v":1},{"$f":"VLOOKUP(B189,town351,22)","v":18730803},{"$f":"SUM(K185:K188)","v":18730803},19400943,{"$f":"SUM(M185:M188)","v":-670140},-3.45416199614627,2277,0,36,999,180,2212,22704003.859999999,null,36,999,180,2212,22704003.859999999]
[181,37,"BOXBOROUGH                   ",37,"BOXBOROUGH",0,0,{"$f":"U190","v":0},{"$f":"IF(H194>0, H190/H194, 0)","v":0},null,{"$f":"ROUND(J194*I190,0)","v":0},0,{"$f":"K190-L190","v":0},0,0,0,37,37,181,0,0,null,37,37,181,0,0]
[182,37,"BOXBOROUGH                   ",600,"ACTON BOXBOROUGH",8107876,0.98986737796261226,7870594,{"$f":"IF(H194>0, H191/H194, 0)","v":0.98935449428442634},null,{"$f":"ROUND(J194*I191,0)","v":6493240},7297088,{"$f":"K191-L191","v":-803848},-11.016010770323724,874,0,37,600,182,830,7870594,null,37,600,182,830,7870594]
[183,37,"BOXBOROUGH",830,"MINUTEMAN",82995,1.0132622037387721E-2,84688,{"$f":"IF(H194>0, H192/H194, 0)","v":1.0645505715573628E-2},null,{"$f":"ROUND(J194*I192,0)","v":69868},74696,{"$f":"K192-L192","v":-4828},-6.4635321837849418,5,0,37,830,183,5,84688,null,37,830,183,5,84688]
[184,37,null,998,null,0,0,0,{"$f":"IF(H194>0, H193/H194, 0)","v":0},null,{"$f":"ROUND(J194*I193,0)","v":0},0,{"$f":"K193-L193","v":0},0,0,0,37,998,184,0,0,null,37,998,184,0,0]
[185,37,"BOXBOROUGH",999,"TOTAL",8190871,1,{"$f":"SUM(H190:H193)","v":7955282},{"$f":"SUM(I190:I193)","v":1},{"$f":"VLOOKUP(B194,town351,22)","v":6563108},{"$f":"SUM(K190:K193)","v":6563108},7371784,{"$f":"SUM(M190:M193)","v":-808676},-10.969881917321507,879,0,37,999,185,835,7955282,null,37,999,185,835,7955282]
[186,38,"BOXFORD",38,"BOXFORD",6315613.1311499998,0.45244664060795642,{"$f":"U195","v":6380974.8437599996},{"$f":"IF(H199>0, H195/H199, 0)","v":0.45479406320835736},null,{"$f":"ROUND(J199*I195,0)","v":5264304},5486948,{"$f":"K195-L195","v":-222644},-4.0577020230554401,730,0,38,38,186,729,6380974.8437599996,null,38,38,186,729,6380974.8437599996]
[187,38,"BOXFORD",705,"MASCONOMET",7565367,0.54197823917264198,7401004,{"$f":"IF(H199>0, H196/H199, 0)","v":0.52749505575513667},null,{"$f":"ROUND(J199*I196,0)","v":6105828},6572723,{"$f":"K196-L196","v":-466895},-7.1035246731073256,795,0,38,705,187,768,7401004,null,38,705,187,768,7401004]
[188,38,"BOXFORD",817,"ESSEX NORTH SHORE",77822,5.5751202194015631E-3,248492,{"$f":"IF(H199>0, H197/H199, 0)","v":1.7710881036506049E-2},null,{"$f":"ROUND(J199*I197,0)","v":205006},67611,{"$f":"K197-L197","v":137395},203.21397405747587,5,0,38,817,188,16,248492,null,38,817,188,16,248492]
[189,38,null,998,"ESSEX COUNTY",0,0,0,{"$f":"IF(H199>0, H198/H199, 0)","v":0},null,{"$f":"ROUND(J199*I198,0)","v":0},0,{"$f":"K198-L198","v":0},0,0,0,38,998,189,0,0,null,38,998,189,0,0]
[190,38,"BOXFORD                      ",999,"TOTAL",13958802.13115,0.99999999999999989,{"$f":"SUM(H195:H198)","v":14030470.843759999},{"$f":"SUM(I195:I198)","v":1},{"$f":"VLOOKUP(B199,town351,22)","v":11575138},{"$f":"SUM(K195:K198)","v":11575138},12127282,{"$f":"SUM(M195:M198)","v":-552144},-4.5529080629938345,1530,0,38,999,190,1513,14030470.843759999,null,38,999,190,1513,14030470.843759999]
[191,39,"BOYLSTON                     ",39,"BOYLSTON",2701535.6,0.48246776500588029,{"$f":"U200","v":2619960.2999999998},{"$f":"IF(H204>0, H200/H204, 0)","v":0.46018418220070889},null,{"$f":"ROUND(J204*I200,0)","v":2161467},2336823,{"$f":"K200-L200","v":-175356},-7.5040343235238609,299,0,39,39,191,283,2619960.2999999998,null,39,39,191,283,2619960.2999999998]
[192,39,"BOYLSTON                     ",620,"BERLIN BOYLSTON",2897876,0.51753223499411982,3073326,{"$f":"IF(H204>0, H201/H204, 0)","v":0.53981581779929111},null,{"$f":"ROUND(J204*I201,0)","v":2535494},2506657,{"$f":"K201-L201","v":28837},1.1504166704898198,311,0,39,620,192,324,3073326,null,39,620,192,324,3073326]
[193,39,null,998,null,0,0,0,{"$f":"IF(H204>0, H202/H204, 0)","v":0},null,{"$f":"ROUND(J204*I202,0)","v":0},0,{"$f":"K202-L202","v":0},0,0,{"$f":"ABS(Q202-B202)+ABS(R202-D202)","v":0},{"$f":"IF($Q$6=1, W202, IF($Q$6=2, AC202, IF($Q$6=3, AI202, IF($Q$6=4, AO202, IF($Q$6=5, AU202, IF($Q$6=6, BA202, IF($Q$6=7, BG202, IF($Q$6=8, BM202, 0))))))))","v":39},{"$f":"IF($Q$6=1, X202, IF($Q$6=2, AD202, IF($Q$6=3, AJ202, IF($Q$6=4, AP202, IF($Q$6=5, AV202, IF($Q$6=6, BB202, IF($Q$6=7, BH202, IF($Q$6=8, BN202, 0))))))))","v":998},{"$f":"IF($Q$6=1, Y202, IF($Q$6=2, AE202, IF($Q$6=3, AK202, IF($Q$6=4, AQ202, IF($Q$6=5, AW202, IF($Q$6=6, BC202, IF($Q$6=7, BI202, IF($Q$6=8, BO202, 0))))))))","v":193},{"$f":"IF($Q$6=1, Z202, IF($Q$6=2, AF202, IF($Q$6=3, AL202, IF($Q$6=4, AR202, IF($Q$6=5, AX202, IF($Q$6=6, BD202, IF($Q$6=7, BJ202, IF($Q$6=8, BP202, 0))))))))","v":0},{"$f":"IF($Q$6=1, AA202, IF($Q$6=2, AG202, IF($Q$6=3, AM202, IF($Q$6=4, AS202, IF($Q$6=5, AY202, IF($Q$6=6, BE202, IF($Q$6=7, BK202, IF($Q$6=8, BQ202, 0))))))))","v":0},null,39,998,193,0,0]
[194,39,null,998,null,0,0,0,{"$f":"IF(H204>0, H203/H204, 0)","v":0},null,{"$f":"ROUND(J204*I203,0)","v":0},0,{"$f":"K203-L203","v":0},0,0,0,39,998,194,0,0,null,39,998,194,0,0]
[195,39,"BOYLSTON                     ",999,"TOTAL",5599411.5999999996,1,{"$f":"SUM(H200:H203)","v":5693286.2999999998},{"$f":"SUM(I200:I203)","v":1},{"$f":"VLOOKUP(B204,town351,22)","v":4696961},{"$f":"SUM(K200:K203)","v":4696961},4843480,{"$f":"SUM(M200:M203)","v":-146519},-3.025077010744341,610,0,39,999,195,607,5693286.2999999998,null,39,999,195,607,5693286.2999999998]
[196,40,"BRAINTREE                    ",40,"BRAINTREE",53388255.002250001,0.95678413035000065,{"$f":"U205","v":55247735.783950001},{"$f":"IF(H209>0, H205/H209, 0)","v":0.95271910518377445},null,{"$f":"ROUND(J209*I205,0)","v":39433581},38760993,{"$f":"K205-L205","v":672588},1.7352187029883368,5508,0,40,40,196,5559,55247735.783950001,null,40,40,196,5559,55247735.783950001]
[197,40,"BRAINTREE                    ",806,"BLUE HILLS",2289334,4.1027721175347948E-2,2569668,{"$f":"IF(H209>0, H206/H209, 0)","v":4.4312617754203004E-2},null,{"$f":"ROUND(J209*I206,0)","v":1834124},1662104,{"$f":"K206-L206","v":172020},10.349532881215616,144,0,40,806,197,159,2569668,null,40,806,197,159,2569668]
[198,40,"BRAINTREE                    ",915,"NORFOLK COUNTY",122098,2.1881484746514197E-3,172129,{"$f":"IF(H209>0, H207/H209, 0)","v":2.9682770620224905E-3},null,{"$f":"ROUND(J209*I207,0)","v":122859},88646,{"$f":"K207-L207","v":34213},38.595086072693633,8,0,40,915,198,11,172129,null,40,915,198,11,172129]
[199,40,null,998,null,0,0,0,{"$f":"IF(H209>0, H208/H209, 0)","v":0},null,{"$f":"ROUND(J209*I208,0)","v":0},0,{"$f":"K208-L208","v":0},{"$f":"IF(L208>0,M208*100/L208,IF(M208>0,100,0))","v":0},0,0,40,998,199,0,0,null,40,998,199,0,0]
[200,40,"BRAINTREE                    ",999,"TOTAL",55799687.002250001,1,{"$f":"SUM(H205:H208)","v":57989532.783950001},{"$f":"SUM(I205:I208)","v":1},{"$f":"VLOOKUP(B209,town351,22)","v":41390564},{"$f":"SUM(K205:K208)","v":41390564},40511743,{"$f":"SUM(M205:M208)","v":878821},{"$f":"IF(L209>0,M209*100/L209,IF(M209>0,100,0))","v":2.1692994053600705},5660,0,40,999,200,5729,57989532.783950001,null,40,999,200,5729,57989532.783950001]
[201,41,"BREWSTER                     ",41,"BREWSTER",4371530.74,0.40186677077395788,{"$f":"U210","v":4481450.93},{"$f":"IF(H214>0, H210/H214, 0)","v":0.40561091051371129},null,{"$f":"ROUND(J214*I210,0)","v":3697197},3934378,{"$f":"K210-L210","v":-237181},-6.0284243151013959,473,0,41,41,201,474,4481450.93,null,41,41,201,474,4481450.93]
[202,41,"BREWSTER                     ",660,"NAUSET",5863539,0.53902434258924192,5958208,{"$f":"IF(H214>0, H211/H214, 0)","v":0.53927047504458092},null,{"$f":"ROUND(J214*I211,0)","v":4915522},5277185,{"$f":"K211-L211","v":-361663},-6.8533318426395891,603,0,41,660,202,590,5958208,null,41,660,202,590,5958208]
[203,41,"BREWSTER                     ",815,"CAPE COD",642990,5.9108886636800174E-2,608986,{"$f":"IF(H214>0, H212/H214, 0)","v":5.5118614441707833E-2},null,{"$f":"ROUND(J214*I212,0)","v":502413},578691,{"$f":"K212-L212","v":-76278},-13.181127752116414,42,0,41,815,203,39,608986,null,41,815,203,39,608986]
[204,41,null,998,null,0,0,0,{"$f":"IF(H214>0, H213/H214, 0)","v":0},null,{"$f":"ROUND(J214*I213,0)","v":0},0,{"$f":"K213-L213","v":0},0,0,0,41,998,204,0,0,null,41,998,204,0,0]
[205,41,"BREWSTER                     ",999,"TOTAL",10878059.74,1,{"$f":"SUM(H210:H213)","v":11048644.93},{"$f":"SUM(I210:I213)","v":1},{"$f":"VLOOKUP(B214,town351,22)","v":9115132},{"$f":"SUM(K210:K213)","v":9115132},9790254,{"$f":"SUM(M210:M213)","v":-675122},-6.8958578602761484,1118,0,41,999,205,1103,11048644.93,null,41,999,205,1103,11048644.93]
[206,42,"BRIDGEWATER                  ",42,"BRIDGEWATER",78029.39999999998,2.419032592565274E-3,{"$f":"U215","v":131999.6},{"$f":"IF(H219>0, H215/H219, 0)","v":3.9691310601004462E-3},null,{"$f":"ROUND(J219*I215,0)","v":79382},48603,{"$f":"K215-L215","v":30779},63.327366623459454,6,0,42,42,206,10,131999.6,null,42,42,206,10,131999.6]
[207,42,"BRIDGEWATER                  ",625,"BRIDGEWATER RAYNHAM",30489548,0.94522334331141056,31426655,{"$f":"IF(H219>0, H216/H219, 0)","v":0.94497644292528893},null,{"$f":"ROUND(J219*I216,0)","v":18899308},18991202,{"$f":"K216-L216","v":-91894},-0.4838766919545166,3262,0,42,625,207,3300,31426655,null,42,625,207,3300,31426655]
[208,42,"BRIDGEWATER                  ",810,"BRISTOL PLYMOUTH",1688871,5.2357624096024166E-2,1697894,{"$f":"IF(H219>0, H217/H219, 0)","v":5.1054426014610549E-2},null,{"$f":"ROUND(J219*I217,0)","v":1021077},1051957,{"$f":"K217-L217","v":-30880},-2.9354812031290254,112,0,42,810,208,110,1697894,null,42,810,208,110,1697894]
[209,42,null,998,null,0,0,0,{"$f":"IF(H219>0, H218/H219, 0)","v":0},null,{"$f":"ROUND(J219*I218,0)","v":0},0,{"$f":"K218-L218","v":0},0,0,0,42,998,209,0,0,null,42,998,209,0,0]
[210,42,"BRIDGEWATER                  ",999,"TOTAL",32256448.399999999,1,{"$f":"SUM(H215:H218)","v":33256548.600000001},{"$f":"SUM(I215:I218)","v":0.99999999999999989},{"$f":"VLOOKUP(B219,town351,22)","v":19999766},{"$f":"SUM(K215:K218)","v":19999767},20091762,{"$f":"SUM(M215:M218)","v":-91995},-0.45787422725791793,3380,0,42,999,210,3420,33256548.600000001,null,42,999,210,3420,33256548.600000001]
[211,43,"BRIMFIELD                    ",43,"BRIMFIELD",2557047.06,0.4537048628349109,{"$f":"U220","v":2535170.4500000002},{"$f":"IF(H224>0, H220/H224, 0)","v":0.44059841790268589},null,{"$f":"ROUND(J224*I220,0)","v":1422293},1495359,{"$f":"K220-L220","v":-73066},-4.8861845215764239,285,0,43,43,211,274,2535170.4500000002,null,43,43,211,274,2535170.4500000002]
[212,43,"BRIMFIELD                    ",770,"TANTASQUA",3078879,0.54629513716508904,3218755,{"$f":"IF(H224>0, H221/H224, 0)","v":0.55940158209731405},null,{"$f":"ROUND(J224*I221,0)","v":1805800},1800525,{"$f":"K221-L221","v":5275},0.29297010594132267,280,0,43,770,212,285,3218755,null,43,770,212,285,3218755]
[213,43,null,998,null,0,0,0,{"$f":"IF(H224>0, H222/H224, 0)","v":0},null,{"$f":"ROUND(J224*I222,0)","v":0},0,{"$f":"K222-L222","v":0},0,0,0,43,998,213,0,0,null,43,998,213,0,0]
[214,43,null,998,null,0,0,0,{"$f":"IF(H224>0, H223/H224, 0)","v":0},null,{"$f":"ROUND(J224*I223,0)","v":0},0,{"$f":"K223-L223","v":0},0,0,0,43,998,214,0,0,null,43,998,214,0,0]
[215,43,"BRIMFIELD                    ",999,"TOTAL",5635926.0600000005,1,{"$f":"SUM(H220:H223)","v":5753925.4500000002},{"$f":"SUM(I220:I223)","v":1},{"$f":"VLOOKUP(B224,town351,22)","v":3228093},{"$f":"SUM(K220:K223)","v":3228093},3295884,{"$f":"SUM(M220:M223)","v":-67791},-2.0568381654208703,565,0,43,999,215,559,5753925.4500000002,null,43,999,215,559,5753925.4500000002]
[216,44,"BROCKTON                     ",44,"BROCKTON",202656340.72,0.94036331022780884,{"$f":"U225","v":209479318.44},{"$f":"IF(H229>0, H225/H229, 0)","v":0.93819162870577133},null,{"$f":"ROUND(J229*I225,0)","v":39438390},37791281,{"$f":"K225-L225","v":1647109},4.3584365398992428,17469,0,44,44,216,17694,209479318.44,null,44,44,216,17694,209479318.44]
[217,44,"BROCKTON                     ",872,"SOUTHEASTERN",12852217,5.96366897721912E-2,13800566,{"$f":"IF(H229>0, H226/H229, 0)","v":6.1808371294228712E-2},null,{"$f":"ROUND(J229*I226,0)","v":2598214},2396677,{"$f":"K226-L226","v":201537},8.4090179861533283,821,0,44,872,217,866,13800566,null,44,872,217,866,13800566]
[218,44,null,998,null,0,0,0,{"$f":"IF(H229>0, H227/H229, 0)","v":0},null,{"$f":"ROUND(J229*I227,0)","v":0},0,{"$f":"K227-L227","v":0},0,0,0,44,998,218,0,0,null,44,998,218,0,0]
[219,44,null,998,null,0,0,0,{"$f":"IF(H229>0, H228/H229, 0)","v":0},null,{"$f":"ROUND(J229*I228,0)","v":0},0,{"$f":"K228-L228","v":0},0,0,0,44,998,219,0,0,null,44,998,219,0,0]
[220,44,"BROCKTON                     ",999,"TOTAL",215508557.72,1,{"$f":"SUM(H225:H228)","v":223279884.44},{"$f":"SUM(I225:I228)","v":1},{"$f":"VLOOKUP(B229,town351,22)","v":42036604},{"$f":"SUM(K225:K228)","v":42036604},40187958,{"$f":"SUM(M225:M228)","v":1848646},4.5999998307950856,18290,0,44,999,220,18560,223279884.44,null,44,999,220,18560,223279884.44]
[221,45,"BROOKFIELD                   ",45,"BROOKFIELD",2293424.8199999998,0.45089283068930158,{"$f":"U230","v":2475237.4299999997},{"$f":"IF(H234>0, H230/H234, 0)","v":0.46913985401195779},null,{"$f":"ROUND(J234*I230,0)","v":1028507},1033581,{"$f":"K230-L230","v":-5074},-0.49091459692080253,232,0,45,45,221,249,2475237.4299999997,null,45,45,221,249,2475237.4299999997]
[222,45,"BROOKFIELD                   ",770,"TANTASQUA",2792983,0.54910716931069825,2800881,{"$f":"IF(H234>0, H231/H234, 0)","v":0.53086014598804221},null,{"$f":"ROUND(J234*I231,0)","v":1163817},1258718,{"$f":"K231-L231","v":-94901},-7.5394965353637593,254,0,45,770,222,248,2800881,null,45,770,222,248,2800881]
[223,45,null,998,null,0,0,0,{"$f":"IF(H234>0, H232/H234, 0)","v":0},null,{"$f":"ROUND(J234*I232,0)","v":0},0,{"$f":"K232-L232","v":0},0,0,0,45,998,223,0,0,null,45,998,223,0,0]
[224,45,null,998,null,0,0,0,{"$f":"IF(H234>0, H233/H234, 0)","v":0},null,{"$f":"ROUND(J234*I233,0)","v":0},0,{"$f":"K233-L233","v":0},0,0,0,45,998,224,0,0,null,45,998,224,0,0]
[225,45,"BROOKFIELD                   ",999,"TOTAL",5086407.82,0.99999999999999978,{"$f":"SUM(H230:H233)","v":5276118.43},{"$f":"SUM(I230:I233)","v":1},{"$f":"VLOOKUP(B234,town351,22)","v":2192324},{"$f":"SUM(K230:K233)","v":2192324},2292299,{"$f":"SUM(M230:M233)","v":-99975},-4.361342041330559,486,0,45,999,225,497,5276118.43,null,45,999,225,497,5276118.43]
[226,46,"BROOKLINE                    ",46,"BROOKLINE",68558216.958700001,1,{"$f":"U235","v":71400245.83788},{"$f":"IF(H239>0, H235/H239, 0)","v":1},null,{"$f":"ROUND(J239*I235,0)","v":58905203},57398755,{"$f":"K235-L235","v":1506448},2.6245307933943862,7142,0,46,46,226,7343,71400245.83788,null,46,46,226,7343,71400245.83788]
[227,46,"BROOKLINE                    ",915,"NORFOLK COUNTY",0,0,0,{"$f":"IF(H239>0, H236/H239, 0)","v":0},null,{"$f":"ROUND(J239*I236,0)","v":0},0,{"$f":"K236-L236","v":0},0,0,0,46,915,227,0,0,null,46,915,227,0,0]
[228,46,null,998,null,0,0,0,{"$f":"IF(H239>0, H237/H239, 0)","v":0},null,{"$f":"ROUND(J239*I237,0)","v":0},0,{"$f":"K237-L237","v":0},0,0,0,46,998,228,0,0,null,46,998,228,0,0]
[229,46,null,998,null,0,0,0,{"$f":"IF(H239>0, H238/H239, 0)","v":0},null,{"$f":"ROUND(J239*I238,0)","v":0},0,{"$f":"K238-L238","v":0},0,0,0,46,998,229,0,0,null,46,998,229,0,0]
[230,46,"BROOKLINE                    ",999,"TOTAL",68558216.958700001,1,{"$f":"SUM(H235:H238)","v":71400245.83788},{"$f":"SUM(I235:I238)","v":1},{"$f":"VLOOKUP(B239,town351,22)","v":58905203},{"$f":"SUM(K235:K238)","v":58905203},57398755,{"$f":"SUM(M235:M238)","v":1506448},2.6245307933943862,7142,0,46,999,230,7343,71400245.83788,null,46,999,230,7343,71400245.83788]
[231,47,"BUCKLAND                     ",47,"BUCKLAND",0,0,{"$f":"U240","v":0},{"$f":"IF(H244>0, H240/H244, 0)","v":0},null,{"$f":"ROUND(J244*I240,0)","v":0},0,{"$f":"K240-L240","v":0},0,0,0,47,47,231,0,0,null,47,47,231,0,0]
[232,47,"BUCKLAND                     ",717,"MOHAWK TRAIL",1840707,0.92912865558769797,1707903,{"$f":"IF(H244>0, H241/H244, 0)","v":0.91486210402380064},null,{"$f":"ROUND(J244*I241,0)","v":1250621},1252868,{"$f":"K241-L241","v":-2247},-0.17934850279518672,187,0,47,717,232,172,1707903,null,47,717,232,172,1707903]
[233,47,"BUCKLAND                     ",818,"FRANKLIN COUNTY",140404,7.0871344412301987E-2,158939,{"$f":"IF(H244>0, H242/H244, 0)","v":8.5137895976199376E-2},null,{"$f":"ROUND(J244*I242,0)","v":116384},95565,{"$f":"K242-L242","v":20819},21.785172395751584,9,0,47,818,233,10,158939,null,47,818,233,10,158939]
[234,47,null,998,null,0,0,0,{"$f":"IF(H244>0, H243/H244, 0)","v":0},null,{"$f":"ROUND(J244*I243,0)","v":0},0,{"$f":"K243-L243","v":0},0,0,0,47,998,234,0,0,null,47,998,234,0,0]
[235,47,"BUCKLAND                     ",999,"TOTAL",1981111,1,{"$f":"SUM(H240:H243)","v":1866842},{"$f":"SUM(I240:I243)","v":1},{"$f":"VLOOKUP(B244,town351,22)","v":1367005},{"$f":"SUM(K240:K243)","v":1367005},1348433,{"$f":"SUM(M240:M243)","v":18572},1.3773023947055583,196,0,47,999,235,182,1866842,null,47,999,235,182,1866842]
[236,48,"BURLINGTON                   ",48,"BURLINGTON",34467698.66996,0.95681928001992256,{"$f":"U245","v":34239007.273680001},{"$f":"IF(H249>0, H245/H249, 0)","v":0.95387605326747693},null,{"$f":"ROUND(J249*I245,0)","v":28247181},30725441,{"$f":"K245-L245","v":-2478260},-8.0658240186039958,3553,0,48,48,236,3469,34239007.273680001,null,48,48,236,3469,34239007.273680001]
[237,48,"BURLINGTON                   ",871,"SHAWSHEEN VALLEY",1555508,4.3180719980077421E-2,1655601,{"$f":"IF(H249>0, H246/H249, 0)","v":4.6123946732523118E-2},null,{"$f":"ROUND(J249*I246,0)","v":1365871},1386622,{"$f":"K246-L246","v":-20751},-1.4965145511898701,104,0,48,871,237,110,1655601,null,48,871,237,110,1655601]
[238,48,null,998,null,0,0,0,{"$f":"IF(H249>0, H247/H249, 0)","v":0},null,{"$f":"ROUND(J249*I247,0)","v":0},0,{"$f":"K247-L247","v":0},0,0,0,48,998,238,0,0,null,48,998,238,0,0]
[239,48,null,998,null,0,0,0,{"$f":"IF(H249>0, H248/H249, 0)","v":0},null,{"$f":"ROUND(J249*I248,0)","v":0},0,{"$f":"K248-L248","v":0},0,0,0,48,998,239,0,0,null,48,998,239,0,0]
[240,48,"BURLINGTON                   ",999,"TOTAL",36023206.66996,1,{"$f":"SUM(H245:H248)","v":35894608.273680001},{"$f":"SUM(I245:I248)","v":1},{"$f":"VLOOKUP(B249,town351,22)","v":29613052},{"$f":"SUM(K245:K248)","v":29613052},32112063,{"$f":"SUM(M245:M248)","v":-2499011},-7.7821565061080005,3657,0,48,999,240,3579,35894608.273680001,null,48,999,240,3579,35894608.273680001]
[241,49,"CAMBRIDGE                    ",49,"CAMBRIDGE",75565946.828440011,1,{"$f":"U250","v":79533780.825280011},{"$f":"IF(H254>0, H250/H254, 0)","v":1},null,{"$f":"ROUND(J254*I250,0)","v":65615369},67728118,{"$f":"K250-L250","v":-2112749},-3.1194562352965427,6709,0,49,49,241,6888,79533780.825280011,null,49,49,241,6888,79533780.825280011]
[242,49,null,998,null,0,0,0,{"$f":"IF(H254>0, H251/H254, 0)","v":0},null,{"$f":"ROUND(J254*I251,0)","v":0},0,{"$f":"K251-L251","v":0},0,0,0,49,998,242,0,0,null,49,998,242,0,0]
[243,49,null,998,null,0,0,0,{"$f":"IF(H254>0, H252/H254, 0)","v":0},null,{"$f":"ROUND(J254*I252,0)","v":0},0,{"$f":"K252-L252","v":0},0,0,0,49,998,243,0,0,null,49,998,243,0,0]
[244,49,null,998,null,0,0,0,{"$f":"IF(H254>0, H253/H254, 0)","v":0},null,{"$f":"ROUND(J254*I253,0)","v":0},0,{"$f":"K253-L253","v":0},0,0,0,49,998,244,0,0,null,49,998,244,0,0]
[245,49,"CAMBRIDGE                    ",999,"TOTAL",75565946.828440011,1,{"$f":"SUM(H250:H253)","v":79533780.825280011},{"$f":"SUM(I250:I253)","v":1},{"$f":"VLOOKUP(B254,town351,22)","v":65615369},{"$f":"SUM(K250:K253)","v":65615369},67728118,{"$f":"SUM(M250:M253)","v":-2112749},-3.1194562352965427,6709,0,49,999,245,6888,79533780.825280011,null,49,999,245,6888,79533780.825280011]
[246,50,"CANTON                       ",50,"CANTON",30171279.553439993,0.96501549778493467,{"$f":"U255","v":31710377.389359999},{"$f":"IF(H259>0, H255/H259, 0)","v":0.96704103547098208},null,{"$f":"ROUND(J259*I255,0)","v":26161061},25776936,{"$f":"K255-L255","v":384125},1.4901887485774103,3157,0,50,50,246,3224,31710377.389359999,null,50,50,246,3224,31710377.389359999]
[247,50,"CANTON                       ",806,"BLUE HILLS",1017482,3.2543727453722152E-2,1018170,{"$f":"IF(H259>0, H256/H259, 0)","v":3.1050156199524243E-2},null,{"$f":"ROUND(J259*I256,0)","v":839990},869289,{"$f":"K256-L256","v":-29299},-3.3704556252293543,64,0,50,806,247,63,1018170,null,50,806,247,63,1018170]
[248,50,"CANTON                       ",915,"NORFOLK COUNTY",76311,2.4407747613431892E-3,62592,{"$f":"IF(H259>0, H257/H259, 0)","v":1.9088083294937206E-3},null,{"$f":"ROUND(J259*I257,0)","v":51638},65197,{"$f":"K257-L257","v":-13559},-20.796969185698728,5,0,50,915,248,4,62592,null,50,915,248,4,62592]
[249,50,null,998,null,0,0,0,{"$f":"IF(H259>0, H258/H259, 0)","v":0},null,{"$f":"ROUND(J259*I258,0)","v":0},0,{"$f":"K258-L258","v":0},0,0,0,50,998,249,0,0,null,50,998,249,0,0]
[250,50,"CANTON                       ",999,"TOTAL",31265072.553439993,1,{"$f":"SUM(H255:H258)","v":32791139.389359999},{"$f":"SUM(I255:I258)","v":1},{"$f":"VLOOKUP(B259,town351,22)","v":27052690},{"$f":"SUM(K255:K258)","v":27052689},26711422,{"$f":"SUM(M255:M258)","v":341267},1.2776070102145816,3226,0,50,999,250,3291,32791139.389359999,null,50,999,250,3291,32791139.389359999]
[251,51,"CARLISLE                     ",51,"CARLISLE",5130124.3316099988,0.58230766673045276,{"$f":"U260","v":5330419.6237000003},{"$f":"IF(H264>0, H260/H264, 0)","v":0.59226979314980299},null,{"$f":"ROUND(J264*I260,0)","v":4397596},4617112,{"$f":"K260-L260","v":-219516},-4.7544005863405525,596,0,51,51,251,609,5330419.6237000003,null,51,51,251,609,5330419.6237000003]
[252,51,"CARLISLE                     ",640,"CONCORD CARLISLE",3480677,0.39508299828598287,3534065,{"$f":"IF(H264>0, H261/H264, 0)","v":0.39267451613407178},null,{"$f":"ROUND(J264*I261,0)","v":2915604},3132609,{"$f":"K261-L261","v":-217005},-6.9272928731290753,339,0,51,640,252,337,3534065,null,51,640,252,337,3534065]
[253,51,"CARLISLE                     ",830,"MINUTEMAN",199188,2.2609334983564506E-2,135501,{"$f":"IF(H264>0, H262/H264, 0)","v":1.5055690716125159E-2},null,{"$f":"ROUND(J264*I262,0)","v":111788},179269,{"$f":"K262-L262","v":-67481},-37.642314064339068,12,0,51,830,253,8,135501,null,51,830,253,8,135501]
[254,51,null,998,null,0,0,0,{"$f":"IF(H264>0, H263/H264, 0)","v":0},null,{"$f":"ROUND(J264*I263,0)","v":0},0,{"$f":"K263-L263","v":0},0,0,0,51,998,254,0,0,null,51,998,254,0,0]
[255,51,"CARLISLE                     ",999,"TOTAL",8809989.3316099979,1.0000000000000002,{"$f":"SUM(H260:H263)","v":8999985.6237000003},{"$f":"SUM(I260:I263)","v":0.99999999999999989},{"$f":"VLOOKUP(B264,town351,22)","v":7424988},{"$f":"SUM(K260:K263)","v":7424988},7928990,{"$f":"SUM(M260:M263)","v":-504002},-6.3564464074238964,947,0,51,999,255,954,8999985.6237000003,null,51,999,255,954,8999985.6237000003]
[256,52,"CARVER                       ",52,"CARVER",16482096.760799997,0.92262196073036684,{"$f":"U265","v":16197468.462199999},{"$f":"IF(H269>0, H265/H269, 0)","v":0.91764419764255767},null,{"$f":"ROUND(J269*I265,0)","v":8264514},8461514,{"$f":"K265-L265","v":-197000},-2.3281885487632592,1714,0,52,52,256,1657,16197468.462199999,null,52,52,256,1657,16197468.462199999]
[257,52,"CARVER                       ",855,"OLD COLONY",1382313,7.7378039269633159E-2,1453674,{"$f":"IF(H269>0, H266/H269, 0)","v":8.2355802357442262E-2},null,{"$f":"ROUND(J269*I266,0)","v":741715},709646,{"$f":"K266-L266","v":32069},4.5190137054249586,93,{"$f":"ABS(Q266-B266)+ABS(R266-D266)","v":0},{"$f":"IF($Q$6=1, W266, IF($Q$6=2, AC266, IF($Q$6=3, AI266, IF($Q$6=4, AO266, IF($Q$6=5, AU266, IF($Q$6=6, BA266, IF($Q$6=7, BG266, IF($Q$6=8, BM266, 0))))))))","v":52},{"$f":"IF($Q$6=1, X266, IF($Q$6=2, AD266, IF($Q$6=3, AJ266, IF($Q$6=4, AP266, IF($Q$6=5, AV266, IF($Q$6=6, BB266, IF($Q$6=7, BH266, IF($Q$6=8, BN266, 0))))))))","v":855},{"$f":"IF($Q$6=1, Y266, IF($Q$6=2, AE266, IF($Q$6=3, AK266, IF($Q$6=4, AQ266, IF($Q$6=5, AW266, IF($Q$6=6, BC266, IF($Q$6=7, BI266, IF($Q$6=8, BO266, 0))))))))","v":257},{"$f":"IF($Q$6=1, Z266, IF($Q$6=2, AF266, IF($Q$6=3, AL266, IF($Q$6=4, AR266, IF($Q$6=5, AX266, IF($Q$6=6, BD266, IF($Q$6=7, BJ266, IF($Q$6=8, BP266, 0))))))))","v":95},{"$f":"IF($Q$6=1, AA266, IF($Q$6=2, AG266, IF($Q$6=3, AM266, IF($Q$6=4, AS266, IF($Q$6=5, AY266, IF($Q$6=6, BE266, IF($Q$6=7, BK266, IF($Q$6=8, BQ266, 0))))))))","v":1453674},null,52,855,257,95,1453674]
[258,52,null,998,null,0,0,0,{"$f":"IF(H269>0, H267/H269, 0)","v":0},null,{"$f":"ROUND(J269*I267,0)","v":0},0,{"$f":"K267-L267","v":0},0,0,0,52,998,258,0,0,null,52,998,258,0,0]
[259,52,null,998,null,0,0,0,{"$f":"IF(H269>0, H268/H269, 0)","v":0},null,{"$f":"ROUND(J269*I268,0)","v":0},0,{"$f":"K268-L268","v":0},0,0,0,52,998,259,0,0,null,52,998,259,0,0]
[260,52,"CARVER                       ",999,"TOTAL",17864409.760799997,1,{"$f":"SUM(H265:H268)","v":17651142.462200001},{"$f":"SUM(I265:I268)","v":0.99999999999999989},{"$f":"VLOOKUP(B269,town351,22)","v":9006229},{"$f":"SUM(K265:K268)","v":9006229},9171160,{"$f":"SUM(M265:M268)","v":-164931},-1.7983657465358798,1807,0,52,999,260,1752,17651142.462200001,null,52,999,260,1752,17651142.462200001]
[261,53,"CHARLEMONT                   ",53,"CHARLEMONT",65024.500000000007,3.9603529232989008E-2,{"$f":"U270","v":65999.8},{"$f":"IF(H274>0, H270/H274, 0)","v":4.1323384134953067E-2},null,{"$f":"ROUND(J274*I270,0)","v":36648},36024,{"$f":"K270-L270","v":624},1.7321785476349101,5,0,53,53,261,5,65999.8,null,53,53,261,5,65999.8]
[262,53,"CHARLEMONT                   ",685,"HAWLEMONT",763076,0.4647556332304334,701601,{"$f":"IF(H274>0, H271/H274, 0)","v":0.43928205286178451},null,{"$f":"ROUND(J274*I271,0)","v":389579},422753,{"$f":"K271-L271","v":-33174},-7.8471353248823785,78,0,53,685,262,69,701601,null,53,685,262,69,701601]
[263,53,"CHARLEMONT                   ",717,"MOHAWK TRAIL",813786,0.49564083753657762,829553,{"$f":"IF(H274>0, H272/H274, 0)","v":0.51939456300326237},null,{"$f":"ROUND(J274*I272,0)","v":460627},450847,{"$f":"K272-L272","v":9780},{"$f":"IF(L272>0,M272*100/L272,IF(M272>0,100,0))","v":2.1692503221713797},83,0,53,717,263,84,829553,null,53,717,263,84,829553]
[264,53,null,998,null,0,0,0,{"$f":"IF(H274>0, H273/H274, 0)","v":0},null,{"$f":"ROUND(J274*I273,0)","v":0},0,{"$f":"K273-L273","v":0},{"$f":"IF(L273>0,M273*100/L273,IF(M273>0,100,0))","v":0},0,0,53,998,264,0,0,null,53,998,264,0,0]
[265,53,"CHARLEMONT                   ",999,"TOTAL",1641886.5,1,{"$f":"SUM(H270:H273)","v":1597153.8},{"$f":"SUM(I270:I273)","v":1},{"$f":"VLOOKUP(B274,town351,22)","v":886853},{"$f":"SUM(K270:K273)","v":886854},909624,{"$f":"SUM(M270:M273)","v":-22770},{"$f":"IF(L274>0,M274*100/L274,IF(M274>0,100,0))","v":-2.5032321046938075},166,0,53,999,265,158,1597153.8,null,53,999,265,158,1597153.8]
[266,54,"CHARLTON                     ",54,"CHARLTON",26009.8,1.1404293294757148E-3,{"$f":"U275","v":26399.920000000002},{"$f":"IF(H279>0, H275/H279, 0)","v":1.146760811890906E-3},null,{"$f":"ROUND(J279*I275,0)","v":12481},11935,{"$f":"K275-L275","v":546},4.5747800586510268,2,0,54,54,266,2,26399.920000000002,null,54,54,266,2,26399.920000000002]
[267,54,"CHARLTON                     ",658,"DUDLEY CHARLTON",19902823,0.87266196159000975,20044262,{"$f":"IF(H279>0, H276/H279, 0)","v":0.87068347801334367},null,{"$f":"ROUND(J279*I276,0)","v":9476493},9132717,{"$f":"K276-L276","v":343776},3.764224819404784,2112,0,54,658,267,2071,20044262,null,54,658,267,2071,20044262]
[268,54,"CHARLTON                     ",876,"SOUTHERN WORCESTER",2878192,0.12619760908051453,2950634,{"$f":"IF(H279>0, H277/H279, 0)","v":0.12816976117476533},null,{"$f":"ROUND(J279*I277,0)","v":1394996},1320703,{"$f":"K277-L277","v":74293},5.6252616977473364,190,0,54,876,268,192,2950634,null,54,876,268,192,2950634]
[269,54,null,998,null,0,0,0,{"$f":"IF(H279>0, H278/H279, 0)","v":0},null,{"$f":"ROUND(J279*I278,0)","v":0},0,{"$f":"K278-L278","v":0},0,0,0,54,998,269,0,0,null,54,998,269,0,0]
[270,54,"CHARLTON                     ",999,"TOTAL",22807024.800000001,1,{"$f":"SUM(H275:H278)","v":23021295.920000002},{"$f":"SUM(I275:I278)","v":0.99999999999999989},{"$f":"VLOOKUP(B279,town351,22)","v":10883970},{"$f":"SUM(K275:K278)","v":10883970},10465355,{"$f":"SUM(M275:M278)","v":418615},4.0000076442700703,2304,0,54,999,270,2265,23021295.920000002,null,54,999,270,2265,23021295.920000002]
[271,55,"CHATHAM                      ",55,"CHATHAM",0,0,{"$f":"U280","v":0},{"$f":"IF(H284>0, H280/H284, 0)","v":0},null,{"$f":"ROUND(J284*I280,0)","v":0},0,{"$f":"K280-L280","v":0},0,0,0,55,55,271,0,0,null,55,55,271,0,0]
[272,55,"CHATHAM                      ",712,"MONOMOY",4543839,0.93392128885704451,4915318,{"$f":"IF(H284>0, H281/H284, 0)","v":0.94876150721137564},null,{"$f":"ROUND(J284*I281,0)","v":4055138},4089455,{"$f":"K281-L281","v":-34317},-0.83915827414655497,480,0,55,712,272,499,4915318,null,55,712,272,499,4915318]
[273,55,"CHATHAM                      ",815,"CAPE COD",321495,6.6078711142955451E-2,265455,{"$f":"IF(H284>0, H282/H284, 0)","v":5.1238492788624398E-2},null,{"$f":"ROUND(J284*I282,0)","v":219000},289346,{"$f":"K282-L282","v":-70346},-24.312069287289265,21,0,55,815,273,17,265455,null,55,815,273,17,265455]
[274,55,null,998,null,0,0,0,{"$f":"IF(H284>0, H283/H284, 0)","v":0},null,{"$f":"ROUND(J284*I283,0)","v":0},0,{"$f":"K283-L283","v":0},0,0,0,55,998,274,0,0,null,55,998,274,0,0]
[275,55,"CHATHAM                      ",999,"TOTAL",4865334,1,{"$f":"SUM(H280:H283)","v":5180773},{"$f":"SUM(I280:I283)","v":1},{"$f":"VLOOKUP(B284,town351,22)","v":4274138},{"$f":"SUM(K280:K283)","v":4274138},4378801,{"$f":"SUM(M280:M283)","v":-104663},-2.390220519270001,501,0,55,999,275,516,5180773,null,55,999,275,516,5180773]
[276,56,"CHELMSFORD                   ",56,"CHELMSFORD",47335965.470179997,0.94655310470846854,{"$f":"U285","v":47241970.625249989},{"$f":"IF(H289>0, H285/H289, 0)","v":0.94297161910830729},null,{"$f":"ROUND(J289*I285,0)","v":38029641},39489751,{"$f":"K285-L285","v":-1460110},-3.697440381429602,5122,0,56,56,276,5056,47241970.625249989,null,56,56,276,5056,47241970.625249989]
[277,56,"CHELMSFORD                   ",852,"NASHOBA VALLEY",2672814,5.3446895291531495E-2,2857067,{"$f":"IF(H289>0, H286/H289, 0)","v":5.7028380891692695E-2},null,{"$f":"ROUND(J289*I286,0)","v":2299930},2229779,{"$f":"K286-L286","v":70151},3.1460965414061213,173,0,56,852,277,185,2857067,null,56,852,277,185,2857067]
[278,56,null,998,null,0,0,0,{"$f":"IF(H289>0, H287/H289, 0)","v":0},null,{"$f":"ROUND(J289*I287,0)","v":0},0,{"$f":"K287-L287","v":0},0,0,0,56,998,278,0,0,null,56,998,278,0,0]
[279,56,null,998,null,0,0,0,{"$f":"IF(H289>0, H288/H289, 0)","v":0},null,{"$f":"ROUND(J289*I288,0)","v":0},0,{"$f":"K288-L288","v":0},0,0,0,56,998,279,0,0,null,56,998,279,0,0]
[280,56,"CHELMSFORD                   ",999,"TOTAL",50008779.470179997,1,{"$f":"SUM(H285:H288)","v":50099037.625249989},{"$f":"SUM(I285:I288)","v":1},{"$f":"VLOOKUP(B289,town351,22)","v":40329571},{"$f":"SUM(K285:K288)","v":40329571},41719530,{"$f":"SUM(M285:M288)","v":-1389959},-3.3316746377535891,5295,0,56,999,280,5241,50099037.625249989,null,56,999,280,5241,50099037.625249989]
[281,57,"CHELSEA                      ",57,"CHELSEA",77392158.150499985,0.95973009662597519,{"$f":"U290","v":84321341.850099981},{"$f":"IF(H294>0, H290/H294, 0)","v":0.96081201628224244},null,{"$f":"ROUND(J294*I290,0)","v":13967161},12901270,{"$f":"K290-L290","v":1065891},8.2619075486366853,6557,0,57,57,281,6924,84321341.850099981,null,57,57,281,6924,84321341.850099981]
[282,57,"CHELSEA                      ",853,"NORTHEAST METROPOLITAN",3247345,4.0269903374024765E-2,3439157,{"$f":"IF(H294>0, H291/H294, 0)","v":3.9187983717757571E-2},null,{"$f":"ROUND(J294*I291,0)","v":569669},541332,{"$f":"K291-L291","v":28337},5.23468038098616,199,0,57,853,282,208,3439157,null,57,853,282,208,3439157]
[283,57,null,998,null,0,0,0,{"$f":"IF(H294>0, H292/H294, 0)","v":0},null,{"$f":"ROUND(J294*I292,0)","v":0},0,{"$f":"K292-L292","v":0},0,0,0,57,998,283,0,0,null,57,998,283,0,0]
[284,57,null,998,null,0,0,0,{"$f":"IF(H294>0, H293/H294, 0)","v":0},null,{"$f":"ROUND(J294*I293,0)","v":0},0,{"$f":"K293-L293","v":0},0,0,0,57,998,284,0,0,null,57,998,284,0,0]
[285,57,"CHELSEA                      ",999,"TOTAL",80639503.150499985,1,{"$f":"SUM(H290:H293)","v":87760498.850099981},{"$f":"SUM(I290:I293)","v":1},{"$f":"VLOOKUP(B294,town351,22)","v":14536830},{"$f":"SUM(K290:K293)","v":14536830},13442602,{"$f":"SUM(M290:M293)","v":1094228},8.1400014669778962,6756,0,57,999,285,7132,87760498.850099981,null,57,999,285,7132,87760498.850099981]
[286,58,"CHESHIRE                     ",58,"CHESHIRE",13004.9,2.8062578153154835E-3,{"$f":"U295","v":13199.960000000001},{"$f":"IF(H299>0, H295/H299, 0)","v":2.8026470045039694E-3},null,{"$f":"ROUND(J299*I295,0)","v":6175},5919,{"$f":"K295-L295","v":256},4.3250549079236356,1,0,58,58,286,1,13199.960000000001,null,58,58,286,1,13199.960000000001]
[287,58,"CHESHIRE                     ",603,"ADAMS CHESHIRE",3859186,0.8327531063872925,3919998,{"$f":"IF(H299>0, H296/H299, 0)","v":0.83230332912838756},null,{"$f":"ROUND(J299*I296,0)","v":1833866},1756516,{"$f":"K296-L296","v":77350},4.403603496922317,381,0,58,603,287,377,3919998,null,58,603,287,377,3919998]
[288,58,"CHESHIRE                     ",851,"NORTHERN BERKSHIRE",762059,0.16444063579739193,776621,{"$f":"IF(H299>0, H297/H299, 0)","v":0.16489402386710847},null,{"$f":"ROUND(J299*I297,0)","v":363321},346853,{"$f":"K297-L297","v":16468},4.747832655332374,50,0,58,851,288,50,776621,null,58,851,288,50,776621]
[289,58,null,998,null,0,0,0,{"$f":"IF(H299>0, H298/H299, 0)","v":0},null,{"$f":"ROUND(J299*I298,0)","v":0},0,{"$f":"K298-L298","v":0},0,0,0,58,998,289,0,0,null,58,998,289,0,0]
[290,58,"CHESHIRE                     ",999,"TOTAL",4634249.9000000004,1,{"$f":"SUM(H295:H298)","v":4709818.96},{"$f":"SUM(I295:I298)","v":1},{"$f":"VLOOKUP(B299,town351,22)","v":2203362},{"$f":"SUM(K295:K298)","v":2203362},2109288,{"$f":"SUM(M295:M298)","v":94074},4.4599883941879916,432,0,58,999,290,428,4709818.96,null,58,999,290,428,4709818.96]
[291,59,"CHESTER                      ",59,"CHESTER",220031.55,0.11912021975828505,{"$f":"U300","v":210131.86},{"$f":"IF(H304>0, H300/H304, 0)","v":0.10657541839877027},null,{"$f":"ROUND(J304*I300,0)","v":95755},109806,{"$f":"K300-L300","v":-14051},-12.796204214705936,15,0,59,59,291,14,210131.86,null,59,59,291,14,210131.86]
[292,59,"CHESTER                      ",672,"GATEWAY",1627107,0.88087978024171487,1761541,{"$f":"IF(H304>0, H301/H304, 0)","v":0.89342458160122984},null,{"$f":"ROUND(J304*I301,0)","v":802715},812004,{"$f":"K301-L301","v":-9289},-1.1439598819710248,166,0,59,672,292,175,1761541,null,59,672,292,175,1761541]
[293,59,null,998,null,0,0,0,{"$f":"IF(H304>0, H302/H304, 0)","v":0},null,{"$f":"ROUND(J304*I302,0)","v":0},0,{"$f":"K302-L302","v":0},0,0,0,59,998,293,0,0,null,59,998,293,0,0]
[294,59,null,998,null,0,0,0,{"$f":"IF(H304>0, H303/H304, 0)","v":0},null,{"$f":"ROUND(J304*I303,0)","v":0},0,{"$f":"K303-L303","v":0},0,0,0,59,998,294,0,0,null,59,998,294,0,0]
[295,59,"CHESTER                      ",999,"TOTAL",1847138.55,0.99999999999999989,{"$f":"SUM(H300:H303)","v":1971672.8599999999},{"$f":"SUM(I300:I303)","v":1},{"$f":"VLOOKUP(B304,town351,22)","v":898470},{"$f":"SUM(K300:K303)","v":898470},921810,{"$f":"SUM(M300:M303)","v":-23340},-2.5319751358739873,181,0,59,999,295,189,1971672.8599999999,null,59,999,295,189,1971672.8599999999]
[296,60,"CHESTERFIELD                 ",60,"CHESTERFIELD",259046.25,0.16157729290027331,{"$f":"U305","v":289331.62},{"$f":"IF(H309>0, H305/H309, 0)","v":0.17211899443379342},null,{"$f":"ROUND(J309*I305,0)","v":157904},153673,{"$f":"K305-L305","v":4231},2.7532487815035824,18,0,60,60,296,20,289331.62,null,60,60,296,20,289331.62]
[297,60,"CHESTERFIELD                 ",632,"CHESTERFIELD GOSHEN",647325,0.40376195805447646,683083,{"$f":"IF(H309>0, H306/H309, 0)","v":0.40635572107472701},null,{"$f":"ROUND(J309*I306,0)","v":372794},384011,{"$f":"K306-L306","v":-11217},-2.9210100752322199,74,0,60,632,297,72,683083,null,60,632,297,72,683083]
[298,60,"CHESTERFIELD                 ",683,"HAMPSHIRE",696863,0.43466074904525026,708583,{"$f":"IF(H309>0, H307/H309, 0)","v":0.42152528449147952},null,{"$f":"ROUND(J309*I307,0)","v":386711},413398,{"$f":"K307-L307","v":-26687},-6.4555222811914907,73,0,60,683,298,72,708583,null,60,683,298,72,708583]
[299,60,null,998,null,0,0,0,{"$f":"IF(H309>0, H308/H309, 0)","v":0},null,{"$f":"ROUND(J309*I308,0)","v":0},0,{"$f":"K308-L308","v":0},0,0,0,60,998,299,0,0,null,60,998,299,0,0]
[300,60,"CHESTERFIELD                 ",999,"TOTAL",1603234.25,1,{"$f":"SUM(H305:H308)","v":1680997.62},{"$f":"SUM(I305:I308)","v":0.99999999999999989},{"$f":"VLOOKUP(B309,town351,22)","v":917409},{"$f":"SUM(K305:K308)","v":917409},951082,{"$f":"SUM(M305:M308)","v":-33673},-3.5404938796023897,165,0,60,999,300,164,1680997.62,null,60,999,300,164,1680997.62]
[301,61,"CHICOPEE                     ",61,"CHICOPEE",86339875.140000001,1,{"$f":"U310","v":89726607.379999995},{"$f":"IF(H314>0, H310/H314, 0)","v":1},null,{"$f":"ROUND(J314*I310,0)","v":29813236},29088958,{"$f":"K310-L310","v":724278},2.4898726176441248,7757,0,61,61,301,7852,89726607.379999995,null,61,61,301,7852,89726607.379999995]
[302,61,null,998,null,0,0,0,{"$f":"IF(H314>0, H311/H314, 0)","v":0},null,{"$f":"ROUND(J314*I311,0)","v":0},0,{"$f":"K311-L311","v":0},0,0,0,61,998,302,0,0,null,61,998,302,0,0]
[303,61,null,998,null,0,0,0,{"$f":"IF(H314>0, H312/H314, 0)","v":0},null,{"$f":"ROUND(J314*I312,0)","v":0},0,{"$f":"K312-L312","v":0},0,0,0,61,998,303,0,0,null,61,998,303,0,0]
[304,61,null,998,null,0,0,0,{"$f":"IF(H314>0, H313/H314, 0)","v":0},null,{"$f":"ROUND(J314*I313,0)","v":0},0,{"$f":"K313-L313","v":0},0,0,0,61,998,304,0,0,null,61,998,304,0,0]
[305,61,"CHICOPEE                     ",999,"TOTAL",86339875.140000001,1,{"$f":"SUM(H310:H313)","v":89726607.379999995},{"$f":"SUM(I310:I313)","v":1},{"$f":"VLOOKUP(B314,town351,22)","v":29813236},{"$f":"SUM(K310:K313)","v":29813236},29088958,{"$f":"SUM(M310:M313)","v":724278},2.4898726176441248,7757,0,61,999,305,7852,89726607.379999995,null,61,999,305,7852,89726607.379999995]
[306,62,"CHILMARK                     ",62,"CHILMARK",0,0,{"$f":"U315","v":0},{"$f":"IF(H319>0, H315/H319, 0)","v":0},null,{"$f":"ROUND(J319*I315,0)","v":0},0,{"$f":"K315-L315","v":0},0,0,0,62,62,306,0,0,null,62,62,306,0,0]
[307,62,"CHILMARK                     ",700,"MARTHAS VINEYARD",445166,0.39091449541219953,353126,{"$f":"IF(H319>0, H316/H319, 0)","v":0.32373625184844279},null,{"$f":"ROUND(J319*I316,0)","v":291329},368060,{"$f":"K316-L316","v":-76731},-20.847416182144215,40,0,62,700,307,31,353126,null,62,700,307,31,353126]
[308,62,"CHILMARK                     ",774,"UPISLAND",693615,0.60908550458780042,737657,{"$f":"IF(H319>0, H317/H319, 0)","v":0.67626374815155721},null,{"$f":"ROUND(J319*I317,0)","v":608567},573476,{"$f":"K317-L317","v":35091},6.1190006207757603,79,0,62,774,308,79,737657,null,62,774,308,79,737657]
[309,62,null,998,null,0,0,0,{"$f":"IF(H319>0, H318/H319, 0)","v":0},null,{"$f":"ROUND(J319*I318,0)","v":0},0,{"$f":"K318-L318","v":0},0,0,0,62,998,309,0,0,null,62,998,309,0,0]
[310,62,"CHILMARK                     ",999,"TOTAL",1138781,1,{"$f":"SUM(H315:H318)","v":1090783},{"$f":"SUM(I315:I318)","v":1},{"$f":"VLOOKUP(B319,town351,22)","v":899896},{"$f":"SUM(K315:K318)","v":899896},941536,{"$f":"SUM(M315:M318)","v":-41640},-4.4225605818577307,119,0,62,999,310,110,1090783,null,62,999,310,110,1090783]
[311,63,"CLARKSBURG                   ",63,"CLARKSBURG",1905986.03,0.73972967758575825,{"$f":"U320","v":1772262.85},{"$f":"IF(H324>0, H320/H324, 0)","v":0.69530938022146438},null,{"$f":"ROUND(J324*I320,0)","v":585884},594708,{"$f":"K320-L320","v":-8824},-1.4837533714024362,200,0,63,63,311,180,1772262.85,null,63,63,311,180,1772262.85]
[312,63,"CLARKSBURG                   ",851,"NORTHERN BERKSHIRE",670612,0.26027032241424169,776621,{"$f":"IF(H324>0, H321/H324, 0)","v":0.30469061977853562},null,{"$f":"ROUND(J324*I321,0)","v":256740},209245,{"$f":"K321-L321","v":47495},22.698272360151975,44,0,63,851,312,50,776621,null,63,851,312,50,776621]
[313,63,null,998,null,0,0,0,{"$f":"IF(H324>0, H322/H324, 0)","v":0},null,{"$f":"ROUND(J324*I322,0)","v":0},0,{"$f":"K322-L322","v":0},0,0,0,63,998,313,0,0,null,63,998,313,0,0]
[314,63,null,998,null,0,0,0,{"$f":"IF(H324>0, H323/H324, 0)","v":0},null,{"$f":"ROUND(J324*I323,0)","v":0},0,{"$f":"K323-L323","v":0},0,0,0,63,998,314,0,0,null,63,998,314,0,0]
[315,63,"CLARKSBURG                   ",999,"TOTAL",2576598.0300000003,1,{"$f":"SUM(H320:H323)","v":2548883.85},{"$f":"SUM(I320:I323)","v":1},{"$f":"VLOOKUP(B324,town351,22)","v":842624},{"$f":"SUM(K320:K323)","v":842624},803953,{"$f":"SUM(M320:M323)","v":38671},4.8101070584972003,244,0,63,999,315,230,2548883.85,null,63,999,315,230,2548883.85]
[316,64,"CLINTON                      ",64,"CLINTON",20886485.84,1,{"$f":"U325","v":21129205.020000003},{"$f":"IF(H329>0, H325/H329, 0)","v":1},null,{"$f":"ROUND(J329*I325,0)","v":9447493},9674943,{"$f":"K325-L325","v":-227450},-2.3509182431359026,1991,0,64,64,316,1979,21129205.020000003,null,64,64,316,1979,21129205.020000003]
[317,64,null,998,null,0,0,0,{"$f":"IF(H329>0, H326/H329, 0)","v":0},null,{"$f":"ROUND(J329*I326,0)","v":0},0,{"$f":"K326-L326","v":0},0,0,0,64,998,317,0,0,null,64,998,317,0,0]
[318,64,null,998,null,0,0,0,{"$f":"IF(H329>0, H327/H329, 0)","v":0},null,{"$f":"ROUND(J329*I327,0)","v":0},0,{"$f":"K327-L327","v":0},0,0,0,64,998,318,0,0,null,64,998,318,0,0]
[319,64,null,998,null,0,0,0,{"$f":"IF(H329>0, H328/H329, 0)","v":0},null,{"$f":"ROUND(J329*I328,0)","v":0},0,{"$f":"K328-L328","v":0},0,0,0,64,998,319,0,0,null,64,998,319,0,0]
[320,64,"CLINTON                      ",999,"TOTAL",20886485.84,1,{"$f":"SUM(H325:H328)","v":21129205.020000003},{"$f":"SUM(I325:I328)","v":1},{"$f":"VLOOKUP(B329,town351,22)","v":9447493},{"$f":"SUM(K325:K328)","v":9447493},9674943,{"$f":"SUM(M325:M328)","v":-227450},-2.3509182431359026,1991,0,64,999,320,1979,21129205.020000003,null,64,999,320,1979,21129205.020000003]
[321,65,"COHASSET                     ",65,"COHASSET",14009300.662070001,0.99355962501455519,{"$f":"U330","v":14047813.289400002},{"$f":"IF(H334>0, H330/H334, 0)","v":0.99333941794312308},null,{"$f":"ROUND(J334*I330,0)","v":11589446},11815460,{"$f":"K330-L330","v":-226014},-1.912866701761929,1573,{"$f":"ABS(Q330-B330)+ABS(R330-D330)","v":0},{"$f":"IF($Q$6=1, W330, IF($Q$6=2, AC330, IF($Q$6=3, AI330, IF($Q$6=4, AO330, IF($Q$6=5, AU330, IF($Q$6=6, BA330, IF($Q$6=7, BG330, IF($Q$6=8, BM330, 0))))))))","v":65},{"$f":"IF($Q$6=1, X330, IF($Q$6=2, AD330, IF($Q$6=3, AJ330, IF($Q$6=4, AP330, IF($Q$6=5, AV330, IF($Q$6=6, BB330, IF($Q$6=7, BH330, IF($Q$6=8, BN330, 0))))))))","v":65},{"$f":"IF($Q$6=1, Y330, IF($Q$6=2, AE330, IF($Q$6=3, AK330, IF($Q$6=4, AQ330, IF($Q$6=5, AW330, IF($Q$6=6, BC330, IF($Q$6=7, BI330, IF($Q$6=8, BO330, 0))))))))","v":321},{"$f":"IF($Q$6=1, Z330, IF($Q$6=2, AF330, IF($Q$6=3, AL330, IF($Q$6=4, AR330, IF($Q$6=5, AX330, IF($Q$6=6, BD330, IF($Q$6=7, BJ330, IF($Q$6=8, BP330, 0))))))))","v":1553},{"$f":"IF($Q$6=1, AA330, IF($Q$6=2, AG330, IF($Q$6=3, AM330, IF($Q$6=4, AS330, IF($Q$6=5, AY330, IF($Q$6=6, BE330, IF($Q$6=7, BK330, IF($Q$6=8, BQ330, 0))))))))","v":14047813.289400002},null,65,65,321,1553,14047813.289400002]
[322,65,"COHASSET                     ",873,"SOUTH SHORE",75548,5.3579721330292733E-3,62898,{"$f":"IF(H334>0, H331/H334, 0)","v":4.4476005925371395E-3},null,{"$f":"ROUND(J334*I331,0)","v":51891},63717,{"$f":"K331-L331","v":-11826},-18.560195866095391,5,0,65,873,322,4,62898,null,65,873,322,4,62898]
[323,65,"COHASSET                     ",915,"NORFOLK COUNTY",15262,1.082402852415587E-3,31296,{"$f":"IF(H334>0, H332/H334, 0)","v":2.2129814643397617E-3},null,{"$f":"ROUND(J334*I332,0)","v":25819},12872,{"$f":"K332-L332","v":12947},100.58266003729024,1,0,65,915,323,2,31296,null,65,915,323,2,31296]
[324,65,null,998,null,0,0,0,{"$f":"IF(H334>0, H333/H334, 0)","v":0},null,{"$f":"ROUND(J334*I333,0)","v":0},0,{"$f":"K333-L333","v":0},0,0,0,65,998,324,0,0,null,65,998,324,0,0]
[325,65,"COHASSET                     ",999,"TOTAL",14100110.662070001,1,{"$f":"SUM(H330:H333)","v":14142007.289400002},{"$f":"SUM(I330:I333)","v":1},{"$f":"VLOOKUP(B334,town351,22)","v":11667156},{"$f":"SUM(K330:K333)","v":11667156},11892049,{"$f":"SUM(M330:M333)","v":-224893},-1.8911206975349664,1579,0,65,999,325,1559,14142007.289400002,null,65,999,325,1559,14142007.289400002]
[326,66,"COLRAIN                      ",66,"COLRAIN",13004.9,6.232645328027293E-3,{"$f":"U335","v":13199.960000000001},{"$f":"IF(H339>0, H335/H339, 0)","v":6.4158983799496427E-3},null,{"$f":"ROUND(J339*I335,0)","v":8002},7860,{"$f":"K335-L335","v":142},1.806615776081425,1,0,66,66,326,1,13199.960000000001,null,66,66,326,1,13199.960000000001]
[327,66,"COLRAIN                      ",717,"MOHAWK TRAIL",1714764,0.82180684459468301,1678624,{"$f":"IF(H339>0, H336/H339, 0)","v":0.81590254835200926},null,{"$f":"ROUND(J339*I336,0)","v":1017633},1036377,{"$f":"K336-L336","v":-18744},{"$f":"IF(L336>0,M336*100/L336,IF(M336>0,100,0))","v":-1.8086082574198385},174,0,66,717,327,169,1678624,null,66,717,327,169,1678624]
[328,66,"COLRAIN                      ",818,"FRANKLIN COUNTY",358809,0.17196051007728971,365559,{"$f":"IF(H339>0, H337/H339, 0)","v":0.17768155326804108},null,{"$f":"ROUND(J339*I337,0)","v":221613},216859,{"$f":"K337-L337","v":4754},{"$f":"IF(L337>0,M337*100/L337,IF(M337>0,100,0))","v":2.1922078401173111},23,0,66,818,328,23,365559,null,66,818,328,23,365559]
[329,66,null,998,null,0,0,0,{"$f":"IF(H339>0, H338/H339, 0)","v":0},null,{"$f":"ROUND(J339*I338,0)","v":0},0,{"$f":"K338-L338","v":0},{"$f":"IF(L338>0,M338*100/L338,IF(M338>0,100,0))","v":0},0,0,66,998,329,0,0,null,66,998,329,0,0]
[330,66,"COLRAIN                      ",999,"TOTAL",2086577.9,1,{"$f":"SUM(H335:H338)","v":2057382.96},{"$f":"SUM(I335:I338)","v":1},{"$f":"VLOOKUP(B339,town351,22)","v":1247248},{"$f":"SUM(K335:K338)","v":1247248},1261096,{"$f":"SUM(M335:M338)","v":-13848},{"$f":"IF(L339>0,M339*100/L339,IF(M339>0,100,0))","v":-1.0980924529139733},198,0,66,999,330,193,2057382.96,null,66,999,330,193,2057382.96]
[331,67,"CONCORD                      ",67,"CONCORD",18417417.455640003,0.65251867169546363,{"$f":"U340","v":18462886.786499996},{"$f":"IF(H344>0, H340/H344, 0)","v":0.6412515900155864},null,{"$f":"ROUND(J344*I340,0)","v":15231882},15844185,{"$f":"K340-L340","v":-612303},-3.8645282165034049,2088,0,67,67,331,2040,18462886.786499996,null,67,67,331,2040,18462886.786499996]
[332,67,"CONCORD                      ",640,"CONCORD CARLISLE",9691509,0.34336467610816157,10125817,{"$f":"IF(H344>0, H341/H344, 0)","v":0.35168911159682026},null,{"$f":"ROUND(J344*I341,0)","v":8353799},8337437,{"$f":"K341-L341","v":16362},0.1962473599500662,944,0,67,640,332,964,10125817,null,67,640,332,964,10125817]
[333,67,"CONCORD                      ",830,"MINUTEMAN",116193,4.1166521963747465E-3,203251,{"$f":"IF(H344>0, H342/H344, 0)","v":7.0592983875933484E-3},null,{"$f":"ROUND(J344*I342,0)","v":167682},99959,{"$f":"K342-L342","v":67723},67.750777818905746,7,0,67,830,333,12,203251,null,67,830,333,12,203251]
[334,67,null,998,null,0,0,0,{"$f":"IF(H344>0, H343/H344, 0)","v":0},null,{"$f":"ROUND(J344*I343,0)","v":0},0,{"$f":"K343-L343","v":0},0,0,0,67,998,334,0,0,null,67,998,334,0,0]
[335,67,"CONCORD                      ",999,"TOTAL",28225119.455640003,0.99999999999999989,{"$f":"SUM(H340:H343)","v":28791954.786499996},{"$f":"SUM(I340:I343)","v":1},{"$f":"VLOOKUP(B344,town351,22)","v":23753363},{"$f":"SUM(K340:K343)","v":23753363},24281581,{"$f":"SUM(M340:M343)","v":-528218},-2.1753855319387974,3039,0,67,999,335,3016,28791954.786499996,null,67,999,335,3016,28791954.786499996]
[336,68,"CONWAY                       ",68,"CONWAY",1306815.92,0.55871166319732102,{"$f":"U345","v":1311758.95},{"$f":"IF(H349>0, H345/H349, 0)","v":0.56990726812866777},null,{"$f":"ROUND(J349*I345,0)","v":1082201},1065116,{"$f":"K345-L345","v":17085},1.6040506386158879,147,0,68,68,336,145,1311758.95,null,68,68,336,145,1311758.95]
[337,68,"CONWAY                       ",670,"FRONTIER",922962,0.39460005513854302,910478,{"$f":"IF(H349>0, H346/H349, 0)","v":0.39556660137234295},null,{"$f":"ROUND(J349*I346,0)","v":751144},752257,{"$f":"K346-L346","v":-1113},-0.14795475482448153,93,0,68,670,337,91,910478,null,68,670,337,91,910478]
[338,68,"CONWAY                       ",818,"FRANKLIN COUNTY",109203,4.6688281664136022E-2,79469,{"$f":"IF(H349>0, H347/H349, 0)","v":3.4526130498989234E-2},null,{"$f":"ROUND(J349*I347,0)","v":65562},89006,{"$f":"K347-L347","v":-23444},-26.339797317034808,7,0,68,818,338,5,79469,null,68,818,338,5,79469]
[339,68,null,998,null,0,0,0,{"$f":"IF(H349>0, H348/H349, 0)","v":0},null,{"$f":"ROUND(J349*I348,0)","v":0},0,{"$f":"K348-L348","v":0},0,0,0,68,998,339,0,0,null,68,998,339,0,0]
[340,68,"CONWAY                       ",999,"TOTAL",2338980.92,1,{"$f":"SUM(H345:H348)","v":2301705.9500000002},{"$f":"SUM(I345:I348)","v":1},{"$f":"VLOOKUP(B349,town351,22)","v":1898907},{"$f":"SUM(K345:K348)","v":1898907},1906379,{"$f":"SUM(M345:M348)","v":-7472},-0.39194724658632935,247,0,68,999,340,241,2301705.9500000002,null,68,999,340,241,2301705.9500000002]
[341,69,"CUMMINGTON                   ",69,"CUMMINGTON",168011.94999999998,0.1835568370359012,{"$f":"U350","v":118799.64000000001},{"$f":"IF(H354>0, H350/H354, 0)","v":0.13586237255487588},null,{"$f":"ROUND(J354*I350,0)","v":98010},147058,{"$f":"K350-L350","v":-49048},-33.352826775829946,11,0,69,69,341,9,118799.64000000001,null,69,69,341,9,118799.64000000001]
[342,69,"CUMMINGTON                   ",635,"CENTRAL BERKSHIRE",747301,0.8164431629640988,755612,{"$f":"IF(H354>0, H351/H354, 0)","v":0.86413762744512412},null,{"$f":"ROUND(J354*I351,0)","v":623380},654100,{"$f":"K351-L351","v":-30720},-4.6965295826326248,76,0,69,635,342,76,755612,null,69,635,342,76,755612]
[343,69,null,998,null,0,0,0,{"$f":"IF(H354>0, H352/H354, 0)","v":0},null,{"$f":"ROUND(J354*I352,0)","v":0},0,{"$f":"K352-L352","v":0},0,0,0,69,998,343,0,0,null,69,998,343,0,0]
[344,69,null,998,null,0,0,0,{"$f":"IF(H354>0, H353/H354, 0)","v":0},null,{"$f":"ROUND(J354*I353,0)","v":0},0,{"$f":"K353-L353","v":0},0,0,0,69,998,344,0,0,null,69,998,344,0,0]
[345,69,"CUMMINGTON                   ",999,"TOTAL",915312.95,1,{"$f":"SUM(H350:H353)","v":874411.64},{"$f":"SUM(I350:I353)","v":1},{"$f":"VLOOKUP(B354,town351,22)","v":721390},{"$f":"SUM(K350:K353)","v":721390},801158,{"$f":"SUM(M350:M353)","v":-79768},-9.9565878391028981,87,0,69,999,345,85,874411.64,null,69,999,345,85,874411.64]
[346,70,"DALTON                       ",70,"DALTON",350080.55,3.4548806183855522E-2,{"$f":"U355","v":289331.62},{"$f":"IF(H359>0, H355/H359, 0)","v":2.9352460072279998E-2},null,{"$f":"ROUND(J359*I355,0)","v":148222},180975,{"$f":"K355-L355","v":-32753},-18.098079845282498,25,0,70,70,346,20,289331.62,null,70,70,346,20,289331.62]
[347,70,"DALTON                       ",635,"CENTRAL BERKSHIRE",9782847,0.96545119381614442,9567819,{"$f":"IF(H359>0, H356/H359, 0)","v":0.97064753992772013},null,{"$f":"ROUND(J359*I356,0)","v":4901522},5057271,{"$f":"K356-L356","v":-155749},-3.0797044492968637,999,0,70,635,347,961,9567819,null,70,635,347,961,9567819]
[348,70,null,998,null,0,0,0,{"$f":"IF(H359>0, H357/H359, 0)","v":0},null,{"$f":"ROUND(J359*I357,0)","v":0},0,{"$f":"K357-L357","v":0},0,0,0,70,998,348,0,0,null,70,998,348,0,0]
[349,70,null,998,null,0,0,0,{"$f":"IF(H359>0, H358/H359, 0)","v":0},null,{"$f":"ROUND(J359*I358,0)","v":0},0,{"$f":"K358-L358","v":0},0,0,0,70,998,349,0,0,null,70,998,349,0,0]
[350,70,"DALTON                       ",999,"TOTAL",10132927.550000001,0.99999999999999989,{"$f":"SUM(H355:H358)","v":9857150.6199999992},{"$f":"SUM(I355:I358)","v":1.0000000000000002},{"$f":"VLOOKUP(B359,town351,22)","v":5049744},{"$f":"SUM(K355:K358)","v":5049744},5238246,{"$f":"SUM(M355:M358)","v":-188502},-3.5985709720391137,1024,0,70,999,350,981,9857150.6199999992,null,70,999,350,981,9857150.6199999992]
[351,71,"DANVERS                      ",71,"DANVERS",34741461.949999996,0.96373242460537312,{"$f":"U360","v":34881940.840000004},{"$f":"IF(H364>0, H360/H364, 0)","v":0.95452604173821909},null,{"$f":"ROUND(J364*I360,0)","v":28777601},29063843,{"$f":"K360-L360","v":-286242},-0.98487319794563988,3717,0,71,71,351,3660,34881940.840000004,null,71,71,351,3660,34881940.840000004]
[352,71,"DANVERS                      ",817,"ESSEX NORTH SHORE",1307405,3.6267575394626939E-2,1661788,{"$f":"IF(H364>0, H361/H364, 0)","v":4.5473958261780925E-2},null,{"$f":"ROUND(J364*I361,0)","v":1370975},1093743,{"$f":"K361-L361","v":277232},25.347087935648503,84,0,71,817,352,107,1661788,null,71,817,352,107,1661788]
[353,71,null,998,"ESSEX COUNTY",0,0,0,{"$f":"IF(H364>0, H362/H364, 0)","v":0},null,{"$f":"ROUND(J364*I362,0)","v":0},0,{"$f":"K362-L362","v":0},0,0,0,71,998,353,0,0,null,71,998,353,0,0]
[354,71,null,998,null,0,0,0,{"$f":"IF(H364>0, H363/H364, 0)","v":0},null,{"$f":"ROUND(J364*I363,0)","v":0},0,{"$f":"K363-L363","v":0},0,0,0,71,998,354,0,0,null,71,998,354,0,0]
[355,71,"DANVERS                      ",999,"TOTAL",36048866.949999996,1,{"$f":"SUM(H360:H363)","v":36543728.840000004},{"$f":"SUM(I360:I363)","v":1},{"$f":"VLOOKUP(B364,town351,22)","v":30148576},{"$f":"SUM(K360:K363)","v":30148576},30157586,{"$f":"SUM(M360:M363)","v":-9010},-2.9876396605484273E-2,3801,0,71,999,355,3767,36543728.840000004,null,71,999,355,3767,36543728.840000004]
[356,72,"DARTMOUTH                    ",72,"DARTMOUTH",35239525.229999997,0.89361649045063085,{"$f":"U365","v":36075718.260000005},{"$f":"IF(H369>0, H365/H369, 0)","v":0.89571382407677536},null,{"$f":"ROUND(J369*I365,0)","v":29762467},29520834,{"$f":"K365-L365","v":241633},0.81851684813511705,3719,0,72,72,356,3721,36075718.260000005,null,72,72,356,3721,36075718.260000005]
[357,72,"DARTMOUTH                    ",825,"GREATER NEW BEDFORD",3970491,0.10068513152853893,3972124,{"$f":"IF(H369>0, H366/H369, 0)","v":9.8622745418545044E-2},null,{"$f":"ROUND(J369*I366,0)","v":3277002},3326157,{"$f":"K366-L366","v":-49155},-1.4778316237026694,253,0,72,825,357,248,3972124,null,72,825,357,248,3972124]
[358,72,"DARTMOUTH                    ",910,"BRISTOL COUNTY",224714,5.6983780208301939E-3,228100,{"$f":"IF(H369>0, H367/H369, 0)","v":5.6634305046796432E-3},null,{"$f":"ROUND(J369*I367,0)","v":188182},188247,{"$f":"K367-L367","v":-65},-3.4529102721424509E-2,15,0,72,910,358,15,228100,null,72,910,358,15,228100]
[359,72,null,998,null,0,0,0,{"$f":"IF(H369>0, H368/H369, 0)","v":0},null,{"$f":"ROUND(J369*I368,0)","v":0},0,{"$f":"K368-L368","v":0},0,0,0,72,998,359,0,0,null,72,998,359,0,0]
[360,72,"DARTMOUTH                    ",999,"TOTAL",39434730.229999997,1,{"$f":"SUM(H365:H368)","v":40275942.260000005},{"$f":"SUM(I365:I368)","v":1},{"$f":"VLOOKUP(B369,town351,22)","v":33227652},{"$f":"SUM(K365:K368)","v":33227651},33035238,{"$f":"SUM(M365:M368)","v":192413},0.58244774867370408,3987,0,72,999,360,3984,40275942.260000005,null,72,999,360,3984,40275942.260000005]
[361,73,"DEDHAM                       ",73,"DEDHAM",27117828.372749999,0.94205370753182516,{"$f":"U370","v":26929202.733199999},{"$f":"IF(H374>0, H370/H374, 0)","v":0.9391047679182396},null,{"$f":"ROUND(J374*I370,0)","v":22216592},24153827,{"$f":"K370-L370","v":-1937235},-8.0204060416595677,2731,0,73,73,361,2681,26929202.733199999,null,73,73,361,2681,26929202.733199999]
[362,73,"DEDHAM                       ",806,"BLUE HILLS",1255954,4.36309318698384E-2,1276753,{"$f":"IF(H374>0, H371/H374, 0)","v":4.4524334479301472E-2},null,{"$f":"ROUND(J374*I371,0)","v":1053321},1118677,{"$f":"K371-L371","v":-65356},-5.8422583104864048,79,0,73,806,362,79,1276753,null,73,806,362,79,1276753]
[363,73,"DEDHAM                       ",915,"NORFOLK COUNTY",412080,1.4315360598336411E-2,469442,{"$f":"IF(H374>0, H372/H374, 0)","v":1.6370897602458925E-2},null,{"$f":"ROUND(J374*I372,0)","v":387290},367039,{"$f":"K372-L372","v":20251},5.517397333798316,27,0,73,915,363,30,469442,null,73,915,363,30,469442]
[364,73,null,998,null,0,0,0,{"$f":"IF(H374>0, H373/H374, 0)","v":0},null,{"$f":"ROUND(J374*I373,0)","v":0},0,{"$f":"K373-L373","v":0},0,0,0,73,998,364,0,0,null,73,998,364,0,0]
[365,73,"DEDHAM                       ",999,"TOTAL",28785862.372749999,0.99999999999999989,{"$f":"SUM(H370:H373)","v":28675397.733199999},{"$f":"SUM(I370:I373)","v":1},{"$f":"VLOOKUP(B374,town351,22)","v":23657203},{"$f":"SUM(K370:K373)","v":23657203},25639543,{"$f":"SUM(M370:M373)","v":-1982340},-7.7315730627492076,2837,0,73,999,365,2790,28675397.733199999,null,73,999,365,2790,28675397.733199999]
[366,74,"DEERFIELD                    ",74,"DEERFIELD",3182088.0800000005,0.52081117260208143,{"$f":"U375","v":3228031.8499999992},{"$f":"IF(H379>0, H375/H379, 0)","v":0.52799843126474888},null,{"$f":"ROUND(J379*I375,0)","v":2663126},2730251,{"$f":"K375-L375","v":-67125},-2.4585651648877702,350,0,74,74,366,345,3228031.8499999992,null,74,74,366,345,3228031.8499999992]
[367,74,"DEERFIELD                    ",670,"FRONTIER",2600173,0.42556934787872736,2631381,{"$f":"IF(H379>0, H376/H379, 0)","v":0.43040623656171995},null,{"$f":"ROUND(J379*I376,0)","v":2170889},2230964,{"$f":"K376-L376","v":-60075},-2.6927821336426763,262,0,74,670,367,263,2631381,null,74,670,367,263,2631381]
[368,74,"DEERFIELD                    ",818,"FRANKLIN COUNTY",327608,5.3619479519191271E-2,254302,{"$f":"IF(H379>0, H377/H379, 0)","v":4.1595332173531126E-2},null,{"$f":"ROUND(J379*I377,0)","v":209799},281090,{"$f":"K377-L377","v":-71291},-25.36233946422854,21,0,74,818,368,16,254302,null,74,818,368,16,254302]
[369,74,null,998,null,0,0,0,{"$f":"IF(H379>0, H378/H379, 0)","v":0},null,{"$f":"ROUND(J379*I378,0)","v":0},0,{"$f":"K378-L378","v":0},0,0,0,74,998,369,0,0,null,74,998,369,0,0]
[370,74,"DEERFIELD                    ",999,"TOTAL",6109869.0800000001,1,{"$f":"SUM(H375:H378)","v":6113714.8499999996},{"$f":"SUM(I375:I378)","v":1},{"$f":"VLOOKUP(B379,town351,22)","v":5043815},{"$f":"SUM(K375:K378)","v":5043814},5242305,{"$f":"SUM(M375:M378)","v":-198491},-3.7863306312776537,633,0,74,999,370,624,6113714.8499999996,null,74,999,370,624,6113714.8499999996]
[371,75,"DENNIS                       ",75,"DENNIS",0,0,{"$f":"U380","v":0},{"$f":"IF(H384>0, H380/H384, 0)","v":0},null,{"$f":"ROUND(J384*I380,0)","v":0},0,{"$f":"K380-L380","v":0},0,0,0,75,75,371,0,0,null,75,75,371,0,0]
[372,75,"DENNIS                       ",645,"DENNIS YARMOUTH",12136080,0.90315887707192699,12665945,{"$f":"IF(H384>0, H381/H384, 0)","v":0.91124974567489037},null,{"$f":"ROUND(J384*I381,0)","v":10449405},10922472,{"$f":"K381-L381","v":-473067},-4.3311349298949908,1214,0,75,645,372,1218,12665945,null,75,645,372,1218,12665945]
[373,75,"DENNIS                       ",815,"CAPE COD",1301290,9.6841122928072981E-2,1233587,{"$f":"IF(H384>0, H382/H384, 0)","v":8.8750254325109648E-2},null,{"$f":"ROUND(J384*I382,0)","v":1017709},1171161,{"$f":"K382-L382","v":-153452},-13.102553790640227,85,0,75,815,373,79,1233587,null,75,815,373,79,1233587]
[374,75,null,998,null,0,0,0,{"$f":"IF(H384>0, H383/H384, 0)","v":0},null,{"$f":"ROUND(J384*I383,0)","v":0},0,{"$f":"K383-L383","v":0},0,0,0,75,998,374,0,0,null,75,998,374,0,0]
[375,75,"DENNIS                       ",999,"TOTAL",13437370,1,{"$f":"SUM(H380:H383)","v":13899532},{"$f":"SUM(I380:I383)","v":1},{"$f":"VLOOKUP(B384,town351,22)","v":11467114},{"$f":"SUM(K380:K383)","v":11467114},12093633,{"$f":"SUM(M380:M383)","v":-626519},-5.180568982042038,1299,0,75,999,375,1297,13899532,null,75,999,375,1297,13899532]
[376,76,"DIGHTON                      ",76,"DIGHTON",0,0,{"$f":"U385","v":0},{"$f":"IF(H389>0, H385/H389, 0)","v":0},null,{"$f":"ROUND(J389*I385,0)","v":0},0,{"$f":"K385-L385","v":0},0,0,0,76,76,376,0,0,null,76,76,376,0,0]
[377,76,"DIGHTON                      ",650,"DIGHTON REHOBOTH",11398818,0.93936077617046188,11657321,{"$f":"IF(H389>0, H386/H389, 0)","v":0.92122010848713776},null,{"$f":"ROUND(J389*I386,0)","v":5833093},6205681,{"$f":"K386-L386","v":-372588},-6.003982479924443,1180,0,76,650,377,1189,11657321,null,76,650,377,1189,11657321]
[378,76,"DIGHTON                      ",810,"BRISTOL PLYMOUTH",271426,2.2367840071913052E-2,571110,{"$f":"IF(H389>0, H387/H389, 0)","v":4.5131983253964544E-2},null,{"$f":"ROUND(J389*I387,0)","v":285772},147768,{"$f":"K387-L387","v":138004},93.392344756645556,18,0,76,810,378,37,571110,null,76,810,378,37,571110]
[379,76,"DIGHTON                      ",910,"BRISTOL COUNTY",464410,3.8271383757625066E-2,425788,{"$f":"IF(H389>0, H388/H389, 0)","v":3.3647908258897685E-2},null,{"$f":"ROUND(J389*I388,0)","v":213056},252832,{"$f":"K388-L388","v":-39776},-15.732185799265915,31,0,76,910,379,28,425788,null,76,910,379,28,425788]
[380,76,"DIGHTON                      ",999,"TOTAL",12134654,1,{"$f":"SUM(H385:H388)","v":12654219},{"$f":"SUM(I385:I388)","v":1},{"$f":"VLOOKUP(B389,town351,22)","v":6331921},{"$f":"SUM(K385:K388)","v":6331921},6606281,{"$f":"SUM(M385:M388)","v":-274360},-4.1530174087357166,1229,0,76,999,380,1254,12654219,null,76,999,380,1254,12654219]
[381,77,"DOUGLAS                      ",77,"DOUGLAS",13898746.319999997,0.92182240868703191,{"$f":"U390","v":13645814.699999997},{"$f":"IF(H394>0, H390/H394, 0)","v":0.91758365030666411},null,{"$f":"ROUND(J394*I390,0)","v":6463272},6212332,{"$f":"K390-L390","v":250940},4.0393848879937515,1508,0,77,77,381,1452,13645814.699999997,null,77,77,381,1452,13645814.699999997]
[382,77,"DOUGLAS                      ",805,"BLACKSTONE VALLEY",1178720,7.8177591312968045E-2,1225652,{"$f":"IF(H394>0, H391/H394, 0)","v":8.2416349693335916E-2},null,{"$f":"ROUND(J394*I391,0)","v":580524},526853,{"$f":"K391-L391","v":53671},10.187092035159713,79,0,77,805,382,81,1225652,null,77,805,382,81,1225652]
[383,77,null,998,null,0,0,0,{"$f":"IF(H394>0, H392/H394, 0)","v":0},null,{"$f":"ROUND(J394*I392,0)","v":0},0,{"$f":"K392-L392","v":0},0,0,0,77,998,383,0,0,null,77,998,383,0,0]
[384,77,null,998,null,0,0,0,{"$f":"IF(H394>0, H393/H394, 0)","v":0},null,{"$f":"ROUND(J394*I393,0)","v":0},0,{"$f":"K393-L393","v":0},0,0,0,77,998,384,0,0,null,77,998,384,0,0]
[385,77,"DOUGLAS                      ",999,"TOTAL",15077466.319999997,1,{"$f":"SUM(H390:H393)","v":14871466.699999997},{"$f":"SUM(I390:I393)","v":1},{"$f":"VLOOKUP(B394,town351,22)","v":7043796},{"$f":"SUM(K390:K393)","v":7043796},6739185,{"$f":"SUM(M390:M393)","v":304611},4.5199975961484959,1587,{"$f":"ABS(Q394-B394)+ABS(R394-D394)","v":0},{"$f":"IF($Q$6=1, W394, IF($Q$6=2, AC394, IF($Q$6=3, AI394, IF($Q$6=4, AO394, IF($Q$6=5, AU394, IF($Q$6=6, BA394, IF($Q$6=7, BG394, IF($Q$6=8, BM394, 0))))))))","v":77},{"$f":"IF($Q$6=1, X394, IF($Q$6=2, AD394, IF($Q$6=3, AJ394, IF($Q$6=4, AP394, IF($Q$6=5, AV394, IF($Q$6=6, BB394, IF($Q$6=7, BH394, IF($Q$6=8, BN394, 0))))))))","v":999},{"$f":"IF($Q$6=1, Y394, IF($Q$6=2, AE394, IF($Q$6=3, AK394, IF($Q$6=4, AQ394, IF($Q$6=5, AW394, IF($Q$6=6, BC394, IF($Q$6=7, BI394, IF($Q$6=8, BO394, 0))))))))","v":385},{"$f":"IF($Q$6=1, Z394, IF($Q$6=2, AF394, IF($Q$6=3, AL394, IF($Q$6=4, AR394, IF($Q$6=5, AX394, IF($Q$6=6, BD394, IF($Q$6=7, BJ394, IF($Q$6=8, BP394, 0))))))))","v":1533},{"$f":"IF($Q$6=1, AA394, IF($Q$6=2, AG394, IF($Q$6=3, AM394, IF($Q$6=4, AS394, IF($Q$6=5, AY394, IF($Q$6=6, BE394, IF($Q$6=7, BK394, IF($Q$6=8, BQ394, 0))))))))","v":14871466.699999997},null,77,999,385,1533,14871466.699999997]
[386,78,"DOVER                        ",78,"DOVER",4528034.3919200003,0.42555208811583595,{"$f":"U395","v":4322776.7936200006},{"$f":"IF(H399>0, H395/H399, 0)","v":0.40724276460669151},null,{"$f":"ROUND(J399*I395,0)","v":3566291},4059051,{"$f":"K395-L395","v":-492760},-12.139783412428176,517,0,78,78,386,480,4322776.7936200006,null,78,78,386,480,4322776.7936200006]
[387,78,"DOVER                        ",655,"DOVER SHERBORN",6065219,0.57001921516665099,6209856,{"$f":"IF(H399>0, H396/H399, 0)","v":0.58502186117541155},null,{"$f":"ROUND(J399*I396,0)","v":5123131},5437025,{"$f":"K396-L396","v":-313894},-5.7732675498089492,644,0,78,655,387,648,6209856,null,78,655,387,648,6209856]
[388,78,"DOVER                        ",830,"MINUTEMAN",16599,1.5600012056532896E-3,50813,{"$f":"IF(H399>0, H397/H399, 0)","v":4.787021765384928E-3},null,{"$f":"ROUND(J399*I397,0)","v":41921},14880,{"$f":"K397-L397","v":27041},181.7271505376344,1,0,78,830,388,3,50813,null,78,830,388,3,50813]
[389,78,"DOVER                        ",915,"NORFOLK COUNTY",30524,2.8686955118598116E-3,31296,{"$f":"IF(H399>0, H398/H399, 0)","v":2.9483524525118908E-3},null,{"$f":"ROUND(J399*I398,0)","v":25819},27363,{"$f":"K398-L398","v":-1544},-5.6426561415049523,2,0,78,915,389,2,31296,null,78,915,389,2,31296]
[390,78,"DOVER                        ",999,"TOTAL",10640376.39192,1,{"$f":"SUM(H395:H398)","v":10614741.793620002},{"$f":"SUM(I395:I398)","v":0.99999999999999989},{"$f":"VLOOKUP(B399,town351,22)","v":8757162},{"$f":"SUM(K395:K398)","v":8757162},9538319,{"$f":"SUM(M395:M398)","v":-781157},-8.1896715763018619,1164,0,78,999,390,1133,10614741.793620002,null,78,999,390,1133,10614741.793620002]
[391,79,"DRACUT                       ",79,"DRACUT",37334953.579999998,0.83520509429398049,{"$f":"U400","v":37644250.119999997},{"$f":"IF(H404>0, H400/H404, 0)","v":0.83903829116101192},null,{"$f":"ROUND(J404*I400,0)","v":20168359},19220889,{"$f":"K400-L400","v":947470},{"$f":"IF(L400>0,M400*100/L400,IF(M400>0,100,0))","v":4.9293765756620314},3957,0,79,79,391,3873,37644250.119999997,null,79,79,391,3873,37644250.119999997]
[392,79,"DRACUT                       ",828,"GREATER LOWELL",7366586,0.16479490570601954,7221700,{"$f":"IF(H404>0, H401/H404, 0)","v":0.16096170883898803},null,{"$f":"ROUND(J404*I401,0)","v":3869112},3792487,{"$f":"K401-L401","v":76625},{"$f":"IF(L401>0,M401*100/L401,IF(M401>0,100,0))","v":2.0204419949231203},467,0,79,828,392,453,7221700,null,79,828,392,453,7221700]
[393,79,null,998,"ESSEX COUNTY",0,0,0,{"$f":"IF(H404>0, H402/H404, 0)","v":0},null,{"$f":"ROUND(J404*I402,0)","v":0},0,{"$f":"K402-L402","v":0},{"$f":"IF(L402>0,M402*100/L402,IF(M402>0,100,0))","v":0},0,0,79,998,393,0,0,null,79,998,393,0,0]
[394,79,null,998,null,0,0,0,{"$f":"IF(H404>0, H403/H404, 0)","v":0},null,{"$f":"ROUND(J404*I403,0)","v":0},0,{"$f":"K403-L403","v":0},{"$f":"IF(L403>0,M403*100/L403,IF(M403>0,100,0))","v":0},0,0,79,998,394,0,0,null,79,998,394,0,0]
[395,79,"DRACUT                       ",999,"TOTAL",44701539.579999998,1,{"$f":"SUM(H400:H403)","v":44865950.119999997},{"$f":"SUM(I400:I403)","v":1},{"$f":"VLOOKUP(B404,town351,22)","v":24037471},{"$f":"SUM(K400:K403)","v":24037471},23013376,{"$f":"SUM(M400:M403)","v":1024095},{"$f":"IF(L404>0,M404*100/L404,IF(M404>0,100,0))","v":4.4499989918906291},4424,0,79,999,395,4326,44865950.119999997,null,79,999,395,4326,44865950.119999997]
[396,80,"DUDLEY                       ",80,"DUDLEY",13004.9,6.9257066308077225E-4,{"$f":"U405","v":13199.960000000001},{"$f":"IF(H409>0, H405/H409, 0)","v":6.8052473705738513E-4},null,{"$f":"ROUND(J409*I405,0)","v":3905},3770,{"$f":"K405-L405","v":135},3.5809018567639259,1,0,80,80,396,1,13199.960000000001,null,80,80,396,1,13199.960000000001]
[397,80,"DUDLEY                       ",658,"DUDLEY CHARLTON",16810577,0.8952404447293234,17416449,{"$f":"IF(H409>0, H406/H409, 0)","v":0.89790608276073236},null,{"$f":"ROUND(J409*I406,0)","v":5152575},4873616,{"$f":"K406-L406","v":278959},5.7238608868651122,1783,0,80,658,397,1799,17416449,null,80,658,397,1799,17416449]
[398,80,"DUDLEY                       ",876,"SOUTHERN WORCESTER",1954141,0.10406698460759585,1967089,{"$f":"IF(H409>0, H407/H409, 0)","v":0.1014133925022102},null,{"$f":"ROUND(J409*I407,0)","v":581954},566532,{"$f":"K407-L407","v":15422},2.7221763289628829,129,0,80,876,398,128,1967089,null,80,876,398,128,1967089]
[399,80,null,998,null,0,0,0,{"$f":"IF(H409>0, H408/H409, 0)","v":0},null,{"$f":"ROUND(J409*I408,0)","v":0},0,{"$f":"K408-L408","v":0},0,0,0,80,998,399,0,0,null,80,998,399,0,0]
[400,80,"DUDLEY                       ",999,"TOTAL",18777722.899999999,1,{"$f":"SUM(H405:H408)","v":19396737.960000001},{"$f":"SUM(I405:I408)","v":0.99999999999999989},{"$f":"VLOOKUP(B409,town351,22)","v":5738434},{"$f":"SUM(K405:K408)","v":5738434},5443918,{"$f":"SUM(M405:M408)","v":294516},5.410000664962257,1913,0,80,999,400,1928,19396737.960000001,null,80,999,400,1928,19396737.960000001]
[401,81,"DUNSTABLE                    ",81,"DUNSTABLE",0,0,{"$f":"U410","v":13199.960000000001},{"$f":"IF(H414>0, H410/H414, 0)","v":2.3729757682341775E-3},null,{"$f":"ROUND(J414*I410,0)","v":10022},0,{"$f":"K410-L410","v":10022},100,0,0,81,81,401,1,13199.960000000001,null,81,81,401,1,13199.960000000001]
[402,81,"DUNSTABLE                    ",673,"GROTON DUNSTABLE",5528946,0.95896079478836405,5374058,{"$f":"IF(H414>0, H411/H414, 0)","v":0.96610212539166984},null,{"$f":"ROUND(J414*I411,0)","v":4080427},4088752,{"$f":"K411-L411","v":-8325},-0.20360735989857051,602,0,81,673,402,574,5374058,null,81,673,402,574,5374058]
[403,81,"DUNSTABLE                    ",828,"GREATER LOWELL",236614,4.1039205211635989E-2,175361,{"$f":"IF(H414>0, H412/H414, 0)","v":3.1524898840095995E-2},null,{"$f":"ROUND(J414*I412,0)","v":133148},174980,{"$f":"K412-L412","v":-41832},-23.906732197965482,15,0,81,828,403,11,175361,null,81,828,403,11,175361]
[404,81,null,998,null,0,0,0,{"$f":"IF(H414>0, H413/H414, 0)","v":0},null,{"$f":"ROUND(J414*I413,0)","v":0},0,{"$f":"K413-L413","v":0},0,0,0,81,998,404,0,0,null,81,998,404,0,0]
[405,81,"DUNSTABLE                    ",999,"TOTAL",5765560,1,{"$f":"SUM(H410:H413)","v":5562618.96},{"$f":"SUM(I410:I413)","v":1},{"$f":"VLOOKUP(B414,town351,22)","v":4223598},{"$f":"SUM(K410:K413)","v":4223597},4263732,{"$f":"SUM(M410:M413)","v":-40135},-0.94131150832181765,617,0,81,999,405,586,5562618.96,null,81,999,405,586,5562618.96]
[406,82,"DUXBURY                      ",82,"DUXBURY",28945039.577839997,1,{"$f":"U415","v":29322453.03464001},{"$f":"IF(H419>0, H415/H419, 0)","v":1},null,{"$f":"ROUND(J419*I415,0)","v":24191024},24862384,{"$f":"K415-L415","v":-671360},-2.7003042025253894,3165,0,82,82,406,3134,29322453.03464001,null,82,82,406,3134,29322453.03464001]
[407,82,null,998,null,0,0,0,{"$f":"IF(H419>0, H416/H419, 0)","v":0},null,{"$f":"ROUND(J419*I416,0)","v":0},0,{"$f":"K416-L416","v":0},0,0,0,82,998,407,0,0,null,82,998,407,0,0]
[408,82,null,998,null,0,0,0,{"$f":"IF(H419>0, H417/H419, 0)","v":0},null,{"$f":"ROUND(J419*I417,0)","v":0},0,{"$f":"K417-L417","v":0},0,0,0,82,998,408,0,0,null,82,998,408,0,0]
[409,82,null,998,null,0,0,0,{"$f":"IF(H419>0, H418/H419, 0)","v":0},null,{"$f":"ROUND(J419*I418,0)","v":0},0,{"$f":"K418-L418","v":0},0,0,0,82,998,409,0,0,null,82,998,409,0,0]
[410,82,"DUXBURY                      ",999,"TOTAL",28945039.577839997,1,{"$f":"SUM(H415:H418)","v":29322453.03464001},{"$f":"SUM(I415:I418)","v":1},{"$f":"VLOOKUP(B419,town351,22)","v":24191024},{"$f":"SUM(K415:K418)","v":24191024},24862384,{"$f":"SUM(M415:M418)","v":-671360},-2.7003042025253894,3165,0,82,999,410,3134,29322453.03464001,null,82,999,410,3134,29322453.03464001]
[411,83,"EAST BRIDGEWATER             ",83,"EAST BRIDGEWATER",20492729.260000002,0.92705777922120769,{"$f":"U420","v":20764631.130000003},{"$f":"IF(H424>0, H420/H424, 0)","v":0.93271306813958599},null,{"$f":"ROUND(J424*I420,0)","v":10964339},10728557,{"$f":"K420-L420","v":235782},2.197704686660098,2210,0,83,83,411,2185,20764631.130000003,null,83,83,411,2185,20764631.130000003]
[412,83,"EAST BRIDGEWATER             ",872,"SOUTHEASTERN",1612397,7.2942220778792324E-2,1497983,{"$f":"IF(H424>0, H421/H424, 0)","v":6.7286931860413998E-2},null,{"$f":"ROUND(J424*I421,0)","v":790979},844138,{"$f":"K421-L421","v":-53159},-6.2974300410596369,103,0,83,872,412,94,1497983,null,83,872,412,94,1497983]
[413,83,null,998,null,0,0,0,{"$f":"IF(H424>0, H422/H424, 0)","v":0},null,{"$f":"ROUND(J424*I422,0)","v":0},0,{"$f":"K422-L422","v":0},0,0,0,83,998,413,0,0,null,83,998,413,0,0]
[414,83,null,998,null,0,0,0,{"$f":"IF(H424>0, H423/H424, 0)","v":0},null,{"$f":"ROUND(J424*I423,0)","v":0},0,{"$f":"K423-L423","v":0},0,0,0,83,998,414,0,0,null,83,998,414,0,0]
[415,83,"EAST BRIDGEWATER             ",999,"TOTAL",22105126.260000002,1,{"$f":"SUM(H420:H423)","v":22262614.130000003},{"$f":"SUM(I420:I423)","v":1},{"$f":"VLOOKUP(B424,town351,22)","v":11755318},{"$f":"SUM(K420:K423)","v":11755318},11572695,{"$f":"SUM(M420:M423)","v":182623},1.5780507479027142,2313,0,83,999,415,2279,22262614.130000003,null,83,999,415,2279,22262614.130000003]
[416,84,"EAST BROOKFIELD              ",84,"EAST BROOKFIELD",285056.05,7.3127426383145899E-2,{"$f":"U425","v":276131.65999999997},{"$f":"IF(H429>0, H425/H429, 0)","v":7.5235772256624131E-2},null,{"$f":"ROUND(J429*I425,0)","v":108182},99040,{"$f":"K425-L425","v":9142},9.2306138933764128,20,0,84,84,416,19,276131.65999999997,null,84,84,416,19,276131.65999999997]
[417,84,"EAST BROOKFIELD              ",767,"SPENCER EAST BROOKFIELD",3613017,0.92687257361685416,3394086,{"$f":"IF(H429>0, H426/H429, 0)","v":0.92476422774337586},null,{"$f":"ROUND(J429*I426,0)","v":1329724},1255303,{"$f":"K426-L426","v":74421},5.92852880937909,351,0,84,767,417,322,3394086,null,84,767,417,322,3394086]
[418,84,null,998,null,0,0,0,{"$f":"IF(H429>0, H427/H429, 0)","v":0},null,{"$f":"ROUND(J429*I427,0)","v":0},0,{"$f":"K427-L427","v":0},0,0,0,84,998,418,0,0,null,84,998,418,0,0]
[419,84,null,998,null,0,0,0,{"$f":"IF(H429>0, H428/H429, 0)","v":0},null,{"$f":"ROUND(J429*I428,0)","v":0},0,{"$f":"K428-L428","v":0},0,0,0,84,998,419,0,0,null,84,998,419,0,0]
[420,84,"EAST BROOKFIELD              ",999,"TOTAL",3898073.05,1,{"$f":"SUM(H425:H428)","v":3670217.66},{"$f":"SUM(I425:I428)","v":1},{"$f":"VLOOKUP(B429,town351,22)","v":1437906},{"$f":"SUM(K425:K428)","v":1437906},1354343,{"$f":"SUM(M425:M428)","v":83563},6.1700027245682962,371,0,84,999,420,341,3670217.66,null,84,999,420,341,3670217.66]
[421,85,"EASTHAM                      ",85,"EASTHAM",1871143.94,0.37812705560457449,{"$f":"U430","v":1830657.57},{"$f":"IF(H434>0, H430/H434, 0)","v":0.36376366210159083},null,{"$f":"ROUND(J434*I430,0)","v":1510293},1673613,{"$f":"K430-L430","v":-163320},-9.7585284053123384,202,0,85,85,421,184,1830657.57,null,85,85,421,184,1830657.57]
[422,85,"EASTHAM                      ",660,"NAUSET",2878288,0.58165411188087413,3014509,{"$f":"IF(H434>0, H431/H434, 0)","v":0.59900270331725913},null,{"$f":"ROUND(J434*I431,0)","v":2486970},2574437,{"$f":"K431-L431","v":-87467},-3.3975195353391827,296,0,85,660,422,298,3014509,null,85,660,422,298,3014509]
[423,85,"EASTHAM                      ",815,"CAPE COD",199021,4.0218832514551509E-2,187380,{"$f":"IF(H434>0, H432/H434, 0)","v":3.7233634581150032E-2},null,{"$f":"ROUND(J434*I432,0)","v":154589},178011,{"$f":"K432-L432","v":-23422},-13.157613855323547,13,0,85,815,423,12,187380,null,85,815,423,12,187380]
[424,85,null,998,null,0,0,0,{"$f":"IF(H434>0, H433/H434, 0)","v":0},null,{"$f":"ROUND(J434*I433,0)","v":0},0,{"$f":"K433-L433","v":0},0,0,0,85,998,424,0,0,null,85,998,424,0,0]
[425,85,"EASTHAM                      ",999,"TOTAL",4948452.9399999995,1.0000000000000002,{"$f":"SUM(H430:H433)","v":5032546.57},{"$f":"SUM(I430:I433)","v":1},{"$f":"VLOOKUP(B434,town351,22)","v":4151851},{"$f":"SUM(K430:K433)","v":4151852},4426061,{"$f":"SUM(M430:M433)","v":-274209},-6.1953280806568189,511,0,85,999,425,494,5032546.57,null,85,999,425,494,5032546.57]
[426,86,"EASTHAMPTON                  ",86,"EASTHAMPTON",17813516.280000001,1,{"$f":"U435","v":18095294},{"$f":"IF(H439>0, H435/H439, 0)","v":1},null,{"$f":"ROUND(J439*I435,0)","v":11740238},11344349,{"$f":"K435-L435","v":395889},3.489746304525716,1782,0,86,86,426,1774,18095294,null,86,86,426,1774,18095294]
[427,86,null,998,null,0,0,0,{"$f":"IF(H439>0, H436/H439, 0)","v":0},null,{"$f":"ROUND(J439*I436,0)","v":0},0,{"$f":"K436-L436","v":0},0,0,0,86,998,427,0,0,null,86,998,427,0,0]
[428,86,null,998,null,0,0,0,{"$f":"IF(H439>0, H437/H439, 0)","v":0},null,{"$f":"ROUND(J439*I437,0)","v":0},0,{"$f":"K437-L437","v":0},0,0,0,86,998,428,0,0,null,86,998,428,0,0]
[429,86,null,998,null,0,0,0,{"$f":"IF(H439>0, H438/H439, 0)","v":0},null,{"$f":"ROUND(J439*I438,0)","v":0},0,{"$f":"K438-L438","v":0},0,0,0,86,998,429,0,0,null,86,998,429,0,0]
[430,86,"EASTHAMPTON                  ",999,"TOTAL",17813516.280000001,1,{"$f":"SUM(H435:H438)","v":18095294},{"$f":"SUM(I435:I438)","v":1},{"$f":"VLOOKUP(B439,town351,22)","v":11740238},{"$f":"SUM(K435:K438)","v":11740238},11344349,{"$f":"SUM(M435:M438)","v":395889},3.489746304525716,1782,0,86,999,430,1774,18095294,null,86,999,430,1774,18095294]
[431,87,"EAST LONGMEADOW              ",87,"EAST LONGMEADOW",25028520.540000003,1,{"$f":"U440","v":25486357.480000004},{"$f":"IF(H444>0, H440/H444, 0)","v":1},null,{"$f":"ROUND(J444*I440,0)","v":15989870},15784772,{"$f":"K440-L440","v":205098},1.2993409090736312,2680,0,87,87,431,2646,25486357.480000004,null,87,87,431,2646,25486357.480000004]
[432,87,null,998,null,0,0,0,{"$f":"IF(H444>0, H441/H444, 0)","v":0},null,{"$f":"ROUND(J444*I441,0)","v":0},0,{"$f":"K441-L441","v":0},0,0,0,87,998,432,0,0,null,87,998,432,0,0]
[433,87,null,998,null,0,0,0,{"$f":"IF(H444>0, H442/H444, 0)","v":0},null,{"$f":"ROUND(J444*I442,0)","v":0},0,{"$f":"K442-L442","v":0},0,0,0,87,998,433,0,0,null,87,998,433,0,0]
[434,87,null,998,null,0,0,0,{"$f":"IF(H444>0, H443/H444, 0)","v":0},null,{"$f":"ROUND(J444*I443,0)","v":0},0,{"$f":"K443-L443","v":0},0,0,0,87,998,434,0,0,null,87,998,434,0,0]
[435,87,"EAST LONGMEADOW              ",999,"TOTAL",25028520.540000003,1,{"$f":"SUM(H440:H443)","v":25486357.480000004},{"$f":"SUM(I440:I443)","v":1},{"$f":"VLOOKUP(B444,town351,22)","v":15989870},{"$f":"SUM(K440:K443)","v":15989870},15784772,{"$f":"SUM(M440:M443)","v":205098},1.2993409090736312,2680,0,87,999,435,2646,25486357.480000004,null,87,999,435,2646,25486357.480000004]
[436,88,"EASTON                       ",88,"EASTON",34368780.379999988,0.97735393140584559,{"$f":"U445","v":34281775.100000001},{"$f":"IF(H449>0, H445/H449, 0)","v":0.97338641524068614},null,{"$f":"ROUND(J449*I445,0)","v":26036262},25617334,{"$f":"K445-L445","v":418928},1.6353302025886065,3767,0,88,88,436,3691,34281775.100000001,null,88,88,436,3691,34281775.100000001]
[437,88,"EASTON                       ",872,"SOUTHEASTERN",751409,2.1368012833853586E-2,876479,{"$f":"IF(H449>0, H446/H449, 0)","v":2.4886481209187482E-2},null,{"$f":"ROUND(J449*I446,0)","v":665667},560075,{"$f":"K446-L446","v":105592},18.853189305003795,48,0,88,872,437,55,876479,null,88,872,437,55,876479]
[438,88,"EASTON                       ",910,"BRISTOL COUNTY",44943,1.2780557603008238E-3,60827,{"$f":"IF(H449>0, H447/H449, 0)","v":1.7271035501264115E-3},null,{"$f":"ROUND(J449*I447,0)","v":46197},33499,{"$f":"K447-L447","v":12698},37.90560912266038,3,0,88,910,438,4,60827,null,88,910,438,4,60827]
[439,88,null,998,null,0,0,0,{"$f":"IF(H449>0, H448/H449, 0)","v":0},null,{"$f":"ROUND(J449*I448,0)","v":0},0,{"$f":"K448-L448","v":0},0,0,0,88,998,439,0,0,null,88,998,439,0,0]
[440,88,"EASTON                       ",999,"TOTAL",35165132.379999988,1,{"$f":"SUM(H445:H448)","v":35219081.100000001},{"$f":"SUM(I445:I448)","v":1},{"$f":"VLOOKUP(B449,town351,22)","v":26748126},{"$f":"SUM(K445:K448)","v":26748126},26210908,{"$f":"SUM(M445:M448)","v":537218},2.04959706088778,3818,0,88,999,440,3750,35219081.100000001,null,88,999,440,3750,35219081.100000001]
[441,89,"EDGARTOWN                    ",89,"EDGARTOWN",3756339.3899999997,0.63620774844607719,{"$f":"U450","v":3949969.68},{"$f":"IF(H454>0, H450/H454, 0)","v":0.6496539189708046},null,{"$f":"ROUND(J454*I450,0)","v":3258725},3220458,{"$f":"K450-L450","v":38267},1.1882471375189492,405,0,89,89,441,406,3949969.68,null,89,89,441,406,3949969.68]
[442,89,"EDGARTOWN                    ",700,"MARTHAS VINEYARD",2147926,0.36379225155392281,2130144,{"$f":"IF(H454>0, H451/H454, 0)","v":0.35034608102919551},null,{"$f":"ROUND(J454*I451,0)","v":1757369},1841502,{"$f":"K451-L451","v":-84133},-4.5687161892846166,193,0,89,700,442,187,2130144,null,89,700,442,187,2130144]
[443,89,null,998,null,0,0,0,{"$f":"IF(H454>0, H452/H454, 0)","v":0},null,{"$f":"ROUND(J454*I452,0)","v":0},0,{"$f":"K452-L452","v":0},0,0,0,89,998,443,0,0,null,89,998,443,0,0]
[444,89,null,998,null,0,0,0,{"$f":"IF(H454>0, H453/H454, 0)","v":0},null,{"$f":"ROUND(J454*I453,0)","v":0},0,{"$f":"K453-L453","v":0},0,0,0,89,998,444,0,0,null,89,998,444,0,0]
[445,89,"EDGARTOWN                    ",999,"TOTAL",5904265.3899999997,1,{"$f":"SUM(H450:H453)","v":6080113.6799999997},{"$f":"SUM(I450:I453)","v":1},{"$f":"VLOOKUP(B454,town351,22)","v":5016094},{"$f":"SUM(K450:K453)","v":5016094},5061960,{"$f":"SUM(M450:M453)","v":-45866},-0.90609171151095624,598,0,89,999,445,593,6080113.6799999997,null,89,999,445,593,6080113.6799999997]
[446,90,"EGREMONT                     ",90,"EGREMONT",0,0,{"$f":"U455","v":0},{"$f":"IF(H459>0, H455/H459, 0)","v":0},null,{"$f":"ROUND(J459*I455,0)","v":0},0,{"$f":"K455-L455","v":0},0,0,0,90,90,446,0,0,null,90,90,446,0,0]
[447,90,"EGREMONT                     ",765,"SOUTHERN BERKSHIRE",823988,1,1009781,{"$f":"IF(H459>0, H456/H459, 0)","v":1},null,{"$f":"ROUND(J459*I456,0)","v":772365},741589,{"$f":"K456-L456","v":30776},4.1500076187753594,89,0,90,765,447,101,1009781,null,90,765,447,101,1009781]
[448,90,null,998,null,0,0,0,{"$f":"IF(H459>0, H457/H459, 0)","v":0},null,{"$f":"ROUND(J459*I457,0)","v":0},0,{"$f":"K457-L457","v":0},0,0,0,90,998,448,0,0,null,90,998,448,0,0]
[449,90,null,998,null,0,0,0,{"$f":"IF(H459>0, H458/H459, 0)","v":0},null,{"$f":"ROUND(J459*I458,0)","v":0},0,{"$f":"K458-L458","v":0},0,0,{"$f":"ABS(Q458-B458)+ABS(R458-D458)","v":0},{"$f":"IF($Q$6=1, W458, IF($Q$6=2, AC458, IF($Q$6=3, AI458, IF($Q$6=4, AO458, IF($Q$6=5, AU458, IF($Q$6=6, BA458, IF($Q$6=7, BG458, IF($Q$6=8, BM458, 0))))))))","v":90},{"$f":"IF($Q$6=1, X458, IF($Q$6=2, AD458, IF($Q$6=3, AJ458, IF($Q$6=4, AP458, IF($Q$6=5, AV458, IF($Q$6=6, BB458, IF($Q$6=7, BH458, IF($Q$6=8, BN458, 0))))))))","v":998},{"$f":"IF($Q$6=1, Y458, IF($Q$6=2, AE458, IF($Q$6=3, AK458, IF($Q$6=4, AQ458, IF($Q$6=5, AW458, IF($Q$6=6, BC458, IF($Q$6=7, BI458, IF($Q$6=8, BO458, 0))))))))","v":449},{"$f":"IF($Q$6=1, Z458, IF($Q$6=2, AF458, IF($Q$6=3, AL458, IF($Q$6=4, AR458, IF($Q$6=5, AX458, IF($Q$6=6, BD458, IF($Q$6=7, BJ458, IF($Q$6=8, BP458, 0))))))))","v":0},{"$f":"IF($Q$6=1, AA458, IF($Q$6=2, AG458, IF($Q$6=3, AM458, IF($Q$6=4, AS458, IF($Q$6=5, AY458, IF($Q$6=6, BE458, IF($Q$6=7, BK458, IF($Q$6=8, BQ458, 0))))))))","v":0},null,90,998,449,0,0]
[450,90,"EGREMONT                     ",999,"TOTAL",823988,1,{"$f":"SUM(H455:H458)","v":1009781},{"$f":"SUM(I455:I458)","v":1},{"$f":"VLOOKUP(B459,town351,22)","v":772365},{"$f":"SUM(K455:K458)","v":772365},741589,{"$f":"SUM(M455:M458)","v":30776},4.1500076187753594,89,0,90,999,450,101,1009781,null,90,999,450,101,1009781]
[451,91,"ERVING                       ",91,"ERVING",2387006.7599999998,0.86441411488141862,{"$f":"U460","v":2412269.36},{"$f":"IF(H464>0, H460/H464, 0)","v":0.8303912217813485},null,{"$f":"ROUND(J464*I460,0)","v":1990122},2050836,{"$f":"K460-L460","v":-60714},-2.9604512501243394,257,0,91,91,451,255,2412269.36,null,91,91,451,255,2412269.36]
[452,91,"ERVING                       ",818,"FRANKLIN COUNTY",374409,0.13558588511858136,492710,{"$f":"IF(H464>0, H461/H464, 0)","v":0.16960877821865145},null,{"$f":"ROUND(J464*I461,0)","v":406486},321680,{"$f":"K461-L461","v":84806},26.363466799303655,24,0,91,818,452,31,492710,null,91,818,452,31,492710]
[453,91,null,998,null,0,0,0,{"$f":"IF(H464>0, H462/H464, 0)","v":0},null,{"$f":"ROUND(J464*I462,0)","v":0},0,{"$f":"K462-L462","v":0},0,0,0,91,998,453,0,0,null,91,998,453,0,0]
[454,91,null,998,null,0,0,0,{"$f":"IF(H464>0, H463/H464, 0)","v":0},null,{"$f":"ROUND(J464*I463,0)","v":0},0,{"$f":"K463-L463","v":0},0,0,0,91,998,454,0,0,null,91,998,454,0,0]
[455,91,"ERVING                       ",999,"TOTAL",2761415.76,1,{"$f":"SUM(H460:H463)","v":2904979.36},{"$f":"SUM(I460:I463)","v":1},{"$f":"VLOOKUP(B464,town351,22)","v":2396608},{"$f":"SUM(K460:K463)","v":2396608},2372516,{"$f":"SUM(M460:M463)","v":24092},{"$f":"IF(L464>0,M464*100/L464,IF(M464>0,100,0))","v":1.0154620664307428},281,0,91,999,455,286,2904979.36,null,91,999,455,286,2904979.36]
[456,92,"ESSEX                        ",92,"ESSEX",0,0,{"$f":"U465","v":0},{"$f":"IF(H469>0, H465/H469, 0)","v":0},null,{"$f":"ROUND(J469*I465,0)","v":0},0,{"$f":"K465-L465","v":0},0,0,0,92,92,456,0,0,null,92,92,456,0,0]
[457,92,"ESSEX                        ",698,"MANCHESTER ESSEX",5306899,0.9884046952630916,5270503,{"$f":"IF(H469>0, H466/H469, 0)","v":0.96860369530231605},null,{"$f":"ROUND(J469*I466,0)","v":4348165},4493006,{"$f":"K466-L466","v":-144841},-3.2236992338759398,579,0,92,698,457,564,5270503,null,92,698,457,564,5270503]
[458,92,"ESSEX                        ",817,"ESSEX NORTH SHORE",62257,1.159530473690837E-2,170838,{"$f":"IF(H469>0, H467/H469, 0)","v":3.1396304697683897E-2},null,{"$f":"ROUND(J469*I467,0)","v":140941},52709,{"$f":"K467-L467","v":88232},167.39456259841774,4,0,92,817,458,11,170838,null,92,817,458,11,170838]
[459,92,null,998,null,0,0,0,{"$f":"IF(H469>0, H468/H469, 0)","v":0},null,{"$f":"ROUND(J469*I468,0)","v":0},0,{"$f":"K468-L468","v":0},0,0,0,92,998,459,0,0,null,92,998,459,0,0]
[460,92,"ESSEX                        ",999,"TOTAL",5369156,1,{"$f":"SUM(H465:H468)","v":5441341},{"$f":"SUM(I465:I468)","v":1},{"$f":"VLOOKUP(B469,town351,22)","v":4489106},{"$f":"SUM(K465:K468)","v":4489106},4545715,{"$f":"SUM(M465:M468)","v":-56609},-1.2453266427833685,583,0,92,999,460,575,5441341,null,92,999,460,575,5441341]
[461,93,"EVERETT                      ",93,"EVERETT",85328324.66643998,1,{"$f":"U470","v":89667949.965919986},{"$f":"IF(H474>0, H470/H474, 0)","v":1},null,{"$f":"ROUND(J474*I470,0)","v":25666047},24693137,{"$f":"K470-L470","v":972910},3.9400016287926478,7295,0,93,93,461,7490,89667949.965919986,null,93,93,461,7490,89667949.965919986]
[462,93,null,998,null,0,0,0,{"$f":"IF(H474>0, H471/H474, 0)","v":0},null,{"$f":"ROUND(J474*I471,0)","v":0},0,{"$f":"K471-L471","v":0},0,0,0,93,998,462,0,0,null,93,998,462,0,0]
[463,93,null,998,null,0,0,0,{"$f":"IF(H474>0, H472/H474, 0)","v":0},null,{"$f":"ROUND(J474*I472,0)","v":0},0,{"$f":"K472-L472","v":0},0,0,0,93,998,463,0,0,null,93,998,463,0,0]
[464,93,null,998,null,0,0,0,{"$f":"IF(H474>0, H473/H474, 0)","v":0},null,{"$f":"ROUND(J474*I473,0)","v":0},0,{"$f":"K473-L473","v":0},0,0,0,93,998,464,0,0,null,93,998,464,0,0]
[465,93,"EVERETT                      ",999,"TOTAL",85328324.66643998,1,{"$f":"SUM(H470:H473)","v":89667949.965919986},{"$f":"SUM(I470:I473)","v":1},{"$f":"VLOOKUP(B474,town351,22)","v":25666047},{"$f":"SUM(K470:K473)","v":25666047},24693137,{"$f":"SUM(M470:M473)","v":972910},3.9400016287926478,7295,0,93,999,465,7490,89667949.965919986,null,93,999,465,7490,89667949.965919986]
[466,94,"FAIRHAVEN                    ",94,"FAIRHAVEN",17736701.940000001,0.8330485297779302,{"$f":"U475","v":17707799.16},{"$f":"IF(H479>0, H475/H479, 0)","v":0.8394866133921699},null,{"$f":"ROUND(J479*I475,0)","v":11363006},11371020,{"$f":"K475-L475","v":-8014},-7.0477406600287396E-2,1803,0,94,94,466,1785,17707799.16,null,94,94,466,1785,17707799.16]
[467,94,"FAIRHAVEN                    ",825,"GREATER NEW BEDFORD",3389826,0.15921164910227961,3203326,{"$f":"IF(H479>0, H476/H479, 0)","v":0.15186242350238435},null,{"$f":"ROUND(J479*I476,0)","v":2055558},2173221,{"$f":"K476-L476","v":-117663},-5.4142215632924584,216,0,94,825,467,200,3203326,null,94,825,467,200,3203326]
[468,94,"FAIRHAVEN                    ",910,"BRISTOL COUNTY",164791,7.7398211197901483E-3,182480,{"$f":"IF(H479>0, H477/H479, 0)","v":8.6509631054457452E-3},null,{"$f":"ROUND(J479*I477,0)","v":117097},105648,{"$f":"K477-L477","v":11449},10.836930183250038,11,0,94,910,468,12,182480,null,94,910,468,12,182480]
[469,94,null,998,null,0,0,0,{"$f":"IF(H479>0, H478/H479, 0)","v":0},null,{"$f":"ROUND(J479*I478,0)","v":0},0,{"$f":"K478-L478","v":0},0,0,0,94,998,469,0,0,null,94,998,469,0,0]
[470,94,"FAIRHAVEN                    ",999,"TOTAL",21291318.940000001,0.99999999999999989,{"$f":"SUM(H475:H478)","v":21093605.16},{"$f":"SUM(I475:I478)","v":1},{"$f":"VLOOKUP(B479,town351,22)","v":13535661},{"$f":"SUM(K475:K478)","v":13535661},13649889,{"$f":"SUM(M475:M478)","v":-114228},-0.83684196992371152,2030,0,94,999,470,1997,21093605.16,null,94,999,470,1997,21093605.16]
[471,95,"FALL RIVER                   ",95,"FALL RIVER",126851512.44000001,0.87904728053260506,{"$f":"U480","v":130963260.19999999},{"$f":"IF(H484>0, H480/H484, 0)","v":0.87819227804394606},null,{"$f":"ROUND(J484*I480,0)","v":25218449},23922480,{"$f":"K480-L480","v":1295969},5.4173689349933616,11142,0,95,95,471,11317,130963260.19999999,null,95,95,471,11317,130963260.19999999]
[472,95,"FALL RIVER                   ",821,"GREATER FALL RIVER",16824964,0.11659253062713408,17495875,{"$f":"IF(H484>0, H481/H484, 0)","v":0.11732101277226853},null,{"$f":"ROUND(J484*I481,0)","v":3369028},3172961,{"$f":"K481-L481","v":196067},6.1793069628022534,1096,0,95,821,472,1108,17495875,null,95,821,472,1108,17495875]
[473,95,"FALL RIVER                   ",910,"BRISTOL COUNTY",629200,4.3601888402609815E-3,669095,{"$f":"IF(H484>0, H482/H484, 0)","v":4.4867091837853786E-3},null,{"$f":"ROUND(J484*I482,0)","v":128842},118659,{"$f":"K482-L482","v":10183},8.5817342131654577,42,0,95,910,473,44,669095,null,95,910,473,44,669095]
[474,95,null,998,null,0,0,0,{"$f":"IF(H484>0, H483/H484, 0)","v":0},null,{"$f":"ROUND(J484*I483,0)","v":0},0,{"$f":"K483-L483","v":0},0,0,0,95,998,474,0,0,null,95,998,474,0,0]
[475,95,"FALL RIVER                   ",999,"TOTAL",144305676.44,1,{"$f":"SUM(H480:H483)","v":149128230.19999999},{"$f":"SUM(I480:I483)","v":0.99999999999999989},{"$f":"VLOOKUP(B484,town351,22)","v":28716318},{"$f":"SUM(K480:K483)","v":28716319},27214100,{"$f":"SUM(M480:M483)","v":1502219},5.5200024987047156,12280,0,95,999,475,12469,149128230.19999999,null,95,999,475,12469,149128230.19999999]
[476,96,"FALMOUTH                     ",96,"FALMOUTH",34334682.75,0.94165159083441052,{"$f":"U485","v":35910247.149999999},{"$f":"IF(H489>0, H485/H489, 0)","v":0.94824893763083151},null,{"$f":"ROUND(J489*I485,0)","v":29625954},30535810,{"$f":"K485-L485","v":-909856},-2.979636040439078,3576,0,96,96,476,3575,35910247.149999999,null,96,96,476,3575,35910247.149999999]
[477,96,"FALMOUTH                     ",879,"UPPER CAPE COD",2127511,5.8348409165589497E-2,1959816,{"$f":"IF(H489>0, H486/H489, 0)","v":5.1751062369168509E-2},null,{"$f":"ROUND(J489*I486,0)","v":1616848},1892118,{"$f":"K486-L486","v":-275270},-14.548246990938198,145,0,96,879,477,128,1959816,null,96,879,477,128,1959816]
[478,96,null,998,null,0,0,0,{"$f":"IF(H489>0, H487/H489, 0)","v":0},null,{"$f":"ROUND(J489*I487,0)","v":0},0,{"$f":"K487-L487","v":0},0,0,0,96,998,478,0,0,null,96,998,478,0,0]
[479,96,null,998,null,0,0,0,{"$f":"IF(H489>0, H488/H489, 0)","v":0},null,{"$f":"ROUND(J489*I488,0)","v":0},0,{"$f":"K488-L488","v":0},0,0,0,96,998,479,0,0,null,96,998,479,0,0]
[480,96,"FALMOUTH                     ",999,"TOTAL",36462193.75,1,{"$f":"SUM(H485:H488)","v":37870063.149999999},{"$f":"SUM(I485:I488)","v":1},{"$f":"VLOOKUP(B489,town351,22)","v":31242802},{"$f":"SUM(K485:K488)","v":31242802},32427928,{"$f":"SUM(M485:M488)","v":-1185126},-3.6546460816121216,3721,0,96,999,480,3703,37870063.149999999,null,96,999,480,3703,37870063.149999999]
[481,97,"FITCHBURG                    ",97,"FITCHBURG",61364752.100000001,0.90997863048948546,{"$f":"U490","v":62363310.040000007},{"$f":"IF(H494>0, H490/H494, 0)","v":0.90831011585681087},null,{"$f":"ROUND(J494*I490,0)","v":16662973},15954871,{"$f":"K490-L490","v":708102},4.4381555952411018,5482,0,97,97,481,5491,62363310.040000007,null,97,97,481,5491,62363310.040000007]
[482,97,"FITCHBURG                    ",832,"MONTACHUSETT",6070625,9.002136951051469E-2,6295300,{"$f":"IF(H494>0, H491/H494, 0)","v":9.1689884143189099E-2},null,{"$f":"ROUND(J494*I491,0)","v":1682053},1578366,{"$f":"K491-L491","v":103687},6.5692621356516803,403,0,97,832,482,412,6295300,null,97,832,482,412,6295300]
[483,97,null,998,null,0,0,0,{"$f":"IF(H494>0, H492/H494, 0)","v":0},null,{"$f":"ROUND(J494*I492,0)","v":0},0,{"$f":"K492-L492","v":0},0,0,0,97,998,483,0,0,null,97,998,483,0,0]
[484,97,null,998,null,0,0,0,{"$f":"IF(H494>0, H493/H494, 0)","v":0},null,{"$f":"ROUND(J494*I493,0)","v":0},0,{"$f":"K493-L493","v":0},0,0,0,97,998,484,0,0,null,97,998,484,0,0]
[485,97,"FITCHBURG                    ",999,"TOTAL",67435377.099999994,1.0000000000000002,{"$f":"SUM(H490:H493)","v":68658610.040000007},{"$f":"SUM(I490:I493)","v":1},{"$f":"VLOOKUP(B494,town351,22)","v":18345026},{"$f":"SUM(K490:K493)","v":18345026},17533237,{"$f":"SUM(M490:M493)","v":811789},4.6300007237682355,5885,0,97,999,485,5903,68658610.040000007,null,97,999,485,5903,68658610.040000007]
[486,98,"FLORIDA                      ",98,"FLORIDA",924504.84,0.74283082418259472,{"$f":"U495","v":872994.29},{"$f":"IF(H499>0, H495/H499, 0)","v":0.73754846360849136},null,{"$f":"ROUND(J499*I495,0)","v":468646},460528,{"$f":"K495-L495","v":8118},1.7627592676232497,89,0,98,98,486,85,872994.29,null,98,98,486,85,872994.29]
[487,98,"FLORIDA                      ",851,"NORTHERN BERKSHIRE",320065,0.25716917581740534,310649,{"$f":"IF(H499>0, H496/H499, 0)","v":0.26245153639150864},null,{"$f":"ROUND(J499*I496,0)","v":166765},159435,{"$f":"K496-L496","v":7330},4.5974848684416845,21,0,98,851,487,20,310649,null,98,851,487,20,310649]
[488,98,null,998,null,0,0,0,{"$f":"IF(H499>0, H497/H499, 0)","v":0},null,{"$f":"ROUND(J499*I497,0)","v":0},0,{"$f":"K497-L497","v":0},0,0,0,98,998,488,0,0,null,98,998,488,0,0]
[489,98,null,998,null,0,0,0,{"$f":"IF(H499>0, H498/H499, 0)","v":0},null,{"$f":"ROUND(J499*I498,0)","v":0},0,{"$f":"K498-L498","v":0},0,0,0,98,998,489,0,0,null,98,998,489,0,0]
[490,98,"FLORIDA                      ",999,"TOTAL",1244569.8399999999,1,{"$f":"SUM(H495:H498)","v":1183643.29},{"$f":"SUM(I495:I498)","v":1},{"$f":"VLOOKUP(B499,town351,22)","v":635411},{"$f":"SUM(K495:K498)","v":635411},619963,{"$f":"SUM(M495:M498)","v":15448},2.491761605128048,110,0,98,999,490,105,1183643.29,null,98,999,490,105,1183643.29]
[491,99,"FOXBOROUGH                   ",99,"FOXBOROUGH",26242664.986009996,0.98089600010124689,{"$f":"U500","v":26484573.869379997},{"$f":"IF(H504>0, H500/H504, 0)","v":0.97780207738566804},null,{"$f":"ROUND(J504*I500,0)","v":21012275},20657534,{"$f":"K500-L500","v":354741},1.7172475669167482,2729,0,99,99,491,2690,26484573.869379997,null,99,99,491,2690,26484573.869379997]
[492,99,"FOXBOROUGH                   ",872,"SOUTHEASTERN",297433,1.1117424246113989E-2,366528,{"$f":"IF(H504>0, H501/H504, 0)","v":1.3532097650034951E-2},null,{"$f":"ROUND(J504*I501,0)","v":290795},234131,{"$f":"K501-L501","v":56664},24.201835724444862,19,0,99,872,492,23,366528,null,99,872,492,23,366528]
[493,99,"FOXBOROUGH                   ",915,"NORFOLK COUNTY",213671,7.9865756526391555E-3,234721,{"$f":"IF(H504>0, H502/H504, 0)","v":8.6658249642970076E-3},null,{"$f":"ROUND(J504*I502,0)","v":186222},168196,{"$f":"K502-L502","v":18026},10.717258436585889,14,0,99,915,493,15,234721,null,99,915,493,15,234721]
[494,99,null,998,null,0,0,0,{"$f":"IF(H504>0, H503/H504, 0)","v":0},null,{"$f":"ROUND(J504*I503,0)","v":0},0,{"$f":"K503-L503","v":0},0,0,0,99,998,494,0,0,null,99,998,494,0,0]
[495,99,"FOXBOROUGH                   ",999,"TOTAL",26753768.986009996,1,{"$f":"SUM(H500:H503)","v":27085822.869379997},{"$f":"SUM(I500:I503)","v":1},{"$f":"VLOOKUP(B504,town351,22)","v":21489293},{"$f":"SUM(K500:K503)","v":21489292},21059861,{"$f":"SUM(M500:M503)","v":429431},2.0390970291779227,2762,0,99,999,495,2728,27085822.869379997,null,99,999,495,2728,27085822.869379997]
[496,100,"FRAMINGHAM                   ",100,"FRAMINGHAM",91598610.68881999,0.91739250915517723,{"$f":"U505","v":95619668.628199995},{"$f":"IF(H509>0, H505/H509, 0)","v":0.91672261393436105},null,{"$f":"ROUND(J509*I505,0)","v":55930159},58137448,{"$f":"K505-L505","v":-2207289},-3.7966733593122286,8572,0,100,100,496,8641,95619668.628199995,null,100,100,496,8641,95619668.628199995]
[497,100,"FRAMINGHAM                   ",829,"SOUTH MIDDLESEX",8248085,8.2607490844822745E-2,8686331,{"$f":"IF(H509>0, H506/H509, 0)","v":8.327738606563892E-2},null,{"$f":"ROUND(J509*I506,0)","v":5080836},5235042,{"$f":"K506-L506","v":-154206},-2.9456497197157159,496,0,100,829,497,514,8686331,null,100,829,497,514,8686331]
[498,100,null,998,null,0,0,0,{"$f":"IF(H509>0, H507/H509, 0)","v":0},null,{"$f":"ROUND(J509*I507,0)","v":0},0,{"$f":"K507-L507","v":0},0,0,0,100,998,498,0,0,null,100,998,498,0,0]
[499,100,null,998,null,0,0,0,{"$f":"IF(H509>0, H508/H509, 0)","v":0},null,{"$f":"ROUND(J509*I508,0)","v":0},0,{"$f":"K508-L508","v":0},0,0,0,100,998,499,0,0,null,100,998,499,0,0]
[500,100,"FRAMINGHAM                   ",999,"TOTAL",99846695.68881999,1,{"$f":"SUM(H505:H508)","v":104305999.62819999},{"$f":"SUM(I505:I508)","v":1},{"$f":"VLOOKUP(B509,town351,22)","v":61010995},{"$f":"SUM(K505:K508)","v":61010995},63372490,{"$f":"SUM(M505:M508)","v":-2361495},-3.7263724369990827,9068,0,100,999,500,9155,104305999.62819999,null,100,999,500,9155,104305999.62819999]
[501,101,"FRANKLIN                     ",101,"FRANKLIN",57559562.145959996,0.93796072634457195,{"$f":"U510","v":57388919.031509995},{"$f":"IF(H514>0, H510/H514, 0)","v":0.94378511635452256},null,{"$f":"ROUND(J514*I510,0)","v":34322367},32626068,{"$f":"K510-L510","v":1696299},5.1992137084983705,6194,0,101,101,501,6086,57388919.031509995,null,101,101,501,6086,57388919.031509995]
[502,101,"FRANKLIN                     ",878,"TRI COUNTY",3578213,5.8308700402981736E-2,3214844,{"$f":"IF(H514>0, H511/H514, 0)","v":5.2869473232902711E-2},null,{"$f":"ROUND(J514*I511,0)","v":1922689},2028212,{"$f":"K511-L511","v":-105523},-5.2027598692838817,231,0,101,878,502,203,3214844,null,101,878,502,203,3214844]
[503,101,"FRANKLIN                     ",915,"NORFOLK COUNTY",228933,3.7305732524463516E-3,203425,{"$f":"IF(H514>0, H512/H514, 0)","v":3.3454104125746802E-3},null,{"$f":"ROUND(J514*I512,0)","v":121662},129764,{"$f":"K512-L512","v":-8102},-6.2436423044912299,15,0,101,915,503,13,203425,null,101,915,503,13,203425]
[504,101,null,998,null,0,0,0,{"$f":"IF(H514>0, H513/H514, 0)","v":0},null,{"$f":"ROUND(J514*I513,0)","v":0},0,{"$f":"K513-L513","v":0},0,0,0,101,998,504,0,0,null,101,998,504,0,0]
[505,101,"FRANKLIN                     ",999,"TOTAL",61366708.145959996,1,{"$f":"SUM(H510:H513)","v":60807188.031509995},{"$f":"SUM(I510:I513)","v":0.99999999999999989},{"$f":"VLOOKUP(B514,town351,22)","v":36366718},{"$f":"SUM(K510:K513)","v":36366718},34784044,{"$f":"SUM(M510:M513)","v":1582674},4.5499999942502374,6440,0,101,999,505,6302,60807188.031509995,null,101,999,505,6302,60807188.031509995]
[506,102,"FREETOWN                     ",102,"FREETOWN",1283278.0999999999,0.10316907972245508,{"$f":"U515","v":1342125.9200000004},{"$f":"IF(H519>0, H515/H519, 0)","v":0.1058693633477855},null,{"$f":"ROUND(J519*I515,0)","v":919463},908860,{"$f":"K515-L515","v":10603},1.1666263230860638,91,0,102,102,506,94,1342125.9200000004,null,102,102,506,94,1342125.9200000004]
[507,102,"FREETOWN                     ",665,"FREETOWN LAKEVILLE",10885657,0.87515185902751813,11076549,{"$f":"IF(H519>0, H516/H519, 0)","v":0.87373857642250863},null,{"$f":"ROUND(J519*I516,0)","v":7588317},7709580,{"$f":"K516-L516","v":-121263},-1.5728872389935638,1181,0,102,665,507,1183,11076549,null,102,665,507,1183,11076549]
[508,102,"FREETOWN                     ",910,"BRISTOL COUNTY",269657,2.1679061250026842E-2,258514,{"$f":"IF(H519>0, H517/H519, 0)","v":2.0392060229705876E-2},null,{"$f":"ROUND(J519*I517,0)","v":177103},190980,{"$f":"K517-L517","v":-13877},-7.2662058854330294,18,0,102,910,508,17,258514,null,102,910,508,17,258514]
[509,102,null,998,null,0,0,0,{"$f":"IF(H519>0, H518/H519, 0)","v":0},null,{"$f":"ROUND(J519*I518,0)","v":0},0,{"$f":"K518-L518","v":0},0,0,0,102,998,509,0,0,null,102,998,509,0,0]
[510,102,"FREETOWN                     ",999,"TOTAL",12438592.1,1,{"$f":"SUM(H515:H518)","v":12677188.92},{"$f":"SUM(I515:I518)","v":1},{"$f":"VLOOKUP(B519,town351,22)","v":8684883},{"$f":"SUM(K515:K518)","v":8684883},8809420,{"$f":"SUM(M515:M518)","v":-124537},-1.4136799017415449,1290,0,102,999,510,1294,12677188.92,null,102,999,510,1294,12677188.92]
[511,103,"GARDNER                      ",103,"GARDNER",26236297.479999997,0.90964658755749017,{"$f":"U520","v":27133681.380000003},{"$f":"IF(H524>0, H520/H524, 0)","v":0.91876991842942712},null,{"$f":"ROUND(J524*I520,0)","v":8111579},7521101,{"$f":"K520-L520","v":590478},7.8509516093454934,2470,0,103,103,511,2505,27133681.380000003,null,103,103,511,2505,27133681.380000003]
[512,103,"GARDNER                      ",832,"MONTACHUSETT",2606000,9.0353412442509773E-2,2398937,{"$f":"IF(H524>0, H521/H524, 0)","v":8.1230081570572876E-2},null,{"$f":"ROUND(J524*I521,0)","v":717159},747056,{"$f":"K521-L521","v":-29897},-4.0019757554989184,173,0,103,832,512,157,2398937,null,103,832,512,157,2398937]
[513,103,null,998,null,0,0,0,{"$f":"IF(H524>0, H522/H524, 0)","v":0},null,{"$f":"ROUND(J524*I522,0)","v":0},0,{"$f":"K522-L522","v":0},0,0,{"$f":"ABS(Q522-B522)+ABS(R522-D522)","v":0},{"$f":"IF($Q$6=1, W522, IF($Q$6=2, AC522, IF($Q$6=3, AI522, IF($Q$6=4, AO522, IF($Q$6=5, AU522, IF($Q$6=6, BA522, IF($Q$6=7, BG522, IF($Q$6=8, BM522, 0))))))))","v":103},{"$f":"IF($Q$6=1, X522, IF($Q$6=2, AD522, IF($Q$6=3, AJ522, IF($Q$6=4, AP522, IF($Q$6=5, AV522, IF($Q$6=6, BB522, IF($Q$6=7, BH522, IF($Q$6=8, BN522, 0))))))))","v":998},{"$f":"IF($Q$6=1, Y522, IF($Q$6=2, AE522, IF($Q$6=3, AK522, IF($Q$6=4, AQ522, IF($Q$6=5, AW522, IF($Q$6=6, BC522, IF($Q$6=7, BI522, IF($Q$6=8, BO522, 0))))))))","v":513},{"$f":"IF($Q$6=1, Z522, IF($Q$6=2, AF522, IF($Q$6=3, AL522, IF($Q$6=4, AR522, IF($Q$6=5, AX522, IF($Q$6=6, BD522, IF($Q$6=7, BJ522, IF($Q$6=8, BP522, 0))))))))","v":0},{"$f":"IF($Q$6=1, AA522, IF($Q$6=2, AG522, IF($Q$6=3, AM522, IF($Q$6=4, AS522, IF($Q$6=5, AY522, IF($Q$6=6, BE522, IF($Q$6=7, BK522, IF($Q$6=8, BQ522, 0))))))))","v":0},null,103,998,513,0,0]
[514,103,null,998,null,0,0,0,{"$f":"IF(H524>0, H523/H524, 0)","v":0},null,{"$f":"ROUND(J524*I523,0)","v":0},0,{"$f":"K523-L523","v":0},0,0,0,103,998,514,0,0,null,103,998,514,0,0]
[515,103,"GARDNER                      ",999,"TOTAL",28842297.479999997,1,{"$f":"SUM(H520:H523)","v":29532618.380000003},{"$f":"SUM(I520:I523)","v":1},{"$f":"VLOOKUP(B524,town351,22)","v":8828738},{"$f":"SUM(K520:K523)","v":8828738},8268157,{"$f":"SUM(M520:M523)","v":560581},6.7799994605811182,2643,0,103,999,515,2662,29532618.380000003,null,103,999,515,2662,29532618.380000003]
[516,104,"AQUINNAH",104,"AQUINNAH",0,0,{"$f":"U525","v":0},{"$f":"IF(H529>0, H525/H529, 0)","v":0},null,{"$f":"ROUND(J529*I525,0)","v":0},0,{"$f":"K525-L525","v":0},0,0,0,104,104,516,0,0,null,104,104,516,0,0]
[517,104,"AQUINNAH",700,"MARTHAS VINEYARD",111291,0.28628867331897917,170867,{"$f":"IF(H529>0, H526/H529, 0)","v":0.34617052140229176},null,{"$f":"ROUND(J529*I526,0)","v":125436},100162,{"$f":"K526-L526","v":25274},25.233122341806276,10,0,104,700,517,15,170867,null,104,700,517,15,170867]
[518,104,"AQUINNAH",774,"UPISLAND",277446,0.71371132668102089,322725,{"$f":"IF(H529>0, H527/H529, 0)","v":0.65382947859770824},null,{"$f":"ROUND(J529*I527,0)","v":236917},249701,{"$f":"K527-L527","v":-12784},-5.1197231889339649,32,0,104,774,518,35,322725,null,104,774,518,35,322725]
[519,104,null,998,null,0,0,0,{"$f":"IF(H529>0, H528/H529, 0)","v":0},null,{"$f":"ROUND(J529*I528,0)","v":0},0,{"$f":"K528-L528","v":0},{"$f":"IF(L528>0,M528*100/L528,IF(M528>0,100,0))","v":0},0,0,104,998,519,0,0,null,104,998,519,0,0]
[520,104,"AQUINNAH",999,"TOTAL",388737,1,{"$f":"SUM(H525:H528)","v":493592},{"$f":"SUM(I525:I528)","v":1},{"$f":"VLOOKUP(B529,town351,22)","v":362353},{"$f":"SUM(K525:K528)","v":362353},349863,{"$f":"SUM(M525:M528)","v":12490},{"$f":"IF(L529>0,M529*100/L529,IF(M529>0,100,0))","v":3.5699688163652628},42,0,104,999,520,50,493592,null,104,999,520,50,493592]
[521,105,"GEORGETOWN                   ",105,"GEORGETOWN",13311710.359999999,0.9567922564519864,{"$f":"U530","v":12726852.809999999},{"$f":"IF(H534>0, H530/H534, 0)","v":0.94863075604514746},null,{"$f":"ROUND(J534*I530,0)","v":9137713},8894215,{"$f":"K530-L530","v":243498},2.7377120971327993,1490,0,105,105,521,1389,12726852.809999999,null,105,105,521,1389,12726852.809999999]
[522,105,"GEORGETOWN                   ",885,"WHITTIER",601143,4.3207743548013648E-2,689171,{"$f":"IF(H534>0, H531/H534, 0)","v":5.1369243954852525E-2},null,{"$f":"ROUND(J534*I531,0)","v":494816},401654,{"$f":"K531-L531","v":93162},23.194590368824908,39,0,105,885,522,44,689171,null,105,885,522,44,689171]
[523,105,null,998,"ESSEX COUNTY",0,0,0,{"$f":"IF(H534>0, H532/H534, 0)","v":0},null,{"$f":"ROUND(J534*I532,0)","v":0},0,{"$f":"K532-L532","v":0},0,0,0,105,998,523,0,0,null,105,998,523,0,0]
[524,105,null,998,null,0,0,0,{"$f":"IF(H534>0, H533/H534, 0)","v":0},null,{"$f":"ROUND(J534*I533,0)","v":0},0,{"$f":"K533-L533","v":0},0,0,0,105,998,524,0,0,null,105,998,524,0,0]
[525,105,"GEORGETOWN                   ",999,"TOTAL",13912853.359999999,1,{"$f":"SUM(H530:H533)","v":13416023.809999999},{"$f":"SUM(I530:I533)","v":1},{"$f":"VLOOKUP(B534,town351,22)","v":9632529},{"$f":"SUM(K530:K533)","v":9632529},9295869,{"$f":"SUM(M530:M533)","v":336660},3.6216086952171982,1529,0,105,999,525,1433,13416023.809999999,null,105,999,525,1433,13416023.809999999]
[526,106,"GILL                         ",106,"GILL",0,0,{"$f":"U535","v":0},{"$f":"IF(H539>0, H535/H539, 0)","v":0},null,{"$f":"ROUND(J539*I535,0)","v":0},0,{"$f":"K535-L535","v":0},0,0,0,106,106,526,0,0,null,106,106,526,0,0]
[527,106,"GILL                         ",674,"GILL MONTAGUE",1569055,0.92632027005805684,1659812,{"$f":"IF(H539>0, H536/H539, 0)","v":0.95430928067402565},null,{"$f":"ROUND(J539*I536,0)","v":1012595},966832,{"$f":"K536-L536","v":45763},4.7332938918033332,151,0,106,674,527,159,1659812,null,106,674,527,159,1659812]
[528,106,"GILL                         ",818,"FRANKLIN COUNTY",124803,7.3679729941943189E-2,79469,{"$f":"IF(H539>0, H537/H539, 0)","v":4.5690719325974356E-2},null,{"$f":"ROUND(J539*I537,0)","v":48481},76902,{"$f":"K537-L537","v":-28421},-36.957426334815743,8,0,106,818,528,5,79469,null,106,818,528,5,79469]
[529,106,null,998,null,0,0,0,{"$f":"IF(H539>0, H538/H539, 0)","v":0},null,{"$f":"ROUND(J539*I538,0)","v":0},0,{"$f":"K538-L538","v":0},0,0,0,106,998,529,0,0,null,106,998,529,0,0]
[530,106,"GILL                         ",999,"TOTAL",1693858,1,{"$f":"SUM(H535:H538)","v":1739281},{"$f":"SUM(I535:I538)","v":1},{"$f":"VLOOKUP(B539,town351,22)","v":1061076},{"$f":"SUM(K535:K538)","v":1061076},1043734,{"$f":"SUM(M535:M538)","v":17342},1.6615344522646576,159,0,106,999,530,164,1739281,null,106,999,530,164,1739281]
[531,107,"GLOUCESTER                   ",107,"GLOUCESTER",35333205.213599995,0.97508738370202308,{"$f":"U540","v":34881817.403679989},{"$f":"IF(H544>0, H540/H544, 0)","v":0.96560600908624927},null,{"$f":"ROUND(J544*I540,0)","v":28777499},30916076,{"$f":"K540-L540","v":-2138577},-6.9173623457258939,3348,0,107,107,531,3237,34881817.403679989,null,107,107,531,3237,34881817.403679989]
[532,107,"GLOUCESTER                   ",817,"ESSEX NORTH SHORE",902732,2.491261629797693E-2,1242458,{"$f":"IF(H544>0, H541/H544, 0)","v":3.4393990913750769E-2},null,{"$f":"ROUND(J544*I541,0)","v":1025028},789878,{"$f":"K541-L541","v":235150},29.770420242113339,58,0,107,817,532,80,1242458,null,107,817,532,80,1242458]
[533,107,null,998,"ESSEX COUNTY",0,0,0,{"$f":"IF(H544>0, H542/H544, 0)","v":0},null,{"$f":"ROUND(J544*I542,0)","v":0},0,{"$f":"K542-L542","v":0},0,0,0,107,998,533,0,0,null,107,998,533,0,0]
[534,107,null,998,null,0,0,0,{"$f":"IF(H544>0, H543/H544, 0)","v":0},null,{"$f":"ROUND(J544*I543,0)","v":0},0,{"$f":"K543-L543","v":0},0,0,0,107,998,534,0,0,null,107,998,534,0,0]
[535,107,"GLOUCESTER                   ",999,"TOTAL",36235937.213599995,1,{"$f":"SUM(H540:H543)","v":36124275.403679989},{"$f":"SUM(I540:I543)","v":1},{"$f":"VLOOKUP(B544,town351,22)","v":29802527},{"$f":"SUM(K540:K543)","v":29802527},31705954,{"$f":"SUM(M540:M543)","v":-1903427},-6.0033740035073535,3406,0,107,999,535,3317,36124275.403679989,null,107,999,535,3317,36124275.403679989]
[536,108,"GOSHEN                       ",108,"GOSHEN",168011.94999999998,0.14690931561348267,{"$f":"U545","v":105599.68000000001},{"$f":"IF(H549>0, H545/H549, 0)","v":9.3772636259068565E-2},null,{"$f":"ROUND(J549*I545,0)","v":71097},107732,{"$f":"K545-L545","v":-36635},-34.005680763375786,11,0,108,108,536,8,105599.68000000001,null,108,108,536,8,105599.68000000001]
[537,108,"GOSHEN                       ",632,"CHESTERFIELD GOSHEN",622428,0.54424980781824628,607185,{"$f":"IF(H549>0, H546/H549, 0)","v":0.53918097239463747},null,{"$f":"ROUND(J549*I546,0)","v":408797},399110,{"$f":"K546-L546","v":9687},2.4271504096614969,72,0,108,632,537,64,607185,null,108,632,537,64,607185]
[538,108,"GOSHEN                       ",683,"HAMPSHIRE",353204,0.30884087656827108,413340,{"$f":"IF(H549>0, H547/H549, 0)","v":0.36704639134629385},null,{"$f":"ROUND(J549*I547,0)","v":278288},226480,{"$f":"K547-L547","v":51808},22.875309078064287,37,0,108,683,538,42,413340,null,108,683,538,42,413340]
[539,108,null,998,null,0,0,0,{"$f":"IF(H549>0, H548/H549, 0)","v":0},null,{"$f":"ROUND(J549*I548,0)","v":0},0,{"$f":"K548-L548","v":0},0,0,0,108,998,539,0,0,null,108,998,539,0,0]
[540,108,"GOSHEN                       ",999,"TOTAL",1143643.95,1,{"$f":"SUM(H545:H548)","v":1126124.6800000002},{"$f":"SUM(I545:I548)","v":0.99999999999999978},{"$f":"VLOOKUP(B549,town351,22)","v":758182},{"$f":"SUM(K545:K548)","v":758182},733322,{"$f":"SUM(M545:M548)","v":24860},3.3900523917187813,120,0,108,999,540,114,1126124.6800000002,null,108,999,540,114,1126124.6800000002]
[541,109,"GOSNOLD                      ",109,"GOSNOLD",22957.61,1,{"$f":"U550","v":31484.75},{"$f":"IF(H554>0, H550/H554, 0)","v":1},null,{"$f":"ROUND(J554*I550,0)","v":22007},20662,{"$f":"K550-L550","v":1345},6.5095344109960314,3,0,109,109,541,4,31484.75,null,109,109,541,4,31484.75]
[542,109,null,998,null,0,0,0,{"$f":"IF(H554>0, H551/H554, 0)","v":0},null,{"$f":"ROUND(J554*I551,0)","v":0},0,{"$f":"K551-L551","v":0},0,0,0,109,998,542,0,0,null,109,998,542,0,0]
[543,109,null,998,null,0,0,0,{"$f":"IF(H554>0, H552/H554, 0)","v":0},null,{"$f":"ROUND(J554*I552,0)","v":0},0,{"$f":"K552-L552","v":0},0,0,0,109,998,543,0,0,null,109,998,543,0,0]
[544,109,null,998,null,0,0,0,{"$f":"IF(H554>0, H553/H554, 0)","v":0},null,{"$f":"ROUND(J554*I553,0)","v":0},0,{"$f":"K553-L553","v":0},0,0,0,109,998,544,0,0,null,109,998,544,0,0]
[545,109,"GOSNOLD                      ",999,"TOTAL",22957.61,1,{"$f":"SUM(H550:H553)","v":31484.75},{"$f":"SUM(I550:I553)","v":1},{"$f":"VLOOKUP(B554,town351,22)","v":22007},{"$f":"SUM(K550:K553)","v":22007},20662,{"$f":"SUM(M550:M553)","v":1345},6.5095344109960314,3,0,109,999,545,4,31484.75,null,109,999,545,4,31484.75]
[546,110,"GRAFTON                      ",110,"GRAFTON",28066998.630000003,0.96116709413434032,{"$f":"U555","v":29002097.030000001},{"$f":"IF(H559>0, H555/H559, 0)","v":0.96427977469242554},null,{"$f":"ROUND(J559*I555,0)","v":18689770},17847710,{"$f":"K555-L555","v":842060},4.7180282512434371,3103,0,110,110,546,3159,29002097.030000001,null,110,110,546,3159,29002097.030000001]
[547,110,"GRAFTON                      ",805,"BLACKSTONE VALLEY",1133958,3.8832905865659642E-2,1074337,{"$f":"IF(H559>0, H556/H559, 0)","v":3.5720225307574467E-2},null,{"$f":"ROUND(J559*I556,0)","v":692333},721080,{"$f":"K556-L556","v":-28747},-3.9866589005380817,76,0,110,805,547,71,1074337,null,110,805,547,71,1074337]
[548,110,null,998,null,0,0,0,{"$f":"IF(H559>0, H557/H559, 0)","v":0},null,{"$f":"ROUND(J559*I557,0)","v":0},0,{"$f":"K557-L557","v":0},0,0,0,110,998,548,0,0,null,110,998,548,0,0]
[549,110,null,998,null,0,0,0,{"$f":"IF(H559>0, H558/H559, 0)","v":0},null,{"$f":"ROUND(J559*I558,0)","v":0},0,{"$f":"K558-L558","v":0},0,0,0,110,998,549,0,0,null,110,998,549,0,0]
[550,110,"GRAFTON                      ",999,"TOTAL",29200956.630000003,1,{"$f":"SUM(H555:H558)","v":30076434.030000001},{"$f":"SUM(I555:I558)","v":1},{"$f":"VLOOKUP(B559,town351,22)","v":19382103},{"$f":"SUM(K555:K558)","v":19382103},18568790,{"$f":"SUM(M555:M558)","v":813313},4.3799999892292387,3179,0,110,999,550,3230,30076434.030000001,null,110,999,550,3230,30076434.030000001]
[551,111,"GRANBY                       ",111,"GRANBY",8273052.5900000017,0.9537151921284277,{"$f":"U560","v":7978374.4699999979},{"$f":"IF(H564>0, H560/H564, 0)","v":0.95990797669754568},null,{"$f":"ROUND(J564*I560,0)","v":4658238},4695999,{"$f":"K560-L560","v":-37761},-0.80411005198254937,852,0,111,111,551,812,7978374.4699999979,null,111,111,551,812,7978374.4699999979]
[552,111,"GRANBY                       ",860,"PATHFINDER",401500,4.6284807871572305E-2,333229,{"$f":"IF(H564>0, H561/H564, 0)","v":4.0092023302454309E-2},null,{"$f":"ROUND(J564*I561,0)","v":194558},227902,{"$f":"K561-L561","v":-33344},-14.630850102236927,26,0,111,860,552,21,333229,null,111,860,552,21,333229]
[553,111,null,998,null,0,0,0,{"$f":"IF(H564>0, H562/H564, 0)","v":0},null,{"$f":"ROUND(J564*I562,0)","v":0},0,{"$f":"K562-L562","v":0},0,0,0,111,998,553,0,0,null,111,998,553,0,0]
[554,111,null,998,null,0,0,0,{"$f":"IF(H564>0, H563/H564, 0)","v":0},null,{"$f":"ROUND(J564*I563,0)","v":0},0,{"$f":"K563-L563","v":0},0,0,0,111,998,554,0,0,null,111,998,554,0,0]
[555,111,"GRANBY                       ",999,"TOTAL",8674552.5900000017,1,{"$f":"SUM(H560:H563)","v":8311603.4699999979},{"$f":"SUM(I560:I563)","v":1},{"$f":"VLOOKUP(B564,town351,22)","v":4852796},{"$f":"SUM(K560:K563)","v":4852796},4923901,{"$f":"SUM(M560:M563)","v":-71105},-1.4440785872827255,878,0,111,999,555,833,8311603.4699999979,null,111,999,555,833,8311603.4699999979]
[556,112,"GRANVILLE                    ",112,"GRANVILLE",0,0,{"$f":"U565","v":0},{"$f":"IF(H569>0, H565/H569, 0)","v":0},null,{"$f":"ROUND(J569*I565,0)","v":0},0,{"$f":"K565-L565","v":0},0,0,0,112,112,556,0,0,null,112,112,556,0,0]
[557,112,"GRANVILLE                    ",766,"SOUTHWICK TOLLAND GRANVILLE",2266190,1,2168004,{"$f":"IF(H569>0, H566/H569, 0)","v":1},null,{"$f":"ROUND(J569*I566,0)","v":1479651},1434883,{"$f":"K566-L566","v":44768},3.1199756356441606,229,0,112,766,557,215,2168004,null,112,766,557,215,2168004]
[558,112,null,998,null,0,0,0,{"$f":"IF(H569>0, H567/H569, 0)","v":0},null,{"$f":"ROUND(J569*I567,0)","v":0},0,{"$f":"K567-L567","v":0},0,0,0,112,998,558,0,0,null,112,998,558,0,0]
[559,112,null,998,null,0,0,0,{"$f":"IF(H569>0, H568/H569, 0)","v":0},null,{"$f":"ROUND(J569*I568,0)","v":0},0,{"$f":"K568-L568","v":0},0,0,0,112,998,559,0,0,null,112,998,559,0,0]
[560,112,"GRANVILLE                    ",999,"TOTAL",2266190,1,{"$f":"SUM(H565:H568)","v":2168004},{"$f":"SUM(I565:I568)","v":1},{"$f":"VLOOKUP(B569,town351,22)","v":1479651},{"$f":"SUM(K565:K568)","v":1479651},1434883,{"$f":"SUM(M565:M568)","v":44768},3.1199756356441606,229,0,112,999,560,215,2168004,null,112,999,560,215,2168004]
[561,113,"GREAT BARRINGTON             ",113,"GREAT BARRINGTON",0,0,{"$f":"U570","v":0},{"$f":"IF(H574>0, H570/H574, 0)","v":0},null,{"$f":"ROUND(J574*I570,0)","v":0},0,{"$f":"K570-L570","v":0},0,0,0,113,113,561,0,0,null,113,113,561,0,0]
[562,113,"GREAT BARRINGTON             ",618,"BERKSHIRE HILLS",7502165,1,7736366,{"$f":"IF(H574>0, H571/H574, 0)","v":1},null,{"$f":"ROUND(J574*I571,0)","v":6382502},6511186,{"$f":"K571-L571","v":-128684},-1.9763526951925501,751,0,113,618,562,772,7736366,null,113,618,562,772,7736366]
[563,113,null,998,null,0,0,0,{"$f":"IF(H574>0, H572/H574, 0)","v":0},null,{"$f":"ROUND(J574*I572,0)","v":0},0,{"$f":"K572-L572","v":0},0,0,0,113,998,563,0,0,null,113,998,563,0,0]
[564,113,null,998,null,0,0,0,{"$f":"IF(H574>0, H573/H574, 0)","v":0},null,{"$f":"ROUND(J574*I573,0)","v":0},0,{"$f":"K573-L573","v":0},0,0,0,113,998,564,0,0,null,113,998,564,0,0]
[565,113,"GREAT BARRINGTON             ",999,"TOTAL",7502165,1,{"$f":"SUM(H570:H573)","v":7736366},{"$f":"SUM(I570:I573)","v":1},{"$f":"VLOOKUP(B574,town351,22)","v":6382502},{"$f":"SUM(K570:K573)","v":6382502},6511186,{"$f":"SUM(M570:M573)","v":-128684},-1.9763526951925501,751,0,113,999,565,772,7736366,null,113,999,565,772,7736366]
[566,114,"GREENFIELD                   ",114,"GREENFIELD",21246903.91,0.91716871851932391,{"$f":"U575","v":21378359.310000002},{"$f":"IF(H579>0, H575/H579, 0)","v":0.92250019607977829},null,{"$f":"ROUND(J579*I575,0)","v":9577049},9761739,{"$f":"K575-L575","v":-184690},-1.8919784681807206,2065,0,114,114,566,2048,21378359.310000002,null,114,114,566,2048,21378359.310000002]
[567,114,"GREENFIELD                   ",818,"FRANKLIN COUNTY",1918849,8.2831281480676033E-2,1796009,{"$f":"IF(H579>0, H576/H579, 0)","v":7.749980392022171E-2},null,{"$f":"ROUND(J579*I576,0)","v":804574},881601,{"$f":"K576-L576","v":-77027},-8.7371724850584336,123,0,114,818,567,113,1796009,null,114,818,567,113,1796009]
[568,114,null,998,null,0,0,0,{"$f":"IF(H579>0, H577/H579, 0)","v":0},null,{"$f":"ROUND(J579*I577,0)","v":0},0,{"$f":"K577-L577","v":0},0,0,0,114,998,568,0,0,null,114,998,568,0,0]
[569,114,null,998,null,0,0,0,{"$f":"IF(H579>0, H578/H579, 0)","v":0},null,{"$f":"ROUND(J579*I578,0)","v":0},0,{"$f":"K578-L578","v":0},0,0,0,114,998,569,0,0,null,114,998,569,0,0]
[570,114,"GREENFIELD                   ",999,"TOTAL",23165752.91,1,{"$f":"SUM(H575:H578)","v":23174368.310000002},{"$f":"SUM(I575:I578)","v":1},{"$f":"VLOOKUP(B579,town351,22)","v":10381623},{"$f":"SUM(K575:K578)","v":10381623},10643340,{"$f":"SUM(M575:M578)","v":-261717},-2.4589743445196715,2188,0,114,999,570,2161,23174368.310000002,null,114,999,570,2161,23174368.310000002]
[571,115,"GROTON                       ",115,"GROTON",0,0,{"$f":"U580","v":0},{"$f":"IF(H584>0, H580/H584, 0)","v":0},null,{"$f":"ROUND(J584*I580,0)","v":0},0,{"$f":"K580-L580","v":0},0,0,0,115,115,571,0,0,null,115,115,571,0,0]
[572,115,"GROTON                       ",673,"GROTON DUNSTABLE",17893028,0.96742236113836988,17992203,{"$f":"IF(H584>0, H581/H584, 0)","v":0.96760865468635249},null,{"$f":"ROUND(J584*I581,0)","v":14843568},14739440,{"$f":"K581-L581","v":104128},0.70645831863354369,1950,0,115,673,572,1922,17992203,null,115,673,572,1922,17992203]
[573,115,"GROTON                       ",852,"NASHOBA VALLEY",602542,3.2577638861630107E-2,602301,{"$f":"IF(H584>0, H582/H584, 0)","v":3.239134531364752E-2},null,{"$f":"ROUND(J584*I582,0)","v":496898},496346,{"$f":"K582-L582","v":552},0.11121274272382572,39,0,115,852,573,39,602301,null,115,852,573,39,602301]
[574,115,null,998,null,0,0,0,{"$f":"IF(H584>0, H583/H584, 0)","v":0},null,{"$f":"ROUND(J584*I583,0)","v":0},0,{"$f":"K583-L583","v":0},0,0,0,115,998,574,0,0,null,115,998,574,0,0]
[575,115,"GROTON                       ",999,"TOTAL",18495570,1,{"$f":"SUM(H580:H583)","v":18594504},{"$f":"SUM(I580:I583)","v":1},{"$f":"VLOOKUP(B584,town351,22)","v":15340466},{"$f":"SUM(K580:K583)","v":15340466},15235786,{"$f":"SUM(M580:M583)","v":104680},0.68706662065219348,1989,0,115,999,575,1961,18594504,null,115,999,575,1961,18594504]
[576,116,"GROVELAND                    ",116,"GROVELAND",65024.500000000007,6.3094854297311743E-3,{"$f":"U585","v":79199.760000000009},{"$f":"IF(H589>0, H585/H589, 0)","v":7.6527431578674223E-3},null,{"$f":"ROUND(J589*I585,0)","v":50392},41295,{"$f":"K585-L585","v":9097},22.029301368204383,5,0,116,116,576,6,79199.760000000009,null,116,116,576,6,79199.760000000009]
[577,116,"GROVELAND                    ",745,"PENTUCKET",9115593,0.88450816564309576,9126601,{"$f":"IF(H589>0, H586/H589, 0)","v":0.88186546723545589},null,{"$f":"ROUND(J589*I586,0)","v":5806914},5788974,{"$f":"K586-L586","v":17940},0.30989947441463722,1003,{"$f":"ABS(Q586-B586)+ABS(R586-D586)","v":0},{"$f":"IF($Q$6=1, W586, IF($Q$6=2, AC586, IF($Q$6=3, AI586, IF($Q$6=4, AO586, IF($Q$6=5, AU586, IF($Q$6=6, BA586, IF($Q$6=7, BG586, IF($Q$6=8, BM586, 0))))))))","v":116},{"$f":"IF($Q$6=1, X586, IF($Q$6=2, AD586, IF($Q$6=3, AJ586, IF($Q$6=4, AP586, IF($Q$6=5, AV586, IF($Q$6=6, BB586, IF($Q$6=7, BH586, IF($Q$6=8, BN586, 0))))))))","v":745},{"$f":"IF($Q$6=1, Y586, IF($Q$6=2, AE586, IF($Q$6=3, AK586, IF($Q$6=4, AQ586, IF($Q$6=5, AW586, IF($Q$6=6, BC586, IF($Q$6=7, BI586, IF($Q$6=8, BO586, 0))))))))","v":577},{"$f":"IF($Q$6=1, Z586, IF($Q$6=2, AF586, IF($Q$6=3, AL586, IF($Q$6=4, AR586, IF($Q$6=5, AX586, IF($Q$6=6, BD586, IF($Q$6=7, BJ586, IF($Q$6=8, BP586, 0))))))))","v":995},{"$f":"IF($Q$6=1, AA586, IF($Q$6=2, AG586, IF($Q$6=3, AM586, IF($Q$6=4, AS586, IF($Q$6=5, AY586, IF($Q$6=6, BE586, IF($Q$6=7, BK586, IF($Q$6=8, BQ586, 0))))))))","v":9126601},null,116,745,577,995,9126601]
[578,116,"GROVELAND                    ",885,"WHITTIER",1125215,0.10918234892717303,1143398,{"$f":"IF(H589>0, H587/H589, 0)","v":0.11048178960667676},null,{"$f":"ROUND(J589*I587,0)","v":727501},714582,{"$f":"K587-L587","v":12919},1.8079100788992726,73,0,116,885,578,73,1143398,null,116,885,578,73,1143398]
[579,116,null,998,"ESSEX COUNTY",0,0,0,{"$f":"IF(H589>0, H588/H589, 0)","v":0},null,{"$f":"ROUND(J589*I588,0)","v":0},0,{"$f":"K588-L588","v":0},0,0,0,116,998,579,0,0,null,116,998,579,0,0]
[580,116,"GROVELAND                    ",999,"TOTAL",10305832.5,1,{"$f":"SUM(H585:H588)","v":10349198.76},{"$f":"SUM(I585:I588)","v":1},{"$f":"VLOOKUP(B589,town351,22)","v":6584807},{"$f":"SUM(K585:K588)","v":6584807},6544851,{"$f":"SUM(M585:M588)","v":39956},0.61049518163209526,1081,0,116,999,580,1074,10349198.76,null,116,999,580,1074,10349198.76]
[581,117,"HADLEY                       ",117,"HADLEY",5981187.5199999996,1,{"$f":"U590","v":5986156.3800000008},{"$f":"IF(H594>0, H590/H594, 0)","v":1},null,{"$f":"ROUND(J594*I590,0)","v":4938579},5351851,{"$f":"K590-L590","v":-413272},-7.7220385993556251,627,0,117,117,581,611,5986156.3800000008,null,117,117,581,611,5986156.3800000008]
[582,117,null,998,null,0,0,0,{"$f":"IF(H594>0, H591/H594, 0)","v":0},null,{"$f":"ROUND(J594*I591,0)","v":0},0,{"$f":"K591-L591","v":0},0,0,0,117,998,582,0,0,null,117,998,582,0,0]
[583,117,null,998,null,0,0,0,{"$f":"IF(H594>0, H592/H594, 0)","v":0},null,{"$f":"ROUND(J594*I592,0)","v":0},0,{"$f":"K592-L592","v":0},{"$f":"IF(L592>0,M592*100/L592,IF(M592>0,100,0))","v":0},0,0,117,998,583,0,0,null,117,998,583,0,0]
[584,117,null,998,null,0,0,0,{"$f":"IF(H594>0, H593/H594, 0)","v":0},null,{"$f":"ROUND(J594*I593,0)","v":0},0,{"$f":"K593-L593","v":0},{"$f":"IF(L593>0,M593*100/L593,IF(M593>0,100,0))","v":0},0,0,117,998,584,0,0,null,117,998,584,0,0]
[585,117,"HADLEY                       ",999,"TOTAL",5981187.5199999996,1,{"$f":"SUM(H590:H593)","v":5986156.3800000008},{"$f":"SUM(I590:I593)","v":1},{"$f":"VLOOKUP(B594,town351,22)","v":4938579},{"$f":"SUM(K590:K593)","v":4938579},5351851,{"$f":"SUM(M590:M593)","v":-413272},{"$f":"IF(L594>0,M594*100/L594,IF(M594>0,100,0))","v":-7.7220385993556251},627,0,117,999,585,611,5986156.3800000008,null,117,999,585,611,5986156.3800000008]
[586,118,"HALIFAX                      ",118,"HALIFAX",5366429.71,0.44400498466637883,{"$f":"U595","v":5540979.4299999988},{"$f":"IF(H599>0, H595/H599, 0)","v":0.45658106545788063},null,{"$f":"ROUND(J599*I595,0)","v":2871459},2903829,{"$f":"K595-L595","v":-32370},-1.1147350618786436,594,0,118,118,586,592,5540979.4299999988,null,118,118,586,592,5540979.4299999988]
[587,118,"HALIFAX                      ",760,"SILVER LAKE",6719988,0.55599501533362106,6594827,{"$f":"IF(H599>0, H596/H599, 0)","v":0.54341893454211931},null,{"$f":"ROUND(J599*I596,0)","v":3417586},3636253,{"$f":"K596-L596","v":-218667},-6.0135254615121667,649,0,118,760,587,623,6594827,null,118,760,587,623,6594827]
[588,118,null,998,null,0,0,0,{"$f":"IF(H599>0, H597/H599, 0)","v":0},null,{"$f":"ROUND(J599*I597,0)","v":0},0,{"$f":"K597-L597","v":0},0,0,0,118,998,588,0,0,null,118,998,588,0,0]
[589,118,null,998,null,0,0,0,{"$f":"IF(H599>0, H598/H599, 0)","v":0},null,{"$f":"ROUND(J599*I598,0)","v":0},0,{"$f":"K598-L598","v":0},0,0,0,118,998,589,0,0,null,118,998,589,0,0]
[590,118,"HALIFAX                      ",999,"TOTAL",12086417.710000001,0.99999999999999989,{"$f":"SUM(H595:H598)","v":12135806.43},{"$f":"SUM(I595:I598)","v":1},{"$f":"VLOOKUP(B599,town351,22)","v":6289045},{"$f":"SUM(K595:K598)","v":6289045},6540082,{"$f":"SUM(M595:M598)","v":-251037},-3.838438111326433,1243,0,118,999,590,1215,12135806.43,null,118,999,590,1215,12135806.43]
[591,119,"HAMILTON                     ",119,"HAMILTON",39912.938879999994,3.6960990464845905E-3,{"$f":"U600","v":0},{"$f":"IF(H604>0, H600/H604, 0)","v":0},null,{"$f":"ROUND(J604*I600,0)","v":0},35608,{"$f":"K600-L600","v":-35608},-100,3,0,119,119,591,0,0,null,119,119,591,0,0]
[592,119,"HAMILTON                     ",675,"HAMILTON WENHAM",10665367,0.98765598087444628,11100854,{"$f":"IF(H604>0, H601/H604, 0)","v":0.98348849845528874},null,{"$f":"ROUND(J604*I601,0)","v":9158205},9515114,{"$f":"K601-L601","v":-356909},-3.7509692474520011,1164,0,119,675,592,1186,11100854,null,119,675,592,1186,11100854]
[593,119,"HAMILTON                     ",817,"ESSEX NORTH SHORE",93386,8.6479200790691071E-3,186369,{"$f":"IF(H604>0, H602/H604, 0)","v":1.6511501544711218E-2},null,{"$f":"ROUND(J604*I602,0)","v":153754},83314,{"$f":"K602-L602","v":70440},84.547615046690836,6,0,119,817,593,12,186369,null,119,817,593,12,186369]
[594,119,null,998,"ESSEX COUNTY",0,0,0,{"$f":"IF(H604>0, H603/H604, 0)","v":0},null,{"$f":"ROUND(J604*I603,0)","v":0},0,{"$f":"K603-L603","v":0},0,0,0,119,998,594,0,0,null,119,998,594,0,0]
[595,119,"HAMILTON                     ",999,"TOTAL",10798665.93888,1,{"$f":"SUM(H600:H603)","v":11287223},{"$f":"SUM(I600:I603)","v":1},{"$f":"VLOOKUP(B604,town351,22)","v":9311959},{"$f":"SUM(K600:K603)","v":9311959},9634036,{"$f":"SUM(M600:M603)","v":-322077},-3.3431160107767917,1173,0,119,999,595,1198,11287223,null,119,999,595,1198,11287223]
[596,120,"HAMPDEN                      ",120,"HAMPDEN",0,0,{"$f":"U605","v":0},{"$f":"IF(H609>0, H605/H609, 0)","v":0},null,{"$f":"ROUND(J609*I605,0)","v":0},0,{"$f":"K605-L605","v":0},0,0,0,120,120,596,0,0,null,120,120,596,0,0]
[597,120,"HAMPDEN                      ",680,"HAMPDEN WILBRAHAM",7303619,1,7107506,{"$f":"IF(H609>0, H606/H609, 0)","v":1},null,{"$f":"ROUND(J609*I606,0)","v":5152759},5113306,{"$f":"K606-L606","v":39453},0.77157518051921792,782,0,120,680,597,746,7107506,null,120,680,597,746,7107506]
[598,120,null,998,null,0,0,0,{"$f":"IF(H609>0, H607/H609, 0)","v":0},null,{"$f":"ROUND(J609*I607,0)","v":0},0,{"$f":"K607-L607","v":0},0,0,0,120,998,598,0,0,null,120,998,598,0,0]
[599,120,null,998,null,0,0,0,{"$f":"IF(H609>0, H608/H609, 0)","v":0},null,{"$f":"ROUND(J609*I608,0)","v":0},0,{"$f":"K608-L608","v":0},0,0,0,120,998,599,0,0,null,120,998,599,0,0]
[600,120,"HAMPDEN                      ",999,"TOTAL",7303619,1,{"$f":"SUM(H605:H608)","v":7107506},{"$f":"SUM(I605:I608)","v":1},{"$f":"VLOOKUP(B609,town351,22)","v":5152759},{"$f":"SUM(K605:K608)","v":5152759},5113306,{"$f":"SUM(M605:M608)","v":39453},0.77157518051921792,782,0,120,999,600,746,7107506,null,120,999,600,746,7107506]
[601,121,"HANCOCK                      ",121,"HANCOCK",806235.6399999999,1,{"$f":"U610","v":700017.85},{"$f":"IF(H614>0, H610/H614, 0)","v":1},null,{"$f":"ROUND(J614*I610,0)","v":577515},725612,{"$f":"K610-L610","v":-148097},-20.409943606224815,90,0,121,121,601,75,700017.85,null,121,121,601,75,700017.85]
[602,121,null,998,null,0,0,0,{"$f":"IF(H614>0, H611/H614, 0)","v":0},null,{"$f":"ROUND(J614*I611,0)","v":0},0,{"$f":"K611-L611","v":0},0,0,0,121,998,602,0,0,null,121,998,602,0,0]
[603,121,null,998,null,0,0,0,{"$f":"IF(H614>0, H612/H614, 0)","v":0},null,{"$f":"ROUND(J614*I612,0)","v":0},0,{"$f":"K612-L612","v":0},0,0,0,121,998,603,0,0,null,121,998,603,0,0]
[604,121,null,998,null,0,0,0,{"$f":"IF(H614>0, H613/H614, 0)","v":0},null,{"$f":"ROUND(J614*I613,0)","v":0},0,{"$f":"K613-L613","v":0},0,0,0,121,998,604,0,0,null,121,998,604,0,0]
[605,121,"HANCOCK                      ",999,"TOTAL",806235.6399999999,1,{"$f":"SUM(H610:H613)","v":700017.85},{"$f":"SUM(I610:I613)","v":1},{"$f":"VLOOKUP(B614,town351,22)","v":577515},{"$f":"SUM(K610:K613)","v":577515},725612,{"$f":"SUM(M610:M613)","v":-148097},-20.409943606224815,90,0,121,999,605,75,700017.85,null,121,999,605,75,700017.85]
[606,122,"HANOVER                      ",122,"HANOVER",23675035.831840001,0.97027647058758137,{"$f":"U615","v":24041587.167499997},{"$f":"IF(H619>0, H615/H619, 0)","v":0.97079230623149326},null,{"$f":"ROUND(J619*I615,0)","v":18359459},17821949,{"$f":"K615-L615","v":537510},3.0160001018968239,2586,0,122,122,606,2566,24041587.167499997,null,122,122,606,2566,24041587.167499997]
[607,122,"HANOVER                      ",873,"SOUTH SHORE",725263,2.9723529412418622E-2,723326,{"$f":"IF(H619>0, H616/H619, 0)","v":2.9207693768506734E-2},null,{"$f":"ROUND(J619*I616,0)","v":552371},545959,{"$f":"K616-L616","v":6412},1.1744471654464896,48,0,122,873,607,46,723326,null,122,873,607,46,723326]
[608,122,null,998,null,0,0,0,{"$f":"IF(H619>0, H617/H619, 0)","v":0},null,{"$f":"ROUND(J619*I617,0)","v":0},0,{"$f":"K617-L617","v":0},0,0,0,122,998,608,0,0,null,122,998,608,0,0]
[609,122,null,998,null,0,0,0,{"$f":"IF(H619>0, H618/H619, 0)","v":0},null,{"$f":"ROUND(J619*I618,0)","v":0},0,{"$f":"K618-L618","v":0},0,0,0,122,998,609,0,0,null,122,998,609,0,0]
[610,122,"HANOVER                      ",999,"TOTAL",24400298.831840001,1,{"$f":"SUM(H615:H618)","v":24764913.167499997},{"$f":"SUM(I615:I618)","v":1},{"$f":"VLOOKUP(B619,town351,22)","v":18911830},{"$f":"SUM(K615:K618)","v":18911830},18367908,{"$f":"SUM(M615:M618)","v":543922},2.9612626544078946,2634,0,122,999,610,2612,24764913.167499997,null,122,999,610,2612,24764913.167499997]
[611,123,"HANSON                       ",123,"HANSON",91034.3,5.3009875052548077E-3,{"$f":"U620","v":105599.68000000001},{"$f":"IF(H624>0, H620/H624, 0)","v":6.1164187332136966E-3},null,{"$f":"ROUND(J624*I620,0)","v":47255},38572,{"$f":"K620-L620","v":8683},22.511147982992846,7,0,123,123,611,8,105599.68000000001,null,123,123,611,8,105599.68000000001]
[612,123,"HANSON                       ",780,"WHITMAN HANSON",15963935,0.9295904946783784,15980016,{"$f":"IF(H624>0, H621/H624, 0)","v":0.92557542995825925},null,{"$f":"ROUND(J624*I621,0)","v":7150999},6764003,{"$f":"K621-L621","v":386996},5.7214049136288079,1701,0,123,780,612,1653,15980016,null,123,780,612,1653,15980016]
[613,123,"HANSON                       ",873,"SOUTH SHORE",1118114,6.5108517816366729E-2,1179337,{"$f":"IF(H624>0, H622/H624, 0)","v":6.8308151308527076E-2},null,{"$f":"ROUND(J624*I622,0)","v":527749},473751,{"$f":"K622-L622","v":53998},11.397970663914165,74,0,123,873,613,75,1179337,null,123,873,613,75,1179337]
[614,123,null,998,null,0,0,0,{"$f":"IF(H624>0, H623/H624, 0)","v":0},null,{"$f":"ROUND(J624*I623,0)","v":0},0,{"$f":"K623-L623","v":0},0,0,0,123,998,614,0,0,null,123,998,614,0,0]
[615,123,"HANSON                       ",999,"TOTAL",17173083.300000001,0.99999999999999989,{"$f":"SUM(H620:H623)","v":17264952.68},{"$f":"SUM(I620:I623)","v":1},{"$f":"VLOOKUP(B624,town351,22)","v":7726003},{"$f":"SUM(K620:K623)","v":7726003},7276326,{"$f":"SUM(M620:M623)","v":449677},6.1800007311382146,1782,0,123,999,615,1736,17264952.68,null,123,999,615,1736,17264952.68]
[616,124,"HARDWICK                     ",124,"HARDWICK",13004.9,3.1989659721122308E-3,{"$f":"U625","v":13199.960000000001},{"$f":"IF(H629>0, H625/H629, 0)","v":3.0799118496691595E-3},null,{"$f":"ROUND(J629*I625,0)","v":4654},5113,{"$f":"K625-L625","v":-459},-8.9771171523567386,1,0,124,124,616,1,13199.960000000001,null,124,124,616,1,13199.960000000001]
[617,124,"HARDWICK                     ",753,"QUABBIN",3681725,0.90563656726886821,3875922,{"$f":"IF(H629>0, H626/H629, 0)","v":0.90435865685906525},null,{"$f":"ROUND(J629*I626,0)","v":1366635},1447391,{"$f":"K626-L626","v":-80756},-5.5794184156181705,384,0,124,753,617,390,3875922,null,124,753,617,390,3875922]
[618,124,"HARDWICK                     ",860,"PATHFINDER",370615,9.1164466759019638E-2,396702,{"$f":"IF(H629>0, H627/H629, 0)","v":9.2561431291265636E-2},null,{"$f":"ROUND(J629*I627,0)","v":139876},145699,{"$f":"K627-L627","v":-5823},-3.9965957213158636,24,0,124,860,618,25,396702,null,124,860,618,25,396702]
[619,124,null,998,null,0,0,0,{"$f":"IF(H629>0, H628/H629, 0)","v":0},null,{"$f":"ROUND(J629*I628,0)","v":0},0,{"$f":"K628-L628","v":0},0,0,0,124,998,619,0,0,null,124,998,619,0,0]
[620,124,"HARDWICK                     ",999,"TOTAL",4065344.9,1,{"$f":"SUM(H625:H628)","v":4285823.96},{"$f":"SUM(I625:I628)","v":1},{"$f":"VLOOKUP(B629,town351,22)","v":1511165},{"$f":"SUM(K625:K628)","v":1511165},1598203,{"$f":"SUM(M625:M628)","v":-87038},-5.4459915292362737,409,0,124,999,620,416,4285823.96,null,124,999,620,416,4285823.96]
[621,125,"HARVARD                      ",125,"HARVARD",9617698.6389000006,0.99069002376866933,{"$f":"U630","v":9693663.2637600005},{"$f":"IF(H634>0, H630/H634, 0)","v":0.98754684014618788},null,{"$f":"ROUND(J634*I630,0)","v":7997272},8555966,{"$f":"K630-L630","v":-558694},-6.5298763459321831,1036,0,125,125,621,1019,9693663.2637600005,null,125,125,621,1019,9693663.2637600005]
[622,125,"HARVARD                      ",832,"MONTACHUSETT",90382,9.3099762313306224E-3,122239,{"$f":"IF(H634>0, H631/H634, 0)","v":1.2453159853812167E-2},null,{"$f":"ROUND(J634*I631,0)","v":100847},80404,{"$f":"K631-L631","v":20443},25.425351972538678,6,0,125,832,622,8,122239,null,125,832,622,8,122239]
[623,125,null,998,null,0,0,0,{"$f":"IF(H634>0, H632/H634, 0)","v":0},null,{"$f":"ROUND(J634*I632,0)","v":0},0,{"$f":"K632-L632","v":0},0,0,0,125,998,623,0,0,null,125,998,623,0,0]
[624,125,null,998,null,0,0,0,{"$f":"IF(H634>0, H633/H634, 0)","v":0},null,{"$f":"ROUND(J634*I633,0)","v":0},0,{"$f":"K633-L633","v":0},0,0,0,125,998,624,0,0,null,125,998,624,0,0]
[625,125,"HARVARD                      ",999,"TOTAL",9708080.6389000006,1,{"$f":"SUM(H630:H633)","v":9815902.2637600005},{"$f":"SUM(I630:I633)","v":1},{"$f":"VLOOKUP(B634,town351,22)","v":8098119},{"$f":"SUM(K630:K633)","v":8098119},8636370,{"$f":"SUM(M630:M633)","v":-538251},-6.2323754077233842,1042,0,125,999,625,1027,9815902.2637600005,null,125,999,625,1027,9815902.2637600005]
[626,126,"HARWICH                      ",126,"HARWICH",0,0,{"$f":"U635","v":0},{"$f":"IF(H639>0, H635/H639, 0)","v":0},null,{"$f":"ROUND(J639*I635,0)","v":0},0,{"$f":"K635-L635","v":0},0,0,0,126,126,626,0,0,null,126,126,626,0,0]
[627,126,"HARWICH                      ",712,"MONOMOY",13075127,0.92125687104748533,13548758,{"$f":"IF(H639>0, H636/H639, 0)","v":0.92239609412842771},null,{"$f":"ROUND(J639*I636,0)","v":11177725},11428918,{"$f":"K636-L636","v":-251193},-2.1978720995285816,1383,0,126,712,627,1375,13548758,null,126,712,627,1375,13548758]
[628,126,"HARWICH                      ",815,"CAPE COD",1117578,7.8743128952514688E-2,1139897,{"$f":"IF(H639>0, H637/H639, 0)","v":7.7603905871572315E-2},null,{"$f":"ROUND(J639*I637,0)","v":940415},976871,{"$f":"K637-L637","v":-36456},-3.7319154729744253,73,0,126,815,628,73,1139897,null,126,815,628,73,1139897]
[629,126,null,998,null,0,0,0,{"$f":"IF(H639>0, H638/H639, 0)","v":0},null,{"$f":"ROUND(J639*I638,0)","v":0},0,{"$f":"K638-L638","v":0},0,0,0,126,998,629,0,0,null,126,998,629,0,0]
[630,126,"HARWICH                      ",999,"TOTAL",14192705,1,{"$f":"SUM(H635:H638)","v":14688655},{"$f":"SUM(I635:I638)","v":1},{"$f":"VLOOKUP(B639,town351,22)","v":12118140},{"$f":"SUM(K635:K638)","v":12118140},12405789,{"$f":"SUM(M635:M638)","v":-287649},-2.3186675188494661,1456,0,126,999,630,1448,14688655,null,126,999,630,1448,14688655]
[631,127,"HATFIELD                     ",127,"HATFIELD",3505759.1100000003,1,{"$f":"U640","v":3617908.4000000004},{"$f":"IF(H644>0, H640/H644, 0)","v":1},null,{"$f":"ROUND(J644*I640,0)","v":2984774},3095381,{"$f":"K640-L640","v":-110607},-3.5732919469364193,375,0,127,127,631,381,3617908.4000000004,null,127,127,631,381,3617908.4000000004]
[632,127,null,998,null,0,0,0,{"$f":"IF(H644>0, H641/H644, 0)","v":0},null,{"$f":"ROUND(J644*I641,0)","v":0},0,{"$f":"K641-L641","v":0},0,0,0,127,998,632,0,0,null,127,998,632,0,0]
[633,127,null,998,null,0,0,0,{"$f":"IF(H644>0, H642/H644, 0)","v":0},null,{"$f":"ROUND(J644*I642,0)","v":0},0,{"$f":"K642-L642","v":0},0,0,0,127,998,633,0,0,null,127,998,633,0,0]
[634,127,null,998,null,0,0,0,{"$f":"IF(H644>0, H643/H644, 0)","v":0},null,{"$f":"ROUND(J644*I643,0)","v":0},0,{"$f":"K643-L643","v":0},0,0,0,127,998,634,0,0,null,127,998,634,0,0]
[635,127,"HATFIELD                     ",999,"TOTAL",3505759.1100000003,1,{"$f":"SUM(H640:H643)","v":3617908.4000000004},{"$f":"SUM(I640:I643)","v":1},{"$f":"VLOOKUP(B644,town351,22)","v":2984774},{"$f":"SUM(K640:K643)","v":2984774},3095381,{"$f":"SUM(M640:M643)","v":-110607},-3.5732919469364193,375,0,127,999,635,381,3617908.4000000004,null,127,999,635,381,3617908.4000000004]
[636,128,"HAVERHILL                    ",128,"HAVERHILL",83661746.030000001,0.87717525438217003,{"$f":"U645","v":85387258.689999998},{"$f":"IF(H649>0, H645/H649, 0)","v":0.87609546061163313},null,{"$f":"ROUND(J649*I645,0)","v":37789636},38734196,{"$f":"K645-L645","v":-944560},-2.43856875201437,7951,0,128,128,636,8105,85387258.689999998,null,128,128,636,8105,85387258.689999998]
[637,128,"HAVERHILL                    ",885,"WHITTIER",11714572,0.12282474561782997,12076160,{"$f":"IF(H649>0, H646/H649, 0)","v":0.1239045393883669},null,{"$f":"ROUND(J649*I646,0)","v":5344517},5423680,{"$f":"K646-L646","v":-79163},-1.4595809487285385,760,0,128,885,637,771,12076160,null,128,885,637,771,12076160]
[638,128,null,998,"ESSEX COUNTY",0,0,0,{"$f":"IF(H649>0, H647/H649, 0)","v":0},null,{"$f":"ROUND(J649*I647,0)","v":0},0,{"$f":"K647-L647","v":0},0,0,0,128,998,638,0,0,null,128,998,638,0,0]
[639,128,null,998,null,0,0,0,{"$f":"IF(H649>0, H648/H649, 0)","v":0},null,{"$f":"ROUND(J649*I648,0)","v":0},0,{"$f":"K648-L648","v":0},0,0,0,128,998,639,0,0,null,128,998,639,0,0]
[640,128,"HAVERHILL                    ",999,"TOTAL",95376318.030000001,1,{"$f":"SUM(H645:H648)","v":97463418.689999998},{"$f":"SUM(I645:I648)","v":1},{"$f":"VLOOKUP(B649,town351,22)","v":43134153},{"$f":"SUM(K645:K648)","v":43134153},44157876,{"$f":"SUM(M645:M648)","v":-1023723},-2.3183248216014736,8711,0,128,999,640,8876,97463418.689999998,null,128,999,640,8876,97463418.689999998]
[641,129,"HAWLEY                       ",129,"HAWLEY",39014.69999999999,0.1099303839323174,{"$f":"U650","v":65999.8},{"$f":"IF(H654>0, H650/H654, 0)","v":0.14296662715576999},null,{"$f":"ROUND(J654*I650,0)","v":34098},24838,{"$f":"K650-L650","v":9260},37.281584668652869,3,{"$f":"ABS(Q650-B650)+ABS(R650-D650)","v":0},{"$f":"IF($Q$6=1, W650, IF($Q$6=2, AC650, IF($Q$6=3, AI650, IF($Q$6=4, AO650, IF($Q$6=5, AU650, IF($Q$6=6, BA650, IF($Q$6=7, BG650, IF($Q$6=8, BM650, 0))))))))","v":129},{"$f":"IF($Q$6=1, X650, IF($Q$6=2, AD650, IF($Q$6=3, AJ650, IF($Q$6=4, AP650, IF($Q$6=5, AV650, IF($Q$6=6, BB650, IF($Q$6=7, BH650, IF($Q$6=8, BN650, 0))))))))","v":129},{"$f":"IF($Q$6=1, Y650, IF($Q$6=2, AE650, IF($Q$6=3, AK650, IF($Q$6=4, AQ650, IF($Q$6=5, AW650, IF($Q$6=6, BC650, IF($Q$6=7, BI650, IF($Q$6=8, BO650, 0))))))))","v":641},{"$f":"IF($Q$6=1, Z650, IF($Q$6=2, AF650, IF($Q$6=3, AL650, IF($Q$6=4, AR650, IF($Q$6=5, AX650, IF($Q$6=6, BD650, IF($Q$6=7, BJ650, IF($Q$6=8, BP650, 0))))))))","v":5},{"$f":"IF($Q$6=1, AA650, IF($Q$6=2, AG650, IF($Q$6=3, AM650, IF($Q$6=4, AS650, IF($Q$6=5, AY650, IF($Q$6=6, BE650, IF($Q$6=7, BK650, IF($Q$6=8, BQ650, 0))))))))","v":65999.8},null,129,129,641,5,65999.8]
[642,129,"HAWLEY                       ",685,"HAWLEMONT",170570,0.48060924695910473,249253,{"$f":"IF(H654>0, H651/H654, 0)","v":0.53992376823046639},null,{"$f":"ROUND(J654*I651,0)","v":128772},108588,{"$f":"K651-L651","v":20184},18.587689247430657,17,0,129,685,642,24,249253,null,129,685,642,24,249253]
[643,129,"HAWLEY                       ",717,"MOHAWK TRAIL",145319,0.40946036910857797,146392,{"$f":"IF(H654>0, H652/H654, 0)","v":0.31710960461376364},null,{"$f":"ROUND(J654*I652,0)","v":75631},92513,{"$f":"K652-L652","v":-16882},-18.248246192427011,15,0,129,717,643,15,146392,null,129,717,643,15,146392]
[644,129,null,998,null,0,0,0,{"$f":"IF(H654>0, H653/H654, 0)","v":0},null,{"$f":"ROUND(J654*I653,0)","v":0},0,{"$f":"K653-L653","v":0},0,0,0,129,998,644,0,0,null,129,998,644,0,0]
[645,129,"HAWLEY                       ",999,"TOTAL",354903.69999999995,1,{"$f":"SUM(H650:H653)","v":461644.79999999999},{"$f":"SUM(I650:I653)","v":1},{"$f":"VLOOKUP(B654,town351,22)","v":238501},{"$f":"SUM(K650:K653)","v":238501},225939,{"$f":"SUM(M650:M653)","v":12562},5.5599077627147153,35,0,129,999,645,44,461644.79999999999,null,129,999,645,44,461644.79999999999]
[646,130,"HEATH                        ",130,"HEATH",0,0,{"$f":"U655","v":0},{"$f":"IF(H659>0, H655/H659, 0)","v":0},null,{"$f":"ROUND(J659*I655,0)","v":0},0,{"$f":"K655-L655","v":0},0,0,0,130,130,646,0,0,null,130,130,646,0,0]
[647,130,"HEATH                        ",717,"MOHAWK TRAIL",968793,0.93948574226989079,936907,{"$f":"IF(H659>0, H656/H659, 0)","v":0.89385535088020573},null,{"$f":"ROUND(J659*I656,0)","v":411102},491735,{"$f":"K656-L656","v":-80633},{"$f":"IF(L656>0,M656*100/L656,IF(M656>0,100,0))","v":-16.39765320752031},98,0,130,717,647,94,936907,null,130,717,647,94,936907]
[648,130,"HEATH                        ",818,"FRANKLIN COUNTY",62402,6.0514257730109239E-2,111257,{"$f":"IF(H659>0, H657/H659, 0)","v":0.10614464911979422},null,{"$f":"ROUND(J659*I657,0)","v":48818},31674,{"$f":"K657-L657","v":17144},{"$f":"IF(L657>0,M657*100/L657,IF(M657>0,100,0))","v":54.126412830712887},4,0,130,818,648,7,111257,null,130,818,648,7,111257]
[649,130,null,998,null,0,0,0,{"$f":"IF(H659>0, H658/H659, 0)","v":0},null,{"$f":"ROUND(J659*I658,0)","v":0},0,{"$f":"K658-L658","v":0},{"$f":"IF(L658>0,M658*100/L658,IF(M658>0,100,0))","v":0},0,0,130,998,649,0,0,null,130,998,649,0,0]
[650,130,"HEATH                        ",999,"TOTAL",1031195,1,{"$f":"SUM(H655:H658)","v":1048164},{"$f":"SUM(I655:I658)","v":1},{"$f":"VLOOKUP(B659,town351,22)","v":459920},{"$f":"SUM(K655:K658)","v":459920},523409,{"$f":"SUM(M655:M658)","v":-63489},{"$f":"IF(L659>0,M659*100/L659,IF(M659>0,100,0))","v":-12.129902237065087},102,0,130,999,650,101,1048164,null,130,999,650,101,1048164]
[651,131,"HINGHAM                      ",131,"HINGHAM",37371415.691150002,1,{"$f":"U660","v":39001020.533249997},{"$f":"IF(H664>0, H660/H664, 0)","v":1},null,{"$f":"ROUND(J664*I660,0)","v":32175842},31288570,{"$f":"K660-L660","v":887272},2.8357703787677098,4119,0,131,131,651,4189,39001020.533249997,null,131,131,651,4189,39001020.533249997]
[652,131,null,998,null,0,0,0,{"$f":"IF(H664>0, H661/H664, 0)","v":0},null,{"$f":"ROUND(J664*I661,0)","v":0},0,{"$f":"K661-L661","v":0},0,0,0,131,998,652,0,0,null,131,998,652,0,0]
[653,131,null,998,null,0,0,0,{"$f":"IF(H664>0, H662/H664, 0)","v":0},null,{"$f":"ROUND(J664*I662,0)","v":0},0,{"$f":"K662-L662","v":0},0,0,0,131,998,653,0,0,null,131,998,653,0,0]
[654,131,null,998,null,0,0,0,{"$f":"IF(H664>0, H663/H664, 0)","v":0},null,{"$f":"ROUND(J664*I663,0)","v":0},0,{"$f":"K663-L663","v":0},0,0,0,131,998,654,0,0,null,131,998,654,0,0]
[655,131,"HINGHAM                      ",999,"TOTAL",37371415.691150002,1,{"$f":"SUM(H660:H663)","v":39001020.533249997},{"$f":"SUM(I660:I663)","v":1},{"$f":"VLOOKUP(B664,town351,22)","v":32175842},{"$f":"SUM(K660:K663)","v":32175842},31288570,{"$f":"SUM(M660:M663)","v":887272},2.8357703787677098,4119,0,131,999,655,4189,39001020.533249997,null,131,999,655,4189,39001020.533249997]
[656,132,"HINSDALE                     ",132,"HINSDALE",259046.25,0.10479924161550946,{"$f":"U665","v":210131.86},{"$f":"IF(H669>0, H665/H669, 0)","v":8.3510863386267536E-2},null,{"$f":"ROUND(J669*I665,0)","v":161349},194505,{"$f":"K665-L665","v":-33156},-17.046348422919721,18,0,132,132,656,14,210131.86,null,132,132,656,14,210131.86]
[657,132,"HINSDALE                     ",635,"CENTRAL BERKSHIRE",2212787,0.89520075838449054,2306090,{"$f":"IF(H669>0, H666/H669, 0)","v":0.91648913661373255},null,{"$f":"ROUND(J669*I666,0)","v":1770725},1661474,{"$f":"K666-L666","v":109251},6.575546773527603,226,0,132,635,657,232,2306090,null,132,635,657,232,2306090]
[658,132,null,998,null,0,0,0,{"$f":"IF(H669>0, H667/H669, 0)","v":0},null,{"$f":"ROUND(J669*I667,0)","v":0},0,{"$f":"K667-L667","v":0},0,0,0,132,998,658,0,0,null,132,998,658,0,0]
[659,132,null,998,null,0,0,0,{"$f":"IF(H669>0, H668/H669, 0)","v":0},null,{"$f":"ROUND(J669*I668,0)","v":0},0,{"$f":"K668-L668","v":0},0,0,0,132,998,659,0,0,null,132,998,659,0,0]
[660,132,"HINSDALE                     ",999,"TOTAL",2471833.25,1,{"$f":"SUM(H665:H668)","v":2516221.86},{"$f":"SUM(I665:I668)","v":1},{"$f":"VLOOKUP(B669,town351,22)","v":1932074},{"$f":"SUM(K665:K668)","v":1932074},1855979,{"$f":"SUM(M665:M668)","v":76095},4.0999925106911235,244,0,132,999,660,246,2516221.86,null,132,999,660,246,2516221.86]
[661,133,"HOLBROOK                     ",133,"HOLBROOK",12460674.085960001,0.83649625134713468,{"$f":"U670","v":12443297.537840001},{"$f":"IF(H674>0, H670/H674, 0)","v":0.81969100020647534},null,{"$f":"ROUND(J674*I670,0)","v":6790414},7150740,{"$f":"K670-L670","v":-360326},-5.0390029563373862,1208,0,133,133,661,1168,12443297.537840001,null,133,133,661,1168,12443297.537840001]
[662,133,"HOLBROOK                     ",806,"BLUE HILLS",2130352,0.14301244457214121,2424215,{"$f":"IF(H674>0, H671/H674, 0)","v":0.15969297624064346},null,{"$f":"ROUND(J674*I671,0)","v":1322915},1222534,{"$f":"K671-L671","v":100381},8.2108963840678459,134,0,133,806,662,150,2424215,null,133,806,662,150,2424215]
[663,133,"HOLBROOK                     ",915,"NORFOLK COUNTY",305244,2.0491304080724065E-2,312961,{"$f":"IF(H674>0, H672/H674, 0)","v":2.0616023552881248E-2},null,{"$f":"ROUND(J674*I672,0)","v":170785},175169,{"$f":"K672-L672","v":-4384},-2.5027259389503849,20,0,133,915,663,20,312961,null,133,915,663,20,312961]
[664,133,null,998,null,0,0,0,{"$f":"IF(H674>0, H673/H674, 0)","v":0},null,{"$f":"ROUND(J674*I673,0)","v":0},0,{"$f":"K673-L673","v":0},0,0,0,133,998,664,0,0,null,133,998,664,0,0]
[665,133,"HOLBROOK                     ",999,"TOTAL",14896270.085960001,1,{"$f":"SUM(H670:H673)","v":15180473.537840001},{"$f":"SUM(I670:I673)","v":1},{"$f":"VLOOKUP(B674,town351,22)","v":8284114},{"$f":"SUM(K670:K673)","v":8284114},8548443,{"$f":"SUM(M670:M673)","v":-264329},-3.0921303446721233,1362,0,133,999,665,1338,15180473.537840001,null,133,999,665,1338,15180473.537840001]
[666,134,"HOLDEN                       ",134,"HOLDEN",0,0,{"$f":"U675","v":13199.960000000001},{"$f":"IF(H679>0, H675/H679, 0)","v":4.3962857326557738E-4},null,{"$f":"ROUND(J679*I675,0)","v":7728},0,{"$f":"K675-L675","v":7728},100,0,0,134,134,666,1,13199.960000000001,null,134,134,666,1,13199.960000000001]
[667,134,"HOLDEN                       ",775,"WACHUSETT",27700535,0.96332980304702631,28835506,{"$f":"IF(H679>0, H676/H679, 0)","v":0.96037505887676899},null,{"$f":"ROUND(J679*I676,0)","v":16882345},17038520,{"$f":"K676-L676","v":-156175},-0.91659956381188035,3071,0,134,775,667,3097,28835506,null,134,775,667,3097,28835506]
[668,134,"HOLDEN                       ",832,"MONTACHUSETT",1054451,3.6670196952973654E-2,1176549,{"$f":"IF(H679>0, H677/H679, 0)","v":3.9185312549965434E-2},null,{"$f":"ROUND(J679*I677,0)","v":688835},648590,{"$f":"K677-L677","v":40245},6.2049985352842318,70,0,134,832,668,77,1176549,null,134,832,668,77,1176549]
[669,134,null,998,null,0,0,0,{"$f":"IF(H679>0, H678/H679, 0)","v":0},null,{"$f":"ROUND(J679*I678,0)","v":0},0,{"$f":"K678-L678","v":0},0,0,0,134,998,669,0,0,null,134,998,669,0,0]
[670,134,"HOLDEN                       ",999,"TOTAL",28754986,1,{"$f":"SUM(H675:H678)","v":30025254.960000001},{"$f":"SUM(I675:I678)","v":1},{"$f":"VLOOKUP(B679,town351,22)","v":17578908},{"$f":"SUM(K675:K678)","v":17578908},17687110,{"$f":"SUM(M675:M678)","v":-108202},-0.61175624508469728,3141,0,134,999,670,3175,30025254.960000001,null,134,999,670,3175,30025254.960000001]
[671,135,"HOLLAND                      ",135,"HOLLAND",1736861.59,0.45007041157352651,{"$f":"U680","v":1599126.75},{"$f":"IF(H684>0, H680/H684, 0)","v":0.4270072707646369},null,{"$f":"ROUND(J684*I680,0)","v":929167},1013330,{"$f":"K680-L680","v":-84163},-8.3055865315346438,185,0,135,135,671,163,1599126.75,null,135,135,671,163,1599126.75]
[672,135,"HOLLAND                      ",770,"TANTASQUA",2122227,0.54992958842647355,2145837,{"$f":"IF(H684>0, H681/H684, 0)","v":0.57299272923536304},null,{"$f":"ROUND(J684*I681,0)","v":1246830},1238163,{"$f":"K681-L681","v":8667},0.6999886121617267,193,0,135,770,672,190,2145837,null,135,770,672,190,2145837]
[673,135,null,998,null,0,0,0,{"$f":"IF(H684>0, H682/H684, 0)","v":0},null,{"$f":"ROUND(J684*I682,0)","v":0},0,{"$f":"K682-L682","v":0},0,0,0,135,998,673,0,0,null,135,998,673,0,0]
[674,135,null,998,null,0,0,0,{"$f":"IF(H684>0, H683/H684, 0)","v":0},null,{"$f":"ROUND(J684*I683,0)","v":0},0,{"$f":"K683-L683","v":0},0,0,0,135,998,674,0,0,null,135,998,674,0,0]
[675,135,"HOLLAND                      ",999,"TOTAL",3859088.59,1,{"$f":"SUM(H680:H683)","v":3744963.75},{"$f":"SUM(I680:I683)","v":1},{"$f":"VLOOKUP(B684,town351,22)","v":2175997},{"$f":"SUM(K680:K683)","v":2175997},2251493,{"$f":"SUM(M680:M683)","v":-75496},-3.3531527746255483,378,0,135,999,675,353,3744963.75,null,135,999,675,353,3744963.75]
[676,136,"HOLLISTON                    ",136,"HOLLISTON",24025115.2018,0.97371532426061613,{"$f":"U685","v":24361946.347450003},{"$f":"IF(H689>0, H685/H689, 0)","v":0.97300179664970343},null,{"$f":"ROUND(J689*I685,0)","v":17526806},17695327,{"$f":"K685-L685","v":-168521},-0.95234747569231126,2568,0,136,136,676,2565,24361946.347450003,null,136,136,676,2565,24361946.347450003]
[677,136,"HOLLISTON                    ",829,"SOUTH MIDDLESEX",648539,2.6284675739383898E-2,675979,{"$f":"IF(H689>0, H686/H689, 0)","v":2.6998203350296568E-2},null,{"$f":"ROUND(J689*I686,0)","v":486322},477671,{"$f":"K686-L686","v":8651},1.8110791737409222,39,0,136,829,677,40,675979,null,136,829,677,40,675979]
[678,136,null,998,null,0,0,0,{"$f":"IF(H689>0, H687/H689, 0)","v":0},null,{"$f":"ROUND(J689*I687,0)","v":0},0,{"$f":"K687-L687","v":0},0,0,0,136,998,678,0,0,null,136,998,678,0,0]
[679,136,null,998,null,0,0,0,{"$f":"IF(H689>0, H688/H689, 0)","v":0},null,{"$f":"ROUND(J689*I688,0)","v":0},0,{"$f":"K688-L688","v":0},0,0,0,136,998,679,0,0,null,136,998,679,0,0]
[680,136,"HOLLISTON                    ",999,"TOTAL",24673654.2018,1,{"$f":"SUM(H685:H688)","v":25037925.347450003},{"$f":"SUM(I685:I688)","v":1},{"$f":"VLOOKUP(B689,town351,22)","v":18013128},{"$f":"SUM(K685:K688)","v":18013128},18172998,{"$f":"SUM(M685:M688)","v":-159870},-0.87971175697042392,2607,0,136,999,680,2605,25037925.347450003,null,136,999,680,2605,25037925.347450003]
[681,137,"HOLYOKE                      ",137,"HOLYOKE",78698902.669999987,1,{"$f":"U690","v":80596955.480000004},{"$f":"IF(H694>0, H690/H694, 0)","v":1},null,{"$f":"ROUND(J694*I690,0)","v":10055521},9692069,{"$f":"K690-L690","v":363452},3.7499939383427829,6552,0,137,137,681,6639,80596955.480000004,null,137,137,681,6639,80596955.480000004]
[682,137,null,998,null,0,0,0,{"$f":"IF(H694>0, H691/H694, 0)","v":0},null,{"$f":"ROUND(J694*I691,0)","v":0},0,{"$f":"K691-L691","v":0},0,0,0,137,998,682,0,0,null,137,998,682,0,0]
[683,137,null,998,null,0,0,0,{"$f":"IF(H694>0, H692/H694, 0)","v":0},null,{"$f":"ROUND(J694*I692,0)","v":0},0,{"$f":"K692-L692","v":0},0,0,0,137,998,683,0,0,null,137,998,683,0,0]
[684,137,null,998,null,0,0,0,{"$f":"IF(H694>0, H693/H694, 0)","v":0},null,{"$f":"ROUND(J694*I693,0)","v":0},0,{"$f":"K693-L693","v":0},0,0,0,137,998,684,0,0,null,137,998,684,0,0]
[685,137,"HOLYOKE                      ",999,"TOTAL",78698902.669999987,1,{"$f":"SUM(H690:H693)","v":80596955.480000004},{"$f":"SUM(I690:I693)","v":1},{"$f":"VLOOKUP(B694,town351,22)","v":10055521},{"$f":"SUM(K690:K693)","v":10055521},9692069,{"$f":"SUM(M690:M693)","v":363452},3.7499939383427829,6552,0,137,999,685,6639,80596955.480000004,null,137,999,685,6639,80596955.480000004]
[686,138,"HOPEDALE                     ",138,"HOPEDALE",10475107.010799998,0.96961583614355362,{"$f":"U695","v":10396781.262500001},{"$f":"IF(H699>0, H695/H699, 0)","v":0.96760993251087013},null,{"$f":"ROUND(J699*I695,0)","v":5476378},5458850,{"$f":"K695-L695","v":17528},0.32109327056064924,1104,0,138,138,686,1077,10396781.262500001,null,138,138,686,1077,10396781.262500001]
[687,138,"HOPEDALE                     ",805,"BLACKSTONE VALLEY",328251,3.0384163856446402E-2,348025,{"$f":"IF(H699>0, H696/H699, 0)","v":3.2390067489129842E-2},null,{"$f":"ROUND(J699*I696,0)","v":183318},171060,{"$f":"K696-L696","v":12258},7.1659066994037177,22,0,138,805,687,23,348025,null,138,805,687,23,348025]
[688,138,null,998,null,0,0,0,{"$f":"IF(H699>0, H697/H699, 0)","v":0},null,{"$f":"ROUND(J699*I697,0)","v":0},0,{"$f":"K697-L697","v":0},0,0,0,138,998,688,0,0,null,138,998,688,0,0]
[689,138,null,998,null,0,0,0,{"$f":"IF(H699>0, H698/H699, 0)","v":0},null,{"$f":"ROUND(J699*I698,0)","v":0},0,{"$f":"K698-L698","v":0},0,0,0,138,998,689,0,0,null,138,998,689,0,0]
[690,138,"HOPEDALE                     ",999,"TOTAL",10803358.010799998,1,{"$f":"SUM(H695:H698)","v":10744806.262500001},{"$f":"SUM(I695:I698)","v":1},{"$f":"VLOOKUP(B699,town351,22)","v":5659696},{"$f":"SUM(K695:K698)","v":5659696},5629910,{"$f":"SUM(M695:M698)","v":29786},0.52906707212015824,1126,0,138,999,690,1100,10744806.262500001,null,138,999,690,1100,10744806.262500001]
[691,139,"HOPKINTON                    ",139,"HOPKINTON",32526014.474999998,0.98688166452364656,{"$f":"U700","v":33687637.267440006},{"$f":"IF(H704>0, H700/H704, 0)","v":0.99105105504750457},null,{"$f":"ROUND(J704*I700,0)","v":27792300},27549192,{"$f":"K700-L700","v":243108},0.88245056334138583,3387,0,139,139,691,3489,33687637.267440006,null,139,139,691,3489,33687637.267440006]
[692,139,"HOPKINTON                    ",829,"SOUTH MIDDLESEX",432359,1.3118335476353479E-2,304191,{"$f":"IF(H704>0, H701/H704, 0)","v":8.9489449524954683E-3},null,{"$f":"ROUND(J704*I701,0)","v":250958},366204,{"$f":"K701-L701","v":-115246},-31.470437242629792,26,0,139,829,692,18,304191,null,139,829,692,18,304191]
[693,139,null,998,null,0,0,0,{"$f":"IF(H704>0, H702/H704, 0)","v":0},null,{"$f":"ROUND(J704*I702,0)","v":0},0,{"$f":"K702-L702","v":0},0,0,0,139,998,693,0,0,null,139,998,693,0,0]
[694,139,null,998,null,0,0,0,{"$f":"IF(H704>0, H703/H704, 0)","v":0},null,{"$f":"ROUND(J704*I703,0)","v":0},0,{"$f":"K703-L703","v":0},0,0,0,139,998,694,0,0,null,139,998,694,0,0]
[695,139,"HOPKINTON                    ",999,"TOTAL",32958373.474999998,1,{"$f":"SUM(H700:H703)","v":33991828.267440006},{"$f":"SUM(I700:I703)","v":1},{"$f":"VLOOKUP(B704,town351,22)","v":28043258},{"$f":"SUM(K700:K703)","v":28043258},27915396,{"$f":"SUM(M700:M703)","v":127862},0.45803398239451809,3413,0,139,999,695,3507,33991828.267440006,null,139,999,695,3507,33991828.267440006]
[696,140,"HUBBARDSTON                  ",140,"HUBBARDSTON",0,0,{"$f":"U705","v":0},{"$f":"IF(H709>0, H705/H709, 0)","v":0},null,{"$f":"ROUND(J709*I705,0)","v":0},0,{"$f":"K705-L705","v":0},0,0,0,140,140,696,0,0,null,140,140,696,0,0]
[697,140,"HUBBARDSTON                  ",753,"QUABBIN",6249492,0.86635324772328115,5970486,{"$f":"IF(H709>0, H706/H709, 0)","v":0.86496728676054391},null,{"$f":"ROUND(J709*I706,0)","v":3031818},2908136,{"$f":"K706-L706","v":123682},4.252964785690903,652,0,140,753,697,601,5970486,null,140,753,697,601,5970486]
[698,140,"HUBBARDSTON                  ",832,"MONTACHUSETT",964069,0.13364675227671879,932071,{"$f":"IF(H709>0, H707/H709, 0)","v":0.13503271323945604},null,{"$f":"ROUND(J709*I707,0)","v":473306},448619,{"$f":"K707-L707","v":24687},5.5028877510760799,64,0,140,832,698,61,932071,null,140,832,698,61,932071]
[699,140,null,998,null,0,0,0,{"$f":"IF(H709>0, H708/H709, 0)","v":0},null,{"$f":"ROUND(J709*I708,0)","v":0},0,{"$f":"K708-L708","v":0},0,0,0,140,998,699,0,0,null,140,998,699,0,0]
[700,140,"HUBBARDSTON                  ",999,"TOTAL",7213561,1,{"$f":"SUM(H705:H708)","v":6902557},{"$f":"SUM(I705:I708)","v":1},{"$f":"VLOOKUP(B709,town351,22)","v":3505124},{"$f":"SUM(K705:K708)","v":3505124},3356755,{"$f":"SUM(M705:M708)","v":148369},4.4200127801999249,716,0,140,999,700,662,6902557,null,140,999,700,662,6902557]
[701,141,"HUDSON                       ",141,"HUDSON",27792860.269480001,0.90658958627144592,{"$f":"U710","v":28189612.605080001},{"$f":"IF(H714>0, H710/H714, 0)","v":0.903183631824786},null,{"$f":"ROUND(J714*I710,0)","v":16152251},16943537,{"$f":"K710-L710","v":-791286},-4.670134695016749,2771,0,141,141,701,2759,28189612.605080001,null,141,141,701,2759,28189612.605080001]
[702,141,"HUDSON                       ",801,"ASSABET VALLEY",2863636,9.341041372855402E-2,3021773,{"$f":"IF(H714>0, H711/H714, 0)","v":9.681636817521401E-2},null,{"$f":"ROUND(J714*I711,0)","v":1731433},1745776,{"$f":"K711-L711","v":-14343},-0.82158306678520043,174,0,141,801,702,180,3021773,null,141,801,702,180,3021773]
[703,141,null,998,null,0,0,0,{"$f":"IF(H714>0, H712/H714, 0)","v":0},null,{"$f":"ROUND(J714*I712,0)","v":0},0,{"$f":"K712-L712","v":0},0,0,0,141,998,703,0,0,null,141,998,703,0,0]
[704,141,null,998,null,0,0,0,{"$f":"IF(H714>0, H713/H714, 0)","v":0},null,{"$f":"ROUND(J714*I713,0)","v":0},0,{"$f":"K713-L713","v":0},0,0,0,141,998,704,0,0,null,141,998,704,0,0]
[705,141,"HUDSON                       ",999,"TOTAL",30656496.269480001,1,{"$f":"SUM(H710:H713)","v":31211385.605080001},{"$f":"SUM(I710:I713)","v":1},{"$f":"VLOOKUP(B714,town351,22)","v":17883684},{"$f":"SUM(K710:K713)","v":17883684},18689313,{"$f":"SUM(M710:M713)","v":-805629},-4.3106399898166403,2945,{"$f":"ABS(Q714-B714)+ABS(R714-D714)","v":0},{"$f":"IF($Q$6=1, W714, IF($Q$6=2, AC714, IF($Q$6=3, AI714, IF($Q$6=4, AO714, IF($Q$6=5, AU714, IF($Q$6=6, BA714, IF($Q$6=7, BG714, IF($Q$6=8, BM714, 0))))))))","v":141},{"$f":"IF($Q$6=1, X714, IF($Q$6=2, AD714, IF($Q$6=3, AJ714, IF($Q$6=4, AP714, IF($Q$6=5, AV714, IF($Q$6=6, BB714, IF($Q$6=7, BH714, IF($Q$6=8, BN714, 0))))))))","v":999},{"$f":"IF($Q$6=1, Y714, IF($Q$6=2, AE714, IF($Q$6=3, AK714, IF($Q$6=4, AQ714, IF($Q$6=5, AW714, IF($Q$6=6, BC714, IF($Q$6=7, BI714, IF($Q$6=8, BO714, 0))))))))","v":705},{"$f":"IF($Q$6=1, Z714, IF($Q$6=2, AF714, IF($Q$6=3, AL714, IF($Q$6=4, AR714, IF($Q$6=5, AX714, IF($Q$6=6, BD714, IF($Q$6=7, BJ714, IF($Q$6=8, BP714, 0))))))))","v":2939},{"$f":"IF($Q$6=1, AA714, IF($Q$6=2, AG714, IF($Q$6=3, AM714, IF($Q$6=4, AS714, IF($Q$6=5, AY714, IF($Q$6=6, BE714, IF($Q$6=7, BK714, IF($Q$6=8, BQ714, 0))))))))","v":31211385.605080001},null,141,999,705,2939,31211385.605080001]
[706,142,"HULL                         ",142,"HULL",10591221.700679999,1,{"$f":"U715","v":10627740.812809998},{"$f":"IF(H719>0, H715/H719, 0)","v":1},null,{"$f":"ROUND(J719*I715,0)","v":8767886},9492718,{"$f":"K715-L715","v":-724832},-7.6356634632989202,1054,0,142,142,706,1042,10627740.812809998,null,142,142,706,1042,10627740.812809998]
[707,142,null,998,null,0,0,0,{"$f":"IF(H719>0, H716/H719, 0)","v":0},null,{"$f":"ROUND(J719*I716,0)","v":0},0,{"$f":"K716-L716","v":0},0,0,0,142,998,707,0,0,null,142,998,707,0,0]
[708,142,null,998,null,0,0,0,{"$f":"IF(H719>0, H717/H719, 0)","v":0},null,{"$f":"ROUND(J719*I717,0)","v":0},0,{"$f":"K717-L717","v":0},0,0,0,142,998,708,0,0,null,142,998,708,0,0]
[709,142,null,998,null,0,0,0,{"$f":"IF(H719>0, H718/H719, 0)","v":0},null,{"$f":"ROUND(J719*I718,0)","v":0},0,{"$f":"K718-L718","v":0},0,0,0,142,998,709,0,0,null,142,998,709,0,0]
[710,142,"HULL                         ",999,"TOTAL",10591221.700679999,1,{"$f":"SUM(H715:H718)","v":10627740.812809998},{"$f":"SUM(I715:I718)","v":1},{"$f":"VLOOKUP(B719,town351,22)","v":8767886},{"$f":"SUM(K715:K718)","v":8767886},9492718,{"$f":"SUM(M715:M718)","v":-724832},-7.6356634632989202,1054,0,142,999,710,1042,10627740.812809998,null,142,999,710,1042,10627740.812809998]
[711,143,"HUNTINGTON                   ",143,"HUNTINGTON",466072.9,0.1544589448544865,{"$f":"U720","v":328931.5},{"$f":"IF(H724>0, H720/H724, 0)","v":0.11200335194712749},null,{"$f":"ROUND(J724*I720,0)","v":187234},251663,{"$f":"K720-L720","v":-64429},{"$f":"IF(L720>0,M720*100/L720,IF(M720>0,100,0))","v":-25.601300151392934},32,0,143,143,711,23,328931.5,null,143,143,711,23,328931.5]
[712,143,"HUNTINGTON                   ",672,"GATEWAY",2551382,0.84554105514551359,2607869,{"$f":"IF(H724>0, H721/H724, 0)","v":0.88799664805287248},null,{"$f":"ROUND(J724*I721,0)","v":1484445},1377654,{"$f":"K721-L721","v":106791},{"$f":"IF(L721>0,M721*100/L721,IF(M721>0,100,0))","v":7.7516560761991036},260,0,143,672,712,259,2607869,null,143,672,712,259,2607869]
[713,143,null,998,null,0,0,0,{"$f":"IF(H724>0, H722/H724, 0)","v":0},null,{"$f":"ROUND(J724*I722,0)","v":0},0,{"$f":"K722-L722","v":0},{"$f":"IF(L722>0,M722*100/L722,IF(M722>0,100,0))","v":0},0,0,143,998,713,0,0,null,143,998,713,0,0]
[714,143,null,998,null,0,0,0,{"$f":"IF(H724>0, H723/H724, 0)","v":0},null,{"$f":"ROUND(J724*I723,0)","v":0},0,{"$f":"K723-L723","v":0},{"$f":"IF(L723>0,M723*100/L723,IF(M723>0,100,0))","v":0},0,0,143,998,714,0,0,null,143,998,714,0,0]
[715,143,"HUNTINGTON                   ",999,"TOTAL",3017454.9,1,{"$f":"SUM(H720:H723)","v":2936800.5},{"$f":"SUM(I720:I723)","v":1},{"$f":"VLOOKUP(B724,town351,22)","v":1671679},{"$f":"SUM(K720:K723)","v":1671679},1629317,{"$f":"SUM(M720:M723)","v":42362},{"$f":"IF(L724>0,M724*100/L724,IF(M724>0,100,0))","v":2.5999851471506159},292,0,143,999,715,282,2936800.5,null,143,999,715,282,2936800.5]
[716,144,"IPSWICH                      ",144,"IPSWICH",18277939.337160002,0.97935261923376471,{"$f":"U725","v":18118176.856480002},{"$f":"IF(H729>0, H725/H729, 0)","v":0.97226313504409867},null,{"$f":"ROUND(J729*I725,0)","v":14947496},15616820,{"$f":"K725-L725","v":-669324},-4.2859173634581174,1921,0,144,144,716,1865,18118176.856480002,null,144,144,716,1865,18118176.856480002]
[717,144,"IPSWICH                      ",885,"WHITTIER",385348,2.0647380766235287E-2,516878,{"$f":"IF(H729>0, H726/H729, 0)","v":2.7736864955901379E-2},null,{"$f":"ROUND(J729*I726,0)","v":426424},329244,{"$f":"K726-L726","v":97180},29.516103558455129,25,0,144,885,717,33,516878,null,144,885,717,33,516878]
[718,144,null,998,"ESSEX COUNTY",0,0,0,{"$f":"IF(H729>0, H727/H729, 0)","v":0},null,{"$f":"ROUND(J729*I727,0)","v":0},0,{"$f":"K727-L727","v":0},0,0,0,144,998,718,0,0,null,144,998,718,0,0]
[719,144,null,998,null,0,0,0,{"$f":"IF(H729>0, H728/H729, 0)","v":0},null,{"$f":"ROUND(J729*I728,0)","v":0},0,{"$f":"K728-L728","v":0},0,0,0,144,998,719,0,0,null,144,998,719,0,0]
[720,144,"IPSWICH                      ",999,"TOTAL",18663287.337160002,1,{"$f":"SUM(H725:H728)","v":18635054.856480002},{"$f":"SUM(I725:I728)","v":1},{"$f":"VLOOKUP(B729,town351,22)","v":15373920},{"$f":"SUM(K725:K728)","v":15373920},15946064,{"$f":"SUM(M725:M728)","v":-572144},-3.5879951315885852,1946,0,144,999,720,1898,18635054.856480002,null,144,999,720,1898,18635054.856480002]
[721,145,"KINGSTON                     ",145,"KINGSTON",10520096.445809999,0.51272205388110625,{"$f":"U730","v":10093730.667000001},{"$f":"IF(H734>0, H730/H734, 0)","v":0.48311795758080006},null,{"$f":"ROUND(J734*I730,0)","v":6415834},6787210,{"$f":"K730-L730","v":-371376},-5.4717033950621827,1160,0,145,145,721,1092,10093730.667000001,null,145,145,721,1092,10093730.667000001]
[722,145,"KINGSTON                     ",760,"SILVER LAKE",9998031,0.4872779461188938,10799160,{"$f":"IF(H734>0, H731/H734, 0)","v":0.51688204241919988},null,{"$f":"ROUND(J734*I731,0)","v":6864224},6450392,{"$f":"K731-L731","v":413832},6.4156100900534421,966,0,145,760,722,1020,10799160,null,145,760,722,1020,10799160]
[723,145,null,998,null,0,0,0,{"$f":"IF(H734>0, H732/H734, 0)","v":0},null,{"$f":"ROUND(J734*I732,0)","v":0},0,{"$f":"K732-L732","v":0},0,0,0,145,998,723,0,0,null,145,998,723,0,0]
[724,145,null,998,null,0,0,0,{"$f":"IF(H734>0, H733/H734, 0)","v":0},null,{"$f":"ROUND(J734*I733,0)","v":0},0,{"$f":"K733-L733","v":0},0,0,0,145,998,724,0,0,null,145,998,724,0,0]
[725,145,"KINGSTON                     ",999,"TOTAL",20518127.445809998,1,{"$f":"SUM(H730:H733)","v":20892890.667000003},{"$f":"SUM(I730:I733)","v":1},{"$f":"VLOOKUP(B734,town351,22)","v":13280058},{"$f":"SUM(K730:K733)","v":13280058},13237602,{"$f":"SUM(M730:M733)","v":42456},0.32072274117321248,2126,0,145,999,725,2112,20892890.667000003,null,145,999,725,2112,20892890.667000003]
[726,146,"LAKEVILLE                    ",146,"LAKEVILLE",130049.00000000001,7.4815689082819914E-3,{"$f":"U735","v":196931.90000000002},{"$f":"IF(H739>0, H735/H739, 0)","v":1.1600294523175802E-2},null,{"$f":"ROUND(J739*I735,0)","v":128965},82782,{"$f":"K735-L735","v":46183},55.788698026140949,10,0,146,146,726,13,196931.90000000002,null,146,146,726,13,196931.90000000002]
[727,146,"LAKEVILLE                    ",665,"FREETOWN LAKEVILLE",15409451,0.8864879352805084,14759683,{"$f":"IF(H739>0, H736/H739, 0)","v":0.86942069755438789},null,{"$f":"ROUND(J739*I736,0)","v":9665714},9808770,{"$f":"K736-L736","v":-143056},-1.4584499381675786,1673,0,146,665,727,1577,14759683,null,146,665,727,1577,14759683]
[728,146,"LAKEVILLE                    ",855,"OLD COLONY",1843084,0.10603049581120966,2019842,{"$f":"IF(H739>0, H737/H739, 0)","v":0.1189790079224364},null,{"$f":"ROUND(J739*I737,0)","v":1322739},1173201,{"$f":"K737-L737","v":149538},12.746153472422884,124,0,146,855,728,132,2019842,null,146,855,728,132,2019842]
[729,146,null,998,null,0,0,0,{"$f":"IF(H739>0, H738/H739, 0)","v":0},null,{"$f":"ROUND(J739*I738,0)","v":0},0,{"$f":"K738-L738","v":0},0,0,0,146,998,729,0,0,null,146,998,729,0,0]
[730,146,"LAKEVILLE                    ",999,"TOTAL",17382584,1,{"$f":"SUM(H735:H738)","v":16976456.899999999},{"$f":"SUM(I735:I738)","v":1},{"$f":"VLOOKUP(B739,town351,22)","v":11117419},{"$f":"SUM(K735:K738)","v":11117418},11064753,{"$f":"SUM(M735:M738)","v":52665},0.47597085990080396,1807,0,146,999,730,1722,16976456.899999999,null,146,999,730,1722,16976456.899999999]
[731,147,"LANCASTER                    ",147,"LANCASTER",13004.9,1.3837878131439869E-3,{"$f":"U740","v":26399.920000000002},{"$f":"IF(H744>0, H740/H744, 0)","v":2.6842021733701101E-3},null,{"$f":"ROUND(J744*I740,0)","v":18424},9489,{"$f":"K740-L740","v":8935},94.161660870481612,1,0,147,147,731,2,26399.920000000002,null,147,147,731,2,26399.920000000002]
[732,147,"LANCASTER                    ",725,"NASHOBA",8936867,0.95092831488813168,9233017,{"$f":"IF(H744>0, H741/H744, 0)","v":0.93876361360804017},null,{"$f":"ROUND(J744*I741,0)","v":6443604},6520648,{"$f":"K741-L741","v":-77044},-1.1815390126870826,966,0,147,725,732,978,9233017,null,147,725,732,978,9233017]
[733,147,"LANCASTER                    ",830,"MINUTEMAN",448173,4.768789729872433E-2,575878,{"$f":"IF(H744>0, H742/H744, 0)","v":5.8552184218589758E-2},null,{"$f":"ROUND(J744*I742,0)","v":401898},327003,{"$f":"K742-L742","v":74895},22.903459601288063,27,0,147,830,733,34,575878,null,147,830,733,34,575878]
[734,147,null,998,null,0,0,0,{"$f":"IF(H744>0, H743/H744, 0)","v":0},null,{"$f":"ROUND(J744*I743,0)","v":0},0,{"$f":"K743-L743","v":0},0,0,0,147,998,734,0,0,null,147,998,734,0,0]
[735,147,"LANCASTER                    ",999,"TOTAL",9398044.9000000004,1,{"$f":"SUM(H740:H743)","v":9835294.9199999999},{"$f":"SUM(I740:I743)","v":1},{"$f":"VLOOKUP(B744,town351,22)","v":6863926},{"$f":"SUM(K740:K743)","v":6863926},6857140,{"$f":"SUM(M740:M743)","v":6786},9.8962541234392187E-2,994,0,147,999,735,1014,9835294.9199999999,null,147,999,735,1014,9835294.9199999999]
[736,148,"LANESBOROUGH                 ",148,"LANESBOROUGH",1841661.51,0.44130959462550601,{"$f":"U745","v":1924866.88},{"$f":"IF(H749>0, H745/H749, 0)","v":0.47279983335072701},null,{"$f":"ROUND(J749*I745,0)","v":1248595},1232284,{"$f":"K745-L745","v":16311},1.3236396804632697,198,0,148,148,736,200,1924866.88,null,148,148,736,200,1924866.88]
[737,148,"LANESBOROUGH                 ",715,"MOUNT GREYLOCK",1996206,0.47834244016372091,1866758,{"$f":"IF(H749>0, H746/H749, 0)","v":0.45852670669160067},null,{"$f":"ROUND(J749*I746,0)","v":1210902},1335692,{"$f":"K746-L746","v":-124790},-9.3427227235021242,204,0,148,715,737,186,1866758,null,148,715,737,186,1866758]
[738,148,"LANESBOROUGH                 ",851,"NORTHERN BERKSHIRE",335306,8.0347965210773142E-2,279584,{"$f":"IF(H749>0, H747/H749, 0)","v":6.8673459957672323E-2},null,{"$f":"ROUND(J749*I747,0)","v":181357},224358,{"$f":"K747-L747","v":-43001},-19.166243236256339,22,0,148,851,738,18,279584,null,148,851,738,18,279584]
[739,148,null,998,null,0,0,0,{"$f":"IF(H749>0, H748/H749, 0)","v":0},null,{"$f":"ROUND(J749*I748,0)","v":0},0,{"$f":"K748-L748","v":0},0,0,0,148,998,739,0,0,null,148,998,739,0,0]
[740,148,"LANESBOROUGH                 ",999,"TOTAL",4173173.51,1,{"$f":"SUM(H745:H748)","v":4071208.88},{"$f":"SUM(I745:I748)","v":1},{"$f":"VLOOKUP(B749,town351,22)","v":2640853},{"$f":"SUM(K745:K748)","v":2640854},2792334,{"$f":"SUM(M745:M748)","v":-151480},-5.4248524710869113,424,0,148,999,740,404,4071208.88,null,148,999,740,404,4071208.88]
[741,149,"LAWRENCE                     ",149,"LAWRENCE",177176380.49999997,0.9065935187293892,{"$f":"U750","v":186136094.67000002},{"$f":"IF(H754>0, H750/H754, 0)","v":0.90921448014098061},null,{"$f":"ROUND(J754*I750,0)","v":8507699},8004505,{"$f":"K750-L750","v":503194},6.2863849794584423,14714,0,149,149,741,15186,186136094.67000002,null,149,149,741,15186,186136094.67000002]
[742,149,"LAWRENCE                     ",823,"GREATER LAWRENCE",18254512,9.3406481270610797E-2,18585782,{"$f":"IF(H754>0, H751/H754, 0)","v":9.0785519859019365E-2},null,{"$f":"ROUND(J754*I751,0)","v":849498},824705,{"$f":"K751-L751","v":24793},3.0062870965981774,1058,0,149,823,742,1067,18585782,null,149,823,742,1067,18585782]
[743,149,null,998,"ESSEX COUNTY",0,0,0,{"$f":"IF(H754>0, H752/H754, 0)","v":0},null,{"$f":"ROUND(J754*I752,0)","v":0},0,{"$f":"K752-L752","v":0},0,0,0,149,998,743,0,0,null,149,998,743,0,0]
[744,149,null,998,null,0,0,0,{"$f":"IF(H754>0, H753/H754, 0)","v":0},null,{"$f":"ROUND(J754*I753,0)","v":0},0,{"$f":"K753-L753","v":0},0,0,0,149,998,744,0,0,null,149,998,744,0,0]
[745,149,"LAWRENCE                     ",999,"TOTAL",195430892.49999997,1,{"$f":"SUM(H750:H753)","v":204721876.67000002},{"$f":"SUM(I750:I753)","v":1},{"$f":"VLOOKUP(B754,town351,22)","v":9357197},{"$f":"SUM(K750:K753)","v":9357197},8829210,{"$f":"SUM(M750:M753)","v":527987},5.9800027409020737,15772,0,149,999,745,16253,204721876.67000002,null,149,999,745,16253,204721876.67000002]
[746,150,"LEE                          ",150,"LEE",6714728.879999999,1,{"$f":"U755","v":6274000.4799999986},{"$f":"IF(H759>0, H755/H759, 0)","v":1},null,{"$f":"ROUND(J759*I755,0)","v":5176050},5764466,{"$f":"K755-L755","v":-588416},-10.207641089391455,661,0,150,150,746,601,6274000.4799999986,null,150,150,746,601,6274000.4799999986]
[747,150,null,998,null,0,0,0,{"$f":"IF(H759>0, H756/H759, 0)","v":0},null,{"$f":"ROUND(J759*I756,0)","v":0},0,{"$f":"K756-L756","v":0},0,0,0,150,998,747,0,0,null,150,998,747,0,0]
[748,150,null,998,null,0,0,0,{"$f":"IF(H759>0, H757/H759, 0)","v":0},null,{"$f":"ROUND(J759*I757,0)","v":0},0,{"$f":"K757-L757","v":0},0,0,0,150,998,748,0,0,null,150,998,748,0,0]
[749,150,null,998,null,0,0,0,{"$f":"IF(H759>0, H758/H759, 0)","v":0},null,{"$f":"ROUND(J759*I758,0)","v":0},0,{"$f":"K758-L758","v":0},0,0,0,150,998,749,0,0,null,150,998,749,0,0]
[750,150,"LEE                          ",999,"TOTAL",6714728.879999999,1,{"$f":"SUM(H755:H758)","v":6274000.4799999986},{"$f":"SUM(I755:I758)","v":1},{"$f":"VLOOKUP(B759,town351,22)","v":5176050},{"$f":"SUM(K755:K758)","v":5176050},5764466,{"$f":"SUM(M755:M758)","v":-588416},-10.207641089391455,661,0,150,999,750,601,6274000.4799999986,null,150,999,750,601,6274000.4799999986]
[751,151,"LEICESTER                    ",151,"LEICESTER",16135346.720000001,1,{"$f":"U760","v":16315414.450000001},{"$f":"IF(H764>0, H760/H764, 0)","v":1},null,{"$f":"ROUND(J764*I760,0)","v":8064134},7906856,{"$f":"K760-L760","v":157278},1.9891344929008445,1629,0,151,151,751,1598,16315414.450000001,null,151,151,751,1598,16315414.450000001]
[752,151,null,998,null,0,0,0,{"$f":"IF(H764>0, H761/H764, 0)","v":0},null,{"$f":"ROUND(J764*I761,0)","v":0},0,{"$f":"K761-L761","v":0},0,0,0,151,998,752,0,0,null,151,998,752,0,0]
[753,151,null,998,null,0,0,0,{"$f":"IF(H764>0, H762/H764, 0)","v":0},null,{"$f":"ROUND(J764*I762,0)","v":0},0,{"$f":"K762-L762","v":0},0,0,0,151,998,753,0,0,null,151,998,753,0,0]
[754,151,null,998,null,0,0,0,{"$f":"IF(H764>0, H763/H764, 0)","v":0},null,{"$f":"ROUND(J764*I763,0)","v":0},0,{"$f":"K763-L763","v":0},0,0,0,151,998,754,0,0,null,151,998,754,0,0]
[755,151,"LEICESTER                    ",999,"TOTAL",16135346.720000001,1,{"$f":"SUM(H760:H763)","v":16315414.450000001},{"$f":"SUM(I760:I763)","v":1},{"$f":"VLOOKUP(B764,town351,22)","v":8064134},{"$f":"SUM(K760:K763)","v":8064134},7906856,{"$f":"SUM(M760:M763)","v":157278},1.9891344929008445,1629,0,151,999,755,1598,16315414.450000001,null,151,999,755,1598,16315414.450000001]
[756,152,"LENOX                        ",152,"LENOX",5600729.1799999997,1,{"$f":"U765","v":5259228.0599999996},{"$f":"IF(H769>0, H765/H769, 0)","v":1},null,{"$f":"ROUND(J769*I765,0)","v":4338863},5040656,{"$f":"K765-L765","v":-701793},-13.922652130992473,577,0,152,152,756,521,5259228.0599999996,null,152,152,756,521,5259228.0599999996]
[757,152,null,998,null,0,0,0,{"$f":"IF(H769>0, H766/H769, 0)","v":0},null,{"$f":"ROUND(J769*I766,0)","v":0},0,{"$f":"K766-L766","v":0},0,0,0,152,998,757,0,0,null,152,998,757,0,0]
[758,152,null,998,null,0,0,0,{"$f":"IF(H769>0, H767/H769, 0)","v":0},null,{"$f":"ROUND(J769*I767,0)","v":0},0,{"$f":"K767-L767","v":0},0,0,0,152,998,758,0,0,null,152,998,758,0,0]
[759,152,null,998,null,0,0,0,{"$f":"IF(H769>0, H768/H769, 0)","v":0},null,{"$f":"ROUND(J769*I768,0)","v":0},0,{"$f":"K768-L768","v":0},0,0,0,152,998,759,0,0,null,152,998,759,0,0]
[760,152,"LENOX                        ",999,"TOTAL",5600729.1799999997,1,{"$f":"SUM(H765:H768)","v":5259228.0599999996},{"$f":"SUM(I765:I768)","v":1},{"$f":"VLOOKUP(B769,town351,22)","v":4338863},{"$f":"SUM(K765:K768)","v":4338863},5040656,{"$f":"SUM(M765:M768)","v":-701793},-13.922652130992473,577,0,152,999,760,521,5259228.0599999996,null,152,999,760,521,5259228.0599999996]
[761,153,"LEOMINSTER                   ",153,"LEOMINSTER",68009798.659999996,1,{"$f":"U770","v":68789894.089999989},{"$f":"IF(H774>0, H770/H774, 0)","v":1},null,{"$f":"ROUND(J774*I770,0)","v":26480524},25511102,{"$f":"K770-L770","v":969422},3.8000004860628915,6335,0,153,153,761,6274,68789894.089999989,null,153,153,761,6274,68789894.089999989]
[762,153,null,998,null,0,0,0,{"$f":"IF(H774>0, H771/H774, 0)","v":0},null,{"$f":"ROUND(J774*I771,0)","v":0},0,{"$f":"K771-L771","v":0},0,0,0,153,998,762,0,0,null,153,998,762,0,0]
[763,153,null,998,null,0,0,0,{"$f":"IF(H774>0, H772/H774, 0)","v":0},null,{"$f":"ROUND(J774*I772,0)","v":0},0,{"$f":"K772-L772","v":0},0,0,0,153,998,763,0,0,null,153,998,763,0,0]
[764,153,null,998,null,0,0,0,{"$f":"IF(H774>0, H773/H774, 0)","v":0},null,{"$f":"ROUND(J774*I773,0)","v":0},0,{"$f":"K773-L773","v":0},0,0,0,153,998,764,0,0,null,153,998,764,0,0]
[765,153,"LEOMINSTER                   ",999,"TOTAL",68009798.659999996,1,{"$f":"SUM(H770:H773)","v":68789894.089999989},{"$f":"SUM(I770:I773)","v":1},{"$f":"VLOOKUP(B774,town351,22)","v":26480524},{"$f":"SUM(K770:K773)","v":26480524},25511102,{"$f":"SUM(M770:M773)","v":969422},3.8000004860628915,6335,0,153,999,765,6274,68789894.089999989,null,153,999,765,6274,68789894.089999989]
[766,154,"LEVERETT                     ",154,"LEVERETT",934315.57,0.45358040662779114,{"$f":"U775","v":982131.53},{"$f":"IF(H779>0, H775/H779, 0)","v":0.45679568934523906},null,{"$f":"ROUND(J779*I775,0)","v":810259},840884,{"$f":"K775-L775","v":-30625},-3.6420005613140458,100,0,154,154,766,104,982131.53,null,154,154,766,104,982131.53]
[767,154,"LEVERETT                     ",605,"AMHERST PELHAM",1125552,0.54641959337220891,1167914,{"$f":"IF(H779>0, H776/H779, 0)","v":0.54320431065476082},null,{"$f":"ROUND(J779*I776,0)","v":963529},1012997,{"$f":"K776-L776","v":-49468},-4.8833313425409948,111,0,154,605,767,113,1167914,null,154,605,767,113,1167914]
[768,154,null,998,null,0,0,0,{"$f":"IF(H779>0, H777/H779, 0)","v":0},null,{"$f":"ROUND(J779*I777,0)","v":0},0,{"$f":"K777-L777","v":0},0,0,0,154,998,768,0,0,null,154,998,768,0,0]
[769,154,null,998,null,0,0,0,{"$f":"IF(H779>0, H778/H779, 0)","v":0},null,{"$f":"ROUND(J779*I778,0)","v":0},0,{"$f":"K778-L778","v":0},0,0,{"$f":"ABS(Q778-B778)+ABS(R778-D778)","v":0},{"$f":"IF($Q$6=1, W778, IF($Q$6=2, AC778, IF($Q$6=3, AI778, IF($Q$6=4, AO778, IF($Q$6=5, AU778, IF($Q$6=6, BA778, IF($Q$6=7, BG778, IF($Q$6=8, BM778, 0))))))))","v":154},{"$f":"IF($Q$6=1, X778, IF($Q$6=2, AD778, IF($Q$6=3, AJ778, IF($Q$6=4, AP778, IF($Q$6=5, AV778, IF($Q$6=6, BB778, IF($Q$6=7, BH778, IF($Q$6=8, BN778, 0))))))))","v":998},{"$f":"IF($Q$6=1, Y778, IF($Q$6=2, AE778, IF($Q$6=3, AK778, IF($Q$6=4, AQ778, IF($Q$6=5, AW778, IF($Q$6=6, BC778, IF($Q$6=7, BI778, IF($Q$6=8, BO778, 0))))))))","v":769},{"$f":"IF($Q$6=1, Z778, IF($Q$6=2, AF778, IF($Q$6=3, AL778, IF($Q$6=4, AR778, IF($Q$6=5, AX778, IF($Q$6=6, BD778, IF($Q$6=7, BJ778, IF($Q$6=8, BP778, 0))))))))","v":0},{"$f":"IF($Q$6=1, AA778, IF($Q$6=2, AG778, IF($Q$6=3, AM778, IF($Q$6=4, AS778, IF($Q$6=5, AY778, IF($Q$6=6, BE778, IF($Q$6=7, BK778, IF($Q$6=8, BQ778, 0))))))))","v":0},null,154,998,769,0,0]
[770,154,"LEVERETT                     ",999,"TOTAL",2059867.5699999998,1,{"$f":"SUM(H775:H778)","v":2150045.5300000003},{"$f":"SUM(I775:I778)","v":0.99999999999999989},{"$f":"VLOOKUP(B779,town351,22)","v":1773788},{"$f":"SUM(K775:K778)","v":1773788},1853881,{"$f":"SUM(M775:M778)","v":-80093},-4.3202880875309688,211,0,154,999,770,217,2150045.5300000003,null,154,999,770,217,2150045.5300000003]
[771,155,"LEXINGTON                    ",155,"LEXINGTON",64514813.130400017,0.98754976493176072,{"$f":"U780","v":67063773.197500005},{"$f":"IF(H784>0, H780/H784, 0)","v":0.98876254825098242},null,{"$f":"ROUND(J784*I780,0)","v":55327612},56156903,{"$f":"K780-L780","v":-829291},-1.4767391998095052,6695,0,155,155,771,6849,67063773.197500005,null,155,155,771,6849,67063773.197500005]
[772,155,"LEXINGTON                    ",830,"MINUTEMAN",813351,1.2450235068239314E-2,762191,{"$f":"IF(H784>0, H781/H784, 0)","v":1.1237451749017578E-2},null,{"$f":"ROUND(J784*I781,0)","v":628808},707981,{"$f":"K781-L781","v":-79173},-11.182927225448141,49,0,155,830,772,45,762191,null,155,830,772,45,762191]
[773,155,null,998,"ESSEX COUNTY",0,0,0,{"$f":"IF(H784>0, H782/H784, 0)","v":0},null,{"$f":"ROUND(J784*I782,0)","v":0},0,{"$f":"K782-L782","v":0},0,0,0,155,998,773,0,0,null,155,998,773,0,0]
[774,155,null,998,null,0,0,0,{"$f":"IF(H784>0, H783/H784, 0)","v":0},null,{"$f":"ROUND(J784*I783,0)","v":0},0,{"$f":"K783-L783","v":0},0,0,0,155,998,774,0,0,null,155,998,774,0,0]
[775,155,"LEXINGTON                    ",999,"TOTAL",65328164.130400017,1,{"$f":"SUM(H780:H783)","v":67825964.197500005},{"$f":"SUM(I780:I783)","v":1},{"$f":"VLOOKUP(B784,town351,22)","v":55956420},{"$f":"SUM(K780:K783)","v":55956420},56864884,{"$f":"SUM(M780:M783)","v":-908464},{"$f":"IF(L784>0,M784*100/L784,IF(M784>0,100,0))","v":-1.5975834928283683},6744,0,155,999,775,6894,67825964.197500005,null,155,999,775,6894,67825964.197500005]
[776,156,"LEYDEN                       ",156,"LEYDEN",0,0,{"$f":"U785","v":0},{"$f":"IF(H789>0, H785/H789, 0)","v":0},null,{"$f":"ROUND(J789*I785,0)","v":0},0,{"$f":"K785-L785","v":0},0,0,0,156,156,776,0,0,null,156,156,776,0,0]
[777,156,"LEYDEN                       ",750,"PIONEER",552182,0.83488739538997714,525327,{"$f":"IF(H789>0, H786/H789, 0)","v":0.73364159686280639},null,{"$f":"ROUND(J789*I786,0)","v":433395},496964,{"$f":"K786-L786","v":-63569},-12.791469804653858,57,0,156,750,777,53,525327,null,156,750,777,53,525327]
[778,156,"LEYDEN                       ",818,"FRANKLIN COUNTY",109203,0.16511260461002292,190727,{"$f":"IF(H789>0, H787/H789, 0)","v":0.26635840313719356},null,{"$f":"ROUND(J789*I787,0)","v":157350},98283,{"$f":"K787-L787","v":59067},60.098898080034189,7,0,156,818,778,12,190727,null,156,818,778,12,190727]
[779,156,null,998,null,0,0,0,{"$f":"IF(H789>0, H788/H789, 0)","v":0},null,{"$f":"ROUND(J789*I788,0)","v":0},0,{"$f":"K788-L788","v":0},0,0,0,156,998,779,0,0,null,156,998,779,0,0]
[780,156,"LEYDEN                       ",999,"TOTAL",661385,1,{"$f":"SUM(H785:H788)","v":716054},{"$f":"SUM(I785:I788)","v":1},{"$f":"VLOOKUP(B789,town351,22)","v":590745},{"$f":"SUM(K785:K788)","v":590745},595247,{"$f":"SUM(M785:M788)","v":-4502},-0.7563246853827067,64,0,156,999,780,65,716054,null,156,999,780,65,716054]
[781,157,"LINCOLN                      ",157,"LINCOLN",5682114.4160699993,0.68190421134599022,{"$f":"U790","v":5601678.0140399989},{"$f":"IF(H794>0, H790/H794, 0)","v":0.66212036611661695},null,{"$f":"ROUND(J794*I790,0)","v":4621384},5004725,{"$f":"K790-L790","v":-383341},-7.6595816952979439,623,0,157,157,781,618,5601678.0140399989,null,157,157,781,618,5601678.0140399989]
[782,157,"LINCOLN                      ",695,"LINCOLN SUDBURY",2551008,0.30614362383439236,2773845,{"$f":"IF(H794>0, H791/H794, 0)","v":0.3278694816709315},null,{"$f":"ROUND(J794*I791,0)","v":2288422},2246891,{"$f":"K791-L791","v":41531},1.8483762674735891,247,0,157,695,782,264,2773845,null,157,695,782,264,2773845]
[783,157,"LINCOLN                      ",830,"MINUTEMAN",99594,1.1952164819617372E-2,84688,{"$f":"IF(H794>0, H792/H794, 0)","v":1.0010152212451613E-2},null,{"$f":"ROUND(J794*I792,0)","v":69868},87721,{"$f":"K792-L792","v":-17853},-20.352025170711688,6,0,157,830,783,5,84688,null,157,830,783,5,84688]
[784,157,null,998,null,0,0,0,{"$f":"IF(H794>0, H793/H794, 0)","v":0},null,{"$f":"ROUND(J794*I793,0)","v":0},0,{"$f":"K793-L793","v":0},0,0,0,157,998,784,0,0,null,157,998,784,0,0]
[785,157,"LINCOLN                      ",999,"TOTAL",8332716.4160699993,0.99999999999999989,{"$f":"SUM(H790:H793)","v":8460211.0140399989},{"$f":"SUM(I790:I793)","v":1},{"$f":"VLOOKUP(B794,town351,22)","v":6979674},{"$f":"SUM(K790:K793)","v":6979674},7339337,{"$f":"SUM(M790:M793)","v":-359663},-4.9004835177891408,876,0,157,999,785,887,8460211.0140399989,null,157,999,785,887,8460211.0140399989]
[786,158,"LITTLETON                    ",158,"LITTLETON",14701467.741599999,0.9615992604978657,{"$f":"U795","v":15178691.897499997},{"$f":"IF(H799>0, H795/H799, 0)","v":0.96751477239167527},null,{"$f":"ROUND(J799*I795,0)","v":11472283},11519536,{"$f":"K795-L795","v":-47253},-0.41019881356332411,1542,0,158,158,786,1558,15178691.897499997,null,158,158,786,1558,15178691.897499997]
[787,158,"LITTLETON                    ",852,"NASHOBA VALLEY",587092,3.8400739502134351E-2,509639,{"$f":"IF(H799>0, H796/H799, 0)","v":3.2485227608324681E-2},null,{"$f":"ROUND(J799*I796,0)","v":385193},460024,{"$f":"K796-L796","v":-74831},-16.266759995130688,38,0,158,852,787,33,509639,null,158,852,787,33,509639]
[788,158,null,998,null,0,0,0,{"$f":"IF(H799>0, H797/H799, 0)","v":0},null,{"$f":"ROUND(J799*I797,0)","v":0},0,{"$f":"K797-L797","v":0},0,0,0,158,998,788,0,0,null,158,998,788,0,0]
[789,158,null,998,null,0,0,0,{"$f":"IF(H799>0, H798/H799, 0)","v":0},null,{"$f":"ROUND(J799*I798,0)","v":0},0,{"$f":"K798-L798","v":0},0,0,0,158,998,789,0,0,null,158,998,789,0,0]
[790,158,"LITTLETON                    ",999,"TOTAL",15288559.741599999,1,{"$f":"SUM(H795:H798)","v":15688330.897499997},{"$f":"SUM(I795:I798)","v":1},{"$f":"VLOOKUP(B799,town351,22)","v":11857476},{"$f":"SUM(K795:K798)","v":11857476},11979560,{"$f":"SUM(M795:M798)","v":-122084},-1.0191025379897092,1580,0,158,999,790,1591,15688330.897499997,null,158,999,790,1591,15688330.897499997]
[791,159,"LONGMEADOW                   ",159,"LONGMEADOW",24849640.570000004,1,{"$f":"U800","v":25612986.450000003},{"$f":"IF(H804>0, H800/H804, 0)","v":1},null,{"$f":"ROUND(J804*I800,0)","v":21130714},21747129,{"$f":"K800-L800","v":-616415},-2.8344661035486571,2758,0,159,159,791,2811,25612986.450000003,null,159,159,791,2811,25612986.450000003]
[792,159,null,998,null,0,0,0,{"$f":"IF(H804>0, H801/H804, 0)","v":0},null,{"$f":"ROUND(J804*I801,0)","v":0},0,{"$f":"K801-L801","v":0},0,0,0,159,998,792,0,0,null,159,998,792,0,0]
[793,159,null,998,null,0,0,0,{"$f":"IF(H804>0, H802/H804, 0)","v":0},null,{"$f":"ROUND(J804*I802,0)","v":0},0,{"$f":"K802-L802","v":0},0,0,0,159,998,793,0,0,null,159,998,793,0,0]
[794,159,null,998,null,0,0,0,{"$f":"IF(H804>0, H803/H804, 0)","v":0},null,{"$f":"ROUND(J804*I803,0)","v":0},0,{"$f":"K803-L803","v":0},0,0,0,159,998,794,0,0,null,159,998,794,0,0]
[795,159,"LONGMEADOW                   ",999,"TOTAL",24849640.570000004,1,{"$f":"SUM(H800:H803)","v":25612986.450000003},{"$f":"SUM(I800:I803)","v":1},{"$f":"VLOOKUP(B804,town351,22)","v":21130714},{"$f":"SUM(K800:K803)","v":21130714},21747129,{"$f":"SUM(M800:M803)","v":-616415},-2.8344661035486571,2758,0,159,999,795,2811,25612986.450000003,null,159,999,795,2811,25612986.450000003]
[796,160,"LOWELL                       ",160,"LOWELL",176078571.80969998,0.87470015383360045,{"$f":"U805","v":177537953.73000002},{"$f":"IF(H809>0, H805/H809, 0)","v":0.87259580823420502},null,{"$f":"ROUND(J809*I805,0)","v":43089941},40949807,{"$f":"K805-L805","v":2140134},5.2262370858060452,15093,0,160,160,796,15300,177537953.73000002,null,160,160,796,15300,177537953.73000002]
[797,160,"LOWELL                       ",828,"GREATER LOWELL",25223064,0.12529984616639958,25921600,{"$f":"IF(H809>0, H806/H809, 0)","v":0.12740419176579504},null,{"$f":"ROUND(J809*I806,0)","v":6291388},5866015,{"$f":"K806-L806","v":425373},7.2514816276467071,1599,0,160,828,797,1626,25921600,null,160,828,797,1626,25921600]
[798,160,null,998,"ESSEX COUNTY",0,0,0,{"$f":"IF(H809>0, H807/H809, 0)","v":0},null,{"$f":"ROUND(J809*I807,0)","v":0},0,{"$f":"K807-L807","v":0},0,0,0,160,998,798,0,0,null,160,998,798,0,0]
[799,160,null,998,null,0,0,0,{"$f":"IF(H809>0, H808/H809, 0)","v":0},null,{"$f":"ROUND(J809*I808,0)","v":0},0,{"$f":"K808-L808","v":0},0,0,0,160,998,799,0,0,null,160,998,799,0,0]
[800,160,"LOWELL                       ",999,"TOTAL",201301635.80969998,1,{"$f":"SUM(H805:H808)","v":203459553.73000002},{"$f":"SUM(I805:I808)","v":1},{"$f":"VLOOKUP(B809,town351,22)","v":49381329},{"$f":"SUM(K805:K808)","v":49381329},46815822,{"$f":"SUM(M805:M808)","v":2565507},5.4799999025970321,16692,0,160,999,800,16926,203459553.73000002,null,160,999,800,16926,203459553.73000002]
[801,161,"LUDLOW                       ",161,"LUDLOW",27236633.910000004,1,{"$f":"U810","v":27187438.540000007},{"$f":"IF(H814>0, H810/H814, 0)","v":1},null,{"$f":"ROUND(J814*I810,0)","v":15164414},14951306,{"$f":"K810-L810","v":213108},1.4253470566383968,2761,0,161,161,801,2680,27187438.540000007,null,161,161,801,2680,27187438.540000007]
[802,161,null,998,null,0,0,0,{"$f":"IF(H814>0, H811/H814, 0)","v":0},null,{"$f":"ROUND(J814*I811,0)","v":0},0,{"$f":"K811-L811","v":0},0,0,0,161,998,802,0,0,null,161,998,802,0,0]
[803,161,null,998,null,0,0,0,{"$f":"IF(H814>0, H812/H814, 0)","v":0},null,{"$f":"ROUND(J814*I812,0)","v":0},0,{"$f":"K812-L812","v":0},0,0,0,161,998,803,0,0,null,161,998,803,0,0]
[804,161,null,998,null,0,0,0,{"$f":"IF(H814>0, H813/H814, 0)","v":0},null,{"$f":"ROUND(J814*I813,0)","v":0},0,{"$f":"K813-L813","v":0},0,0,0,161,998,804,0,0,null,161,998,804,0,0]
[805,161,"LUDLOW                       ",999,"TOTAL",27236633.910000004,1,{"$f":"SUM(H810:H813)","v":27187438.540000007},{"$f":"SUM(I810:I813)","v":1},{"$f":"VLOOKUP(B814,town351,22)","v":15164414},{"$f":"SUM(K810:K813)","v":15164414},14951306,{"$f":"SUM(M810:M813)","v":213108},1.4253470566383968,2761,0,161,999,805,2680,27187438.540000007,null,161,999,805,2680,27187438.540000007]
[806,162,"LUNENBURG                    ",162,"LUNENBURG",14945462.859999999,0.93321782837606748,{"$f":"U815","v":15341249.750000002},{"$f":"IF(H819>0, H815/H819, 0)","v":0.92791245853105253},null,{"$f":"ROUND(J819*I815,0)","v":9249930},9374156,{"$f":"K815-L815","v":-124226},-1.3251966363691836,1627,0,162,162,806,1647,15341249.750000002,null,162,162,806,1647,15341249.750000002]
[807,162,"LUNENBURG                    ",832,"MONTACHUSETT",1069515,6.6782171623932546E-2,1191829,{"$f":"IF(H819>0, H816/H819, 0)","v":7.2087541468947511E-2},null,{"$f":"ROUND(J819*I816,0)","v":718607},670826,{"$f":"K816-L816","v":47781},7.1227114035532315,71,0,162,832,807,78,1191829,null,162,832,807,78,1191829]
[808,162,null,998,null,0,0,0,{"$f":"IF(H819>0, H817/H819, 0)","v":0},null,{"$f":"ROUND(J819*I817,0)","v":0},0,{"$f":"K817-L817","v":0},0,0,0,162,998,808,0,0,null,162,998,808,0,0]
[809,162,null,998,null,0,0,0,{"$f":"IF(H819>0, H818/H819, 0)","v":0},null,{"$f":"ROUND(J819*I818,0)","v":0},0,{"$f":"K818-L818","v":0},0,0,0,162,998,809,0,0,null,162,998,809,0,0]
[810,162,"LUNENBURG                    ",999,"TOTAL",16014977.859999999,1,{"$f":"SUM(H815:H818)","v":16533078.750000002},{"$f":"SUM(I815:I818)","v":1},{"$f":"VLOOKUP(B819,town351,22)","v":9968537},{"$f":"SUM(K815:K818)","v":9968537},10044982,{"$f":"SUM(M815:M818)","v":-76445},-0.7610267494755093,1698,0,162,999,810,1725,16533078.750000002,null,162,999,810,1725,16533078.750000002]
[811,163,"LYNN                         ",163,"LYNN",181764114.65000001,1,{"$f":"U820","v":191949856.55000001},{"$f":"IF(H824>0, H820/H824, 0)","v":1},null,{"$f":"ROUND(J824*I820,0)","v":44587175},43133574,{"$f":"K820-L820","v":1453601},3.3699989711031133,15431,0,163,163,811,16036,191949856.55000001,null,163,163,811,16036,191949856.55000001]
[812,163,null,998,"ESSEX COUNTY",0,0,0,{"$f":"IF(H824>0, H821/H824, 0)","v":0},null,{"$f":"ROUND(J824*I821,0)","v":0},0,{"$f":"K821-L821","v":0},0,0,0,163,998,812,0,0,null,163,998,812,0,0]
[813,163,null,998,null,0,0,0,{"$f":"IF(H824>0, H822/H824, 0)","v":0},null,{"$f":"ROUND(J824*I822,0)","v":0},0,{"$f":"K822-L822","v":0},0,0,0,163,998,813,0,0,null,163,998,813,0,0]
[814,163,null,998,null,0,0,0,{"$f":"IF(H824>0, H823/H824, 0)","v":0},null,{"$f":"ROUND(J824*I823,0)","v":0},0,{"$f":"K823-L823","v":0},0,0,0,163,998,814,0,0,null,163,998,814,0,0]
[815,163,"LYNN                         ",999,"TOTAL",181764114.65000001,1,{"$f":"SUM(H820:H823)","v":191949856.55000001},{"$f":"SUM(I820:I823)","v":1},{"$f":"VLOOKUP(B824,town351,22)","v":44587175},{"$f":"SUM(K820:K823)","v":44587175},43133574,{"$f":"SUM(M820:M823)","v":1453601},3.3699989711031133,15431,0,163,999,815,16036,191949856.55000001,null,163,999,815,16036,191949856.55000001]
[816,164,"LYNNFIELD                    ",164,"LYNNFIELD",19490234.623029999,0.98582941647432676,{"$f":"U825","v":19743094.595660001},{"$f":"IF(H829>0, H825/H829, 0)","v":0.98527391106974604},null,{"$f":"ROUND(J829*I825,0)","v":16288053},17091539,{"$f":"K825-L825","v":-803486},-4.7010746077342711,2117,0,164,164,816,2104,19743094.595660001,null,164,164,816,2104,19743094.595660001]
[817,164,"LYNNFIELD                    ",817,"ESSEX NORTH SHORE",280158,1.4170583525673207E-2,295084,{"$f":"IF(H829>0, H826/H829, 0)","v":1.4726088930253931E-2},null,{"$f":"ROUND(J829*I826,0)","v":243444},245678,{"$f":"K826-L826","v":-2234},-0.90932032986266575,18,0,164,817,817,19,295084,null,164,817,817,19,295084]
[818,164,null,998,"ESSEX COUNTY",0,0,0,{"$f":"IF(H829>0, H827/H829, 0)","v":0},null,{"$f":"ROUND(J829*I827,0)","v":0},0,{"$f":"K827-L827","v":0},0,0,0,164,998,818,0,0,null,164,998,818,0,0]
[819,164,null,998,null,0,0,0,{"$f":"IF(H829>0, H828/H829, 0)","v":0},null,{"$f":"ROUND(J829*I828,0)","v":0},0,{"$f":"K828-L828","v":0},0,0,0,164,998,819,0,0,null,164,998,819,0,0]
[820,164,"LYNNFIELD                    ",999,"TOTAL",19770392.623029999,1,{"$f":"SUM(H825:H828)","v":20038178.595660001},{"$f":"SUM(I825:I828)","v":1},{"$f":"VLOOKUP(B829,town351,22)","v":16531497},{"$f":"SUM(K825:K828)","v":16531497},17337217,{"$f":"SUM(M825:M828)","v":-805720},-4.6473433423599646,2135,0,164,999,820,2123,20038178.595660001,null,164,999,820,2123,20038178.595660001]
[821,165,"MALDEN                       ",165,"MALDEN",80737953.747600004,0.96320587938771485,{"$f":"U830","v":84059175.637440011},{"$f":"IF(H834>0, H830/H834, 0)","v":0.96764305050296306},null,{"$f":"ROUND(J834*I830,0)","v":35620417},34410984,{"$f":"K830-L830","v":1209433},3.5146713619116499,7309,0,165,165,821,7395,84059175.637440011,null,165,165,821,7395,84059175.637440011]
[822,165,"MALDEN                       ",853,"NORTHEAST METROPOLITAN",3084161,3.6794120612285146E-2,2810849,{"$f":"IF(H834>0, H831/H834, 0)","v":3.2356949497036928E-2},null,{"$f":"ROUND(J834*I831,0)","v":1191109},1314487,{"$f":"K831-L831","v":-123378},-9.3860190325199113,189,0,165,853,822,170,2810849,null,165,853,822,170,2810849]
[823,165,null,998,"ESSEX COUNTY",0,0,0,{"$f":"IF(H834>0, H832/H834, 0)","v":0},null,{"$f":"ROUND(J834*I832,0)","v":0},0,{"$f":"K832-L832","v":0},0,0,0,165,998,823,0,0,null,165,998,823,0,0]
[824,165,null,998,null,0,0,0,{"$f":"IF(H834>0, H833/H834, 0)","v":0},null,{"$f":"ROUND(J834*I833,0)","v":0},0,{"$f":"K833-L833","v":0},0,0,0,165,998,824,0,0,null,165,998,824,0,0]
[825,165,"MALDEN                       ",999,"TOTAL",83822114.747600004,1,{"$f":"SUM(H830:H833)","v":86870024.637440011},{"$f":"SUM(I830:I833)","v":1},{"$f":"VLOOKUP(B834,town351,22)","v":36811526},{"$f":"SUM(K830:K833)","v":36811526},35725471,{"$f":"SUM(M830:M833)","v":1086055},3.0400019078824743,7498,0,165,999,825,7565,86870024.637440011,null,165,999,825,7565,86870024.637440011]
[826,166,"MANCHESTER                   ",166,"MANCHESTER",0,0,{"$f":"U835","v":0},{"$f":"IF(H839>0, H835/H839, 0)","v":0},null,{"$f":"ROUND(J839*I835,0)","v":0},0,{"$f":"K835-L835","v":0},0,0,0,166,166,826,0,0,null,166,166,826,0,0]
[827,166,"MANCHESTER                   ",698,"MANCHESTER ESSEX",8265290,0.99252396894307526,8365877,{"$f":"IF(H839>0, H836/H839, 0)","v":0.9926289748457523},null,{"$f":"ROUND(J839*I836,0)","v":6901849},6728641,{"$f":"K836-L836","v":173208},2.5741899441506835,902,0,166,698,827,894,8365877,null,166,698,827,894,8365877]
[828,166,"MANCHESTER                   ",817,"ESSEX NORTH SHORE",62257,7.4760310569246865E-3,62123,{"$f":"IF(H839>0, H837/H839, 0)","v":7.3710251542477455E-3},null,{"$f":"ROUND(J839*I837,0)","v":51251},50682,{"$f":"K837-L837","v":569},1.1226865553845546,4,0,166,817,828,4,62123,null,166,817,828,4,62123]
[829,166,null,998,null,0,0,0,{"$f":"IF(H839>0, H838/H839, 0)","v":0},null,{"$f":"ROUND(J839*I838,0)","v":0},0,{"$f":"K838-L838","v":0},0,0,0,166,998,829,0,0,null,166,998,829,0,0]
[830,166,"MANCHESTER                   ",999,"TOTAL",8327547,1,{"$f":"SUM(H835:H838)","v":8428000},{"$f":"SUM(I835:I838)","v":1},{"$f":"VLOOKUP(B839,town351,22)","v":6953100},{"$f":"SUM(K835:K838)","v":6953100},6779323,{"$f":"SUM(M835:M838)","v":173777},2.5633385516518388,906,0,166,999,830,898,8428000,null,166,999,830,898,8428000]
[831,167,"MANSFIELD                    ",167,"MANSFIELD",41985292.046640001,0.9770493552303442,{"$f":"U840","v":40931631.918399997},{"$f":"IF(H844>0, H840/H844, 0)","v":0.97054392152865088},null,{"$f":"ROUND(J844*I840,0)","v":25990129},26566576,{"$f":"K840-L840","v":-576447},-2.1698204540923904,4357,0,167,167,831,4171,40931631.918399997,null,167,167,831,4171,40931631.918399997]
[832,167,"MANSFIELD                    ",872,"SOUTHEASTERN",986224,2.2950644769655831E-2,1227071,{"$f":"IF(H844>0, H841/H844, 0)","v":2.9095500094114889E-2},null,{"$f":"ROUND(J844*I841,0)","v":779146},624042,{"$f":"K841-L841","v":155104},24.854737341396895,63,0,167,872,832,77,1227071,null,167,872,832,77,1227071]
[833,167,"MANSFIELD                    ",910,"BRISTOL COUNTY",0,0,15207,{"$f":"IF(H844>0, H842/H844, 0)","v":3.6057837723424733E-4},null,{"$f":"ROUND(J844*I842,0)","v":9656},0,{"$f":"K842-L842","v":9656},100,0,{"$f":"ABS(Q842-B842)+ABS(R842-D842)","v":0},{"$f":"IF($Q$6=1, W842, IF($Q$6=2, AC842, IF($Q$6=3, AI842, IF($Q$6=4, AO842, IF($Q$6=5, AU842, IF($Q$6=6, BA842, IF($Q$6=7, BG842, IF($Q$6=8, BM842, 0))))))))","v":167},{"$f":"IF($Q$6=1, X842, IF($Q$6=2, AD842, IF($Q$6=3, AJ842, IF($Q$6=4, AP842, IF($Q$6=5, AV842, IF($Q$6=6, BB842, IF($Q$6=7, BH842, IF($Q$6=8, BN842, 0))))))))","v":910},{"$f":"IF($Q$6=1, Y842, IF($Q$6=2, AE842, IF($Q$6=3, AK842, IF($Q$6=4, AQ842, IF($Q$6=5, AW842, IF($Q$6=6, BC842, IF($Q$6=7, BI842, IF($Q$6=8, BO842, 0))))))))","v":833},{"$f":"IF($Q$6=1, Z842, IF($Q$6=2, AF842, IF($Q$6=3, AL842, IF($Q$6=4, AR842, IF($Q$6=5, AX842, IF($Q$6=6, BD842, IF($Q$6=7, BJ842, IF($Q$6=8, BP842, 0))))))))","v":1},{"$f":"IF($Q$6=1, AA842, IF($Q$6=2, AG842, IF($Q$6=3, AM842, IF($Q$6=4, AS842, IF($Q$6=5, AY842, IF($Q$6=6, BE842, IF($Q$6=7, BK842, IF($Q$6=8, BQ842, 0))))))))","v":15207},null,167,910,833,1,15207]
[834,167,null,998,null,0,0,0,{"$f":"IF(H844>0, H843/H844, 0)","v":0},null,{"$f":"ROUND(J844*I843,0)","v":0},0,{"$f":"K843-L843","v":0},0,0,0,167,998,834,0,0,null,167,998,834,0,0]
[835,167,"MANSFIELD                    ",999,"TOTAL",42971516.046640001,1,{"$f":"SUM(H840:H843)","v":42173909.918399997},{"$f":"SUM(I840:I843)","v":1},{"$f":"VLOOKUP(B844,town351,22)","v":26778931},{"$f":"SUM(K840:K843)","v":26778931},27190618,{"$f":"SUM(M840:M843)","v":-411687},-1.514077392429992,4420,0,167,999,835,4249,42173909.918399997,null,167,999,835,4249,42173909.918399997]
[836,168,"MARBLEHEAD                   ",168,"MARBLEHEAD",30687140.549999997,0.99495366558768328,{"$f":"U845","v":30592758.849999998},{"$f":"IF(H849>0, H845/H849, 0)","v":0.9939449551362125},null,{"$f":"ROUND(J849*I845,0)","v":25239026},25404870,{"$f":"K845-L845","v":-165844},-0.65280397026239456,3366,0,168,168,836,3308,30592758.849999998,null,168,168,836,3308,30592758.849999998]
[837,168,"MARBLEHEAD                   ",817,"ESSEX NORTH SHORE",155643,5.0463344123166864E-3,186369,{"$f":"IF(H849>0, H846/H849, 0)","v":6.0550448637874581E-3},null,{"$f":"ROUND(J849*I846,0)","v":153754},128852,{"$f":"K846-L846","v":24902},19.326048489740167,10,0,168,817,837,12,186369,null,168,817,837,12,186369]
[838,168,null,998,"ESSEX COUNTY",0,0,0,{"$f":"IF(H849>0, H847/H849, 0)","v":0},null,{"$f":"ROUND(J849*I847,0)","v":0},0,{"$f":"K847-L847","v":0},0,0,0,168,998,838,0,0,null,168,998,838,0,0]
[839,168,null,998,null,0,0,0,{"$f":"IF(H849>0, H848/H849, 0)","v":0},null,{"$f":"ROUND(J849*I848,0)","v":0},0,{"$f":"K848-L848","v":0},{"$f":"IF(L848>0,M848*100/L848,IF(M848>0,100,0))","v":0},0,0,168,998,839,0,0,null,168,998,839,0,0]
[840,168,"MARBLEHEAD                   ",999,"TOTAL",30842783.549999997,1,{"$f":"SUM(H845:H848)","v":30779127.849999998},{"$f":"SUM(I845:I848)","v":1},{"$f":"VLOOKUP(B849,town351,22)","v":25392780},{"$f":"SUM(K845:K848)","v":25392780},25533722,{"$f":"SUM(M845:M848)","v":-140942},{"$f":"IF(L849>0,M849*100/L849,IF(M849>0,100,0))","v":-0.55198376484243072},3376,0,168,999,840,3320,30779127.849999998,null,168,999,840,3320,30779127.849999998]
[841,169,"MARION                       ",169,"MARION",3955020.5,0.54996672058073959,{"$f":"U850","v":4014302.5699999994},{"$f":"IF(H854>0, H850/H854, 0)","v":0.53222429359070056},null,{"$f":"ROUND(J854*I850,0)","v":3311800},3359179,{"$f":"K850-L850","v":-47379},-1.4104339185259256,448,0,169,169,841,439,4014302.5699999994,null,169,169,841,439,4014302.5699999994]
[842,169,"MARION                       ",740,"OLD ROCHESTER",3060291,0.42554980569449696,3329155,{"$f":"IF(H854>0, H851/H854, 0)","v":0.44138605330114639},null,{"$f":"ROUND(J854*I851,0)","v":2746553},2599245,{"$f":"K851-L851","v":147308},5.6673380154621826,325,0,169,740,842,344,3329155,null,169,740,842,344,3329155]
[843,169,"MARION                       ",879,"UPPER CAPE COD",176070,2.4483473724763456E-2,199044,{"$f":"IF(H854>0, H852/H854, 0)","v":2.6389653108153083E-2},null,{"$f":"ROUND(J854*I852,0)","v":164211},149544,{"$f":"K852-L852","v":14667},9.8078157599101274,12,0,169,879,843,13,199044,null,169,879,843,13,199044]
[844,169,null,998,null,0,0,0,{"$f":"IF(H854>0, H853/H854, 0)","v":0},null,{"$f":"ROUND(J854*I853,0)","v":0},0,{"$f":"K853-L853","v":0},0,0,0,169,998,844,0,0,null,169,998,844,0,0]
[845,169,"MARION                       ",999,"TOTAL",7191381.5,1,{"$f":"SUM(H850:H853)","v":7542501.5699999994},{"$f":"SUM(I850:I853)","v":1},{"$f":"VLOOKUP(B854,town351,22)","v":6222564},{"$f":"SUM(K850:K853)","v":6222564},6107968,{"$f":"SUM(M850:M853)","v":114596},1.8761722392782674,785,0,169,999,845,796,7542501.5699999994,null,169,999,845,796,7542501.5699999994]
[846,170,"MARLBOROUGH                  ",170,"MARLBOROUGH",52135804.352599993,0.90410606149089212,{"$f":"U855","v":55409404.919719994},{"$f":"IF(H859>0, H855/H859, 0)","v":0.9014094722621997},null,{"$f":"ROUND(J859*I855,0)","v":32195951},32592161,{"$f":"K855-L855","v":-396210},-1.2156604160123043,4798,0,170,170,846,4976,55409404.919719994,null,170,170,846,4976,55409404.919719994]
[847,170,"MARLBOROUGH                  ",801,"ASSABET VALLEY",5529780,9.589393850910792E-2,6060334,{"$f":"IF(H859>0, H856/H859, 0)","v":9.859052773780036E-2},null,{"$f":"ROUND(J859*I856,0)","v":3521392},3456885,{"$f":"K856-L856","v":64507},1.866044140895633,336,0,170,801,847,361,6060334,null,170,801,847,361,6060334]
[848,170,null,998,null,0,0,0,{"$f":"IF(H859>0, H857/H859, 0)","v":0},null,{"$f":"ROUND(J859*I857,0)","v":0},0,{"$f":"K857-L857","v":0},0,0,0,170,998,848,0,0,null,170,998,848,0,0]
[849,170,null,998,null,0,0,0,{"$f":"IF(H859>0, H858/H859, 0)","v":0},null,{"$f":"ROUND(J859*I858,0)","v":0},0,{"$f":"K858-L858","v":0},0,0,0,170,998,849,0,0,null,170,998,849,0,0]
[850,170,"MARLBOROUGH                  ",999,"TOTAL",57665584.352599993,1,{"$f":"SUM(H855:H858)","v":61469738.919719994},{"$f":"SUM(I855:I858)","v":1},{"$f":"VLOOKUP(B859,town351,22)","v":35717343},{"$f":"SUM(K855:K858)","v":35717343},36049046,{"$f":"SUM(M855:M858)","v":-331703},-0.92014362876620925,5134,0,170,999,850,5337,61469738.919719994,null,170,999,850,5337,61469738.919719994]
[851,171,"MARSHFIELD                   ",171,"MARSHFIELD",40490934.449160002,1,{"$f":"U860","v":40254049.280549996},{"$f":"IF(H864>0, H860/H864, 0)","v":1},null,{"$f":"ROUND(J864*I860,0)","v":31962838},31137078,{"$f":"K860-L860","v":825760},2.6520150670528557,4299,0,171,171,851,4193,40254049.280549996,null,171,171,851,4193,40254049.280549996]
[852,171,null,998,null,0,0,0,{"$f":"IF(H864>0, H861/H864, 0)","v":0},null,{"$f":"ROUND(J864*I861,0)","v":0},0,{"$f":"K861-L861","v":0},0,0,0,171,998,852,0,0,null,171,998,852,0,0]
[853,171,null,998,null,0,0,0,{"$f":"IF(H864>0, H862/H864, 0)","v":0},null,{"$f":"ROUND(J864*I862,0)","v":0},0,{"$f":"K862-L862","v":0},0,0,0,171,998,853,0,0,null,171,998,853,0,0]
[854,171,null,998,null,0,0,0,{"$f":"IF(H864>0, H863/H864, 0)","v":0},null,{"$f":"ROUND(J864*I863,0)","v":0},0,{"$f":"K863-L863","v":0},0,0,0,171,998,854,0,0,null,171,998,854,0,0]
[855,171,"MARSHFIELD                   ",999,"TOTAL",40490934.449160002,1,{"$f":"SUM(H860:H863)","v":40254049.280549996},{"$f":"SUM(I860:I863)","v":1},{"$f":"VLOOKUP(B864,town351,22)","v":31962838},{"$f":"SUM(K860:K863)","v":31962838},31137078,{"$f":"SUM(M860:M863)","v":825760},2.6520150670528557,4299,0,171,999,855,4193,40254049.280549996,null,171,999,855,4193,40254049.280549996]
[856,172,"MASHPEE                      ",172,"MASHPEE",16847491.769999996,0.95075485308022234,{"$f":"U865","v":16578175.300000003},{"$f":"IF(H869>0, H865/H869, 0)","v":0.94398409335861821},null,{"$f":"ROUND(J869*I865,0)","v":13676995},14820989,{"$f":"K865-L865","v":-1143994},-7.718742656107497,1734,0,172,172,856,1688,16578175.300000003,null,172,172,856,1688,16578175.300000003]
[857,172,"MASHPEE                      ",815,"CAPE COD",872630,4.924514691977764E-2,983747,{"$f":"IF(H869>0, H866/H869, 0)","v":5.6015906641381723E-2},null,{"$f":"ROUND(J869*I866,0)","v":811591},767666,{"$f":"K866-L866","v":43925},5.7218894675549006,57,0,172,815,857,63,983747,null,172,815,857,63,983747]
[858,172,null,998,null,0,0,0,{"$f":"IF(H869>0, H867/H869, 0)","v":0},null,{"$f":"ROUND(J869*I867,0)","v":0},0,{"$f":"K867-L867","v":0},0,0,0,172,998,858,0,0,null,172,998,858,0,0]
[859,172,null,998,null,0,0,0,{"$f":"IF(H869>0, H868/H869, 0)","v":0},null,{"$f":"ROUND(J869*I868,0)","v":0},0,{"$f":"K868-L868","v":0},0,0,0,172,998,859,0,0,null,172,998,859,0,0]
[860,172,"MASHPEE                      ",999,"TOTAL",17720121.769999996,1,{"$f":"SUM(H865:H868)","v":17561922.300000004},{"$f":"SUM(I865:I868)","v":0.99999999999999989},{"$f":"VLOOKUP(B869,town351,22)","v":14488586},{"$f":"SUM(K865:K868)","v":14488586},15588655,{"$f":"SUM(M865:M868)","v":-1100069},-7.0568564125641373,1791,0,172,999,860,1751,17561922.300000004,null,172,999,860,1751,17561922.300000004]
[861,173,"MATTAPOISETT                 ",173,"MATTAPOISETT",4564402.3699999992,0.53422904074135358,{"$f":"U870","v":4686148.55},{"$f":"IF(H874>0, H870/H874, 0)","v":0.52053374722637258},null,{"$f":"ROUND(J874*I870,0)","v":3866072},3935161,{"$f":"K870-L870","v":-69089},-1.7556842019932601,511,0,173,173,861,510,4686148.55,null,173,173,861,510,4686148.55]
[862,173,"MATTAPOISETT                 ",740,"OLD ROCHESTER",3578186,0.41879981636547553,3842078,{"$f":"IF(H874>0, H871/H874, 0)","v":0.4267750450369327},null,{"$f":"ROUND(J874*I871,0)","v":3169714},3084903,{"$f":"K871-L871","v":84811},2.7492274473459943,380,0,173,740,862,397,3842078,null,173,740,862,397,3842078]
[863,173,"MATTAPOISETT                 ",855,"OLD COLONY",401317,4.6971142893170885E-2,474357,{"$f":"IF(H874>0, H872/H874, 0)","v":5.2691207736694647E-2},null,{"$f":"ROUND(J874*I872,0)","v":391345},345992,{"$f":"K872-L872","v":45353},13.108106545816089,27,0,173,855,863,31,474357,null,173,855,863,31,474357]
[864,173,null,998,null,0,0,0,{"$f":"IF(H874>0, H873/H874, 0)","v":0},null,{"$f":"ROUND(J874*I873,0)","v":0},0,{"$f":"K873-L873","v":0},0,0,0,173,998,864,0,0,null,173,998,864,0,0]
[865,173,"MATTAPOISETT                 ",999,"TOTAL",8543905.3699999992,0.99999999999999989,{"$f":"SUM(H870:H873)","v":9002583.5500000007},{"$f":"SUM(I870:I873)","v":0.99999999999999989},{"$f":"VLOOKUP(B874,town351,22)","v":7427131},{"$f":"SUM(K870:K873)","v":7427131},7366056,{"$f":"SUM(M870:M873)","v":61075},0.82914113061318029,918,0,173,999,865,938,9002583.5500000007,null,173,999,865,938,9002583.5500000007]
[866,174,"MAYNARD                      ",174,"MAYNARD",13617361.215549998,0.93238801640812619,{"$f":"U875","v":13850824.283779997},{"$f":"IF(H879>0, H875/H879, 0)","v":0.93010630179263687},null,{"$f":"ROUND(J879*I875,0)","v":9037642},9450152,{"$f":"K875-L875","v":-412510},-4.3651149738120614,1393,0,174,174,866,1384,13850824.283779997,null,174,174,866,1384,13850824.283779997]
[867,174,"MAYNARD                      ",801,"ASSABET VALLEY",987461,6.7611983591873773E-2,1040833,{"$f":"IF(H879>0, H876/H879, 0)","v":6.9893698207363117E-2},null,{"$f":"ROUND(J879*I876,0)","v":679142},685276,{"$f":"K876-L876","v":-6134},-0.89511379356638787,60,0,174,801,867,62,1040833,null,174,801,867,62,1040833]
[868,174,null,998,null,0,0,0,{"$f":"IF(H879>0, H877/H879, 0)","v":0},null,{"$f":"ROUND(J879*I877,0)","v":0},0,{"$f":"K877-L877","v":0},0,0,0,174,998,868,0,0,null,174,998,868,0,0]
[869,174,null,998,null,0,0,0,{"$f":"IF(H879>0, H878/H879, 0)","v":0},null,{"$f":"ROUND(J879*I878,0)","v":0},0,{"$f":"K878-L878","v":0},0,0,0,174,998,869,0,0,null,174,998,869,0,0]
[870,174,"MAYNARD                      ",999,"TOTAL",14604822.215549998,1,{"$f":"SUM(H875:H878)","v":14891657.283779997},{"$f":"SUM(I875:I878)","v":1},{"$f":"VLOOKUP(B879,town351,22)","v":9716784},{"$f":"SUM(K875:K878)","v":9716784},10135428,{"$f":"SUM(M875:M878)","v":-418644},-4.1305014450302444,1453,0,174,999,870,1446,14891657.283779997,null,174,999,870,1446,14891657.283779997]
[871,175,"MEDFIELD                     ",175,"MEDFIELD",23366471.620039996,0.98955235734214786,{"$f":"U880","v":23395043.4848},{"$f":"IF(H884>0, H880/H884, 0)","v":0.99197411958869242},null,{"$f":"ROUND(J884*I880,0)","v":19300911},20811592,{"$f":"K880-L880","v":-1510681},-7.258844013470954,2578,0,175,175,871,2538,23395043.4848,null,175,175,871,2538,23395043.4848]
[872,175,"MEDFIELD                     ",878,"TRI COUNTY",170391,7.2159296645916667E-3,126693,{"$f":"IF(H884>0, H881/H884, 0)","v":5.3719146628089538E-3},null,{"$f":"ROUND(J884*I881,0)","v":104522},151761,{"$f":"K881-L881","v":-47239},-31.127232951812388,11,0,175,878,872,8,126693,null,175,878,872,8,126693]
[873,175,"MEDFIELD                     ",915,"NORFOLK COUNTY",76311,3.2317129932605284E-3,62592,{"$f":"IF(H884>0, H882/H884, 0)","v":2.6539657484986388E-3},null,{"$f":"ROUND(J884*I882,0)","v":51638},67967,{"$f":"K882-L882","v":-16329},-24.02489443406359,5,0,175,915,873,4,62592,null,175,915,873,4,62592]
[874,175,null,998,null,0,0,0,{"$f":"IF(H884>0, H883/H884, 0)","v":0},null,{"$f":"ROUND(J884*I883,0)","v":0},0,{"$f":"K883-L883","v":0},0,0,0,175,998,874,0,0,null,175,998,874,0,0]
[875,175,"MEDFIELD                     ",999,"TOTAL",23613173.620039996,1,{"$f":"SUM(H880:H883)","v":23584328.4848},{"$f":"SUM(I880:I883)","v":1},{"$f":"VLOOKUP(B884,town351,22)","v":19457071},{"$f":"SUM(K880:K883)","v":19457071},21031320,{"$f":"SUM(M880:M883)","v":-1574249},-7.4852600787777464,2594,0,175,999,875,2550,23584328.4848,null,175,999,875,2550,23584328.4848]
[876,176,"MEDFORD                      ",176,"MEDFORD",52268719.305079997,1,{"$f":"U885","v":52826959.864799984},{"$f":"IF(H889>0, H885/H889, 0)","v":1},null,{"$f":"ROUND(J889*I885,0)","v":43582242},45014043,{"$f":"K885-L885","v":-1431801},-3.180787382284235,4990,0,176,176,876,4896,52826959.864799984,null,176,176,876,4896,52826959.864799984]
[877,176,null,998,"ESSEX COUNTY",0,0,0,{"$f":"IF(H889>0, H886/H889, 0)","v":0},null,{"$f":"ROUND(J889*I886,0)","v":0},0,{"$f":"K886-L886","v":0},0,0,0,176,998,877,0,0,null,176,998,877,0,0]
[878,176,null,998,null,0,0,0,{"$f":"IF(H889>0, H887/H889, 0)","v":0},null,{"$f":"ROUND(J889*I887,0)","v":0},0,{"$f":"K887-L887","v":0},0,0,0,176,998,878,0,0,null,176,998,878,0,0]
[879,176,null,998,null,0,0,0,{"$f":"IF(H889>0, H888/H889, 0)","v":0},null,{"$f":"ROUND(J889*I888,0)","v":0},0,{"$f":"K888-L888","v":0},0,0,0,176,998,879,0,0,null,176,998,879,0,0]
[880,176,"MEDFORD                      ",999,"TOTAL",52268719.305079997,1,{"$f":"SUM(H885:H888)","v":52826959.864799984},{"$f":"SUM(I885:I888)","v":1},{"$f":"VLOOKUP(B889,town351,22)","v":43582242},{"$f":"SUM(K885:K888)","v":43582242},45014043,{"$f":"SUM(M885:M888)","v":-1431801},-3.180787382284235,4990,0,176,999,880,4896,52826959.864799984,null,176,999,880,4896,52826959.864799984]
[881,177,"MEDWAY                       ",177,"MEDWAY",21554025.020479999,0.95217972881681356,{"$f":"U890","v":21958660.335269995},{"$f":"IF(H894>0, H890/H894, 0)","v":0.95791562351503678},null,{"$f":"ROUND(J894*I890,0)","v":14185958},14114067,{"$f":"K890-L890","v":71891},0.50935708325601681,2351,0,177,177,881,2331,21958660.335269995,null,177,177,881,2331,21958660.335269995]
[882,177,"MEDWAY                       ",878,"TRI COUNTY",960386,4.2426418275499415E-2,855180,{"$f":"IF(H894>0, H891/H894, 0)","v":3.7306022790552749E-2},null,{"$f":"ROUND(J894*I891,0)","v":552472},628883,{"$f":"K891-L891","v":-76411},-12.150272785239862,62,0,177,878,882,54,855180,null,177,878,882,54,855180]
[883,177,"MEDWAY                       ",915,"NORFOLK COUNTY",122098,5.393852907687042E-3,109536,{"$f":"IF(H894>0, H892/H894, 0)","v":4.7783536944105169E-3},null,{"$f":"ROUND(J894*I892,0)","v":70764},79953,{"$f":"K892-L892","v":-9189},-11.49300213875652,8,0,177,915,883,7,109536,null,177,915,883,7,109536]
[884,177,null,998,null,0,0,0,{"$f":"IF(H894>0, H893/H894, 0)","v":0},null,{"$f":"ROUND(J894*I893,0)","v":0},0,{"$f":"K893-L893","v":0},0,0,0,177,998,884,0,0,null,177,998,884,0,0]
[885,177,"MEDWAY                       ",999,"TOTAL",22636509.020479999,1,{"$f":"SUM(H890:H893)","v":22923376.335269995},{"$f":"SUM(I890:I893)","v":1},{"$f":"VLOOKUP(B894,town351,22)","v":14809194},{"$f":"SUM(K890:K893)","v":14809194},14822903,{"$f":"SUM(M890:M893)","v":-13709},-9.2485257442486132E-2,2421,0,177,999,885,2392,22923376.335269995,null,177,999,885,2392,22923376.335269995]
[886,178,"MELROSE                      ",178,"MELROSE",35264711.847039998,0.96689114485084438,{"$f":"U895","v":36086251.428580001},{"$f":"IF(H899>0, H895/H899, 0)","v":0.97237685912869021},null,{"$f":"ROUND(J899*I895,0)","v":29102972},28117748,{"$f":"K895-L895","v":985224},3.5039221490995653,3727,0,178,178,886,3732,36086251.428580001,null,178,178,886,3732,36086251.428580001]
[887,178,"MELROSE                      ",853,"NORTHEAST METROPOLITAN",1207555,3.3108855149155673E-2,1025133,{"$f":"IF(H899>0, H896/H899, 0)","v":2.7623140871309845E-2},null,{"$f":"ROUND(J899*I896,0)","v":826753},962824,{"$f":"K896-L896","v":-136071},-14.132489426935765,74,0,178,853,887,62,1025133,null,178,853,887,62,1025133]
[888,178,null,998,"ESSEX COUNTY",0,0,0,{"$f":"IF(H899>0, H897/H899, 0)","v":0},null,{"$f":"ROUND(J899*I897,0)","v":0},0,{"$f":"K897-L897","v":0},0,0,0,178,998,888,0,0,null,178,998,888,0,0]
[889,178,null,998,null,0,0,0,{"$f":"IF(H899>0, H898/H899, 0)","v":0},null,{"$f":"ROUND(J899*I898,0)","v":0},0,{"$f":"K898-L898","v":0},0,0,0,178,998,889,0,0,null,178,998,889,0,0]
[890,178,"MELROSE                      ",999,"TOTAL",36472266.847039998,1,{"$f":"SUM(H895:H898)","v":37111384.428580001},{"$f":"SUM(I895:I898)","v":1},{"$f":"VLOOKUP(B899,town351,22)","v":29929725},{"$f":"SUM(K895:K898)","v":29929725},29080572,{"$f":"SUM(M895:M898)","v":849153},2.9200010233636395,3801,0,178,999,890,3794,37111384.428580001,null,178,999,890,3794,37111384.428580001]
[891,179,"MENDON                       ",179,"MENDON",26544.465999999997,2.4540080186924631E-3,{"$f":"U900","v":26877.483239999998},{"$f":"IF(H904>0, H900/H904, 0)","v":2.4609231918402016E-3},null,{"$f":"ROUND(J904*I900,0)","v":16445},15491,{"$f":"K900-L900","v":954},6.1584145632948166,2,0,179,179,891,2,26877.483239999998,null,179,179,891,2,26877.483239999998]
[892,179,"MENDON                       ",710,"MENDON UPTON",9656278,0.89271276516632969,9759967,{"$f":"IF(H904>0, H901/H904, 0)","v":0.89363014116402961},null,{"$f":"ROUND(J904*I901,0)","v":5971725},5635362,{"$f":"K901-L901","v":336363},5.9687913571479525,1047,0,179,710,892,1043,9759967,null,179,710,892,1043,9759967]
[893,179,"MENDON                       ",805,"BLACKSTONE VALLEY",1133958,0.10483322681497786,1134863,{"$f":"IF(H904>0, H902/H904, 0)","v":0.10390893564413016},null,{"$f":"ROUND(J904*I902,0)","v":694376},661773,{"$f":"K902-L902","v":32603},4.9266138086624869,76,0,179,805,893,75,1134863,null,179,805,893,75,1134863]
[894,179,null,998,null,0,0,0,{"$f":"IF(H904>0, H903/H904, 0)","v":0},null,{"$f":"ROUND(J904*I903,0)","v":0},0,{"$f":"K903-L903","v":0},0,0,0,179,998,894,0,0,null,179,998,894,0,0]
[895,179,"MENDON                       ",999,"TOTAL",10816780.466,1,{"$f":"SUM(H900:H903)","v":10921707.483240001},{"$f":"SUM(I900:I903)","v":1},{"$f":"VLOOKUP(B904,town351,22)","v":6682546},{"$f":"SUM(K900:K903)","v":6682546},6312626,{"$f":"SUM(M900:M903)","v":369920},5.860001843923591,1125,0,179,999,895,1120,10921707.483240001,null,179,999,895,1120,10921707.483240001]
[896,180,"MERRIMAC                     ",180,"MERRIMAC",39014.69999999999,4.0153928383757625E-3,{"$f":"U905","v":39599.880000000005},{"$f":"IF(H909>0, H905/H909, 0)","v":4.1967929308429127E-3},null,{"$f":"ROUND(J909*I905,0)","v":23460},23081,{"$f":"K905-L905","v":379},1.6420432390277717,3,0,180,180,896,3,39599.880000000005,null,180,180,896,3,39599.880000000005]
[897,180,"MERRIMAC                     ",745,"PENTUCKET",8844919,0.91031904406835673,8362391,{"$f":"IF(H909>0, H906/H909, 0)","v":0.88624570159668137},null,{"$f":"ROUND(J909*I906,0)","v":4954166},5232611,{"$f":"K906-L906","v":-278445},-5.321339575978417,974,{"$f":"ABS(Q906-B906)+ABS(R906-D906)","v":0},{"$f":"IF($Q$6=1, W906, IF($Q$6=2, AC906, IF($Q$6=3, AI906, IF($Q$6=4, AO906, IF($Q$6=5, AU906, IF($Q$6=6, BA906, IF($Q$6=7, BG906, IF($Q$6=8, BM906, 0))))))))","v":180},{"$f":"IF($Q$6=1, X906, IF($Q$6=2, AD906, IF($Q$6=3, AJ906, IF($Q$6=4, AP906, IF($Q$6=5, AV906, IF($Q$6=6, BB906, IF($Q$6=7, BH906, IF($Q$6=8, BN906, 0))))))))","v":745},{"$f":"IF($Q$6=1, Y906, IF($Q$6=2, AE906, IF($Q$6=3, AK906, IF($Q$6=4, AQ906, IF($Q$6=5, AW906, IF($Q$6=6, BC906, IF($Q$6=7, BI906, IF($Q$6=8, BO906, 0))))))))","v":897},{"$f":"IF($Q$6=1, Z906, IF($Q$6=2, AF906, IF($Q$6=3, AL906, IF($Q$6=4, AR906, IF($Q$6=5, AX906, IF($Q$6=6, BD906, IF($Q$6=7, BJ906, IF($Q$6=8, BP906, 0))))))))","v":912},{"$f":"IF($Q$6=1, AA906, IF($Q$6=2, AG906, IF($Q$6=3, AM906, IF($Q$6=4, AS906, IF($Q$6=5, AY906, IF($Q$6=6, BE906, IF($Q$6=7, BK906, IF($Q$6=8, BQ906, 0))))))))","v":8362391},null,180,745,897,912,8362391]
[898,180,"MERRIMAC                     ",885,"WHITTIER",832351,8.5665563093267533E-2,1033757,{"$f":"IF(H909>0, H907/H909, 0)","v":0.10955750547247559},null,{"$f":"ROUND(J909*I907,0)","v":612433},492415,{"$f":"K907-L907","v":120018},24.373343622757226,54,0,180,885,898,66,1033757,null,180,885,898,66,1033757]
[899,180,null,998,"ESSEX COUNTY",0,0,0,{"$f":"IF(H909>0, H908/H909, 0)","v":0},null,{"$f":"ROUND(J909*I908,0)","v":0},0,{"$f":"K908-L908","v":0},0,0,0,180,998,899,0,0,null,180,998,899,0,0]
[900,180,"MERRIMAC                     ",999,"TOTAL",9716284.6999999993,1,{"$f":"SUM(H905:H908)","v":9435747.8800000008},{"$f":"SUM(I905:I908)","v":0.99999999999999989},{"$f":"VLOOKUP(B909,town351,22)","v":5590059},{"$f":"SUM(K905:K908)","v":5590059},5748107,{"$f":"SUM(M905:M908)","v":-158048},-2.7495660745354948,1031,0,180,999,900,981,9435747.8800000008,null,180,999,900,981,9435747.8800000008]
[901,181,"METHUEN                      ",181,"METHUEN",73674473.939999998,0.91630982558645324,{"$f":"U910","v":75476679.289999992},{"$f":"IF(H914>0, H910/H914, 0)","v":0.91995884067375411},null,{"$f":"ROUND(J914*I910,0)","v":33685127},33532493,{"$f":"K910-L910","v":152634},0.45518238086264567,7098,0,181,181,901,7112,75476679.289999992,null,181,181,901,7112,75476679.289999992]
[902,181,"METHUEN                      ",823,"GREATER LAWRENCE",6728979,8.3690174413546772E-2,6566860,{"$f":"IF(H914>0, H911/H914, 0)","v":8.0041159326245837E-2},null,{"$f":"ROUND(J914*I911,0)","v":2930780},3062654,{"$f":"K911-L911","v":-131874},-4.305873272005261,390,0,181,823,902,377,6566860,null,181,823,902,377,6566860]
[903,181,null,998,"ESSEX COUNTY",0,0,0,{"$f":"IF(H914>0, H912/H914, 0)","v":0},null,{"$f":"ROUND(J914*I912,0)","v":0},0,{"$f":"K912-L912","v":0},{"$f":"IF(L912>0,M912*100/L912,IF(M912>0,100,0))","v":0},0,0,181,998,903,0,0,null,181,998,903,0,0]
[904,181,null,998,null,0,0,0,{"$f":"IF(H914>0, H913/H914, 0)","v":0},null,{"$f":"ROUND(J914*I913,0)","v":0},0,{"$f":"K913-L913","v":0},{"$f":"IF(L913>0,M913*100/L913,IF(M913>0,100,0))","v":0},0,0,181,998,904,0,0,null,181,998,904,0,0]
[905,181,"METHUEN                      ",999,"TOTAL",80403452.939999998,1,{"$f":"SUM(H910:H913)","v":82043539.289999992},{"$f":"SUM(I910:I913)","v":1},{"$f":"VLOOKUP(B914,town351,22)","v":36615907},{"$f":"SUM(K910:K913)","v":36615907},36595147,{"$f":"SUM(M910:M913)","v":20760},{"$f":"IF(L914>0,M914*100/L914,IF(M914>0,100,0))","v":5.6728833470733153E-2},7488,0,181,999,905,7489,82043539.289999992,null,181,999,905,7489,82043539.289999992]
[906,182,"MIDDLEBOROUGH                ",182,"MIDDLEBOROUGH",32073963.209999997,0.88551364444756131,{"$f":"U915","v":32000342.629999999},{"$f":"IF(H919>0, H915/H919, 0)","v":0.87765533365403459},null,{"$f":"ROUND(J919*I915,0)","v":15610347},15945136,{"$f":"K915-L915","v":-334789},-2.0996308843022726,3299,0,182,182,906,3217,32000342.629999999,null,182,182,906,3217,32000342.629999999]
[907,182,"MIDDLEBOROUGH                ",810,"BRISTOL PLYMOUTH",4146781,0.11448635555243884,4460830,{"$f":"IF(H919>0, H916/H919, 0)","v":0.12234466634596554},null,{"$f":"ROUND(J919*I916,0)","v":2176074},2061516,{"$f":"K916-L916","v":114558},5.5569784566309455,275,0,182,810,907,289,4460830,null,182,810,907,289,4460830]
[908,182,null,998,null,0,0,0,{"$f":"IF(H919>0, H917/H919, 0)","v":0},null,{"$f":"ROUND(J919*I917,0)","v":0},0,{"$f":"K917-L917","v":0},0,0,0,182,998,908,0,0,null,182,998,908,0,0]
[909,182,null,998,null,0,0,0,{"$f":"IF(H919>0, H918/H919, 0)","v":0},null,{"$f":"ROUND(J919*I918,0)","v":0},0,{"$f":"K918-L918","v":0},0,0,0,182,998,909,0,0,null,182,998,909,0,0]
[910,182,"MIDDLEBOROUGH                ",999,"TOTAL",36220744.209999993,1.0000000000000002,{"$f":"SUM(H915:H918)","v":36461172.629999995},{"$f":"SUM(I915:I918)","v":1.0000000000000002},{"$f":"VLOOKUP(B919,town351,22)","v":17786421},{"$f":"SUM(K915:K918)","v":17786421},18006652,{"$f":"SUM(M915:M918)","v":-220231},-1.2230535693142734,3574,0,182,999,910,3506,36461172.629999995,null,182,999,910,3506,36461172.629999995]
[911,183,"MIDDLEFIELD                  ",183,"MIDDLEFIELD",52019.6,0.1011746226733256,{"$f":"U920","v":13199.960000000001},{"$f":"IF(H924>0, H920/H924, 0)","v":3.2445012419595118E-2},null,{"$f":"ROUND(J924*I920,0)","v":10890},39422,{"$f":"K920-L920","v":-28532},-72.375830754401093,4,0,183,183,911,1,13199.960000000001,null,183,183,911,1,13199.960000000001]
[912,183,"MIDDLEFIELD                  ",672,"GATEWAY",462137,0.89882537732667445,393641,{"$f":"IF(H924>0, H921/H924, 0)","v":0.96755498758040481},null,{"$f":"ROUND(J924*I921,0)","v":324754},350223,{"$f":"K921-L921","v":-25469},-7.2722236974727528,47,0,183,672,912,39,393641,null,183,672,912,39,393641]
[913,183,null,998,null,0,0,0,{"$f":"IF(H924>0, H922/H924, 0)","v":0},null,{"$f":"ROUND(J924*I922,0)","v":0},0,{"$f":"K922-L922","v":0},0,0,0,183,998,913,0,0,null,183,998,913,0,0]
[914,183,null,998,null,0,0,0,{"$f":"IF(H924>0, H923/H924, 0)","v":0},null,{"$f":"ROUND(J924*I923,0)","v":0},0,{"$f":"K923-L923","v":0},0,0,0,183,998,914,0,0,null,183,998,914,0,0]
[915,183,"MIDDLEFIELD                  ",999,"TOTAL",514156.6,1,{"$f":"SUM(H920:H923)","v":406840.96},{"$f":"SUM(I920:I923)","v":0.99999999999999989},{"$f":"VLOOKUP(B924,town351,22)","v":335644},{"$f":"SUM(K920:K923)","v":335644},389645,{"$f":"SUM(M920:M923)","v":-54001},-13.859025523232686,51,0,183,999,915,40,406840.96,null,183,999,915,40,406840.96]
[916,184,"MIDDLETON                    ",184,"MIDDLETON",6500381.7589600012,0.47166171627393033,{"$f":"U925","v":6509297.9842300005},{"$f":"IF(H929>0, H925/H929, 0)","v":0.47475940316211873},null,{"$f":"ROUND(J929*I925,0)","v":5370171},5534548,{"$f":"K925-L925","v":-164377},-2.9700167023576269,743,0,184,184,916,729,6509297.9842300005,null,184,184,916,729,6509297.9842300005]
[917,184,"MIDDLETON                    ",705,"MASCONOMET",7032461,0.51026889617943905,6813164,{"$f":"IF(H929>0, H926/H929, 0)","v":0.49692204629778725},null,{"$f":"ROUND(J929*I926,0)","v":5620860},5987571,{"$f":"K926-L926","v":-366711},-6.1245369783506538,739,0,184,705,917,707,6813164,null,184,705,917,707,6813164]
[918,184,"MIDDLETON                    ",817,"ESSEX NORTH SHORE",249030,1.8069387546630646E-2,388268,{"$f":"IF(H929>0, H927/H929, 0)","v":2.8318550540094037E-2},null,{"$f":"ROUND(J929*I927,0)","v":320321},212029,{"$f":"K927-L927","v":108292},51.074145517830111,16,0,184,817,918,25,388268,null,184,817,918,25,388268]
[919,184,null,998,null,0,0,0,{"$f":"IF(H929>0, H928/H929, 0)","v":0},null,{"$f":"ROUND(J929*I928,0)","v":0},0,{"$f":"K928-L928","v":0},0,0,0,184,998,919,0,0,null,184,998,919,0,0]
[920,184,"MIDDLETON                    ",999,"TOTAL",13781872.758960001,1,{"$f":"SUM(H925:H928)","v":13710729.984230001},{"$f":"SUM(I925:I928)","v":1},{"$f":"VLOOKUP(B929,town351,22)","v":11311352},{"$f":"SUM(K925:K928)","v":11311352},11734148,{"$f":"SUM(M925:M928)","v":-422796},-3.6031248284920219,1498,0,184,999,920,1461,13710729.984230001,null,184,999,920,1461,13710729.984230001]
[921,185,"MILFORD                      ",185,"MILFORD",43366941.909150004,0.9503029689537339,{"$f":"U930","v":44418717.093200006},{"$f":"IF(H934>0, H930/H934, 0)","v":0.95138571992894627},null,{"$f":"ROUND(J934*I930,0)","v":22720588},23509175,{"$f":"K930-L930","v":-788587},-3.3543797262132764,4207,0,185,185,921,4221,44418717.093200006,null,185,185,921,4221,44418717.093200006]
[922,185,"MILFORD                      ",805,"BLACKSTONE VALLEY",2267917,4.9697031046266077E-2,2269725,{"$f":"IF(H934>0, H931/H934, 0)","v":4.8614280071053749E-2},null,{"$f":"ROUND(J934*I931,0)","v":1160985},1229435,{"$f":"K931-L931","v":-68450},-5.5675981243416688,152,0,185,805,922,150,2269725,null,185,805,922,150,2269725]
[923,185,null,998,null,0,0,0,{"$f":"IF(H934>0, H932/H934, 0)","v":0},null,{"$f":"ROUND(J934*I932,0)","v":0},0,{"$f":"K932-L932","v":0},0,0,0,185,998,923,0,0,null,185,998,923,0,0]
[924,185,null,998,null,0,0,0,{"$f":"IF(H934>0, H933/H934, 0)","v":0},null,{"$f":"ROUND(J934*I933,0)","v":0},0,{"$f":"K933-L933","v":0},0,0,0,185,998,924,0,0,null,185,998,924,0,0]
[925,185,"MILFORD                      ",999,"TOTAL",45634858.909150004,1,{"$f":"SUM(H930:H933)","v":46688442.093200006},{"$f":"SUM(I930:I933)","v":1},{"$f":"VLOOKUP(B934,town351,22)","v":23881573},{"$f":"SUM(K930:K933)","v":23881573},24738610,{"$f":"SUM(M930:M933)","v":-857037},-3.464370067679631,4359,0,185,999,925,4371,46688442.093200006,null,185,999,925,4371,46688442.093200006]
[926,186,"MILLBURY                     ",186,"MILLBURY",17048501.060000002,0.94072232989219373,{"$f":"U935","v":17130949.16},{"$f":"IF(H939>0, H935/H939, 0)","v":0.93786955706873976},null,{"$f":"ROUND(J939*I935,0)","v":10272343},10443623,{"$f":"K935-L935","v":-171280},-1.6400438813235598,1781,0,186,186,926,1757,17130949.16,null,186,186,926,1757,17130949.16]
[927,186,"MILLBURY                     ",805,"BLACKSTONE VALLEY",1074276,5.9277670107806303E-2,1134863,{"$f":"IF(H939>0, H936/H939, 0)","v":6.2130442931260278E-2},null,{"$f":"ROUND(J939*I936,0)","v":680505},658083,{"$f":"K936-L936","v":22422},3.4071690045176672,72,0,186,805,927,75,1134863,null,186,805,927,75,1134863]
[928,186,null,998,null,0,0,0,{"$f":"IF(H939>0, H937/H939, 0)","v":0},null,{"$f":"ROUND(J939*I937,0)","v":0},0,{"$f":"K937-L937","v":0},0,0,0,186,998,928,0,0,null,186,998,928,0,0]
[929,186,null,998,null,0,0,0,{"$f":"IF(H939>0, H938/H939, 0)","v":0},null,{"$f":"ROUND(J939*I938,0)","v":0},0,{"$f":"K938-L938","v":0},0,0,0,186,998,929,0,0,null,186,998,929,0,0]
[930,186,"MILLBURY                     ",999,"TOTAL",18122777.060000002,1,{"$f":"SUM(H935:H938)","v":18265812.16},{"$f":"SUM(I935:I938)","v":1},{"$f":"VLOOKUP(B939,town351,22)","v":10952848},{"$f":"SUM(K935:K938)","v":10952848},11101706,{"$f":"SUM(M935:M938)","v":-148858},-1.3408569818008151,1853,0,186,999,930,1832,18265812.16,null,186,999,930,1832,18265812.16]
[931,187,"MILLIS                       ",187,"MILLIS",12356473.845559999,0.95577387124385971,{"$f":"U940","v":12205625.68949},{"$f":"IF(H944>0, H940/H944, 0)","v":0.95663128082115578},null,{"$f":"ROUND(J944*I940,0)","v":8055578},8219727,{"$f":"K940-L940","v":-164149},-1.9970127961670747,1308,0,187,187,931,1277,12205625.68949,null,187,187,931,1277,12205625.68949]
[932,187,"MILLIS                       ",878,"TRI COUNTY",480193,3.7142952616625126E-2,475100,{"$f":"IF(H944>0, H941/H944, 0)","v":3.7236560671321209E-2},null,{"$f":"ROUND(J944*I941,0)","v":313561},319432,{"$f":"K941-L941","v":-5871},-1.8379498610032807,31,0,187,878,932,30,475100,null,187,878,932,30,475100]
[933,187,"MILLIS                       ",915,"NORFOLK COUNTY",91573,7.0831761395151798E-3,78240,{"$f":"IF(H944>0, H942/H944, 0)","v":6.1321585075229876E-3},null,{"$f":"ROUND(J944*I942,0)","v":51638},60916,{"$f":"K942-L942","v":-9278},-15.230809639503578,6,0,187,915,933,5,78240,null,187,915,933,5,78240]
[934,187,null,998,null,0,0,0,{"$f":"IF(H944>0, H943/H944, 0)","v":0},null,{"$f":"ROUND(J944*I943,0)","v":0},0,{"$f":"K943-L943","v":0},0,0,0,187,998,934,0,0,null,187,998,934,0,0]
[935,187,"MILLIS                       ",999,"TOTAL",12928239.845559999,1,{"$f":"SUM(H940:H943)","v":12758965.68949},{"$f":"SUM(I940:I943)","v":1},{"$f":"VLOOKUP(B944,town351,22)","v":8420776},{"$f":"SUM(K940:K943)","v":8420777},8600075,{"$f":"SUM(M940:M943)","v":-179298},-2.08484228335218,1345,0,187,999,935,1312,12758965.68949,null,187,999,935,1312,12758965.68949]
[936,188,"MILLVILLE                    ",188,"MILLVILLE",26009.8,4.5271330523321456E-3,{"$f":"U945","v":79199.760000000009},{"$f":"IF(H949>0, H945/H949, 0)","v":1.3998307359136094E-2},null,{"$f":"ROUND(J949*I945,0)","v":30473},9583,{"$f":"K945-L945","v":20890},217.99019096316394,2,0,188,188,936,6,79199.760000000009,null,188,188,936,6,79199.760000000009]
[937,188,"MILLVILLE                    ",622,"BLACKSTONE MILLVILLE",5077722,0.88380237820952445,5033876,{"$f":"IF(H949>0, H946/H949, 0)","v":0.8897216791538074},null,{"$f":"ROUND(J949*I946,0)","v":1936827},1870811,{"$f":"K946-L946","v":66016},3.5287370022947266,536,0,188,622,937,515,5033876,null,188,622,937,515,5033876]
[938,188,"MILLVILLE                    ",805,"BLACKSTONE VALLEY",641582,0.11167048873814343,544734,{"$f":"IF(H949>0, H947/H949, 0)","v":9.6280013487056518E-2},null,{"$f":"ROUND(J949*I947,0)","v":209591},236381,{"$f":"K947-L947","v":-26790},-11.333398200362973,43,0,188,805,938,36,544734,null,188,805,938,36,544734]
[939,188,null,998,null,0,0,0,{"$f":"IF(H949>0, H948/H949, 0)","v":0},null,{"$f":"ROUND(J949*I948,0)","v":0},0,{"$f":"K948-L948","v":0},0,0,0,188,998,939,0,0,null,188,998,939,0,0]
[940,188,"MILLVILLE                    ",999,"TOTAL",5745313.7999999998,1,{"$f":"SUM(H945:H948)","v":5657809.7599999998},{"$f":"SUM(I945:I948)","v":1},{"$f":"VLOOKUP(B949,town351,22)","v":2176891},{"$f":"SUM(K945:K948)","v":2176891},2116775,{"$f":"SUM(M945:M948)","v":60116},2.8399806309125912,581,0,188,999,940,557,5657809.7599999998,null,188,999,940,557,5657809.7599999998]
[941,189,"MILTON                       ",189,"MILTON",35082060.980719998,0.97701226313841505,{"$f":"U950","v":36501504.885839999},{"$f":"IF(H954>0, H950/H954, 0)","v":0.97667606415071928},null,{"$f":"ROUND(J954*I950,0)","v":30113742},29715046,{"$f":"K950-L950","v":398696},1.3417310543621572,3762,0,189,189,941,3860,36501504.885839999,null,189,189,941,3860,36501504.885839999]
[942,189,"MILTON                       ",806,"BLUE HILLS",794908,2.2137663590906059E-2,840394,{"$f":"IF(H954>0, H951/H954, 0)","v":2.2486544234900548E-2},null,{"$f":"ROUND(J954*I951,0)","v":693325},673299,{"$f":"K951-L951","v":20026},2.9743100762068559,50,0,189,806,942,52,840394,null,189,806,942,52,840394]
[943,189,"MILTON                       ",915,"NORFOLK COUNTY",30524,8.5007327067889186E-4,31296,{"$f":"IF(H954>0, H952/H954, 0)","v":8.3739161438021634E-4},null,{"$f":"ROUND(J954*I952,0)","v":25819},25854,{"$f":"K952-L952","v":-35},-0.13537557051133287,2,0,189,915,943,2,31296,null,189,915,943,2,31296]
[944,189,null,998,null,0,0,0,{"$f":"IF(H954>0, H953/H954, 0)","v":0},null,{"$f":"ROUND(J954*I953,0)","v":0},0,{"$f":"K953-L953","v":0},0,0,0,189,998,944,0,0,null,189,998,944,0,0]
[945,189,"MILTON                       ",999,"TOTAL",35907492.980719998,1,{"$f":"SUM(H950:H953)","v":37373194.885839999},{"$f":"SUM(I950:I953)","v":1},{"$f":"VLOOKUP(B954,town351,22)","v":30832886},{"$f":"SUM(K950:K953)","v":30832886},30414199,{"$f":"SUM(M950:M953)","v":418687},1.3766168887104342,3814,0,189,999,945,3914,37373194.885839999,null,189,999,945,3914,37373194.885839999]
[946,190,"MONROE                       ",190,"MONROE",49377.140000000007,0.51920660467371893,{"$f":"U955","v":57396.78},{"$f":"IF(H959>0, H955/H959, 0)","v":0.48020016936790233},null,{"$f":"ROUND(J959*I955,0)","v":39279},41572,{"$f":"K955-L955","v":-2293},-5.5157317425190033,7,0,190,190,946,8,57396.78,null,190,190,946,8,57396.78]
[947,190,"MONROE                       ",851,"NORTHERN BERKSHIRE",45724,0.48079339532628096,62130,{"$f":"IF(H959>0, H956/H959, 0)","v":0.51979983063209767},null,{"$f":"ROUND(J959*I956,0)","v":42519},38497,{"$f":"K956-L956","v":4022},10.447567342909837,3,0,190,851,947,4,62130,null,190,851,947,4,62130]
[948,190,null,998,null,0,0,0,{"$f":"IF(H959>0, H957/H959, 0)","v":0},null,{"$f":"ROUND(J959*I957,0)","v":0},0,{"$f":"K957-L957","v":0},0,0,0,190,998,948,0,0,null,190,998,948,0,0]
[949,190,null,998,null,0,0,0,{"$f":"IF(H959>0, H958/H959, 0)","v":0},null,{"$f":"ROUND(J959*I958,0)","v":0},0,{"$f":"K958-L958","v":0},0,0,0,190,998,949,0,0,null,190,998,949,0,0]
[950,190,"MONROE                       ",999,"TOTAL",95101.140000000014,0.99999999999999989,{"$f":"SUM(H955:H958)","v":119526.78},{"$f":"SUM(I955:I958)","v":1},{"$f":"VLOOKUP(B959,town351,22)","v":81798},{"$f":"SUM(K955:K958)","v":81798},80069,{"$f":"SUM(M955:M958)","v":1729},2.1593875282568784,10,0,190,999,950,12,119526.78,null,190,999,950,12,119526.78]
[951,191,"MONSON                       ",191,"MONSON",11227559.509999998,0.89753910917703861,{"$f":"U960","v":10642912.68},{"$f":"IF(H964>0, H960/H964, 0)","v":0.85910303960236456},null,{"$f":"ROUND(J964*I960,0)","v":5358402},5516259,{"$f":"K960-L960","v":-157857},-2.8616676628127866,1172,0,191,191,951,1096,10642912.68,null,191,191,951,1096,10642912.68]
[952,191,"MONSON                       ",860,"PATHFINDER",1281711,0.10246089082296136,1745488,{"$f":"IF(H964>0, H961/H964, 0)","v":0.14089696039763544},null,{"$f":"ROUND(J964*I961,0)","v":878803},629723,{"$f":"K961-L961","v":249080},39.55389909531651,83,0,191,860,952,110,1745488,null,191,860,952,110,1745488]
[953,191,null,998,null,0,0,0,{"$f":"IF(H964>0, H962/H964, 0)","v":0},null,{"$f":"ROUND(J964*I962,0)","v":0},0,{"$f":"K962-L962","v":0},0,0,0,191,998,953,0,0,null,191,998,953,0,0]
[954,191,null,998,null,0,0,0,{"$f":"IF(H964>0, H963/H964, 0)","v":0},null,{"$f":"ROUND(J964*I963,0)","v":0},0,{"$f":"K963-L963","v":0},0,0,0,191,998,954,0,0,null,191,998,954,0,0]
[955,191,"MONSON                       ",999,"TOTAL",12509270.509999998,1,{"$f":"SUM(H960:H963)","v":12388400.68},{"$f":"SUM(I960:I963)","v":1},{"$f":"VLOOKUP(B964,town351,22)","v":6237205},{"$f":"SUM(K960:K963)","v":6237205},6145982,{"$f":"SUM(M960:M963)","v":91223},1.4842705364252613,1255,0,191,999,955,1206,12388400.68,null,191,999,955,1206,12388400.68]
[956,192,"MONTAGUE                     ",192,"MONTAGUE",0,0,{"$f":"U965","v":0},{"$f":"IF(H969>0, H965/H969, 0)","v":0},null,{"$f":"ROUND(J969*I965,0)","v":0},0,{"$f":"K965-L965","v":0},0,0,0,192,192,956,0,0,null,192,192,956,0,0]
[957,192,"MONTAGUE                     ",674,"GILL MONTAGUE",9814286,0.90375018693289344,9732064,{"$f":"IF(H969>0, H966/H969, 0)","v":0.89740808266870364},null,{"$f":"ROUND(J969*I966,0)","v":5006608},4858813,{"$f":"K966-L966","v":147795},3.0417923060632299,947,0,192,674,957,930,9732064,null,192,674,957,930,9732064]
[958,192,"MONTAGUE                     ",818,"FRANKLIN COUNTY",1045226,9.6249813067106518E-2,1112572,{"$f":"IF(H969>0, H967/H969, 0)","v":0.10259191733129631},null,{"$f":"ROUND(J969*I967,0)","v":572357},517466,{"$f":"K967-L967","v":54891},10.607653449695245,67,0,192,818,958,70,1112572,null,192,818,958,70,1112572]
[959,192,null,998,null,0,0,0,{"$f":"IF(H969>0, H968/H969, 0)","v":0},null,{"$f":"ROUND(J969*I968,0)","v":0},0,{"$f":"K968-L968","v":0},0,0,0,192,998,959,0,0,null,192,998,959,0,0]
[960,192,"MONTAGUE                     ",999,"TOTAL",10859512,1,{"$f":"SUM(H965:H968)","v":10844636},{"$f":"SUM(I965:I968)","v":1},{"$f":"VLOOKUP(B969,town351,22)","v":5578965},{"$f":"SUM(K965:K968)","v":5578965},5376279,{"$f":"SUM(M965:M968)","v":202686},3.7700052396834316,1014,0,192,999,960,1000,10844636,null,192,999,960,1000,10844636]
[961,193,"MONTEREY                     ",193,"MONTEREY",0,0,{"$f":"U970","v":0},{"$f":"IF(H974>0, H970/H974, 0)","v":0},null,{"$f":"ROUND(J974*I970,0)","v":0},0,{"$f":"K970-L970","v":0},0,0,{"$f":"ABS(Q970-B970)+ABS(R970-D970)","v":0},{"$f":"IF($Q$6=1, W970, IF($Q$6=2, AC970, IF($Q$6=3, AI970, IF($Q$6=4, AO970, IF($Q$6=5, AU970, IF($Q$6=6, BA970, IF($Q$6=7, BG970, IF($Q$6=8, BM970, 0))))))))","v":193},{"$f":"IF($Q$6=1, X970, IF($Q$6=2, AD970, IF($Q$6=3, AJ970, IF($Q$6=4, AP970, IF($Q$6=5, AV970, IF($Q$6=6, BB970, IF($Q$6=7, BH970, IF($Q$6=8, BN970, 0))))))))","v":193},{"$f":"IF($Q$6=1, Y970, IF($Q$6=2, AE970, IF($Q$6=3, AK970, IF($Q$6=4, AQ970, IF($Q$6=5, AW970, IF($Q$6=6, BC970, IF($Q$6=7, BI970, IF($Q$6=8, BO970, 0))))))))","v":961},{"$f":"IF($Q$6=1, Z970, IF($Q$6=2, AF970, IF($Q$6=3, AL970, IF($Q$6=4, AR970, IF($Q$6=5, AX970, IF($Q$6=6, BD970, IF($Q$6=7, BJ970, IF($Q$6=8, BP970, 0))))))))","v":0},{"$f":"IF($Q$6=1, AA970, IF($Q$6=2, AG970, IF($Q$6=3, AM970, IF($Q$6=4, AS970, IF($Q$6=5, AY970, IF($Q$6=6, BE970, IF($Q$6=7, BK970, IF($Q$6=8, BQ970, 0))))))))","v":0},null,193,193,961,0,0]
[962,193,"MONTEREY                     ",765,"SOUTHERN BERKSHIRE",750745,1,900883,{"$f":"IF(H974>0, H971/H974, 0)","v":1},null,{"$f":"ROUND(J974*I971,0)","v":700965},670011,{"$f":"K971-L971","v":30954},4.6199241504990214,81,0,193,765,962,90,900883,null,193,765,962,90,900883]
[963,193,null,998,null,0,0,0,{"$f":"IF(H974>0, H972/H974, 0)","v":0},null,{"$f":"ROUND(J974*I972,0)","v":0},0,{"$f":"K972-L972","v":0},0,0,0,193,998,963,0,0,null,193,998,963,0,0]
[964,193,null,998,null,0,0,0,{"$f":"IF(H974>0, H973/H974, 0)","v":0},null,{"$f":"ROUND(J974*I973,0)","v":0},0,{"$f":"K973-L973","v":0},0,0,0,193,998,964,0,0,null,193,998,964,0,0]
[965,193,"MONTEREY                     ",999,"TOTAL",750745,1,{"$f":"SUM(H970:H973)","v":900883},{"$f":"SUM(I970:I973)","v":1},{"$f":"VLOOKUP(B974,town351,22)","v":700965},{"$f":"SUM(K970:K973)","v":700965},670011,{"$f":"SUM(M970:M973)","v":30954},4.6199241504990214,81,0,193,999,965,90,900883,null,193,999,965,90,900883]
[966,194,"MONTGOMERY                   ",194,"MONTGOMERY",26009.8,2.7650709217973246E-2,{"$f":"U975","v":39599.880000000005},{"$f":"IF(H979>0, H975/H979, 0)","v":4.7327410632550929E-2},null,{"$f":"ROUND(J979*I975,0)","v":32670},21585,{"$f":"K975-L975","v":11085},51.35510771369006,2,0,194,194,966,3,39599.880000000005,null,194,194,966,3,39599.880000000005]
[967,194,"MONTGOMERY                   ",672,"GATEWAY",914646,0.9723492907820267,797122,{"$f":"IF(H979>0, H976/H979, 0)","v":0.95267258936744903},null,{"$f":"ROUND(J979*I976,0)","v":657626},759036,{"$f":"K976-L976","v":-101410},{"$f":"IF(L976>0,M976*100/L976,IF(M976>0,100,0))","v":-13.360367624197007},93,0,194,672,967,79,797122,null,194,672,967,79,797122]
[968,194,null,998,null,0,0,0,{"$f":"IF(H979>0, H977/H979, 0)","v":0},null,{"$f":"ROUND(J979*I977,0)","v":0},0,{"$f":"K977-L977","v":0},{"$f":"IF(L977>0,M977*100/L977,IF(M977>0,100,0))","v":0},0,0,194,998,968,0,0,null,194,998,968,0,0]
[969,194,null,998,null,0,0,0,{"$f":"IF(H979>0, H978/H979, 0)","v":0},null,{"$f":"ROUND(J979*I978,0)","v":0},0,{"$f":"K978-L978","v":0},{"$f":"IF(L978>0,M978*100/L978,IF(M978>0,100,0))","v":0},0,0,194,998,969,0,0,null,194,998,969,0,0]
[970,194,"MONTGOMERY                   ",999,"TOTAL",940655.8,1,{"$f":"SUM(H975:H978)","v":836721.88},{"$f":"SUM(I975:I978)","v":1},{"$f":"VLOOKUP(B979,town351,22)","v":690296},{"$f":"SUM(K975:K978)","v":690296},780621,{"$f":"SUM(M975:M978)","v":-90325},{"$f":"IF(L979>0,M979*100/L979,IF(M979>0,100,0))","v":-11.570915975870493},95,0,194,999,970,82,836721.88,null,194,999,970,82,836721.88]
[971,195,"MOUNT WASHINGTON             ",195,"MOUNT WASHINGTON",92960.28,1,{"$f":"U980","v":89843.44},{"$f":"IF(H984>0, H980/H984, 0)","v":1},null,{"$f":"ROUND(J984*I980,0)","v":74121},83664,{"$f":"K980-L980","v":-9543},-11.406339644291451,12,0,195,195,971,11,89843.44,null,195,195,971,11,89843.44]
[972,195,null,998,null,0,0,0,{"$f":"IF(H984>0, H981/H984, 0)","v":0},null,{"$f":"ROUND(J984*I981,0)","v":0},0,{"$f":"K981-L981","v":0},0,0,0,195,998,972,0,0,null,195,998,972,0,0]
[973,195,null,998,null,0,0,0,{"$f":"IF(H984>0, H982/H984, 0)","v":0},null,{"$f":"ROUND(J984*I982,0)","v":0},0,{"$f":"K982-L982","v":0},0,0,0,195,998,973,0,0,null,195,998,973,0,0]
[974,195,null,998,null,0,0,0,{"$f":"IF(H984>0, H983/H984, 0)","v":0},null,{"$f":"ROUND(J984*I983,0)","v":0},0,{"$f":"K983-L983","v":0},0,0,0,195,998,974,0,0,null,195,998,974,0,0]
[975,195,"MOUNT WASHINGTON             ",999,"TOTAL",92960.28,1,{"$f":"SUM(H980:H983)","v":89843.44},{"$f":"SUM(I980:I983)","v":1},{"$f":"VLOOKUP(B984,town351,22)","v":74121},{"$f":"SUM(K980:K983)","v":74121},83664,{"$f":"SUM(M980:M983)","v":-9543},-11.406339644291451,12,0,195,999,975,11,89843.44,null,195,999,975,11,89843.44]
[976,196,"NAHANT                       ",196,"NAHANT",2670798.36,0.98281760866389656,{"$f":"U985","v":2552657.5399999991},{"$f":"IF(H989>0, H985/H989, 0)","v":0.97624160075782118},null,{"$f":"ROUND(J989*I985,0)","v":2105943},2403719,{"$f":"K985-L985","v":-297776},-12.388136882888558,298,0,196,196,976,282,2552657.5399999991,null,196,196,976,282,2552657.5399999991]
[977,196,"NAHANT                       ",817,"ESSEX NORTH SHORE",46693,1.7182391336103459E-2,62123,{"$f":"IF(H989>0, H986/H989, 0)","v":2.3758399242178856E-2},null,{"$f":"ROUND(J989*I986,0)","v":51251},42024,{"$f":"K986-L986","v":9227},21.956501047020751,3,0,196,817,977,4,62123,null,196,817,977,4,62123]
[978,196,null,998,"ESSEX COUNTY",0,0,0,{"$f":"IF(H989>0, H987/H989, 0)","v":0},null,{"$f":"ROUND(J989*I987,0)","v":0},0,{"$f":"K987-L987","v":0},0,0,0,196,998,978,0,0,null,196,998,978,0,0]
[979,196,null,998,null,0,0,0,{"$f":"IF(H989>0, H988/H989, 0)","v":0},null,{"$f":"ROUND(J989*I988,0)","v":0},0,{"$f":"K988-L988","v":0},0,0,0,196,998,979,0,0,null,196,998,979,0,0]
[980,196,"NAHANT                       ",999,"TOTAL",2717491.36,1,{"$f":"SUM(H985:H988)","v":2614780.5399999991},{"$f":"SUM(I985:I988)","v":1},{"$f":"VLOOKUP(B989,town351,22)","v":2157194},{"$f":"SUM(K985:K988)","v":2157194},2445743,{"$f":"SUM(M985:M988)","v":-288549},-11.79800984813204,301,0,196,999,980,286,2614780.5399999991,null,196,999,980,286,2614780.5399999991]
[981,197,"NANTUCKET                    ",197,"NANTUCKET",13869821.479999997,1,{"$f":"U990","v":15206451.73},{"$f":"IF(H994>0, H990/H994, 0)","v":1},null,{"$f":"ROUND(J994*I990,0)","v":12225508},11742876,{"$f":"K990-L990","v":482632},4.1099982661828331,1480,0,197,197,981,1552,15206451.73,null,197,197,981,1552,15206451.73]
[982,197,null,998,null,0,0,0,{"$f":"IF(H994>0, H991/H994, 0)","v":0},null,{"$f":"ROUND(J994*I991,0)","v":0},0,{"$f":"K991-L991","v":0},0,0,0,197,998,982,0,0,null,197,998,982,0,0]
[983,197,null,998,null,0,0,0,{"$f":"IF(H994>0, H992/H994, 0)","v":0},null,{"$f":"ROUND(J994*I992,0)","v":0},0,{"$f":"K992-L992","v":0},0,0,0,197,998,983,0,0,null,197,998,983,0,0]
[984,197,null,998,null,0,0,0,{"$f":"IF(H994>0, H993/H994, 0)","v":0},null,{"$f":"ROUND(J994*I993,0)","v":0},0,{"$f":"K993-L993","v":0},0,0,0,197,998,984,0,0,null,197,998,984,0,0]
[985,197,"NANTUCKET                    ",999,"TOTAL",13869821.479999997,1,{"$f":"SUM(H990:H993)","v":15206451.73},{"$f":"SUM(I990:I993)","v":1},{"$f":"VLOOKUP(B994,town351,22)","v":12225508},{"$f":"SUM(K990:K993)","v":12225508},11742876,{"$f":"SUM(M990:M993)","v":482632},4.1099982661828331,1480,0,197,999,985,1552,15206451.73,null,197,999,985,1552,15206451.73]
[986,198,"NATICK                       ",198,"NATICK",49956678.079499997,0.98266360698934774,{"$f":"U995","v":51546022.215100005},{"$f":"IF(H999>0, H995/H999, 0)","v":0.9810237849174458},null,{"$f":"ROUND(J999*I995,0)","v":42525468},41275438,{"$f":"K995-L995","v":1250030},3.0285081408463794,5333,0,198,198,986,5417,51546022.215100005,null,198,198,986,5417,51546022.215100005]
[987,198,"NATICK                       ",829,"SOUTH MIDDLESEX",881348,1.7336393010652238E-2,997069,{"$f":"IF(H999>0, H996/H999, 0)","v":1.8976215082554166E-2},null,{"$f":"ROUND(J999*I996,0)","v":822582},728191,{"$f":"K996-L996","v":94391},12.962395854933664,53,0,198,829,987,59,997069,null,198,829,987,59,997069]
[988,198,null,998,null,0,0,0,{"$f":"IF(H999>0, H997/H999, 0)","v":0},null,{"$f":"ROUND(J999*I997,0)","v":0},0,{"$f":"K997-L997","v":0},0,0,0,198,998,988,0,0,null,198,998,988,0,0]
[989,198,null,998,null,0,0,0,{"$f":"IF(H999>0, H998/H999, 0)","v":0},null,{"$f":"ROUND(J999*I998,0)","v":0},0,{"$f":"K998-L998","v":0},0,0,0,198,998,989,0,0,null,198,998,989,0,0]
[990,198,"NATICK                       ",999,"TOTAL",50838026.079499997,1,{"$f":"SUM(H995:H998)","v":52543091.215100005},{"$f":"SUM(I995:I998)","v":1},{"$f":"VLOOKUP(B999,town351,22)","v":43348050},{"$f":"SUM(K995:K998)","v":43348050},42003629,{"$f":"SUM(M995:M998)","v":1344421},3.2007258229997224,5386,0,198,999,990,5476,52543091.215100005,null,198,999,990,5476,52543091.215100005]
[991,199,"NEEDHAM                      ",199,"NEEDHAM",50670510.318260007,0.98807595241743496,{"$f":"U1000","v":51969545.140780009},{"$f":"IF(H1004>0, H1000/H1004, 0)","v":0.9913746408422397},null,{"$f":"ROUND(J1004*I1000,0)","v":42874874},43099948,{"$f":"K1000-L1000","v":-225074},-0.52221408712604478,5327,0,199,199,991,5362,51969545.140780009,null,199,199,991,5362,51969545.140780009]
[992,199,"NEEDHAM                      ",830,"MINUTEMAN",580965,1.1328828979433637E-2,389564,{"$f":"IF(H1004>0, H1001/H1004, 0)","v":7.4313498326545047E-3},null,{"$f":"ROUND(J1004*I1001,0)","v":321390},494164,{"$f":"K1001-L1001","v":-172774},-34.962886814903555,35,0,199,830,992,23,389564,null,199,830,992,23,389564]
[993,199,"NEEDHAM                      ",915,"NORFOLK COUNTY",30524,5.9521860313139748E-4,62592,{"$f":"IF(H1004>0, H1002/H1004, 0)","v":1.1940093251057869E-3},null,{"$f":"ROUND(J1004*I1002,0)","v":51638},25963,{"$f":"K1002-L1002","v":25675},98.890729114509114,2,0,199,915,993,4,62592,null,199,915,993,4,62592]
[994,199,null,998,null,0,0,0,{"$f":"IF(H1004>0, H1003/H1004, 0)","v":0},null,{"$f":"ROUND(J1004*I1003,0)","v":0},0,{"$f":"K1003-L1003","v":0},0,0,0,199,998,994,0,0,null,199,998,994,0,0]
[995,199,"NEEDHAM                      ",999,"TOTAL",51281999.318260007,1,{"$f":"SUM(H1000:H1003)","v":52421701.140780009},{"$f":"SUM(I1000:I1003)","v":1},{"$f":"VLOOKUP(B1004,town351,22)","v":43247903},{"$f":"SUM(K1000:K1003)","v":43247902},43620075,{"$f":"SUM(M1000:M1003)","v":-372173},-0.85321494747544568,5364,0,199,999,995,5389,52421701.140780009,null,199,999,995,5389,52421701.140780009]
[996,200,"NEW ASHFORD                  ",200,"NEW ASHFORD",266775.95,1,{"$f":"U1005","v":217953.86999999997},{"$f":"IF(H1009>0, H1005/H1009, 0)","v":1},null,{"$f":"ROUND(J1009*I1005,0)","v":179812},209694,{"$f":"K1005-L1005","v":-29882},-14.250288515646609,32,0,200,200,996,26,217953.86999999997,null,200,200,996,26,217953.86999999997]
[997,200,null,998,null,0,0,0,{"$f":"IF(H1009>0, H1006/H1009, 0)","v":0},null,{"$f":"ROUND(J1009*I1006,0)","v":0},0,{"$f":"K1006-L1006","v":0},0,0,0,200,998,997,0,0,null,200,998,997,0,0]
[998,200,null,998,null,0,0,0,{"$f":"IF(H1009>0, H1007/H1009, 0)","v":0},null,{"$f":"ROUND(J1009*I1007,0)","v":0},0,{"$f":"K1007-L1007","v":0},0,0,0,200,998,998,0,0,null,200,998,998,0,0]
[999,200,null,998,null,0,0,0,{"$f":"IF(H1009>0, H1008/H1009, 0)","v":0},null,{"$f":"ROUND(J1009*I1008,0)","v":0},0,{"$f":"K1008-L1008","v":0},0,0,0,200,998,999,0,0,null,200,998,999,0,0]
[1000,200,"NEW ASHFORD                  ",999,"TOTAL",266775.95,1,{"$f":"SUM(H1005:H1008)","v":217953.86999999997},{"$f":"SUM(I1005:I1008)","v":1},{"$f":"VLOOKUP(B1009,town351,22)","v":179812},{"$f":"SUM(K1005:K1008)","v":179812},209694,{"$f":"SUM(M1005:M1008)","v":-29882},-14.250288515646609,32,0,200,999,1000,26,217953.86999999997,null,200,999,1000,26,217953.86999999997]
[1001,201,"NEW BEDFORD                  ",201,"NEW BEDFORD",146174509.68000001,0.84513822538835326,{"$f":"U1010","v":149495329.88},{"$f":"IF(H1014>0, H1010/H1014, 0)","v":0.84492888436096047},null,{"$f":"ROUND(J1014*I1010,0)","v":24366967},22672562,{"$f":"K1010-L1010","v":1694405},7.4733724402209152,13193,0,201,201,1001,13211,149495329.88,null,201,201,1001,13211,149495329.88]
[1002,201,"NEW BEDFORD                  ",825,"GREATER NEW BEDFORD",26365316,0.152436539207984,27148184,{"$f":"IF(H1014>0, H1011/H1014, 0)","v":0.15343813641508838},null,{"$f":"ROUND(J1014*I1011,0)","v":4425014},4089422,{"$f":"K1011-L1011","v":335592},8.2063430968973119,1680,0,201,825,1002,1695,27148184,null,201,825,1002,1695,27148184]
[1003,201,"NEW BEDFORD                  ",910,"BRISTOL COUNTY",419467,2.4252354036627295E-3,288927,{"$f":"IF(H1014>0, H1012/H1014, 0)","v":1.632979223951121E-3},null,{"$f":"ROUND(J1014*I1012,0)","v":47094},65062,{"$f":"K1012-L1012","v":-17968},-27.616734806799666,28,0,201,910,1003,19,288927,null,201,910,1003,19,288927]
[1004,201,null,998,null,0,0,0,{"$f":"IF(H1014>0, H1013/H1014, 0)","v":0},null,{"$f":"ROUND(J1014*I1013,0)","v":0},0,{"$f":"K1013-L1013","v":0},0,0,0,201,998,1004,0,0,null,201,998,1004,0,0]
[1005,201,"NEW BEDFORD                  ",999,"TOTAL",172959292.68000001,1,{"$f":"SUM(H1010:H1013)","v":176932440.88},{"$f":"SUM(I1010:I1013)","v":1},{"$f":"VLOOKUP(B1014,town351,22)","v":28839075},{"$f":"SUM(K1010:K1013)","v":28839075},26827046,{"$f":"SUM(M1010:M1013)","v":2012029},7.500002050169817,14901,0,201,999,1005,14925,176932440.88,null,201,999,1005,14925,176932440.88]
[1006,202,"NEW BRAINTREE                ",202,"NEW BRAINTREE",13004.9,8.0557575446729424E-3,{"$f":"U1015","v":13199.960000000001},{"$f":"IF(H1019>0, H1015/H1019, 0)","v":7.8783297622904945E-3},null,{"$f":"ROUND(J1019*I1015,0)","v":7314},7410,{"$f":"K1015-L1015","v":-96},-1.2955465587044535,1,0,202,202,1006,1,13199.960000000001,null,202,202,1006,1,13199.960000000001]
[1007,202,"NEW BRAINTREE                ",753,"QUABBIN",1416048,0.87715702232381876,1487728,{"$f":"IF(H1019>0, H1016/H1019, 0)","v":0.88794297714484838},null,{"$f":"ROUND(J1019*I1016,0)","v":824306},806889,{"$f":"K1016-L1016","v":17417},2.1585372957122977,148,0,202,753,1007,150,1487728,null,202,753,1007,150,1487728]
[1008,202,"NEW BRAINTREE                ",860,"PATHFINDER",185308,0.1147872201315084,174549,{"$f":"IF(H1019>0, H1017/H1019, 0)","v":0.10417869309286115},null,{"$f":"ROUND(J1019*I1017,0)","v":96712},105592,{"$f":"K1017-L1017","v":-8880},-8.4097280096977052,12,0,202,860,1008,11,174549,null,202,860,1008,11,174549]
[1009,202,null,998,null,0,0,0,{"$f":"IF(H1019>0, H1018/H1019, 0)","v":0},null,{"$f":"ROUND(J1019*I1018,0)","v":0},0,{"$f":"K1018-L1018","v":0},0,0,0,202,998,1009,0,0,null,202,998,1009,0,0]
[1010,202,"NEW BRAINTREE                ",999,"TOTAL",1614360.9,1,{"$f":"SUM(H1015:H1018)","v":1675476.96},{"$f":"SUM(I1015:I1018)","v":1},{"$f":"VLOOKUP(B1019,town351,22)","v":928332},{"$f":"SUM(K1015:K1018)","v":928332},919891,{"$f":"SUM(M1015:M1018)","v":8441},0.91760871668491162,161,0,202,999,1010,162,1675476.96,null,202,999,1010,162,1675476.96]
[1011,203,"NEWBURY                      ",203,"NEWBURY",39848.778960000003,4.6316450867758393E-3,{"$f":"U1020","v":26986.020340000003},{"$f":"IF(H1024>0, H1020/H1024, 0)","v":3.2072962041196124E-3},null,{"$f":"ROUND(J1024*I1020,0)","v":22263},35337,{"$f":"K1020-L1020","v":-13074},-36.998047372442485,3,0,203,203,1011,2,26986.020340000003,null,203,203,1011,2,26986.020340000003]
[1012,203,"NEWBURY                      ",773,"TRITON",8270878,0.96132861412078707,8026712,{"$f":"IF(H1024>0, H1021/H1024, 0)","v":0.95397700753238734},null,{"$f":"ROUND(J1024*I1021,0)","v":6622037},7334327,{"$f":"K1021-L1021","v":-712290},-9.7117295151961454,859,0,203,773,1012,820,8026712,null,203,773,1012,820,8026712]
[1013,203,"NEWBURY                      ",885,"WHITTIER",292864,3.4039740792437052E-2,360249,{"$f":"IF(H1024>0, H1022/H1024, 0)","v":4.2815696263493075E-2},null,{"$f":"ROUND(J1024*I1022,0)","v":297205},259702,{"$f":"K1022-L1022","v":37503},14.440782127207338,19,0,203,885,1013,23,360249,null,203,885,1013,23,360249]
[1014,203,null,998,"ESSEX COUNTY",0,0,0,{"$f":"IF(H1024>0, H1023/H1024, 0)","v":0},null,{"$f":"ROUND(J1024*I1023,0)","v":0},0,{"$f":"K1023-L1023","v":0},0,0,0,203,998,1014,0,0,null,203,998,1014,0,0]
[1015,203,"NEWBURY                      ",999,"TOTAL",8603590.7789600007,1,{"$f":"SUM(H1020:H1023)","v":8413947.0203399993},{"$f":"SUM(I1020:I1023)","v":1},{"$f":"VLOOKUP(B1024,town351,22)","v":6941506},{"$f":"SUM(K1020:K1023)","v":6941505},7629366,{"$f":"SUM(M1020:M1023)","v":-687861},-9.0159654157370355,881,0,203,999,1015,845,8413947.0203399993,null,203,999,1015,845,8413947.0203399993]
[1016,204,"NEWBURYPORT                  ",204,"NEWBURYPORT",22313844.746979997,0.98704526150720084,{"$f":"U1025","v":22958152.764539998},{"$f":"IF(H1029>0, H1025/H1029, 0)","v":0.98786863393168656},null,{"$f":"ROUND(J1029*I1025,0)","v":18940476},18921662,{"$f":"K1025-L1025","v":18814},9.9431011926964977E-2,2420,0,204,204,1016,2445,22958152.764539998,null,204,204,1016,2445,22958152.764539998]
[1017,204,"NEWBURYPORT                  ",885,"WHITTIER",292864,1.2954738492799106E-2,281934,{"$f":"IF(H1029>0, H1026/H1029, 0)","v":1.2131366068313405E-2},null,{"$f":"ROUND(J1029*I1026,0)","v":232596},248342,{"$f":"K1026-L1026","v":-15746},-6.3404498634946966,19,0,204,885,1017,18,281934,null,204,885,1017,18,281934]
[1018,204,null,998,"ESSEX COUNTY",0,0,0,{"$f":"IF(H1029>0, H1027/H1029, 0)","v":0},null,{"$f":"ROUND(J1029*I1027,0)","v":0},0,{"$f":"K1027-L1027","v":0},0,0,0,204,998,1018,0,0,null,204,998,1018,0,0]
[1019,204,null,998,null,0,0,0,{"$f":"IF(H1029>0, H1028/H1029, 0)","v":0},null,{"$f":"ROUND(J1029*I1028,0)","v":0},0,{"$f":"K1028-L1028","v":0},0,0,0,204,998,1019,0,0,null,204,998,1019,0,0]
[1020,204,"NEWBURYPORT                  ",999,"TOTAL",22606708.746979997,1,{"$f":"SUM(H1025:H1028)","v":23240086.764539998},{"$f":"SUM(I1025:I1028)","v":1},{"$f":"VLOOKUP(B1029,town351,22)","v":19173072},{"$f":"SUM(K1025:K1028)","v":19173072},19170004,{"$f":"SUM(M1025:M1028)","v":3068},1.6004169847851885E-2,2439,0,204,999,1020,2463,23240086.764539998,null,204,999,1020,2463,23240086.764539998]
[1021,205,"NEW MARLBOROUGH              ",205,"NEW MARLBOROUGH",0,0,{"$f":"U1030","v":0},{"$f":"IF(H1034>0, H1030/H1034, 0)","v":0},null,{"$f":"ROUND(J1034*I1030,0)","v":0},0,{"$f":"K1030-L1030","v":0},0,0,0,205,205,1021,0,0,null,205,205,1021,0,0]
[1022,205,"NEW MARLBOROUGH              ",765,"SOUTHERN BERKSHIRE",1483179,1,1564171,{"$f":"IF(H1034>0, H1031/H1034, 0)","v":1},null,{"$f":"ROUND(J1034*I1031,0)","v":1290441},1334861,{"$f":"K1031-L1031","v":-44420},-3.3276873022734201,161,0,205,765,1022,156,1564171,null,205,765,1022,156,1564171]
[1023,205,null,998,null,0,0,0,{"$f":"IF(H1034>0, H1032/H1034, 0)","v":0},null,{"$f":"ROUND(J1034*I1032,0)","v":0},0,{"$f":"K1032-L1032","v":0},0,0,0,205,998,1023,0,0,null,205,998,1023,0,0]
[1024,205,null,998,null,0,0,0,{"$f":"IF(H1034>0, H1033/H1034, 0)","v":0},null,{"$f":"ROUND(J1034*I1033,0)","v":0},0,{"$f":"K1033-L1033","v":0},0,0,0,205,998,1024,0,0,null,205,998,1024,0,0]
[1025,205,"NEW MARLBOROUGH              ",999,"TOTAL",1483179,1,{"$f":"SUM(H1030:H1033)","v":1564171},{"$f":"SUM(I1030:I1033)","v":1},{"$f":"VLOOKUP(B1034,town351,22)","v":1290441},{"$f":"SUM(K1030:K1033)","v":1290441},1334861,{"$f":"SUM(M1030:M1033)","v":-44420},-3.3276873022734201,161,{"$f":"ABS(Q1034-B1034)+ABS(R1034-D1034)","v":0},{"$f":"IF($Q$6=1, W1034, IF($Q$6=2, AC1034, IF($Q$6=3, AI1034, IF($Q$6=4, AO1034, IF($Q$6=5, AU1034, IF($Q$6=6, BA1034, IF($Q$6=7, BG1034, IF($Q$6=8, BM1034, 0))))))))","v":205},{"$f":"IF($Q$6=1, X1034, IF($Q$6=2, AD1034, IF($Q$6=3, AJ1034, IF($Q$6=4, AP1034, IF($Q$6=5, AV1034, IF($Q$6=6, BB1034, IF($Q$6=7, BH1034, IF($Q$6=8, BN1034, 0))))))))","v":999},{"$f":"IF($Q$6=1, Y1034, IF($Q$6=2, AE1034, IF($Q$6=3, AK1034, IF($Q$6=4, AQ1034, IF($Q$6=5, AW1034, IF($Q$6=6, BC1034, IF($Q$6=7, BI1034, IF($Q$6=8, BO1034, 0))))))))","v":1025},{"$f":"IF($Q$6=1, Z1034, IF($Q$6=2, AF1034, IF($Q$6=3, AL1034, IF($Q$6=4, AR1034, IF($Q$6=5, AX1034, IF($Q$6=6, BD1034, IF($Q$6=7, BJ1034, IF($Q$6=8, BP1034, 0))))))))","v":156},{"$f":"IF($Q$6=1, AA1034, IF($Q$6=2, AG1034, IF($Q$6=3, AM1034, IF($Q$6=4, AS1034, IF($Q$6=5, AY1034, IF($Q$6=6, BE1034, IF($Q$6=7, BK1034, IF($Q$6=8, BQ1034, 0))))))))","v":1564171},null,205,999,1025,156,1564171]
[1026,206,"NEW SALEM                    ",206,"NEW SALEM",0,0,{"$f":"U1035","v":0},{"$f":"IF(H1039>0, H1035/H1039, 0)","v":0},null,{"$f":"ROUND(J1039*I1035,0)","v":0},0,{"$f":"K1035-L1035","v":0},0,0,0,206,206,1026,0,0,null,206,206,1026,0,0]
[1027,206,"NEW SALEM                    ",728,"NEW SALEM WENDELL",751376,0.47980127904266562,685457,{"$f":"IF(H1039>0, H1036/H1039, 0)","v":0.44682862151078617},null,{"$f":"ROUND(J1039*I1036,0)","v":346287},379035,{"$f":"K1036-L1036","v":-32748},-8.6398353714036968,73,0,206,728,1027,66,685457,null,206,728,1027,66,685457]
[1028,206,"NEW SALEM                    ",755,"RALPH C MAHAR",674235,0.43054185304738463,721441,{"$f":"IF(H1039>0, H1037/H1039, 0)","v":0.47028549935497499},null,{"$f":"ROUND(J1039*I1037,0)","v":364466},340121,{"$f":"K1037-L1037","v":24345},7.1577468018734507,63,0,206,755,1028,66,721441,null,206,755,1028,66,721441]
[1029,206,"NEW SALEM                    ",818,"FRANKLIN COUNTY",140404,8.9656867909949783E-2,127151,{"$f":"IF(H1039>0, H1038/H1039, 0)","v":8.2885879134238866E-2},null,{"$f":"ROUND(J1039*I1038,0)","v":64236},70827,{"$f":"K1038-L1038","v":-6591},-9.3057732220763274,9,0,206,818,1029,8,127151,null,206,818,1029,8,127151]
[1030,206,"NEW SALEM                    ",999,"TOTAL",1566015,1,{"$f":"SUM(H1035:H1038)","v":1534049},{"$f":"SUM(I1035:I1038)","v":1},{"$f":"VLOOKUP(B1039,town351,22)","v":774988},{"$f":"SUM(K1035:K1038)","v":774989},789983,{"$f":"SUM(M1035:M1038)","v":-14994},-1.8980155269164021,145,0,206,999,1030,140,1534049,null,206,999,1030,140,1534049]
[1031,207,"NEWTON                       ",207,"NEWTON",123275321.48661001,1,{"$f":"U1040","v":126316298.67331998},{"$f":"IF(H1044>0, H1040/H1044, 0)","v":1},null,{"$f":"ROUND(J1044*I1040,0)","v":104210946},103657391,{"$f":"K1040-L1040","v":553555},{"$f":"IF(L1040>0,M1040*100/L1040,IF(M1040>0,100,0))","v":0.53402366648413913},12650,0,207,207,1031,12711,126316298.67331998,null,207,207,1031,12711,126316298.67331998]
[1032,207,null,998,null,0,0,0,{"$f":"IF(H1044>0, H1041/H1044, 0)","v":0},null,{"$f":"ROUND(J1044*I1041,0)","v":0},0,{"$f":"K1041-L1041","v":0},{"$f":"IF(L1041>0,M1041*100/L1041,IF(M1041>0,100,0))","v":0},0,0,207,998,1032,0,0,null,207,998,1032,0,0]
[1033,207,null,998,null,0,0,0,{"$f":"IF(H1044>0, H1042/H1044, 0)","v":0},null,{"$f":"ROUND(J1044*I1042,0)","v":0},0,{"$f":"K1042-L1042","v":0},{"$f":"IF(L1042>0,M1042*100/L1042,IF(M1042>0,100,0))","v":0},0,0,207,998,1033,0,0,null,207,998,1033,0,0]
[1034,207,null,998,null,0,0,0,{"$f":"IF(H1044>0, H1043/H1044, 0)","v":0},null,{"$f":"ROUND(J1044*I1043,0)","v":0},0,{"$f":"K1043-L1043","v":0},{"$f":"IF(L1043>0,M1043*100/L1043,IF(M1043>0,100,0))","v":0},0,0,207,998,1034,0,0,null,207,998,1034,0,0]
[1035,207,"NEWTON                       ",999,"TOTAL",123275321.48661001,1,{"$f":"SUM(H1040:H1043)","v":126316298.67331998},{"$f":"SUM(I1040:I1043)","v":1},{"$f":"VLOOKUP(B1044,town351,22)","v":104210946},{"$f":"SUM(K1040:K1043)","v":104210946},103657391,{"$f":"SUM(M1040:M1043)","v":553555},{"$f":"IF(L1044>0,M1044*100/L1044,IF(M1044>0,100,0))","v":0.53402366648413913},12650,0,207,999,1035,12711,126316298.67331998,null,207,999,1035,12711,126316298.67331998]
[1036,208,"NORFOLK                      ",208,"NORFOLK",7315213.0608799998,0.48726961319413253,{"$f":"U1045","v":7167206.0455},{"$f":"IF(H1049>0, H1045/H1049, 0)","v":0.4738593157580504},null,{"$f":"ROUND(J1049*I1045,0)","v":5912945},6240752,{"$f":"K1045-L1045","v":-327807},-5.2526842918930283,835,0,208,208,1036,803,7167206.0455,null,208,208,1036,803,7167206.0455]
[1037,208,"NORFOLK                      ",690,"KING PHILIP",6939572,0.4622479941501601,7136161,{"$f":"IF(H1049>0, H1046/H1049, 0)","v":0.4718067747923077},null,{"$f":"ROUND(J1049*I1046,0)","v":5887333},5920286,{"$f":"K1046-L1046","v":-32953},-0.55661162315469215,737,0,208,690,1037,746,7136161,null,208,690,1037,746,7136161]
[1038,208,"NORFOLK                      ",878,"TRI COUNTY",681564,4.5399282821038486E-2,680977,{"$f":"IF(H1049>0, H1047/H1049, 0)","v":4.5022745714080908E-2},null,{"$f":"ROUND(J1049*I1047,0)","v":561806},581456,{"$f":"K1047-L1047","v":-19650},-3.3794474560413859,44,0,208,878,1038,43,680977,null,208,878,1038,43,680977]
[1039,208,"NORFOLK                      ",915,"NORFOLK COUNTY",76311,5.083109834668891E-3,140833,{"$f":"IF(H1049>0, H1048/H1049, 0)","v":9.3111637355610486E-3},null,{"$f":"ROUND(J1049*I1048,0)","v":116187},65102,{"$f":"K1048-L1048","v":51085},78.469171454025997,5,0,208,915,1039,9,140833,null,208,915,1039,9,140833]
[1040,208,"NORFOLK                      ",999,"TOTAL",15012660.06088,0.99999999999999989,{"$f":"SUM(H1045:H1048)","v":15125177.045499999},{"$f":"SUM(I1045:I1048)","v":1},{"$f":"VLOOKUP(B1049,town351,22)","v":12478271},{"$f":"SUM(K1045:K1048)","v":12478271},12807596,{"$f":"SUM(M1045:M1048)","v":-329325},-2.5713256414396581,1621,0,208,999,1040,1601,15125177.045499999,null,208,999,1040,1601,15125177.045499999]
[1041,209,"NORTH ADAMS                  ",209,"NORTH ADAMS",16417451.109999998,0.87208319446558957,{"$f":"U1050","v":16664714.390000004},{"$f":"IF(H1054>0, H1050/H1054, 0)","v":0.86881511506495501},null,{"$f":"ROUND(J1054*I1050,0)","v":5022499},4941966,{"$f":"K1050-L1050","v":80533},1.6295741411414,1554,0,209,209,1041,1545,16664714.390000004,null,209,209,1041,1545,16664714.390000004]
[1042,209,"NORTH ADAMS                  ",851,"NORTHERN BERKSHIRE",2408105,0.12791680553441032,2516253,{"$f":"IF(H1054>0, H1051/H1054, 0)","v":0.13118488493504496},null,{"$f":"ROUND(J1054*I1051,0)","v":758362},724885,{"$f":"K1051-L1051","v":33477},4.6182497913462139,158,0,209,851,1042,162,2516253,null,209,851,1042,162,2516253]
[1043,209,null,998,null,0,0,0,{"$f":"IF(H1054>0, H1052/H1054, 0)","v":0},null,{"$f":"ROUND(J1054*I1052,0)","v":0},0,{"$f":"K1052-L1052","v":0},0,0,0,209,998,1043,0,0,null,209,998,1043,0,0]
[1044,209,null,998,null,0,0,0,{"$f":"IF(H1054>0, H1053/H1054, 0)","v":0},null,{"$f":"ROUND(J1054*I1053,0)","v":0},0,{"$f":"K1053-L1053","v":0},0,0,0,209,998,1044,0,0,null,209,998,1044,0,0]
[1045,209,"NORTH ADAMS                  ",999,"TOTAL",18825556.109999999,0.99999999999999989,{"$f":"SUM(H1050:H1053)","v":19180967.390000004},{"$f":"SUM(I1050:I1053)","v":1},{"$f":"VLOOKUP(B1054,town351,22)","v":5780861},{"$f":"SUM(K1050:K1053)","v":5780861},5666851,{"$f":"SUM(M1050:M1053)","v":114010},2.0118757313365041,1712,0,209,999,1045,1707,19180967.390000004,null,209,999,1045,1707,19180967.390000004]
[1046,210,"NORTHAMPTON                  ",210,"NORTHAMPTON",27395100.530000001,0.93947808049353698,{"$f":"U1055","v":27323757.340000004},{"$f":"IF(H1059>0, H1055/H1059, 0)","v":0.93242913644377956},null,{"$f":"ROUND(J1059*I1055,0)","v":22542100},22476877,{"$f":"K1055-L1055","v":65223},0.29017821292522089,2805,0,210,210,1046,2767,27323757.340000004,null,210,210,1046,2767,27323757.340000004]
[1047,210,"NORTHAMPTON                  ",406,"NORTHAMPTON SMITH",1764814,6.0521919506462969E-2,1980086,{"$f":"IF(H1059>0, H1056/H1059, 0)","v":6.7570863556220467E-2},null,{"$f":"ROUND(J1059*I1056,0)","v":1633571},1447978,{"$f":"K1056-L1056","v":185593},12.817390871960761,91,0,210,406,1047,97,1980086,null,210,406,1047,97,1980086]
[1048,210,null,998,null,0,0,0,{"$f":"IF(H1059>0, H1057/H1059, 0)","v":0},null,{"$f":"ROUND(J1059*I1057,0)","v":0},0,{"$f":"K1057-L1057","v":0},0,0,0,210,998,1048,0,0,null,210,998,1048,0,0]
[1049,210,null,998,null,0,0,0,{"$f":"IF(H1059>0, H1058/H1059, 0)","v":0},null,{"$f":"ROUND(J1059*I1058,0)","v":0},0,{"$f":"K1058-L1058","v":0},0,0,0,210,998,1049,0,0,null,210,998,1049,0,0]
[1050,210,"NORTHAMPTON                  ",999,"TOTAL",29159914.530000001,1,{"$f":"SUM(H1055:H1058)","v":29303843.340000004},{"$f":"SUM(I1055:I1058)","v":1},{"$f":"VLOOKUP(B1059,town351,22)","v":24175671},{"$f":"SUM(K1055:K1058)","v":24175671},23924855,{"$f":"SUM(M1055:M1058)","v":250816},1.0483490913529048,2896,0,210,999,1050,2864,29303843.340000004,null,210,999,1050,2864,29303843.340000004]
[1051,211,"NORTH ANDOVER                ",211,"NORTH ANDOVER",43286349.479999997,0.99248358987742491,{"$f":"U1060","v":45462873.919999987},{"$f":"IF(H1064>0, H1060/H1064, 0)","v":0.99164133660900311},null,{"$f":"ROUND(J1064*I1060,0)","v":37506871},36224040,{"$f":"K1060-L1060","v":1282831},3.5413802546596127,4687,0,211,211,1051,4834,45462873.919999987,null,211,211,1051,4834,45462873.919999987]
[1052,211,"NORTH ANDOVER                ",823,"GREATER LAWRENCE",327822,7.5164101225751413E-3,383212,{"$f":"IF(H1064>0, H1061/H1064, 0)","v":8.35866339099685E-3},null,{"$f":"ROUND(J1064*I1061,0)","v":316150},274337,{"$f":"K1061-L1061","v":41813},15.241473078731634,19,0,211,823,1052,22,383212,null,211,823,1052,22,383212]
[1053,211,null,998,"ESSEX COUNTY",0,0,0,{"$f":"IF(H1064>0, H1062/H1064, 0)","v":0},null,{"$f":"ROUND(J1064*I1062,0)","v":0},0,{"$f":"K1062-L1062","v":0},0,0,0,211,998,1053,0,0,null,211,998,1053,0,0]
[1054,211,null,998,null,0,0,0,{"$f":"IF(H1064>0, H1063/H1064, 0)","v":0},null,{"$f":"ROUND(J1064*I1063,0)","v":0},0,{"$f":"K1063-L1063","v":0},0,0,0,211,998,1054,0,0,null,211,998,1054,0,0]
[1055,211,"NORTH ANDOVER                ",999,"TOTAL",43614171.479999997,1,{"$f":"SUM(H1060:H1063)","v":45846085.919999987},{"$f":"SUM(I1060:I1063)","v":1},{"$f":"VLOOKUP(B1064,town351,22)","v":37823021},{"$f":"SUM(K1060:K1063)","v":37823021},36498377,{"$f":"SUM(M1060:M1063)","v":1324644},3.6293230244183188,4706,0,211,999,1055,4856,45846085.919999987,null,211,999,1055,4856,45846085.919999987]
[1056,212,"NORTH ATTLEBOROUGH           ",212,"NORTH ATTLEBOROUGH",42114635.469999991,0.90225503683317265,{"$f":"U1065","v":42858323.110000007},{"$f":"IF(H1069>0, H1065/H1069, 0)","v":0.89852231555037665},null,{"$f":"ROUND(J1069*I1065,0)","v":25023400},24223806,{"$f":"K1065-L1065","v":799594},3.3008603189771253,4586,0,212,212,1056,4558,42858323.110000007,null,212,212,1056,4558,42858323.110000007]
[1057,212,"NORTH ATTLEBOROUGH           ",878,"TRI COUNTY",4352717,9.3251687764386054E-2,4703491,{"$f":"IF(H1069>0, H1066/H1069, 0)","v":9.8608422304424501E-2},null,{"$f":"ROUND(J1069*I1066,0)","v":2746196},2503628,{"$f":"K1066-L1066","v":242568},9.6886598168737521,281,0,212,878,1057,297,4703491,null,212,878,1057,297,4703491]
[1058,212,"NORTH ATTLEBOROUGH           ",910,"BRISTOL COUNTY",209733,4.4932754024412753E-3,136860,{"$f":"IF(H1069>0, H1067/H1069, 0)","v":2.8692621451988612E-3},null,{"$f":"ROUND(J1069*I1067,0)","v":79908},120636,{"$f":"K1067-L1067","v":-40728},-33.761066348353722,14,0,212,910,1058,9,136860,null,212,910,1058,9,136860]
[1059,212,null,998,null,0,0,0,{"$f":"IF(H1069>0, H1068/H1069, 0)","v":0},null,{"$f":"ROUND(J1069*I1068,0)","v":0},0,{"$f":"K1068-L1068","v":0},0,0,0,212,998,1059,0,0,null,212,998,1059,0,0]
[1060,212,"NORTH ATTLEBOROUGH           ",999,"TOTAL",46677085.469999991,1,{"$f":"SUM(H1065:H1068)","v":47698674.110000007},{"$f":"SUM(I1065:I1068)","v":1},{"$f":"VLOOKUP(B1069,town351,22)","v":27849503},{"$f":"SUM(K1065:K1068)","v":27849504},26848070,{"$f":"SUM(M1065:M1068)","v":1001434},3.7300036836912298,4881,0,212,999,1060,4864,47698674.110000007,null,212,999,1060,4864,47698674.110000007]
[1061,213,"NORTHBOROUGH                 ",213,"NORTHBOROUGH",15486011.710000001,0.61653572911764953,{"$f":"U1070","v":15526446.370000001},{"$f":"IF(H1074>0, H1070/H1074, 0)","v":0.61633019860369564},null,{"$f":"ROUND(J1074*I1070,0)","v":12557223},13010542,{"$f":"K1070-L1070","v":-453319},-3.484243777084767,1779,0,213,213,1061,1755,15526446.370000001,null,213,213,1061,1755,15526446.370000001]
[1062,213,"NORTHBOROUGH                 ",730,"NORTHBORO SOUTHBORO",8710143,0.3467719426917566,8691638,{"$f":"IF(H1074>0, H1071/H1074, 0)","v":0.34501899836410715},null,{"$f":"ROUND(J1074*I1071,0)","v":7029480},7317809,{"$f":"K1071-L1071","v":-288329},-3.940100103733235,881,0,213,730,1062,862,8691638,null,213,730,1062,862,8691638]
[1063,213,"NORTHBOROUGH                 ",801,"ASSABET VALLEY",921630,3.6692328190593843E-2,973682,{"$f":"IF(H1074>0, H1072/H1074, 0)","v":3.8650803032197222E-2},null,{"$f":"ROUND(J1074*I1072,0)","v":787478},774306,{"$f":"K1072-L1072","v":13172},1.7011362432939949,56,0,213,801,1063,58,973682,null,213,801,1063,58,973682]
[1064,213,null,998,null,0,0,0,{"$f":"IF(H1074>0, H1073/H1074, 0)","v":0},null,{"$f":"ROUND(J1074*I1073,0)","v":0},0,{"$f":"K1073-L1073","v":0},0,0,0,213,998,1064,0,0,null,213,998,1064,0,0]
[1065,213,"NORTHBOROUGH                 ",999,"TOTAL",25117784.710000001,1,{"$f":"SUM(H1070:H1073)","v":25191766.370000001},{"$f":"SUM(I1070:I1073)","v":1},{"$f":"VLOOKUP(B1074,town351,22)","v":20374181},{"$f":"SUM(K1070:K1073)","v":20374181},21102657,{"$f":"SUM(M1070:M1073)","v":-728476},-3.4520581934303345,2716,0,213,999,1065,2675,25191766.370000001,null,213,999,1065,2675,25191766.370000001]
[1066,214,"NORTHBRIDGE                  ",214,"NORTHBRIDGE",24874347.920000002,0.92150900986107986,{"$f":"U1075","v":24091597.779999997},{"$f":"IF(H1079>0, H1075/H1079, 0)","v":0.9160025827932351},null,{"$f":"ROUND(J1079*I1075,0)","v":10435707},9900452,{"$f":"K1075-L1075","v":535255},5.4063693253600951,2566,0,214,214,1066,2435,24091597.779999997,null,214,214,1066,2435,24091597.779999997]
[1067,214,"NORTHBRIDGE                  ",805,"BLACKSTONE VALLEY",2118712,7.8490990138920122E-2,2209199,{"$f":"IF(H1079>0, H1076/H1079, 0)","v":8.3997417206764957E-2},null,{"$f":"ROUND(J1079*I1076,0)","v":956954},843287,{"$f":"K1076-L1076","v":113667},13.479040943356177,142,0,214,805,1067,146,2209199,null,214,805,1067,146,2209199]
[1068,214,null,998,null,0,0,0,{"$f":"IF(H1079>0, H1077/H1079, 0)","v":0},null,{"$f":"ROUND(J1079*I1077,0)","v":0},0,{"$f":"K1077-L1077","v":0},0,0,0,214,998,1068,0,0,null,214,998,1068,0,0]
[1069,214,null,998,null,0,0,0,{"$f":"IF(H1079>0, H1078/H1079, 0)","v":0},null,{"$f":"ROUND(J1079*I1078,0)","v":0},0,{"$f":"K1078-L1078","v":0},0,0,0,214,998,1069,0,0,null,214,998,1069,0,0]
[1070,214,"NORTHBRIDGE                  ",999,"TOTAL",26993059.920000002,1,{"$f":"SUM(H1075:H1078)","v":26300796.779999997},{"$f":"SUM(I1075:I1078)","v":1},{"$f":"VLOOKUP(B1079,town351,22)","v":11392661},{"$f":"SUM(K1075:K1078)","v":11392661},10743739,{"$f":"SUM(M1075:M1078)","v":648922},6.040001530193539,2708,0,214,999,1070,2581,26300796.779999997,null,214,999,1070,2581,26300796.779999997]
[1071,215,"NORTH BROOKFIELD             ",215,"NORTH BROOKFIELD",6138607.5700000012,0.89212567838203816,{"$f":"U1080","v":6330664.1299999999},{"$f":"IF(H1084>0, H1080/H1084, 0)","v":0.89955037331097309},null,{"$f":"ROUND(J1084*I1080,0)","v":2817346},2853212,{"$f":"K1080-L1080","v":-35866},-1.2570394348544729,639,0,215,215,1071,635,6330664.1299999999,null,215,215,1071,635,6330664.1299999999]
[1072,215,"NORTH BROOKFIELD             ",876,"SOUTHERN WORCESTER",742270,0.10787432161796186,706923,{"$f":"IF(H1084>0, H1081/H1084, 0)","v":0.10044962668902686},null,{"$f":"ROUND(J1084*I1081,0)","v":314603},345006,{"$f":"K1081-L1081","v":-30403},-8.8123105105418453,49,0,215,876,1072,46,706923,null,215,876,1072,46,706923]
[1073,215,null,998,null,0,0,0,{"$f":"IF(H1084>0, H1082/H1084, 0)","v":0},null,{"$f":"ROUND(J1084*I1082,0)","v":0},0,{"$f":"K1082-L1082","v":0},0,0,0,215,998,1073,0,0,null,215,998,1073,0,0]
[1074,215,null,998,null,0,0,0,{"$f":"IF(H1084>0, H1083/H1084, 0)","v":0},null,{"$f":"ROUND(J1084*I1083,0)","v":0},0,{"$f":"K1083-L1083","v":0},0,0,0,215,998,1074,0,0,null,215,998,1074,0,0]
[1075,215,"NORTH BROOKFIELD             ",999,"TOTAL",6880877.5700000012,1,{"$f":"SUM(H1080:H1083)","v":7037587.1299999999},{"$f":"SUM(I1080:I1083)","v":1},{"$f":"VLOOKUP(B1084,town351,22)","v":3131949},{"$f":"SUM(K1080:K1083)","v":3131949},3198218,{"$f":"SUM(M1080:M1083)","v":-66269},-2.0720601284840496,688,0,215,999,1075,681,7037587.1299999999,null,215,999,1075,681,7037587.1299999999]
[1076,216,"NORTHFIELD                   ",216,"NORTHFIELD",0,0,{"$f":"U1085","v":26399.920000000002},{"$f":"IF(H1089>0, H1085/H1089, 0)","v":6.1198418131076619E-3},null,{"$f":"ROUND(J1089*I1085,0)","v":16985},0,{"$f":"K1085-L1085","v":16985},100,0,0,216,216,1076,2,26399.920000000002,null,216,216,1076,2,26399.920000000002]
[1077,216,"NORTHFIELD                   ",750,"PIONEER",3950955,0.88472016459430947,3667563,{"$f":"IF(H1089>0, H1086/H1089, 0)","v":0.8501883869196033},null,{"$f":"ROUND(J1089*I1086,0)","v":2359636},2410019,{"$f":"K1086-L1086","v":-50383},-2.0905644312347746,405,0,216,750,1077,368,3667563,null,216,750,1077,368,3667563]
[1078,216,"NORTHFIELD                   ",818,"FRANKLIN COUNTY",514813,0.11527983540569058,619861,{"$f":"IF(H1089>0, H1087/H1089, 0)","v":0.14369177126728899},null,{"$f":"ROUND(J1089*I1087,0)","v":398806},314028,{"$f":"K1087-L1087","v":84778},26.996955685480277,33,0,216,818,1078,39,619861,null,216,818,1078,39,619861]
[1079,216,null,998,null,0,0,0,{"$f":"IF(H1089>0, H1088/H1089, 0)","v":0},null,{"$f":"ROUND(J1089*I1088,0)","v":0},0,{"$f":"K1088-L1088","v":0},0,0,0,216,998,1079,0,0,null,216,998,1079,0,0]
[1080,216,"NORTHFIELD                   ",999,"TOTAL",4465768,1,{"$f":"SUM(H1085:H1088)","v":4313823.92},{"$f":"SUM(I1085:I1088)","v":1},{"$f":"VLOOKUP(B1089,town351,22)","v":2775427},{"$f":"SUM(K1085:K1088)","v":2775427},2724047,{"$f":"SUM(M1085:M1088)","v":51380},1.8861642255071223,438,0,216,999,1080,409,4313823.92,null,216,999,1080,409,4313823.92]
[1081,217,"NORTH READING                ",217,"NORTH READING",23706840.709970001,0.98175400388107947,{"$f":"U1090","v":23928340.855640002},{"$f":"IF(H1094>0, H1090/H1094, 0)","v":0.9770453951200232},null,{"$f":"ROUND(J1094*I1090,0)","v":19740881},19832830,{"$f":"K1090-L1090","v":-91949},-0.46362016918412552,2545,0,217,217,1081,2501,23928340.855640002,null,217,217,1081,2501,23928340.855640002]
[1082,217,"NORTH READING                ",853,"NORTHEAST METROPOLITAN",440594,1.8245996118920551E-2,562170,{"$f":"IF(H1094>0, H1091/H1094, 0)","v":2.2954604879976848E-2},null,{"$f":"ROUND(J1094*I1091,0)","v":463790},368595,{"$f":"K1091-L1091","v":95195},25.826449083682633,27,0,217,853,1082,34,562170,null,217,853,1082,34,562170]
[1083,217,null,998,"ESSEX COUNTY",0,0,0,{"$f":"IF(H1094>0, H1092/H1094, 0)","v":0},null,{"$f":"ROUND(J1094*I1092,0)","v":0},0,{"$f":"K1092-L1092","v":0},0,0,0,217,998,1083,0,0,null,217,998,1083,0,0]
[1084,217,null,998,null,0,0,0,{"$f":"IF(H1094>0, H1093/H1094, 0)","v":0},null,{"$f":"ROUND(J1094*I1093,0)","v":0},0,{"$f":"K1093-L1093","v":0},0,0,0,217,998,1084,0,0,null,217,998,1084,0,0]
[1085,217,"NORTH READING                ",999,"TOTAL",24147434.709970001,1,{"$f":"SUM(H1090:H1093)","v":24490510.855640002},{"$f":"SUM(I1090:I1093)","v":1},{"$f":"VLOOKUP(B1094,town351,22)","v":20204671},{"$f":"SUM(K1090:K1093)","v":20204671},20201425,{"$f":"SUM(M1090:M1093)","v":3246},1.6068173408559049E-2,2572,0,217,999,1085,2535,24490510.855640002,null,217,999,1085,2535,24490510.855640002]
[1086,218,"NORTON                       ",218,"NORTON",24839826.120000001,0.92149449979750941,{"$f":"U1095","v":24716889.330000006},{"$f":"IF(H1099>0, H1095/H1099, 0)","v":0.92750887356913458},null,{"$f":"ROUND(J1099*I1095,0)","v":15331089},15755447,{"$f":"K1095-L1095","v":-424358},-2.6934050173251194,2685,0,218,218,1086,2611,24716889.330000006,null,218,218,1086,2611,24716889.330000006]
[1087,218,"NORTON                       ",872,"SOUTHEASTERN",1831558,6.7946152879919064E-2,1673279,{"$f":"IF(H1099>0, H1096/H1099, 0)","v":6.2790309077169287E-2},null,{"$f":"ROUND(J1099*I1096,0)","v":1037881},1161724,{"$f":"K1096-L1096","v":-123843},-10.660277311994932,117,0,218,872,1087,105,1673279,null,218,872,1087,105,1673279]
[1088,218,"NORTON                       ",910,"BRISTOL COUNTY",284638,1.0559347322571494E-2,258514,{"$f":"IF(H1099>0, H1097/H1099, 0)","v":9.7008173536961492E-3},null,{"$f":"ROUND(J1099*I1097,0)","v":160348},180541,{"$f":"K1097-L1097","v":-20193},-11.184717044881772,19,0,218,910,1088,17,258514,null,218,910,1088,17,258514]
[1089,218,null,998,null,0,0,0,{"$f":"IF(H1099>0, H1098/H1099, 0)","v":0},null,{"$f":"ROUND(J1099*I1098,0)","v":0},0,{"$f":"K1098-L1098","v":0},0,0,{"$f":"ABS(Q1098-B1098)+ABS(R1098-D1098)","v":0},{"$f":"IF($Q$6=1, W1098, IF($Q$6=2, AC1098, IF($Q$6=3, AI1098, IF($Q$6=4, AO1098, IF($Q$6=5, AU1098, IF($Q$6=6, BA1098, IF($Q$6=7, BG1098, IF($Q$6=8, BM1098, 0))))))))","v":218},{"$f":"IF($Q$6=1, X1098, IF($Q$6=2, AD1098, IF($Q$6=3, AJ1098, IF($Q$6=4, AP1098, IF($Q$6=5, AV1098, IF($Q$6=6, BB1098, IF($Q$6=7, BH1098, IF($Q$6=8, BN1098, 0))))))))","v":998},{"$f":"IF($Q$6=1, Y1098, IF($Q$6=2, AE1098, IF($Q$6=3, AK1098, IF($Q$6=4, AQ1098, IF($Q$6=5, AW1098, IF($Q$6=6, BC1098, IF($Q$6=7, BI1098, IF($Q$6=8, BO1098, 0))))))))","v":1089},{"$f":"IF($Q$6=1, Z1098, IF($Q$6=2, AF1098, IF($Q$6=3, AL1098, IF($Q$6=4, AR1098, IF($Q$6=5, AX1098, IF($Q$6=6, BD1098, IF($Q$6=7, BJ1098, IF($Q$6=8, BP1098, 0))))))))","v":0},{"$f":"IF($Q$6=1, AA1098, IF($Q$6=2, AG1098, IF($Q$6=3, AM1098, IF($Q$6=4, AS1098, IF($Q$6=5, AY1098, IF($Q$6=6, BE1098, IF($Q$6=7, BK1098, IF($Q$6=8, BQ1098, 0))))))))","v":0},null,218,998,1089,0,0]
[1090,218,"NORTON                       ",999,"TOTAL",26956022.120000001,0.99999999999999989,{"$f":"SUM(H1095:H1098)","v":26648682.330000006},{"$f":"SUM(I1095:I1098)","v":1},{"$f":"VLOOKUP(B1099,town351,22)","v":16529318},{"$f":"SUM(K1095:K1098)","v":16529318},17097712,{"$f":"SUM(M1095:M1098)","v":-568394},-3.324386327246593,2821,0,218,999,1090,2733,26648682.330000006,null,218,999,1090,2733,26648682.330000006]
[1091,219,"NORWELL                      ",219,"NORWELL",20295768.49016,0.99407948773669708,{"$f":"U1100","v":20603272.396599997},{"$f":"IF(H1104>0, H1100/H1104, 0)","v":0.99468598584533352},null,{"$f":"ROUND(J1104*I1100,0)","v":16997699},17370172,{"$f":"K1100-L1100","v":-372473},-2.1443253411653034,2210,0,219,219,1091,2202,20603272.396599997,null,219,219,1091,2202,20603272.396599997]
[1092,219,"NORWELL                      ",873,"SOUTH SHORE",120877,5.9205122633028935E-3,110071,{"$f":"IF(H1104>0, H1101/H1104, 0)","v":5.3140141546664877E-3},null,{"$f":"ROUND(J1104*I1101,0)","v":90809},103453,{"$f":"K1101-L1101","v":-12644},-12.221975196466028,8,0,219,873,1092,7,110071,null,219,873,1092,7,110071]
[1093,219,null,998,null,0,0,0,{"$f":"IF(H1104>0, H1102/H1104, 0)","v":0},null,{"$f":"ROUND(J1104*I1102,0)","v":0},0,{"$f":"K1102-L1102","v":0},0,0,0,219,998,1093,0,0,null,219,998,1093,0,0]
[1094,219,null,998,null,0,0,0,{"$f":"IF(H1104>0, H1103/H1104, 0)","v":0},null,{"$f":"ROUND(J1104*I1103,0)","v":0},0,{"$f":"K1103-L1103","v":0},0,0,0,219,998,1094,0,0,null,219,998,1094,0,0]
[1095,219,"NORWELL                      ",999,"TOTAL",20416645.49016,1,{"$f":"SUM(H1100:H1103)","v":20713343.396599997},{"$f":"SUM(I1100:I1103)","v":1},{"$f":"VLOOKUP(B1104,town351,22)","v":17088508},{"$f":"SUM(K1100:K1103)","v":17088508},17473625,{"$f":"SUM(M1100:M1103)","v":-385117},{"$f":"IF(L1104>0,M1104*100/L1104,IF(M1104>0,100,0))","v":-2.2039902996659251},2218,0,219,999,1095,2209,20713343.396599997,null,219,999,1095,2209,20713343.396599997]
[1096,220,"NORWOOD                      ",220,"NORWOOD",35458013.178439997,0.9676680601695471,{"$f":"U1105","v":36030240.360470004},{"$f":"IF(H1109>0, H1105/H1109, 0)","v":0.9735155549631751},null,{"$f":"ROUND(J1109*I1105,0)","v":29724948},31475235,{"$f":"K1105-L1105","v":-1750287},-5.5608385449703555,3491,0,220,220,1096,3492,36030240.360470004,null,220,220,1096,3492,36030240.360470004]
[1097,220,"NORWOOD                      ",806,"BLUE HILLS",1001584,2.7333760679128283E-2,808072,{"$f":"IF(H1109>0, H1106/H1109, 0)","v":2.1833622358880676E-2},null,{"$f":"ROUND(J1109*I1106,0)","v":666659},889082,{"$f":"K1106-L1106","v":-222423},-25.017152523614246,63,0,220,806,1097,50,808072,null,220,806,1097,50,808072]
[1098,220,"NORWOOD                      ",915,"NORFOLK COUNTY",183147,4.9981791513246093E-3,172129,{"$f":"IF(H1109>0, H1107/H1109, 0)","v":4.6508226779442569E-3},null,{"$f":"ROUND(J1109*I1107,0)","v":142006},162575,{"$f":"K1107-L1107","v":-20569},-12.65200676610795,12,0,220,915,1098,11,172129,null,220,915,1098,11,172129]
[1099,220,null,998,null,0,0,0,{"$f":"IF(H1109>0, H1108/H1109, 0)","v":0},null,{"$f":"ROUND(J1109*I1108,0)","v":0},0,{"$f":"K1108-L1108","v":0},0,0,0,220,998,1099,0,0,null,220,998,1099,0,0]
[1100,220,"NORWOOD                      ",999,"TOTAL",36642744.178439997,1,{"$f":"SUM(H1105:H1108)","v":37010441.360470004},{"$f":"SUM(I1105:I1108)","v":1},{"$f":"VLOOKUP(B1109,town351,22)","v":30533614},{"$f":"SUM(K1105:K1108)","v":30533613},32526892,{"$f":"SUM(M1105:M1108)","v":-1993279},-6.1280954848068481,3566,0,220,999,1100,3553,37010441.360470004,null,220,999,1100,3553,37010441.360470004]
[1101,221,"OAK BLUFFS                   ",221,"OAK BLUFFS",3839529.9800000004,0.6227420796576254,{"$f":"U1110","v":4306524.25},{"$f":"IF(H1114>0, H1110/H1114, 0)","v":0.63426432251610565},null,{"$f":"ROUND(J1114*I1110,0)","v":3420717},3213640,{"$f":"K1110-L1110","v":207077},6.4436900212842758,409,0,221,221,1101,434,4306524.25,null,221,221,1101,434,4306524.25]
[1102,221,"OAK BLUFFS                   ",700,"MARTHAS VINEYARD",2325992,0.3772579203423746,2483270,{"$f":"IF(H1114>0, H1111/H1114, 0)","v":0.36573567748389429},null,{"$f":"ROUND(J1114*I1111,0)","v":1972487},1946827,{"$f":"K1111-L1111","v":25660},1.3180421270097447,209,0,221,700,1102,218,2483270,null,221,700,1102,218,2483270]
[1103,221,null,998,null,0,0,0,{"$f":"IF(H1114>0, H1112/H1114, 0)","v":0},null,{"$f":"ROUND(J1114*I1112,0)","v":0},0,{"$f":"K1112-L1112","v":0},0,0,0,221,998,1103,0,0,null,221,998,1103,0,0]
[1104,221,null,998,null,0,0,0,{"$f":"IF(H1114>0, H1113/H1114, 0)","v":0},null,{"$f":"ROUND(J1114*I1113,0)","v":0},0,{"$f":"K1113-L1113","v":0},0,0,0,221,998,1104,0,0,null,221,998,1104,0,0]
[1105,221,"OAK BLUFFS                   ",999,"TOTAL",6165521.9800000004,1,{"$f":"SUM(H1110:H1113)","v":6789794.25},{"$f":"SUM(I1110:I1113)","v":1},{"$f":"VLOOKUP(B1114,town351,22)","v":5393204},{"$f":"SUM(K1110:K1113)","v":5393204},5160467,{"$f":"SUM(M1110:M1113)","v":232737},4.5099988043717749,618,0,221,999,1105,652,6789794.25,null,221,999,1105,652,6789794.25]
[1106,222,"OAKHAM                       ",222,"OAKHAM",0,0,{"$f":"U1115","v":13199.960000000001},{"$f":"IF(H1119>0, H1115/H1119, 0)","v":4.764705908682056E-3},null,{"$f":"ROUND(J1119*I1115,0)","v":7320},0,{"$f":"K1115-L1115","v":7320},100,0,0,222,222,1106,1,13199.960000000001,null,222,222,1106,1,13199.960000000001]
[1107,222,"OAKHAM                       ",753,"QUABBIN",2605529,0.94404866461445702,2535009,{"$f":"IF(H1119>0, H1116/H1119, 0)","v":0.91504613353844921},null,{"$f":"ROUND(J1119*I1116,0)","v":1405849},1384505,{"$f":"K1116-L1116","v":21344},1.5416340136005287,272,0,222,753,1107,255,2535009,null,222,753,1107,255,2535009]
[1108,222,"OAKHAM                       ",860,"PATHFINDER",154423,5.5951335385542936E-2,222153,{"$f":"IF(H1119>0, H1117/H1119, 0)","v":8.0189160552868691E-2},null,{"$f":"ROUND(J1119*I1117,0)","v":123200},82056,{"$f":"K1117-L1117","v":41144},50.141366871404891,10,0,222,860,1108,14,222153,null,222,860,1108,14,222153]
[1109,222,null,998,null,0,0,0,{"$f":"IF(H1119>0, H1118/H1119, 0)","v":0},null,{"$f":"ROUND(J1119*I1118,0)","v":0},0,{"$f":"K1118-L1118","v":0},0,0,0,222,998,1109,0,0,null,222,998,1109,0,0]
[1110,222,"OAKHAM                       ",999,"TOTAL",2759952,1,{"$f":"SUM(H1115:H1118)","v":2770361.96},{"$f":"SUM(I1115:I1118)","v":1},{"$f":"VLOOKUP(B1119,town351,22)","v":1536370},{"$f":"SUM(K1115:K1118)","v":1536369},1466561,{"$f":"SUM(M1115:M1118)","v":69808},4.7599792985085516,282,0,222,999,1110,270,2770361.96,null,222,999,1110,270,2770361.96]
[1111,223,"ORANGE                       ",223,"ORANGE",6225638.2200000016,0.46678868039180815,{"$f":"U1120","v":6497667.1399999978},{"$f":"IF(H1124>0, H1120/H1124, 0)","v":0.47619214621834732},null,{"$f":"ROUND(J1124*I1120,0)","v":1842295},1814005,{"$f":"K1120-L1120","v":28290},1.5595326363488524,621,0,223,223,1111,626,6497667.1399999978,null,223,223,1111,626,6497667.1399999978]
[1112,223,"ORANGE                       ",755,"RALPH C MAHAR",6003900,0.45016309319117109,5891769,{"$f":"IF(H1124>0, H1121/H1124, 0)","v":0.43178791167390068},null,{"$f":"ROUND(J1124*I1121,0)","v":1670503},1749395,{"$f":"K1121-L1121","v":-78892},-4.5096733442132848,562,0,223,755,1112,539,5891769,null,223,755,1112,539,5891769]
[1113,223,"ORANGE                       ",818,"FRANKLIN COUNTY",1107628,8.3048226417020671E-2,1255617,{"$f":"IF(H1124>0, H1122/H1124, 0)","v":9.2019942107752051E-2},null,{"$f":"ROUND(J1124*I1122,0)","v":356007},322737,{"$f":"K1122-L1122","v":33270},10.308703371475845,71,0,223,818,1113,79,1255617,null,223,818,1113,79,1255617]
[1114,223,null,998,null,0,0,0,{"$f":"IF(H1124>0, H1123/H1124, 0)","v":0},null,{"$f":"ROUND(J1124*I1123,0)","v":0},0,{"$f":"K1123-L1123","v":0},0,0,0,223,998,1114,0,0,null,223,998,1114,0,0]
[1115,223,"ORANGE                       ",999,"TOTAL",13337166.220000003,1,{"$f":"SUM(H1120:H1123)","v":13645053.139999997},{"$f":"SUM(I1120:I1123)","v":1},{"$f":"VLOOKUP(B1124,town351,22)","v":3868805},{"$f":"SUM(K1120:K1123)","v":3868805},3886137,{"$f":"SUM(M1120:M1123)","v":-17332},-0.44599559922874565,1254,0,223,999,1115,1244,13645053.139999997,null,223,999,1115,1244,13645053.139999997]
[1116,224,"ORLEANS                      ",224,"ORLEANS",1909216.98,0.41665409753858995,{"$f":"U1125","v":2072439.67},{"$f":"IF(H1129>0, H1125/H1129, 0)","v":0.44684720841420561},null,{"$f":"ROUND(J1129*I1125,0)","v":1709763},1715171,{"$f":"K1125-L1125","v":-5408},-0.31530383850939642,212,0,224,224,1116,223,2072439.67,null,224,224,1116,223,2072439.67]
[1117,224,"ORLEANS                      ",660,"NAUSET",2489330,0.54325388653611184,2346866,{"$f":"IF(H1129>0, H1126/H1129, 0)","v":0.50601739380052158},null,{"$f":"ROUND(J1129*I1126,0)","v":1936164},2236324,{"$f":"K1126-L1126","v":-300160},-13.422026504209587,256,0,224,660,1117,232,2346866,null,224,660,1117,232,2346866]
[1118,224,"ORLEANS                      ",815,"CAPE COD",183712,4.0092015925298048E-2,218610,{"$f":"IF(H1129>0, H1127/H1129, 0)","v":4.7135397785272801E-2},null,{"$f":"ROUND(J1129*I1127,0)","v":180353},165040,{"$f":"K1127-L1127","v":15313},9.2783567619970917,12,0,224,815,1118,14,218610,null,224,815,1118,14,218610]
[1119,224,null,998,null,0,0,0,{"$f":"IF(H1129>0, H1128/H1129, 0)","v":0},null,{"$f":"ROUND(J1129*I1128,0)","v":0},0,{"$f":"K1128-L1128","v":0},0,0,0,224,998,1119,0,0,null,224,998,1119,0,0]
[1120,224,"ORLEANS                      ",999,"TOTAL",4582258.9800000004,0.99999999999999989,{"$f":"SUM(H1125:H1128)","v":4637915.67},{"$f":"SUM(I1125:I1128)","v":0.99999999999999989},{"$f":"VLOOKUP(B1129,town351,22)","v":3826280},{"$f":"SUM(K1125:K1128)","v":3826280},4116535,{"$f":"SUM(M1125:M1128)","v":-290255},-7.0509542612901388,480,0,224,999,1120,469,4637915.67,null,224,999,1120,469,4637915.67]
[1121,225,"OTIS                         ",225,"OTIS",0,0,{"$f":"U1130","v":0},{"$f":"IF(H1134>0, H1130/H1134, 0)","v":0},null,{"$f":"ROUND(J1134*I1130,0)","v":0},0,{"$f":"K1130-L1130","v":0},0,0,0,225,225,1121,0,0,null,225,225,1121,0,0]
[1122,225,"OTIS                         ",662,"FARMINGTON RIVER",1424822,1,1618522,{"$f":"IF(H1134>0, H1131/H1134, 0)","v":1},null,{"$f":"ROUND(J1134*I1131,0)","v":1335281},1282340,{"$f":"K1131-L1131","v":52941},4.1284682689458334,148,0,225,662,1122,165,1618522,null,225,662,1122,165,1618522]
[1123,225,null,998,null,0,0,0,{"$f":"IF(H1134>0, H1132/H1134, 0)","v":0},null,{"$f":"ROUND(J1134*I1132,0)","v":0},0,{"$f":"K1132-L1132","v":0},0,0,0,225,998,1123,0,0,null,225,998,1123,0,0]
[1124,225,null,998,null,0,0,0,{"$f":"IF(H1134>0, H1133/H1134, 0)","v":0},null,{"$f":"ROUND(J1134*I1133,0)","v":0},0,{"$f":"K1133-L1133","v":0},0,0,0,225,998,1124,0,0,null,225,998,1124,0,0]
[1125,225,"OTIS                         ",999,"TOTAL",1424822,1,{"$f":"SUM(H1130:H1133)","v":1618522},{"$f":"SUM(I1130:I1133)","v":1},{"$f":"VLOOKUP(B1134,town351,22)","v":1335281},{"$f":"SUM(K1130:K1133)","v":1335281},1282340,{"$f":"SUM(M1130:M1133)","v":52941},4.1284682689458334,148,0,225,999,1125,165,1618522,null,225,999,1125,165,1618522]
[1126,226,"OXFORD                       ",226,"OXFORD",18717632.59,0.89110207538552655,{"$f":"U1135","v":19226330.559999999},{"$f":"IF(H1139>0, H1135/H1139, 0)","v":0.89039708737697532},null,{"$f":"ROUND(J1139*I1135,0)","v":9103172},9144757,{"$f":"K1135-L1135","v":-41585},-0.45474144364907676,1942,0,226,226,1126,1934,19226330.559999999,null,226,226,1126,1934,19226330.559999999]
[1127,226,"OXFORD                       ",876,"SOUTHERN WORCESTER",2287405,0.1088979246144734,2366654,{"$f":"IF(H1139>0, H1136/H1139, 0)","v":0.10960291262302464},null,{"$f":"ROUND(J1139*I1136,0)","v":1120550},1117543,{"$f":"K1136-L1136","v":3007},0.26907242047956992,151,0,226,876,1127,154,2366654,null,226,876,1127,154,2366654]
[1128,226,null,998,null,0,0,0,{"$f":"IF(H1139>0, H1137/H1139, 0)","v":0},null,{"$f":"ROUND(J1139*I1137,0)","v":0},0,{"$f":"K1137-L1137","v":0},0,0,0,226,998,1128,0,0,null,226,998,1128,0,0]
[1129,226,null,998,null,0,0,0,{"$f":"IF(H1139>0, H1138/H1139, 0)","v":0},null,{"$f":"ROUND(J1139*I1138,0)","v":0},0,{"$f":"K1138-L1138","v":0},0,0,0,226,998,1129,0,0,null,226,998,1129,0,0]
[1130,226,"OXFORD                       ",999,"TOTAL",21005037.59,1,{"$f":"SUM(H1135:H1138)","v":21592984.559999999},{"$f":"SUM(I1135:I1138)","v":1},{"$f":"VLOOKUP(B1139,town351,22)","v":10223722},{"$f":"SUM(K1135:K1138)","v":10223722},10262300,{"$f":"SUM(M1135:M1138)","v":-38578},-0.37591962815353286,2093,0,226,999,1130,2088,21592984.559999999,null,226,999,1130,2088,21592984.559999999]
[1131,227,"PALMER                       ",227,"PALMER",15478309.109999996,0.85645099039571149,{"$f":"U1140","v":15466730.400000002},{"$f":"IF(H1144>0, H1140/H1144, 0)","v":0.85823813994873588},null,{"$f":"ROUND(J1144*I1140,0)","v":6526230},6819446,{"$f":"K1140-L1140","v":-293216},-4.2997041108617911,1533,0,227,227,1131,1501,15466730.400000002,null,227,227,1131,1501,15466730.400000002]
[1132,227,"PALMER                       ",860,"PATHFINDER",2594306,0.14354900960428857,2554760,{"$f":"IF(H1144>0, H1141/H1144, 0)","v":0.14176186005126412},null,{"$f":"ROUND(J1144*I1141,0)","v":1077988},1143001,{"$f":"K1141-L1141","v":-65013},-5.6879215328770494,168,0,227,860,1132,161,2554760,null,227,860,1132,161,2554760]
[1133,227,null,998,null,0,0,0,{"$f":"IF(H1144>0, H1142/H1144, 0)","v":0},null,{"$f":"ROUND(J1144*I1142,0)","v":0},0,{"$f":"K1142-L1142","v":0},0,0,0,227,998,1133,0,0,null,227,998,1133,0,0]
[1134,227,null,998,null,0,0,0,{"$f":"IF(H1144>0, H1143/H1144, 0)","v":0},null,{"$f":"ROUND(J1144*I1143,0)","v":0},0,{"$f":"K1143-L1143","v":0},0,0,0,227,998,1134,0,0,null,227,998,1134,0,0]
[1135,227,"PALMER                       ",999,"TOTAL",18072615.109999996,1,{"$f":"SUM(H1140:H1143)","v":18021490.400000002},{"$f":"SUM(I1140:I1143)","v":1},{"$f":"VLOOKUP(B1144,town351,22)","v":7604218},{"$f":"SUM(K1140:K1143)","v":7604218},7962447,{"$f":"SUM(M1140:M1143)","v":-358229},-4.4989812805033429,1701,0,227,999,1135,1662,18021490.400000002,null,227,999,1135,1662,18021490.400000002]
[1136,228,"PAXTON                       ",228,"PAXTON",0,0,{"$f":"U1145","v":0},{"$f":"IF(H1149>0, H1145/H1149, 0)","v":0},null,{"$f":"ROUND(J1149*I1145,0)","v":0},0,{"$f":"K1145-L1145","v":0},0,0,0,228,228,1136,0,0,null,228,228,1136,0,0]
[1137,228,"PAXTON                       ",775,"WACHUSETT",6384413,0.95904047477844656,6603620,{"$f":"IF(H1149>0, H1146/H1149, 0)","v":0.97503981813958962},null,{"$f":"ROUND(J1149*I1146,0)","v":4506979},4282288,{"$f":"K1146-L1146","v":224691},5.2469847894396642,708,0,228,775,1137,709,6603620,null,228,775,1137,709,6603620]
[1138,228,"PAXTON                       ",876,"SOUTHERN WORCESTER",272671,4.095952522155346E-2,169047,{"$f":"IF(H1149>0, H1147/H1149, 0)","v":2.4960181860410383E-2},null,{"$f":"ROUND(J1149*I1147,0)","v":115375},182892,{"$f":"K1147-L1147","v":-67517},-36.916322201080419,18,0,228,876,1138,11,169047,null,228,876,1138,11,169047]
[1139,228,null,998,null,0,0,0,{"$f":"IF(H1149>0, H1148/H1149, 0)","v":0},null,{"$f":"ROUND(J1149*I1148,0)","v":0},0,{"$f":"K1148-L1148","v":0},0,0,0,228,998,1139,0,0,null,228,998,1139,0,0]
[1140,228,"PAXTON                       ",999,"TOTAL",6657084,1,{"$f":"SUM(H1145:H1148)","v":6772667},{"$f":"SUM(I1145:I1148)","v":1},{"$f":"VLOOKUP(B1149,town351,22)","v":4622354},{"$f":"SUM(K1145:K1148)","v":4622354},4465180,{"$f":"SUM(M1145:M1148)","v":157174},3.5199924751073866,726,0,228,999,1140,720,6772667,null,228,999,1140,720,6772667]
[1141,229,"PEABODY                      ",229,"PEABODY",61102630.279999994,0.94899447280767246,{"$f":"U1150","v":62367587.499999993},{"$f":"IF(H1154>0, H1150/H1154, 0)","v":0.96191392246277507},null,{"$f":"ROUND(J1154*I1150,0)","v":45049402},44118255,{"$f":"K1150-L1150","v":931147},2.1105707830012768,5990,0,229,229,1141,5970,62367587.499999993,null,229,229,1141,5970,62367587.499999993]
[1142,229,"PEABODY                      ",817,"ESSEX NORTH SHORE",3284078,5.1005527192327531E-2,2469386,{"$f":"IF(H1154>0, H1151/H1154, 0)","v":3.8086077537224962E-2},null,{"$f":"ROUND(J1154*I1151,0)","v":1783689},2371220,{"$f":"K1151-L1151","v":-587531},-24.777582847648045,211,0,229,817,1142,159,2469386,null,229,817,1142,159,2469386]
[1143,229,null,998,null,0,0,0,{"$f":"IF(H1154>0, H1152/H1154, 0)","v":0},null,{"$f":"ROUND(J1154*I1152,0)","v":0},0,{"$f":"K1152-L1152","v":0},0,0,0,229,998,1143,0,0,null,229,998,1143,0,0]
[1144,229,null,998,null,0,0,0,{"$f":"IF(H1154>0, H1153/H1154, 0)","v":0},null,{"$f":"ROUND(J1154*I1153,0)","v":0},0,{"$f":"K1153-L1153","v":0},0,0,0,229,998,1144,0,0,null,229,998,1144,0,0]
[1145,229,"PEABODY                      ",999,"TOTAL",64386708.279999994,1,{"$f":"SUM(H1150:H1153)","v":64836973.499999993},{"$f":"SUM(I1150:I1153)","v":1},{"$f":"VLOOKUP(B1154,town351,22)","v":46833091},{"$f":"SUM(K1150:K1153)","v":46833091},46489475,{"$f":"SUM(M1150:M1153)","v":343616},0.7391264366827115,6201,0,229,999,1145,6129,64836973.499999993,null,229,999,1145,6129,64836973.499999993]
[1146,230,"PELHAM                       ",230,"PELHAM",689081.27,0.46880446041299989,{"$f":"U1155","v":696611.65},{"$f":"IF(H1159>0, H1155/H1159, 0)","v":0.52904160885196516},null,{"$f":"ROUND(J1159*I1155,0)","v":574705},620173,{"$f":"K1155-L1155","v":-45468},-7.3315026613541709,70,0,230,230,1146,73,696611.65,null,230,230,1146,73,696611.65]
[1147,230,"PELHAM                       ",605,"AMHERST PELHAM",780788,0.53119553958700017,620131,{"$f":"IF(H1159>0, H1156/H1159, 0)","v":0.47095839114803489},null,{"$f":"ROUND(J1159*I1156,0)","v":511608},702709,{"$f":"K1156-L1156","v":-191101},-27.194898599562549,77,0,230,605,1147,60,620131,null,230,605,1147,60,620131]
[1148,230,null,998,null,0,0,0,{"$f":"IF(H1159>0, H1157/H1159, 0)","v":0},null,{"$f":"ROUND(J1159*I1157,0)","v":0},0,{"$f":"K1157-L1157","v":0},0,0,0,230,998,1148,0,0,null,230,998,1148,0,0]
[1149,230,null,998,null,0,0,0,{"$f":"IF(H1159>0, H1158/H1159, 0)","v":0},null,{"$f":"ROUND(J1159*I1158,0)","v":0},0,{"$f":"K1158-L1158","v":0},0,0,0,230,998,1149,0,0,null,230,998,1149,0,0]
[1150,230,"PELHAM                       ",999,"TOTAL",1469869.27,1,{"$f":"SUM(H1155:H1158)","v":1316742.6499999999},{"$f":"SUM(I1155:I1158)","v":1},{"$f":"VLOOKUP(B1159,town351,22)","v":1086313},{"$f":"SUM(K1155:K1158)","v":1086313},1322882,{"$f":"SUM(M1155:M1158)","v":-236569},-17.882849717510709,147,0,230,999,1150,133,1316742.6499999999,null,230,999,1150,133,1316742.6499999999]
[1151,231,"PEMBROKE                     ",231,"PEMBROKE",30579313.617779996,1,{"$f":"U1160","v":30953452.00279},{"$f":"IF(H1164>0, H1160/H1164, 0)","v":1},null,{"$f":"ROUND(J1164*I1160,0)","v":18500755},18171451,{"$f":"K1160-L1160","v":329304},1.8122053104069675,3252,0,231,231,1151,3179,30953452.00279,null,231,231,1151,3179,30953452.00279]
[1152,231,null,998,null,0,0,0,{"$f":"IF(H1164>0, H1161/H1164, 0)","v":0},null,{"$f":"ROUND(J1164*I1161,0)","v":0},0,{"$f":"K1161-L1161","v":0},0,0,0,231,998,1152,0,0,null,231,998,1152,0,0]
[1153,231,null,998,null,0,0,0,{"$f":"IF(H1164>0, H1162/H1164, 0)","v":0},null,{"$f":"ROUND(J1164*I1162,0)","v":0},0,{"$f":"K1162-L1162","v":0},0,0,{"$f":"ABS(Q1162-B1162)+ABS(R1162-D1162)","v":0},{"$f":"IF($Q$6=1, W1162, IF($Q$6=2, AC1162, IF($Q$6=3, AI1162, IF($Q$6=4, AO1162, IF($Q$6=5, AU1162, IF($Q$6=6, BA1162, IF($Q$6=7, BG1162, IF($Q$6=8, BM1162, 0))))))))","v":231},{"$f":"IF($Q$6=1, X1162, IF($Q$6=2, AD1162, IF($Q$6=3, AJ1162, IF($Q$6=4, AP1162, IF($Q$6=5, AV1162, IF($Q$6=6, BB1162, IF($Q$6=7, BH1162, IF($Q$6=8, BN1162, 0))))))))","v":998},{"$f":"IF($Q$6=1, Y1162, IF($Q$6=2, AE1162, IF($Q$6=3, AK1162, IF($Q$6=4, AQ1162, IF($Q$6=5, AW1162, IF($Q$6=6, BC1162, IF($Q$6=7, BI1162, IF($Q$6=8, BO1162, 0))))))))","v":1153},{"$f":"IF($Q$6=1, Z1162, IF($Q$6=2, AF1162, IF($Q$6=3, AL1162, IF($Q$6=4, AR1162, IF($Q$6=5, AX1162, IF($Q$6=6, BD1162, IF($Q$6=7, BJ1162, IF($Q$6=8, BP1162, 0))))))))","v":0},{"$f":"IF($Q$6=1, AA1162, IF($Q$6=2, AG1162, IF($Q$6=3, AM1162, IF($Q$6=4, AS1162, IF($Q$6=5, AY1162, IF($Q$6=6, BE1162, IF($Q$6=7, BK1162, IF($Q$6=8, BQ1162, 0))))))))","v":0},null,231,998,1153,0,0]
[1154,231,null,998,null,0,0,0,{"$f":"IF(H1164>0, H1163/H1164, 0)","v":0},null,{"$f":"ROUND(J1164*I1163,0)","v":0},0,{"$f":"K1163-L1163","v":0},0,0,0,231,998,1154,0,0,null,231,998,1154,0,0]
[1155,231,"PEMBROKE                     ",999,"TOTAL",30579313.617779996,1,{"$f":"SUM(H1160:H1163)","v":30953452.00279},{"$f":"SUM(I1160:I1163)","v":1},{"$f":"VLOOKUP(B1164,town351,22)","v":18500755},{"$f":"SUM(K1160:K1163)","v":18500755},18171451,{"$f":"SUM(M1160:M1163)","v":329304},1.8122053104069675,3252,0,231,999,1155,3179,30953452.00279,null,231,999,1155,3179,30953452.00279]
[1156,232,"PEPPERELL                    ",232,"PEPPERELL",0,0,{"$f":"U1165","v":0},{"$f":"IF(H1169>0, H1165/H1169, 0)","v":0},null,{"$f":"ROUND(J1169*I1165,0)","v":0},0,{"$f":"K1165-L1165","v":0},0,0,0,232,232,1156,0,0,null,232,232,1156,0,0]
[1157,232,"PEPPERELL                    ",735,"NORTH MIDDLESEX",16253111,0.88254988221707531,15709017,{"$f":"IF(H1169>0, H1166/H1169, 0)","v":0.86481729522614104},null,{"$f":"ROUND(J1169*I1166,0)","v":8530691},8549998,{"$f":"K1166-L1166","v":-19307},-0.22581291831881131,1755,0,232,735,1157,1661,15709017,null,232,735,1157,1661,15709017]
[1158,232,"PEPPERELL                    ",852,"NASHOBA VALLEY",2162971,0.11745011778292473,2455533,{"$f":"IF(H1169>0, H1167/H1169, 0)","v":0.13518270477385896},null,{"$f":"ROUND(J1169*I1167,0)","v":1333463},1137837,{"$f":"K1167-L1167","v":195626},17.192796507759898,140,0,232,852,1158,159,2455533,null,232,852,1158,159,2455533]
[1159,232,null,998,null,0,0,0,{"$f":"IF(H1169>0, H1168/H1169, 0)","v":0},null,{"$f":"ROUND(J1169*I1168,0)","v":0},0,{"$f":"K1168-L1168","v":0},{"$f":"IF(L1168>0,M1168*100/L1168,IF(M1168>0,100,0))","v":0},0,0,232,998,1159,0,0,null,232,998,1159,0,0]
[1160,232,"PEPPERELL                    ",999,"TOTAL",18416082,1,{"$f":"SUM(H1165:H1168)","v":18164550},{"$f":"SUM(I1165:I1168)","v":1},{"$f":"VLOOKUP(B1169,town351,22)","v":9864154},{"$f":"SUM(K1165:K1168)","v":9864154},9687835,{"$f":"SUM(M1165:M1168)","v":176319},{"$f":"IF(L1169>0,M1169*100/L1169,IF(M1169>0,100,0))","v":1.8200041598561494},1895,0,232,999,1160,1820,18164550,null,232,999,1160,1820,18164550]
[1161,233,"PERU                         ",233,"PERU",117044.1,0.10044926815951272,{"$f":"U1170","v":105599.68000000001},{"$f":"IF(H1174>0, H1170/H1174, 0)","v":9.4593390868743327E-2},null,{"$f":"ROUND(J1174*I1170,0)","v":53792},56662,{"$f":"K1170-L1170","v":-2870},-5.0651230101302458,9,0,233,233,1161,8,105599.68000000001,null,233,233,1161,8,105599.68000000001]
[1162,233,"PERU                         ",635,"CENTRAL BERKSHIRE",1048162,0.89955073184048717,1010754,{"$f":"IF(H1174>0, H1171/H1174, 0)","v":0.9054066091312567},null,{"$f":"ROUND(J1174*I1171,0)","v":514875},507428,{"$f":"K1171-L1171","v":7447},1.4675973734204655,107,0,233,635,1162,102,1010754,null,233,635,1162,102,1010754]
[1163,233,null,998,null,0,0,0,{"$f":"IF(H1174>0, H1172/H1174, 0)","v":0},null,{"$f":"ROUND(J1174*I1172,0)","v":0},0,{"$f":"K1172-L1172","v":0},0,0,0,233,998,1163,0,0,null,233,998,1163,0,0]
[1164,233,null,998,null,0,0,0,{"$f":"IF(H1174>0, H1173/H1174, 0)","v":0},null,{"$f":"ROUND(J1174*I1173,0)","v":0},0,{"$f":"K1173-L1173","v":0},0,0,0,233,998,1164,0,0,null,233,998,1164,0,0]
[1165,233,"PERU                         ",999,"TOTAL",1165206.1000000001,0.99999999999999989,{"$f":"SUM(H1170:H1173)","v":1116353.68},{"$f":"SUM(I1170:I1173)","v":1},{"$f":"VLOOKUP(B1174,town351,22)","v":568667},{"$f":"SUM(K1170:K1173)","v":568667},564090,{"$f":"SUM(M1170:M1173)","v":4577},0.81139534471449593,116,0,233,999,1165,110,1116353.68,null,233,999,1165,110,1116353.68]
[1166,234,"PETERSHAM                    ",234,"PETERSHAM",566086.55000000005,0.40837512075793514,{"$f":"U1175","v":611232.30999999994},{"$f":"IF(H1179>0, H1175/H1179, 0)","v":0.4304442853728277},null,{"$f":"ROUND(J1179*I1175,0)","v":466259},454106,{"$f":"K1175-L1175","v":12153},2.6762473959824358,57,0,234,234,1166,58,611232.30999999994,null,234,234,1166,58,611232.30999999994]
[1167,234,"PETERSHAM                    ",755,"RALPH C MAHAR",759852,0.54815761345709146,732372,{"$f":"IF(H1179>0, H1176/H1179, 0)","v":0.51575372736279046},null,{"$f":"ROUND(J1179*I1176,0)","v":558666},609541,{"$f":"K1176-L1176","v":-50875},-8.3464442916883357,71,0,234,755,1167,67,732372,null,234,755,1167,67,732372]
[1168,234,"PETERSHAM                    ",832,"MONTACHUSETT",60254,4.3467265784973376E-2,76399,{"$f":"IF(H1179>0, H1177/H1179, 0)","v":5.3801987264381797E-2},null,{"$f":"ROUND(J1179*I1177,0)","v":58278},48335,{"$f":"K1177-L1177","v":9943},20.57101479259336,4,0,234,832,1168,5,76399,null,234,832,1168,5,76399]
[1169,234,null,998,null,0,0,0,{"$f":"IF(H1179>0, H1178/H1179, 0)","v":0},null,{"$f":"ROUND(J1179*I1178,0)","v":0},0,{"$f":"K1178-L1178","v":0},0,0,0,234,998,1169,0,0,null,234,998,1169,0,0]
[1170,234,"PETERSHAM                    ",999,"TOTAL",1386192.55,1,{"$f":"SUM(H1175:H1178)","v":1420003.31},{"$f":"SUM(I1175:I1178)","v":1},{"$f":"VLOOKUP(B1179,town351,22)","v":1083203},{"$f":"SUM(K1175:K1178)","v":1083203},1111982,{"$f":"SUM(M1175:M1178)","v":-28779},-2.5880814617502801,132,0,234,999,1170,130,1420003.31,null,234,999,1170,130,1420003.31]
[1171,235,"PHILLIPSTON                  ",235,"PHILLIPSTON",0,0,{"$f":"U1180","v":0},{"$f":"IF(H1184>0, H1180/H1184, 0)","v":0},null,{"$f":"ROUND(J1184*I1180,0)","v":0},0,{"$f":"K1180-L1180","v":0},0,0,0,235,235,1171,0,0,null,235,235,1171,0,0]
[1172,235,"PHILLIPSTON                  ",720,"NARRAGANSETT",2267249,0.87755962260178111,2236515,{"$f":"IF(H1184>0, H1181/H1184, 0)","v":0.88510633077307865},null,{"$f":"ROUND(J1184*I1181,0)","v":1164433},1215534,{"$f":"K1181-L1181","v":-51101},-4.203995939233292,231,0,235,720,1172,223,2236515,null,235,720,1172,223,2236515]
[1173,235,"PHILLIPSTON                  ",832,"MONTACHUSETT",316335,0.12244037739821891,290317,{"$f":"IF(H1184>0, H1182/H1184, 0)","v":0.11489366922692131},null,{"$f":"ROUND(J1184*I1182,0)","v":151152},169596,{"$f":"K1182-L1182","v":-18444},-10.875256491898394,21,0,235,832,1173,19,290317,null,235,832,1173,19,290317]
[1174,235,null,998,null,0,0,0,{"$f":"IF(H1184>0, H1183/H1184, 0)","v":0},null,{"$f":"ROUND(J1184*I1183,0)","v":0},0,{"$f":"K1183-L1183","v":0},0,0,0,235,998,1174,0,0,null,235,998,1174,0,0]
[1175,235,"PHILLIPSTON                  ",999,"TOTAL",2583584,1,{"$f":"SUM(H1180:H1183)","v":2526832},{"$f":"SUM(I1180:I1183)","v":1},{"$f":"VLOOKUP(B1184,town351,22)","v":1315585},{"$f":"SUM(K1180:K1183)","v":1315585},1385130,{"$f":"SUM(M1180:M1183)","v":-69545},-5.0208283699002978,252,0,235,999,1175,242,2526832,null,235,999,1175,242,2526832]
[1176,236,"PITTSFIELD                   ",236,"PITTSFIELD",67481752.38000001,1,{"$f":"U1185","v":68905111.570000008},{"$f":"IF(H1189>0, H1185/H1189, 0)","v":1},null,{"$f":"ROUND(J1189*I1185,0)","v":28464819},29005679,{"$f":"K1185-L1185","v":-540860},-1.864669329064836,6269,0,236,236,1176,6192,68905111.570000008,null,236,236,1176,6192,68905111.570000008]
[1177,236,null,998,null,0,0,0,{"$f":"IF(H1189>0, H1186/H1189, 0)","v":0},null,{"$f":"ROUND(J1189*I1186,0)","v":0},0,{"$f":"K1186-L1186","v":0},0,0,0,236,998,1177,0,0,null,236,998,1177,0,0]
[1178,236,null,998,null,0,0,0,{"$f":"IF(H1189>0, H1187/H1189, 0)","v":0},null,{"$f":"ROUND(J1189*I1187,0)","v":0},0,{"$f":"K1187-L1187","v":0},0,0,0,236,998,1178,0,0,null,236,998,1178,0,0]
[1179,236,null,998,null,0,0,0,{"$f":"IF(H1189>0, H1188/H1189, 0)","v":0},null,{"$f":"ROUND(J1189*I1188,0)","v":0},0,{"$f":"K1188-L1188","v":0},0,0,0,236,998,1179,0,0,null,236,998,1179,0,0]
[1180,236,"PITTSFIELD                   ",999,"TOTAL",67481752.38000001,1,{"$f":"SUM(H1185:H1188)","v":68905111.570000008},{"$f":"SUM(I1185:I1188)","v":1},{"$f":"VLOOKUP(B1189,town351,22)","v":28464819},{"$f":"SUM(K1185:K1188)","v":28464819},29005679,{"$f":"SUM(M1185:M1188)","v":-540860},-1.864669329064836,6269,0,236,999,1180,6192,68905111.570000008,null,236,999,1180,6192,68905111.570000008]
[1181,237,"PLAINFIELD                   ",237,"PLAINFIELD",78029.39999999998,0.1319202000914978,{"$f":"U1190","v":39599.880000000005},{"$f":"IF(H1194>0, H1190/H1194, 0)","v":6.5384328597005908E-2},null,{"$f":"ROUND(J1194*I1190,0)","v":32670},64254,{"$f":"K1190-L1190","v":-31584},-49.154916425436546,6,0,237,237,1181,3,39599.880000000005,null,237,237,1181,3,39599.880000000005]
[1182,237,"PLAINFIELD                   ",717,"MOHAWK TRAIL",513460,0.86807979990850215,566048,{"$f":"IF(H1194>0, H1191/H1194, 0)","v":0.93461567140299406},null,{"$f":"ROUND(J1194*I1191,0)","v":466990},422815,{"$f":"K1191-L1191","v":44175},10.447831794047042,52,0,237,717,1182,57,566048,null,237,717,1182,57,566048]
[1183,237,null,998,null,0,0,0,{"$f":"IF(H1194>0, H1192/H1194, 0)","v":0},null,{"$f":"ROUND(J1194*I1192,0)","v":0},0,{"$f":"K1192-L1192","v":0},0,0,0,237,998,1183,0,0,null,237,998,1183,0,0]
[1184,237,null,998,null,0,0,0,{"$f":"IF(H1194>0, H1193/H1194, 0)","v":0},null,{"$f":"ROUND(J1194*I1193,0)","v":0},0,{"$f":"K1193-L1193","v":0},0,0,0,237,998,1184,0,0,null,237,998,1184,0,0]
[1185,237,"PLAINFIELD                   ",999,"TOTAL",591489.4,1,{"$f":"SUM(H1190:H1193)","v":605647.88},{"$f":"SUM(I1190:I1193)","v":1},{"$f":"VLOOKUP(B1194,town351,22)","v":499660},{"$f":"SUM(K1190:K1193)","v":499660},487069,{"$f":"SUM(M1190:M1193)","v":12591},2.5850546842439162,58,0,237,999,1185,60,605647.88,null,237,999,1185,60,605647.88]
[1186,238,"PLAINVILLE                   ",238,"PLAINVILLE",6579213.379999999,0.4868332626060578,{"$f":"U1195","v":6450343.1600000001},{"$f":"IF(H1199>0, H1195/H1199, 0)","v":0.47643029573381601},null,{"$f":"ROUND(J1199*I1195,0)","v":4374579},4253996,{"$f":"K1195-L1195","v":120583},2.8345818848912883,740,0,238,238,1186,713,6450343.1600000001,null,238,238,1186,713,6450343.1600000001]
[1187,238,"PLAINVILLE                   ",690,"KING PHILIP",5263529,0.38947832330247373,5395167,{"$f":"IF(H1199>0, H1196/H1199, 0)","v":0.39849368406987584},null,{"$f":"ROUND(J1199*I1196,0)","v":3658965},3403299,{"$f":"K1196-L1196","v":255666},7.5122990956715823,559,0,238,690,1187,564,5395167,null,238,690,1187,564,5395167]
[1188,238,"PLAINVILLE                   ",878,"TRI COUNTY",1579990,0.116912409152619,1599504,{"$f":"IF(H1199>0, H1197/H1199, 0)","v":0.11814133680097441},null,{"$f":"ROUND(J1199*I1197,0)","v":1084773},1021592,{"$f":"K1197-L1197","v":63181},6.1845629174856498,102,0,238,878,1188,101,1599504,null,238,878,1188,101,1599504]
[1189,238,"PLAINVILLE                   ",915,"NORFOLK COUNTY",91573,6.7760049388494734E-3,93888,{"$f":"IF(H1199>0, H1198/H1199, 0)","v":6.9346833953337324E-3},null,{"$f":"ROUND(J1199*I1198,0)","v":63674},59209,{"$f":"K1198-L1198","v":4465},7.5410832812579169,6,0,238,915,1189,6,93888,null,238,915,1189,6,93888]
[1190,238,"PLAINVILLE                   ",999,"TOTAL",13514305.379999999,1,{"$f":"SUM(H1195:H1198)","v":13538902.16},{"$f":"SUM(I1195:I1198)","v":1},{"$f":"VLOOKUP(B1199,town351,22)","v":9181991},{"$f":"SUM(K1195:K1198)","v":9181991},8738096,{"$f":"SUM(M1195:M1198)","v":443895},5.0799968322618563,1407,0,238,999,1190,1384,13538902.16,null,238,999,1190,1384,13538902.16]
[1191,239,"PLYMOUTH                     ",239,"PLYMOUTH",83619257.170059979,1,{"$f":"U1200","v":84831859.535599992},{"$f":"IF(H1204>0, H1200/H1204, 0)","v":1},null,{"$f":"ROUND(J1204*I1200,0)","v":60349251},61240645,{"$f":"K1200-L1200","v":-891394},-1.4555594572852719,8126,0,239,239,1191,8064,84831859.535599992,null,239,239,1191,8064,84831859.535599992]
[1192,239,null,998,null,0,0,0,{"$f":"IF(H1204>0, H1201/H1204, 0)","v":0},null,{"$f":"ROUND(J1204*I1201,0)","v":0},0,{"$f":"K1201-L1201","v":0},0,0,0,239,998,1192,0,0,null,239,998,1192,0,0]
[1193,239,null,998,null,0,0,0,{"$f":"IF(H1204>0, H1202/H1204, 0)","v":0},null,{"$f":"ROUND(J1204*I1202,0)","v":0},0,{"$f":"K1202-L1202","v":0},0,0,0,239,998,1193,0,0,null,239,998,1193,0,0]
[1194,239,null,998,null,0,0,0,{"$f":"IF(H1204>0, H1203/H1204, 0)","v":0},null,{"$f":"ROUND(J1204*I1203,0)","v":0},0,{"$f":"K1203-L1203","v":0},0,0,0,239,998,1194,0,0,null,239,998,1194,0,0]
[1195,239,"PLYMOUTH                     ",999,"TOTAL",83619257.170059979,1,{"$f":"SUM(H1200:H1203)","v":84831859.535599992},{"$f":"SUM(I1200:I1203)","v":1},{"$f":"VLOOKUP(B1204,town351,22)","v":60349251},{"$f":"SUM(K1200:K1203)","v":60349251},61240645,{"$f":"SUM(M1200:M1203)","v":-891394},-1.4555594572852719,8126,0,239,999,1195,8064,84831859.535599992,null,239,999,1195,8064,84831859.535599992]
[1196,240,"PLYMPTON                     ",240,"PLYMPTON",2194273.0299999998,0.50140829641968443,{"$f":"U1205","v":2074615.8599999996},{"$f":"IF(H1209>0, H1205/H1209, 0)","v":0.47694743267937073},null,{"$f":"ROUND(J1209*I1205,0)","v":1557980},1544590,{"$f":"K1205-L1205","v":13390},0.86689671692811687,249,0,240,240,1196,227,2074615.8599999996,null,240,240,1196,227,2074615.8599999996]
[1197,240,"PLYMPTON                     ",760,"SILVER LAKE",2181947,0.49859170358031574,2275163,{"$f":"IF(H1209>0, H1206/H1209, 0)","v":0.52305256732062932},null,{"$f":"ROUND(J1209*I1206,0)","v":1708586},1535914,{"$f":"K1206-L1206","v":172672},11.242296118142031,211,0,240,760,1197,215,2275163,null,240,760,1197,215,2275163]
[1198,240,null,998,null,0,0,0,{"$f":"IF(H1209>0, H1207/H1209, 0)","v":0},null,{"$f":"ROUND(J1209*I1207,0)","v":0},0,{"$f":"K1207-L1207","v":0},0,0,0,240,998,1198,0,0,null,240,998,1198,0,0]
[1199,240,null,998,null,0,0,0,{"$f":"IF(H1209>0, H1208/H1209, 0)","v":0},null,{"$f":"ROUND(J1209*I1208,0)","v":0},0,{"$f":"K1208-L1208","v":0},0,0,0,240,998,1199,0,0,null,240,998,1199,0,0]
[1200,240,"PLYMPTON                     ",999,"TOTAL",4376220.0299999993,1.0000000000000002,{"$f":"SUM(H1205:H1208)","v":4349778.8599999994},{"$f":"SUM(I1205:I1208)","v":1},{"$f":"VLOOKUP(B1209,town351,22)","v":3266566},{"$f":"SUM(K1205:K1208)","v":3266566},3080504,{"$f":"SUM(M1205:M1208)","v":186062},6.0399856646834413,460,0,240,999,1200,442,4349778.8599999994,null,240,999,1200,442,4349778.8599999994]
[1201,241,"PRINCETON                    ",241,"PRINCETON",0,0,{"$f":"U1210","v":0},{"$f":"IF(H1214>0, H1210/H1214, 0)","v":0},null,{"$f":"ROUND(J1214*I1210,0)","v":0},0,{"$f":"K1210-L1210","v":0},0,0,0,241,241,1201,0,0,null,241,241,1201,0,0]
[1202,241,"PRINCETON                    ",775,"WACHUSETT",4056491,0.93734570097854808,4047089,{"$f":"IF(H1214>0, H1211/H1214, 0)","v":0.92653857653653893},null,{"$f":"ROUND(J1214*I1211,0)","v":3338848},3650842,{"$f":"K1211-L1211","v":-311994},-8.5458094324542113,450,0,241,775,1202,435,4047089,null,241,775,1202,435,4047089]
[1203,241,"PRINCETON                    ",832,"MONTACHUSETT",271145,6.2654299021451892E-2,320877,{"$f":"IF(H1214>0, H1212/H1214, 0)","v":7.3461423463461031E-2},null,{"$f":"ROUND(J1214*I1212,0)","v":264724},244031,{"$f":"K1212-L1212","v":20693},8.4796603710184364,18,0,241,832,1203,21,320877,null,241,832,1203,21,320877]
[1204,241,null,998,null,0,0,0,{"$f":"IF(H1214>0, H1213/H1214, 0)","v":0},null,{"$f":"ROUND(J1214*I1213,0)","v":0},0,{"$f":"K1213-L1213","v":0},0,0,0,241,998,1204,0,0,null,241,998,1204,0,0]
[1205,241,"PRINCETON                    ",999,"TOTAL",4327636,1,{"$f":"SUM(H1210:H1213)","v":4367966},{"$f":"SUM(I1210:I1213)","v":1},{"$f":"VLOOKUP(B1214,town351,22)","v":3603572},{"$f":"SUM(K1210:K1213)","v":3603572},3894873,{"$f":"SUM(M1210:M1213)","v":-291301},-7.4790885351075636,468,0,241,999,1205,456,4367966,null,241,999,1205,456,4367966]
[1206,242,"PROVINCETOWN                 ",242,"PROVINCETOWN",1414247.5399999998,0.93901083321270196,{"$f":"U1215","v":1284862.27},{"$f":"IF(H1219>0, H1215/H1219, 0)","v":0.95364138084053196},null,{"$f":"ROUND(J1219*I1215,0)","v":1060011},1209208,{"$f":"K1215-L1215","v":-149197},-12.338406626486096,147,0,242,242,1206,129,1284862.27,null,242,242,1206,129,1284862.27]
[1207,242,"PROVINCETOWN                 ",815,"CAPE COD",91856,6.0989166787298044E-2,62460,{"$f":"IF(H1219>0, H1216/H1219, 0)","v":4.635861915946806E-2},null,{"$f":"ROUND(J1219*I1216,0)","v":51530},78539,{"$f":"K1216-L1216","v":-27009},-34.389284304612993,6,0,242,815,1207,4,62460,null,242,815,1207,4,62460]
[1208,242,null,998,null,0,0,0,{"$f":"IF(H1219>0, H1217/H1219, 0)","v":0},null,{"$f":"ROUND(J1219*I1217,0)","v":0},0,{"$f":"K1217-L1217","v":0},0,0,0,242,998,1208,0,0,null,242,998,1208,0,0]
[1209,242,null,998,null,0,0,0,{"$f":"IF(H1219>0, H1218/H1219, 0)","v":0},null,{"$f":"ROUND(J1219*I1218,0)","v":0},0,{"$f":"K1218-L1218","v":0},0,0,0,242,998,1209,0,0,null,242,998,1209,0,0]
[1210,242,"PROVINCETOWN                 ",999,"TOTAL",1506103.5399999998,1,{"$f":"SUM(H1215:H1218)","v":1347322.27},{"$f":"SUM(I1215:I1218)","v":1},{"$f":"VLOOKUP(B1219,town351,22)","v":1111541},{"$f":"SUM(K1215:K1218)","v":1111541},1287747,{"$f":"SUM(M1215:M1218)","v":-176206},-13.683277848832107,153,0,242,999,1210,133,1347322.27,null,242,999,1210,133,1347322.27]
[1211,243,"QUINCY                       ",243,"QUINCY",108294787.80678003,0.99592960625001492,{"$f":"U1220","v":109837246.19363996},{"$f":"IF(H1224>0, H1220/H1224, 0)","v":0.9965924738075097},null,{"$f":"ROUND(J1224*I1220,0)","v":83899688},82452996,{"$f":"K1220-L1220","v":1446692},1.754565716447708,9356,0,243,243,1211,9295,109837246.19363996,null,243,243,1211,9295,109837246.19363996]
[1212,243,"QUINCY                       ",915,"NORFOLK COUNTY",442604,4.0703937499851142E-3,375553,{"$f":"IF(H1224>0, H1221/H1224, 0)","v":3.4075261924902821E-3},null,{"$f":"ROUND(J1224*I1221,0)","v":286868},336988,{"$f":"K1221-L1221","v":-50120},-14.872933160824719,29,0,243,915,1212,24,375553,null,243,915,1212,24,375553]
[1213,243,null,998,null,0,0,0,{"$f":"IF(H1224>0, H1222/H1224, 0)","v":0},null,{"$f":"ROUND(J1224*I1222,0)","v":0},0,{"$f":"K1222-L1222","v":0},0,0,0,243,998,1213,0,0,null,243,998,1213,0,0]
[1214,243,null,998,null,0,0,0,{"$f":"IF(H1224>0, H1223/H1224, 0)","v":0},null,{"$f":"ROUND(J1224*I1223,0)","v":0},0,{"$f":"K1223-L1223","v":0},0,0,0,243,998,1214,0,0,null,243,998,1214,0,0]
[1215,243,"QUINCY                       ",999,"TOTAL",108737391.80678003,1,{"$f":"SUM(H1220:H1223)","v":110212799.19363996},{"$f":"SUM(I1220:I1223)","v":1},{"$f":"VLOOKUP(B1224,town351,22)","v":84186556},{"$f":"SUM(K1220:K1223)","v":84186556},82789984,{"$f":"SUM(M1220:M1223)","v":1396572},1.6868852154869363,9385,0,243,999,1215,9319,110212799.19363996,null,243,999,1215,9319,110212799.19363996]
[1216,244,"RANDOLPH                     ",244,"RANDOLPH",35955443.988719992,0.88857509676015078,{"$f":"U1225","v":36417465.611719996},{"$f":"IF(H1229>0, H1225/H1229, 0)","v":0.89417528894000764},null,{"$f":"ROUND(J1229*I1225,0)","v":20444408},20964754,{"$f":"K1225-L1225","v":-520346},-2.4820038432122788,3333,0,244,244,1216,3295,36417465.611719996,null,244,244,1216,3295,36417465.611719996]
[1217,244,"RANDOLPH                     ",806,"BLUE HILLS",4356093,0.10765312090668505,4153488,{"$f":"IF(H1229>0, H1226/H1229, 0)","v":0.10198255892122321},null,{"$f":"ROUND(J1229*I1226,0)","v":2331727},2539933,{"$f":"K1226-L1226","v":-208206},-8.197302842240326,274,{"$f":"ABS(Q1226-B1226)+ABS(R1226-D1226)","v":0},{"$f":"IF($Q$6=1, W1226, IF($Q$6=2, AC1226, IF($Q$6=3, AI1226, IF($Q$6=4, AO1226, IF($Q$6=5, AU1226, IF($Q$6=6, BA1226, IF($Q$6=7, BG1226, IF($Q$6=8, BM1226, 0))))))))","v":244},{"$f":"IF($Q$6=1, X1226, IF($Q$6=2, AD1226, IF($Q$6=3, AJ1226, IF($Q$6=4, AP1226, IF($Q$6=5, AV1226, IF($Q$6=6, BB1226, IF($Q$6=7, BH1226, IF($Q$6=8, BN1226, 0))))))))","v":806},{"$f":"IF($Q$6=1, Y1226, IF($Q$6=2, AE1226, IF($Q$6=3, AK1226, IF($Q$6=4, AQ1226, IF($Q$6=5, AW1226, IF($Q$6=6, BC1226, IF($Q$6=7, BI1226, IF($Q$6=8, BO1226, 0))))))))","v":1217},{"$f":"IF($Q$6=1, Z1226, IF($Q$6=2, AF1226, IF($Q$6=3, AL1226, IF($Q$6=4, AR1226, IF($Q$6=5, AX1226, IF($Q$6=6, BD1226, IF($Q$6=7, BJ1226, IF($Q$6=8, BP1226, 0))))))))","v":257},{"$f":"IF($Q$6=1, AA1226, IF($Q$6=2, AG1226, IF($Q$6=3, AM1226, IF($Q$6=4, AS1226, IF($Q$6=5, AY1226, IF($Q$6=6, BE1226, IF($Q$6=7, BK1226, IF($Q$6=8, BQ1226, 0))))))))","v":4153488},null,244,806,1217,257,4153488]
[1218,244,"RANDOLPH                     ",915,"NORFOLK COUNTY",152622,3.7717823331641647E-3,156481,{"$f":"IF(H1229>0, H1227/H1229, 0)","v":3.8421521387691331E-3},null,{"$f":"ROUND(J1229*I1227,0)","v":87847},88990,{"$f":"K1227-L1227","v":-1143},-1.2844139790987752,10,0,244,915,1218,10,156481,null,244,915,1218,10,156481]
[1219,244,null,998,null,0,0,0,{"$f":"IF(H1229>0, H1228/H1229, 0)","v":0},null,{"$f":"ROUND(J1229*I1228,0)","v":0},0,{"$f":"K1228-L1228","v":0},0,0,0,244,998,1219,0,0,null,244,998,1219,0,0]
[1220,244,"RANDOLPH                     ",999,"TOTAL",40464158.988719992,1,{"$f":"SUM(H1225:H1228)","v":40727434.611719996},{"$f":"SUM(I1225:I1228)","v":1},{"$f":"VLOOKUP(B1229,town351,22)","v":22863982},{"$f":"SUM(K1225:K1228)","v":22863982},23593677,{"$f":"SUM(M1225:M1228)","v":-729695},-3.0927565889793271,3617,0,244,999,1220,3562,40727434.611719996,null,244,999,1220,3562,40727434.611719996]
[1221,245,"RAYNHAM                      ",245,"RAYNHAM",26009.8,1.2028233982979192E-3,{"$f":"U1230","v":0},{"$f":"IF(H1234>0, H1230/H1234, 0)","v":0},null,{"$f":"ROUND(J1234*I1230,0)","v":0},16567,{"$f":"K1230-L1230","v":-16567},-100,2,0,245,245,1221,0,0,null,245,245,1221,0,0]
[1222,245,"RAYNHAM                      ",625,"BRIDGEWATER RAYNHAM",19201433,0.88797041473789917,20062383,{"$f":"IF(H1234>0, H1231/H1234, 0)","v":0.88443328821319633},null,{"$f":"ROUND(J1234*I1231,0)","v":12222164},12230194,{"$f":"K1231-L1231","v":-8030},-6.5657176002277648E-2,2055,0,245,625,1222,2107,20062383,null,245,625,1222,2107,20062383]
[1223,245,"RAYNHAM                      ",810,"BRISTOL PLYMOUTH",2231722,0.10320600081877711,2454228,{"$f":"IF(H1234>0, H1232/H1234, 0)","v":0.10819257812319186},null,{"$f":"ROUND(J1234*I1232,0)","v":1495135},1421477,{"$f":"K1232-L1232","v":73658},{"$f":"IF(L1232>0,M1232*100/L1232,IF(M1232>0,100,0))","v":5.1817933037256321},148,0,245,810,1223,159,2454228,null,245,810,1223,159,2454228]
[1224,245,"RAYNHAM                      ",910,"BRISTOL COUNTY",164791,7.6207610450258131E-3,167274,{"$f":"IF(H1234>0, H1233/H1234, 0)","v":7.3741336636118544E-3},null,{"$f":"ROUND(J1234*I1233,0)","v":101905},104962,{"$f":"K1233-L1233","v":-3057},{"$f":"IF(L1233>0,M1233*100/L1233,IF(M1233>0,100,0))","v":-2.9124826127550922},11,0,245,910,1224,11,167274,null,245,910,1224,11,167274]
[1225,245,"RAYNHAM                      ",999,"TOTAL",21623955.800000001,1,{"$f":"SUM(H1230:H1233)","v":22683885},{"$f":"SUM(I1230:I1233)","v":1},{"$f":"VLOOKUP(B1234,town351,22)","v":13819204},{"$f":"SUM(K1230:K1233)","v":13819204},13773200,{"$f":"SUM(M1230:M1233)","v":46004},{"$f":"IF(L1234>0,M1234*100/L1234,IF(M1234>0,100,0))","v":0.33401097784102463},2216,0,245,999,1225,2277,22683885,null,245,999,1225,2277,22683885]
[1226,246,"READING                      ",246,"READING",38963364.685199998,0.99293054239739131,{"$f":"U1235","v":39638139.190400004},{"$f":"IF(H1239>0, H1235/H1239, 0)","v":0.99295865574292408},null,{"$f":"ROUND(J1239*I1235,0)","v":31807445},30125539,{"$f":"K1235-L1235","v":1681906},5.5829905649157014,4269,0,246,246,1226,4245,39638139.190400004,null,246,246,1226,4245,39638139.190400004]
[1227,246,"READING                      ",853,"NORTHEAST METROPOLITAN",277411,7.0694576026087063E-3,281085,{"$f":"IF(H1239>0, H1236/H1239, 0)","v":7.0413442570759401E-3},null,{"$f":"ROUND(J1239*I1236,0)","v":225555},214488,{"$f":"K1236-L1236","v":11067},5.1597292156204544,17,0,246,853,1227,17,281085,null,246,853,1227,17,281085]
[1228,246,null,998,"ESSEX COUNTY",0,0,0,{"$f":"IF(H1239>0, H1237/H1239, 0)","v":0},null,{"$f":"ROUND(J1239*I1237,0)","v":0},0,{"$f":"K1237-L1237","v":0},0,0,0,246,998,1228,0,0,null,246,998,1228,0,0]
[1229,246,null,998,null,0,0,0,{"$f":"IF(H1239>0, H1238/H1239, 0)","v":0},null,{"$f":"ROUND(J1239*I1238,0)","v":0},0,{"$f":"K1238-L1238","v":0},0,0,0,246,998,1229,0,0,null,246,998,1229,0,0]
[1230,246,"READING                      ",999,"TOTAL",39240775.685199998,1,{"$f":"SUM(H1235:H1238)","v":39919224.190400004},{"$f":"SUM(I1235:I1238)","v":1},{"$f":"VLOOKUP(B1239,town351,22)","v":32033000},{"$f":"SUM(K1235:K1238)","v":32033000},30340027,{"$f":"SUM(M1235:M1238)","v":1692973},5.5799983302585723,4286,0,246,999,1230,4262,39919224.190400004,null,246,999,1230,4262,39919224.190400004]
[1231,247,"REHOBOTH                     ",247,"REHOBOTH",91034.3,5.1964395105216022E-3,{"$f":"U1240","v":26399.920000000002},{"$f":"IF(H1244>0, H1240/H1244, 0)","v":1.4520119124826296E-3},null,{"$f":"ROUND(J1244*I1240,0)","v":18197},64373,{"$f":"K1240-L1240","v":-46176},-71.731937302906502,7,0,247,247,1231,2,26399.920000000002,null,247,247,1231,2,26399.920000000002]
[1232,247,"REHOBOTH                     ",650,"DIGHTON REHOBOTH",16751547,0.95621541213761863,17066162,{"$f":"IF(H1244>0, H1241/H1244, 0)","v":0.93864945516343901},null,{"$f":"ROUND(J1244*I1241,0)","v":11763423},11845469,{"$f":"K1241-L1241","v":-82046},-0.6926361463611107,1734,0,247,650,1232,1740,17066162,null,247,650,1232,1740,17066162]
[1233,247,"REHOBOTH                     ",810,"BRISTOL PLYMOUTH",286505,1.6354340088977359E-2,{"$f":"U1242","v":632851},{"$f":"IF(H1244>0, H1242/H1244, 0)","v":3.4807196037963166E-2},null,{"$f":"ROUND(J1244*I1242,0)","v":436214},202595,{"$f":"K1242-L1242","v":233619},115.31330980527653,19,0,247,810,1233,41,632851,null,247,810,1233,41,632851]
[1234,247,"REHOBOTH                     ",910,"BRISTOL COUNTY",389505,2.2233808262882414E-2,456201,{"$f":"IF(H1244>0, H1243/H1244, 0)","v":2.5091336886115111E-2},null,{"$f":"ROUND(J1244*I1243,0)","v":314452},275429,{"$f":"K1243-L1243","v":39023},14.168079613984004,26,0,247,910,1234,30,456201,null,247,910,1234,30,456201]
[1235,247,"REHOBOTH                     ",999,"TOTAL",17518591.300000001,1,{"$f":"SUM(H1240:H1243)","v":18181613.920000002},{"$f":"SUM(I1240:I1243)","v":0.99999999999999989},{"$f":"VLOOKUP(B1244,town351,22)","v":12532286},{"$f":"SUM(K1240:K1243)","v":12532286},12387866,{"$f":"SUM(M1240:M1243)","v":144420},1.1658182289023791,1786,0,247,999,1235,1813,18181613.920000002,null,247,999,1235,1813,18181613.920000002]
[1236,248,"REVERE                       ",248,"REVERE",79960501.103390008,0.95628455549867453,{"$f":"U1245","v":84281832.122129992},{"$f":"IF(H1249>0, H1245/H1249, 0)","v":0.95934775974817343},null,{"$f":"ROUND(J1249*I1245,0)","v":29875530},29010426,{"$f":"K1245-L1245","v":865104},2.9820451447352068,6923,0,248,248,1236,7135,84281832.122129992,null,248,248,1236,7135,84281832.122129992]
[1237,248,"REVERE                       ",853,"NORTHEAST METROPOLITAN",3655302,4.3715444501325425E-2,3571432,{"$f":"IF(H1249>0, H1246/H1249, 0)","v":4.0652240251826524E-2},null,{"$f":"ROUND(J1249*I1246,0)","v":1265972},1326178,{"$f":"K1246-L1246","v":-60206},-4.5398129059598338,224,0,248,853,1237,216,3571432,null,248,853,1237,216,3571432]
[1238,248,null,998,"ESSEX COUNTY",0,0,0,{"$f":"IF(H1249>0, H1247/H1249, 0)","v":0},null,{"$f":"ROUND(J1249*I1247,0)","v":0},0,{"$f":"K1247-L1247","v":0},0,0,0,248,998,1238,0,0,null,248,998,1238,0,0]
[1239,248,null,998,null,0,0,0,{"$f":"IF(H1249>0, H1248/H1249, 0)","v":0},null,{"$f":"ROUND(J1249*I1248,0)","v":0},0,{"$f":"K1248-L1248","v":0},0,0,0,248,998,1239,0,0,null,248,998,1239,0,0]
[1240,248,"REVERE                       ",999,"TOTAL",83615803.103390008,1,{"$f":"SUM(H1245:H1248)","v":87853264.122129992},{"$f":"SUM(I1245:I1248)","v":1},{"$f":"VLOOKUP(B1249,town351,22)","v":31141502},{"$f":"SUM(K1245:K1248)","v":31141502},30336604,{"$f":"SUM(M1245:M1248)","v":804898},2.6532238084394679,7147,0,248,999,1240,7351,87853264.122129992,null,248,999,1240,7351,87853264.122129992]
[1241,249,"RICHMOND                     ",249,"RICHMOND",1381559.82,1,{"$f":"U1250","v":1238912.1900000002},{"$f":"IF(H1254>0, H1250/H1254, 0)","v":1},null,{"$f":"ROUND(J1254*I1250,0)","v":1022103},1243404,{"$f":"K1250-L1250","v":-221301},-17.797996467761081,146,0,249,249,1241,123,1238912.1900000002,null,249,249,1241,123,1238912.1900000002]
[1242,249,null,998,null,0,0,0,{"$f":"IF(H1254>0, H1251/H1254, 0)","v":0},null,{"$f":"ROUND(J1254*I1251,0)","v":0},0,{"$f":"K1251-L1251","v":0},0,0,0,249,998,1242,0,0,null,249,998,1242,0,0]
[1243,249,null,998,null,0,0,0,{"$f":"IF(H1254>0, H1252/H1254, 0)","v":0},null,{"$f":"ROUND(J1254*I1252,0)","v":0},0,{"$f":"K1252-L1252","v":0},0,0,0,249,998,1243,0,0,null,249,998,1243,0,0]
[1244,249,null,998,null,0,0,0,{"$f":"IF(H1254>0, H1253/H1254, 0)","v":0},null,{"$f":"ROUND(J1254*I1253,0)","v":0},0,{"$f":"K1253-L1253","v":0},0,0,0,249,998,1244,0,0,null,249,998,1244,0,0]
[1245,249,"RICHMOND                     ",999,"TOTAL",1381559.82,1,{"$f":"SUM(H1250:H1253)","v":1238912.1900000002},{"$f":"SUM(I1250:I1253)","v":1},{"$f":"VLOOKUP(B1254,town351,22)","v":1022103},{"$f":"SUM(K1250:K1253)","v":1022103},1243404,{"$f":"SUM(M1250:M1253)","v":-221301},-17.797996467761081,146,0,249,999,1245,123,1238912.1900000002,null,249,999,1245,123,1238912.1900000002]
[1246,250,"ROCHESTER                    ",250,"ROCHESTER",4252932.9000000004,0.45661061877040243,{"$f":"U1255","v":4382165.5599999996},{"$f":"IF(H1259>0, H1255/H1259, 0)","v":0.45383141739755484},null,{"$f":"ROUND(J1259*I1255,0)","v":2799991},2742703,{"$f":"K1255-L1255","v":57288},2.0887423829703762,486,0,250,250,1246,476,4382165.5599999996,null,250,250,1246,476,4382165.5599999996]
[1247,250,"ROCHESTER                    ",740,"OLD ROCHESTER",4020751,0.43168271054352025,4248544,{"$f":"IF(H1259>0, H1256/H1259, 0)","v":0.43999313102079085},null,{"$f":"ROUND(J1259*I1256,0)","v":2714613},2592970,{"$f":"K1256-L1256","v":121643},4.691261372094548,427,0,250,740,1247,439,4248544,null,250,740,1247,439,4248544]
[1248,250,"ROCHESTER                    ",855,"OLD COLONY",1040451,0.11170667068607734,1025223,{"$f":"IF(H1259>0, H1257/H1259, 0)","v":0.1061754515816544},null,{"$f":"ROUND(J1259*I1257,0)","v":655068},670984,{"$f":"K1257-L1257","v":-15916},-2.3720386775243525,70,0,250,855,1248,67,1025223,null,250,855,1248,67,1025223]
[1249,250,null,998,null,0,0,0,{"$f":"IF(H1259>0, H1258/H1259, 0)","v":0},null,{"$f":"ROUND(J1259*I1258,0)","v":0},0,{"$f":"K1258-L1258","v":0},0,0,0,250,998,1249,0,0,null,250,998,1249,0,0]
[1250,250,"ROCHESTER                    ",999,"TOTAL",9314134.9000000004,1,{"$f":"SUM(H1255:H1258)","v":9655932.5599999987},{"$f":"SUM(I1255:I1258)","v":1},{"$f":"VLOOKUP(B1259,town351,22)","v":6169672},{"$f":"SUM(K1255:K1258)","v":6169672},6006657,{"$f":"SUM(M1255:M1258)","v":163015},2.7139055884163188,983,0,250,999,1250,982,9655932.5599999987,null,250,999,1250,982,9655932.5599999987]
[1251,251,"ROCKLAND                     ",251,"ROCKLAND",23580543.138319999,0.90859491392930436,{"$f":"U1260","v":25189073.019840002},{"$f":"IF(H1264>0, H1260/H1264, 0)","v":0.90867324645625758},null,{"$f":"ROUND(J1264*I1260,0)","v":12069060},12524805,{"$f":"K1260-L1260","v":-455745},-3.6387392857613352,2253,0,251,251,1251,2326,25189073.019840002,null,251,251,1251,2326,25189073.019840002]
[1252,251,"ROCKLAND                     ",873,"SOUTH SHORE",2372214,9.1405086070695626E-2,2531643,{"$f":"IF(H1264>0, H1261/H1264, 0)","v":9.1326753543742409E-2},null,{"$f":"ROUND(J1264*I1261,0)","v":1213008},1260001,{"$f":"K1261-L1261","v":-46993},-3.7296002146030043,157,0,251,873,1252,161,2531643,null,251,873,1252,161,2531643]
[1253,251,null,998,null,0,0,0,{"$f":"IF(H1264>0, H1262/H1264, 0)","v":0},null,{"$f":"ROUND(J1264*I1262,0)","v":0},0,{"$f":"K1262-L1262","v":0},0,0,0,251,998,1253,0,0,null,251,998,1253,0,0]
[1254,251,null,998,null,0,0,0,{"$f":"IF(H1264>0, H1263/H1264, 0)","v":0},null,{"$f":"ROUND(J1264*I1263,0)","v":0},0,{"$f":"K1263-L1263","v":0},0,0,0,251,998,1254,0,0,null,251,998,1254,0,0]
[1255,251,"ROCKLAND                     ",999,"TOTAL",25952757.138319999,1,{"$f":"SUM(H1260:H1263)","v":27720716.019840002},{"$f":"SUM(I1260:I1263)","v":1},{"$f":"VLOOKUP(B1264,town351,22)","v":13282068},{"$f":"SUM(K1260:K1263)","v":13282068},13784806,{"$f":"SUM(M1260:M1263)","v":-502738},-3.6470444342851107,2410,0,251,999,1255,2487,27720716.019840002,null,251,999,1255,2487,27720716.019840002]
[1256,252,"ROCKPORT                     ",252,"ROCKPORT",7619731.0979199996,0.9741325443006813,{"$f":"U1265","v":7726823.8438600004},{"$f":"IF(H1269>0, H1265/H1269, 0)","v":0.9669594426974375},null,{"$f":"ROUND(J1269*I1265,0)","v":6374630},6857758,{"$f":"K1265-L1265","v":-483128},-7.0449846728333076,805,0,252,252,1256,777,7726823.8438600004,null,252,252,1256,777,7726823.8438600004]
[1257,252,"ROCKPORT                     ",817,"ESSEX NORTH SHORE",202337,2.5867455699318743E-2,264022,{"$f":"IF(H1269>0, H1266/H1269, 0)","v":3.3040557302562536E-2},null,{"$f":"ROUND(J1269*I1266,0)","v":217818},182103,{"$f":"K1266-L1266","v":35715},19.612526976491328,13,0,252,817,1257,17,264022,null,252,817,1257,17,264022]
[1258,252,null,998,"ESSEX COUNTY",0,0,0,{"$f":"IF(H1269>0, H1267/H1269, 0)","v":0},null,{"$f":"ROUND(J1269*I1267,0)","v":0},0,{"$f":"K1267-L1267","v":0},0,0,0,252,998,1258,0,0,null,252,998,1258,0,0]
[1259,252,null,998,null,0,0,0,{"$f":"IF(H1269>0, H1268/H1269, 0)","v":0},null,{"$f":"ROUND(J1269*I1268,0)","v":0},0,{"$f":"K1268-L1268","v":0},0,0,0,252,998,1259,0,0,null,252,998,1259,0,0]
[1260,252,"ROCKPORT                     ",999,"TOTAL",7822068.0979199996,1,{"$f":"SUM(H1265:H1268)","v":7990845.8438600004},{"$f":"SUM(I1265:I1268)","v":1},{"$f":"VLOOKUP(B1269,town351,22)","v":6592448},{"$f":"SUM(K1265:K1268)","v":6592448},7039861,{"$f":"SUM(M1265:M1268)","v":-447413},-6.3554237789638179,818,0,252,999,1260,794,7990845.8438600004,null,252,999,1260,794,7990845.8438600004]
[1261,253,"ROWE                         ",253,"ROWE",618393.5,1,{"$f":"U1270","v":676330.15},{"$f":"IF(H1274>0, H1270/H1274, 0)","v":1},null,{"$f":"ROUND(J1274*I1270,0)","v":545165},525865,{"$f":"K1270-L1270","v":19300},3.6701434778888116,63,0,253,253,1261,70,676330.15,null,253,253,1261,70,676330.15]
[1262,253,null,998,null,0,0,0,{"$f":"IF(H1274>0, H1271/H1274, 0)","v":0},null,{"$f":"ROUND(J1274*I1271,0)","v":0},0,{"$f":"K1271-L1271","v":0},0,0,0,253,998,1262,0,0,null,253,998,1262,0,0]
[1263,253,null,998,null,0,0,0,{"$f":"IF(H1274>0, H1272/H1274, 0)","v":0},null,{"$f":"ROUND(J1274*I1272,0)","v":0},0,{"$f":"K1272-L1272","v":0},0,0,0,253,998,1263,0,0,null,253,998,1263,0,0]
[1264,253,null,998,null,0,0,0,{"$f":"IF(H1274>0, H1273/H1274, 0)","v":0},null,{"$f":"ROUND(J1274*I1273,0)","v":0},0,{"$f":"K1273-L1273","v":0},0,0,0,253,998,1264,0,0,null,253,998,1264,0,0]
[1265,253,"ROWE                         ",999,"TOTAL",618393.5,1,{"$f":"SUM(H1270:H1273)","v":676330.15},{"$f":"SUM(I1270:I1273)","v":1},{"$f":"VLOOKUP(B1274,town351,22)","v":545165},{"$f":"SUM(K1270:K1273)","v":545165},525865,{"$f":"SUM(M1270:M1273)","v":19300},3.6701434778888116,63,0,253,999,1265,70,676330.15,null,253,999,1265,70,676330.15]
[1266,254,"ROWLEY                       ",254,"ROWLEY",66468.098199999993,7.6840674036304669E-3,{"$f":"U1275","v":27029.435180000004},{"$f":"IF(H1279>0, H1275/H1279, 0)","v":3.1238193056974113E-3},null,{"$f":"ROUND(J1279*I1275,0)","v":21530},52584,{"$f":"K1275-L1275","v":-31054},-59.055986611897154,5,0,254,254,1266,2,27029.435180000004,null,254,254,1266,2,27029.435180000004]
[1267,254,"ROWLEY                       ",773,"TRITON",8398684,0.97093275880417396,8390714,{"$f":"IF(H1279>0, H1276/H1279, 0)","v":0.96972334816600281},null,{"$f":"ROUND(J1279*I1276,0)","v":6683410},6644391,{"$f":"K1276-L1276","v":39019},0.58724719842646222,872,0,254,773,1267,857,8390714,null,254,773,1267,857,8390714]
[1268,254,"ROWLEY                       ",885,"WHITTIER",184967,2.1383173792195495E-2,234945,{"$f":"IF(H1279>0, H1277/H1279, 0)","v":2.7152832528299919E-2},null,{"$f":"ROUND(J1279*I1277,0)","v":187139},146332,{"$f":"K1277-L1277","v":40807},27.886586665937731,12,0,254,885,1268,15,234945,null,254,885,1268,15,234945]
[1269,254,null,998,"ESSEX COUNTY",0,0,0,{"$f":"IF(H1279>0, H1278/H1279, 0)","v":0},null,{"$f":"ROUND(J1279*I1278,0)","v":0},0,{"$f":"K1278-L1278","v":0},0,0,0,254,998,1269,0,0,null,254,998,1269,0,0]
[1270,254,"ROWLEY                       ",999,"TOTAL",8650119.0982000008,0.99999999999999989,{"$f":"SUM(H1275:H1278)","v":8652688.4351799991},{"$f":"SUM(I1275:I1278)","v":1},{"$f":"VLOOKUP(B1279,town351,22)","v":6892079},{"$f":"SUM(K1275:K1278)","v":6892079},6843307,{"$f":"SUM(M1275:M1278)","v":48772},0.71269636156904836,889,0,254,999,1270,874,8652688.4351799991,null,254,999,1270,874,8652688.4351799991]
[1271,255,"ROYALSTON                    ",255,"ROYALSTON",0,0,{"$f":"U1280","v":0},{"$f":"IF(H1284>0, H1280/H1284, 0)","v":0},null,{"$f":"ROUND(J1284*I1280,0)","v":0},0,{"$f":"K1280-L1280","v":0},0,0,0,255,255,1271,0,0,null,255,255,1271,0,0]
[1272,255,"ROYALSTON                    ",615,"ATHOL ROYALSTON",1097456,0.7600542413073319,1118729,{"$f":"IF(H1284>0, H1281/H1284, 0)","v":0.78544448391730548},null,{"$f":"ROUND(J1284*I1281,0)","v":372514},337236,{"$f":"K1281-L1281","v":35278},10.460923507573332,108,0,255,615,1272,107,1118729,null,255,615,1272,107,1118729]
[1273,255,"ROYALSTON                    ",832,"MONTACHUSETT",346462,0.23994575869266815,305597,{"$f":"IF(H1284>0, H1282/H1284, 0)","v":0.21455551608269455},null,{"$f":"ROUND(J1284*I1282,0)","v":101757},106464,{"$f":"K1282-L1282","v":-4707},-4.4212128043282233,23,0,255,832,1273,20,305597,null,255,832,1273,20,305597]
[1274,255,null,998,null,0,0,0,{"$f":"IF(H1284>0, H1283/H1284, 0)","v":0},null,{"$f":"ROUND(J1284*I1283,0)","v":0},0,{"$f":"K1283-L1283","v":0},0,0,0,255,998,1274,0,0,null,255,998,1274,0,0]
[1275,255,"ROYALSTON                    ",999,"TOTAL",1443918,1,{"$f":"SUM(H1280:H1283)","v":1424326},{"$f":"SUM(I1280:I1283)","v":1},{"$f":"VLOOKUP(B1284,town351,22)","v":474271},{"$f":"SUM(K1280:K1283)","v":474271},443700,{"$f":"SUM(M1280:M1283)","v":30571},6.8900157764255123,131,0,255,999,1275,127,1424326,null,255,999,1275,127,1424326]
[1276,256,"RUSSELL                      ",256,"RUSSELL",220031.55,7.3518983245939321E-2,{"$f":"U1285","v":210131.86},{"$f":"IF(H1289>0, H1285/H1289, 0)","v":7.2541086914154604E-2},null,{"$f":"ROUND(J1289*I1285,0)","v":82994},83474,{"$f":"K1285-L1285","v":-480},-0.57502935045642956,15,0,256,256,1276,14,210131.86,null,256,256,1276,14,210131.86]
[1277,256,"RUSSELL                      ",672,"GATEWAY",2772822,0.92648101675406069,2686597,{"$f":"IF(H1289>0, H1286/H1289, 0)","v":0.92745891308584538},null,{"$f":"ROUND(J1289*I1286,0)","v":1061106},1051937,{"$f":"K1286-L1286","v":9169},0.87163014515127812,282,0,256,672,1277,267,2686597,null,256,672,1277,267,2686597]
[1278,256,null,998,null,0,0,0,{"$f":"IF(H1289>0, H1287/H1289, 0)","v":0},null,{"$f":"ROUND(J1289*I1287,0)","v":0},0,{"$f":"K1287-L1287","v":0},0,0,0,256,998,1278,0,0,null,256,998,1278,0,0]
[1279,256,null,998,null,0,0,0,{"$f":"IF(H1289>0, H1288/H1289, 0)","v":0},null,{"$f":"ROUND(J1289*I1288,0)","v":0},0,{"$f":"K1288-L1288","v":0},0,0,0,256,998,1279,0,0,null,256,998,1279,0,0]
[1280,256,"RUSSELL                      ",999,"TOTAL",2992853.55,1,{"$f":"SUM(H1285:H1288)","v":2896728.86},{"$f":"SUM(I1285:I1288)","v":1},{"$f":"VLOOKUP(B1289,town351,22)","v":1144100},{"$f":"SUM(K1285:K1288)","v":1144100},1135411,{"$f":"SUM(M1285:M1288)","v":8689},0.76527354411750459,297,0,256,999,1280,281,2896728.86,null,256,999,1280,281,2896728.86]
[1281,257,"RUTLAND                      ",257,"RUTLAND",0,0,{"$f":"U1290","v":13199.960000000001},{"$f":"IF(H1294>0, H1290/H1294, 0)","v":8.4155568885158018E-4},null,{"$f":"ROUND(J1294*I1290,0)","v":5737},0,{"$f":"K1290-L1290","v":5737},100,0,{"$f":"ABS(Q1290-B1290)+ABS(R1290-D1290)","v":0},{"$f":"IF($Q$6=1, W1290, IF($Q$6=2, AC1290, IF($Q$6=3, AI1290, IF($Q$6=4, AO1290, IF($Q$6=5, AU1290, IF($Q$6=6, BA1290, IF($Q$6=7, BG1290, IF($Q$6=8, BM1290, 0))))))))","v":257},{"$f":"IF($Q$6=1, X1290, IF($Q$6=2, AD1290, IF($Q$6=3, AJ1290, IF($Q$6=4, AP1290, IF($Q$6=5, AV1290, IF($Q$6=6, BB1290, IF($Q$6=7, BH1290, IF($Q$6=8, BN1290, 0))))))))","v":257},{"$f":"IF($Q$6=1, Y1290, IF($Q$6=2, AE1290, IF($Q$6=3, AK1290, IF($Q$6=4, AQ1290, IF($Q$6=5, AW1290, IF($Q$6=6, BC1290, IF($Q$6=7, BI1290, IF($Q$6=8, BO1290, 0))))))))","v":1281},{"$f":"IF($Q$6=1, Z1290, IF($Q$6=2, AF1290, IF($Q$6=3, AL1290, IF($Q$6=4, AR1290, IF($Q$6=5, AX1290, IF($Q$6=6, BD1290, IF($Q$6=7, BJ1290, IF($Q$6=8, BP1290, 0))))))))","v":1},{"$f":"IF($Q$6=1, AA1290, IF($Q$6=2, AG1290, IF($Q$6=3, AM1290, IF($Q$6=4, AS1290, IF($Q$6=5, AY1290, IF($Q$6=6, BE1290, IF($Q$6=7, BK1290, IF($Q$6=8, BQ1290, 0))))))))","v":13199.960000000001},null,257,257,1281,1,13199.960000000001]
[1282,257,"RUTLAND                      ",775,"WACHUSETT",14549513,0.96387232603426798,15149481,{"$f":"IF(H1294>0, H1291/H1294, 0)","v":0.96584625398099122},null,{"$f":"ROUND(J1294*I1291,0)","v":6584655},6610818,{"$f":"K1291-L1291","v":-26163},-0.39576040362932391,1613,0,257,775,1282,1627,15149481,null,257,775,1282,1627,15149481]
[1283,257,"RUTLAND                      ",876,"SOUTHERN WORCESTER",545342,3.6127673965732035E-2,522508,{"$f":"IF(H1294>0, H1292/H1294, 0)","v":3.3312190330157171E-2},null,{"$f":"ROUND(J1294*I1292,0)","v":227106},247785,{"$f":"K1292-L1292","v":-20679},-8.3455414976693501,36,0,257,876,1283,34,522508,null,257,876,1283,34,522508]
[1284,257,null,998,null,0,0,0,{"$f":"IF(H1294>0, H1293/H1294, 0)","v":0},null,{"$f":"ROUND(J1294*I1293,0)","v":0},0,{"$f":"K1293-L1293","v":0},0,0,0,257,998,1284,0,0,null,257,998,1284,0,0]
[1285,257,"RUTLAND                      ",999,"TOTAL",15094855,1,{"$f":"SUM(H1290:H1293)","v":15685188.960000001},{"$f":"SUM(I1290:I1293)","v":1},{"$f":"VLOOKUP(B1294,town351,22)","v":6817498},{"$f":"SUM(K1290:K1293)","v":6817498},6858603,{"$f":"SUM(M1290:M1293)","v":-41105},-0.59932029890051952,1649,0,257,999,1285,1662,15685188.960000001,null,257,999,1285,1662,15685188.960000001]
[1286,258,"SALEM                        ",258,"SALEM",52070759.630000003,0.96259547568539705,{"$f":"U1295","v":52542429.829999998},{"$f":"IF(H1299>0, H1295/H1299, 0)","v":0.95215482009738639},null,{"$f":"ROUND(J1299*I1295,0)","v":31053555},31881386,{"$f":"K1295-L1295","v":-827831},-2.5965966473352196,4784,0,258,258,1286,4671,52542429.829999998,null,258,258,1286,4671,52542429.829999998]
[1287,258,"SALEM                        ",817,"ESSEX NORTH SHORE",2023365,3.7404524314602998E-2,2640224,{"$f":"IF(H1299>0, H1296/H1299, 0)","v":4.784517990261361E-2},null,{"$f":"ROUND(J1299*I1296,0)","v":1560422},1238847,{"$f":"K1296-L1296","v":321575},{"$f":"IF(L1296>0,M1296*100/L1296,IF(M1296>0,100,0))","v":25.957604127063309},130,0,258,817,1287,170,2640224,null,258,817,1287,170,2640224]
[1288,258,null,998,"ESSEX COUNTY",0,0,0,{"$f":"IF(H1299>0, H1297/H1299, 0)","v":0},null,{"$f":"ROUND(J1299*I1297,0)","v":0},0,{"$f":"K1297-L1297","v":0},{"$f":"IF(L1297>0,M1297*100/L1297,IF(M1297>0,100,0))","v":0},0,0,258,998,1288,0,0,null,258,998,1288,0,0]
[1289,258,null,998,null,0,0,0,{"$f":"IF(H1299>0, H1298/H1299, 0)","v":0},null,{"$f":"ROUND(J1299*I1298,0)","v":0},0,{"$f":"K1298-L1298","v":0},{"$f":"IF(L1298>0,M1298*100/L1298,IF(M1298>0,100,0))","v":0},0,0,258,998,1289,0,0,null,258,998,1289,0,0]
[1290,258,"SALEM                        ",999,"TOTAL",54094124.630000003,1,{"$f":"SUM(H1295:H1298)","v":55182653.829999998},{"$f":"SUM(I1295:I1298)","v":1},{"$f":"VLOOKUP(B1299,town351,22)","v":32613977},{"$f":"SUM(K1295:K1298)","v":32613977},33120233,{"$f":"SUM(M1295:M1298)","v":-506256},{"$f":"IF(L1299>0,M1299*100/L1299,IF(M1299>0,100,0))","v":-1.5285399713220618},4914,0,258,999,1290,4841,55182653.829999998,null,258,999,1290,4841,55182653.829999998]
[1291,259,"SALISBURY                    ",259,"SALISBURY",52019.6,5.2564437756366022E-3,{"$f":"U1300","v":79199.760000000009},{"$f":"IF(H1304>0, H1300/H1304, 0)","v":7.8376161661440971E-3},null,{"$f":"ROUND(J1304*I1300,0)","v":65340},44990,{"$f":"K1300-L1300","v":20350},45.23227383863081,4,0,259,259,1291,6,79199.760000000009,null,259,259,1291,6,79199.760000000009]
[1292,259,"SALISBURY                    ",773,"TRITON",9119875,0.92153938473832664,9305386,{"$f":"IF(H1304>0, H1301/H1304, 0)","v":0.92086192869537664},null,{"$f":"ROUND(J1304*I1301,0)","v":7676943},7887435,{"$f":"K1301-L1301","v":-210492},-2.6687002808897948,947,0,259,773,1292,950,9305386,null,259,773,1292,950,9305386]
[1293,259,"SALISBURY                    ",885,"WHITTIER",724454,7.3204171486036779E-2,720497,{"$f":"IF(H1304>0, H1302/H1304, 0)","v":7.1300455138479241E-2},null,{"$f":"ROUND(J1304*I1302,0)","v":594410},626553,{"$f":"K1302-L1302","v":-32143},-5.1301326464002246,47,0,259,885,1293,46,720497,null,259,885,1293,46,720497]
[1294,259,null,998,"ESSEX COUNTY",0,0,0,{"$f":"IF(H1304>0, H1303/H1304, 0)","v":0},null,{"$f":"ROUND(J1304*I1303,0)","v":0},0,{"$f":"K1303-L1303","v":0},0,0,0,259,998,1294,0,0,null,259,998,1294,0,0]
[1295,259,"SALISBURY                    ",999,"TOTAL",9896348.5999999996,1,{"$f":"SUM(H1300:H1303)","v":10105082.76},{"$f":"SUM(I1300:I1303)","v":1},{"$f":"VLOOKUP(B1304,town351,22)","v":8336693},{"$f":"SUM(K1300:K1303)","v":8336693},8558978,{"$f":"SUM(M1300:M1303)","v":-222285},-2.5970974571964081,998,0,259,999,1295,1002,10105082.76,null,259,999,1295,1002,10105082.76]
[1296,260,"SANDISFIELD                  ",260,"SANDISFIELD",0,0,{"$f":"U1305","v":0},{"$f":"IF(H1309>0, H1305/H1309, 0)","v":0},null,{"$f":"ROUND(J1309*I1305,0)","v":0},0,{"$f":"K1305-L1305","v":0},0,0,0,260,260,1296,0,0,null,260,260,1296,0,0]
[1297,260,"SANDISFIELD                  ",662,"FARMINGTON RIVER",908443,1,877512,{"$f":"IF(H1309>0, H1306/H1309, 0)","v":1},null,{"$f":"ROUND(J1309*I1306,0)","v":723947},800023,{"$f":"K1306-L1306","v":-76076},-9.50922660973497,95,0,260,662,1297,89,877512,null,260,662,1297,89,877512]
[1298,260,null,998,null,0,0,0,{"$f":"IF(H1309>0, H1307/H1309, 0)","v":0},null,{"$f":"ROUND(J1309*I1307,0)","v":0},0,{"$f":"K1307-L1307","v":0},0,0,0,260,998,1298,0,0,null,260,998,1298,0,0]
[1299,260,null,998,null,0,0,0,{"$f":"IF(H1309>0, H1308/H1309, 0)","v":0},null,{"$f":"ROUND(J1309*I1308,0)","v":0},0,{"$f":"K1308-L1308","v":0},0,0,0,260,998,1299,0,0,null,260,998,1299,0,0]
[1300,260,"SANDISFIELD                  ",999,"TOTAL",908443,1,{"$f":"SUM(H1305:H1308)","v":877512},{"$f":"SUM(I1305:I1308)","v":1},{"$f":"VLOOKUP(B1309,town351,22)","v":723947},{"$f":"SUM(K1305:K1308)","v":723947},800023,{"$f":"SUM(M1305:M1308)","v":-76076},-9.50922660973497,95,0,260,999,1300,89,877512,null,260,999,1300,89,877512]
[1301,261,"SANDWICH                     ",261,"SANDWICH",28304004.249999989,0.94281672834233521,{"$f":"U1310","v":27987804.329999994},{"$f":"IF(H1314>0, H1310/H1314, 0)","v":0.9350365860995864},null,{"$f":"ROUND(J1314*I1310,0)","v":23089938},24542435,{"$f":"K1310-L1310","v":-1452497},-5.9183084319057988,3093,0,261,261,1301,2977,27987804.329999994,null,261,261,1301,2977,27987804.329999994]
[1302,261,"SANDWICH                     ",879,"UPPER CAPE COD",1716681,5.7183271657664798E-2,1944505,{"$f":"IF(H1314>0, H1311/H1314, 0)","v":6.4963413900413561E-2},null,{"$f":"ROUND(J1314*I1311,0)","v":1604217},1488536,{"$f":"K1311-L1311","v":115681},7.7714613553182454,117,0,261,879,1302,127,1944505,null,261,879,1302,127,1944505]
[1303,261,null,998,null,0,0,0,{"$f":"IF(H1314>0, H1312/H1314, 0)","v":0},null,{"$f":"ROUND(J1314*I1312,0)","v":0},0,{"$f":"K1312-L1312","v":0},0,0,0,261,998,1303,0,0,null,261,998,1303,0,0]
[1304,261,null,998,null,0,0,0,{"$f":"IF(H1314>0, H1313/H1314, 0)","v":0},null,{"$f":"ROUND(J1314*I1313,0)","v":0},0,{"$f":"K1313-L1313","v":0},0,0,0,261,998,1304,0,0,null,261,998,1304,0,0]
[1305,261,"SANDWICH                     ",999,"TOTAL",30020685.249999989,1,{"$f":"SUM(H1310:H1313)","v":29932309.329999994},{"$f":"SUM(I1310:I1313)","v":1},{"$f":"VLOOKUP(B1314,town351,22)","v":24694155},{"$f":"SUM(K1310:K1313)","v":24694155},26030971,{"$f":"SUM(M1310:M1313)","v":-1336816},-5.1354826525679735,3210,0,261,999,1305,3104,29932309.329999994,null,261,999,1305,3104,29932309.329999994]
[1306,262,"SAUGUS                       ",262,"SAUGUS",28469688.994549997,0.90179083296845064,{"$f":"U1315","v":28704386.50144},{"$f":"IF(H1319>0, H1315/H1319, 0)","v":0.89715973099598068},null,{"$f":"ROUND(J1319*I1315,0)","v":23424459},23886601,{"$f":"K1315-L1315","v":-462142},-1.9347332004247904,2882,0,262,262,1306,2855,28704386.50144,null,262,262,1306,2855,28704386.50144]
[1307,262,"SAUGUS                       ",853,"NORTHEAST METROPOLITAN",3100480,9.8209167031549319E-2,3290347,{"$f":"IF(H1319>0, H1316/H1319, 0)","v":0.10284026900401937},null,{"$f":"ROUND(J1319*I1316,0)","v":2685116},2601361,{"$f":"K1316-L1316","v":83755},3.2196607852581782,190,0,262,853,1307,199,3290347,null,262,853,1307,199,3290347]
[1308,262,null,998,"ESSEX COUNTY",0,0,0,{"$f":"IF(H1319>0, H1317/H1319, 0)","v":0},null,{"$f":"ROUND(J1319*I1317,0)","v":0},0,{"$f":"K1317-L1317","v":0},0,0,0,262,998,1308,0,0,null,262,998,1308,0,0]
[1309,262,null,998,null,0,0,0,{"$f":"IF(H1319>0, H1318/H1319, 0)","v":0},null,{"$f":"ROUND(J1319*I1318,0)","v":0},0,{"$f":"K1318-L1318","v":0},0,0,0,262,998,1309,0,0,null,262,998,1309,0,0]
[1310,262,"SAUGUS                       ",999,"TOTAL",31570168.994549997,1,{"$f":"SUM(H1315:H1318)","v":31994733.50144},{"$f":"SUM(I1315:I1318)","v":1},{"$f":"VLOOKUP(B1319,town351,22)","v":26109575},{"$f":"SUM(K1315:K1318)","v":26109575},26487962,{"$f":"SUM(M1315:M1318)","v":-378387},-1.4285243991213821,3072,0,262,999,1310,3054,31994733.50144,null,262,999,1310,3054,31994733.50144]
[1311,263,"SAVOY                        ",263,"SAVOY",600300.83000000007,0.62137229140719907,{"$f":"U1320","v":592852.67000000004},{"$f":"IF(H1324>0, H1320/H1324, 0)","v":0.65617219058377618},null,{"$f":"ROUND(J1324*I1320,0)","v":315161},298627,{"$f":"K1320-L1320","v":16534},5.5366728393614775,65,0,263,263,1311,62,592852.67000000004,null,263,263,1311,62,592852.67000000004]
[1312,263,"SAVOY                        ",851,"NORTHERN BERKSHIRE",365788,0.37862770859280093,310649,{"$f":"IF(H1324>0, H1321/H1324, 0)","v":0.34382780941622387},null,{"$f":"ROUND(J1324*I1321,0)","v":165142},181966,{"$f":"K1321-L1321","v":-16824},-9.2456832595100185,24,0,263,851,1312,20,310649,null,263,851,1312,20,310649]
[1313,263,null,998,null,0,0,0,{"$f":"IF(H1324>0, H1322/H1324, 0)","v":0},null,{"$f":"ROUND(J1324*I1322,0)","v":0},0,{"$f":"K1322-L1322","v":0},0,0,0,263,998,1313,0,0,null,263,998,1313,0,0]
[1314,263,null,998,null,0,0,0,{"$f":"IF(H1324>0, H1323/H1324, 0)","v":0},null,{"$f":"ROUND(J1324*I1323,0)","v":0},0,{"$f":"K1323-L1323","v":0},0,0,0,263,998,1314,0,0,null,263,998,1314,0,0]
[1315,263,"SAVOY                        ",999,"TOTAL",966088.83000000007,1,{"$f":"SUM(H1320:H1323)","v":903501.67},{"$f":"SUM(I1320:I1323)","v":1},{"$f":"VLOOKUP(B1324,town351,22)","v":480303},{"$f":"SUM(K1320:K1323)","v":480303},480593,{"$f":"SUM(M1320:M1323)","v":-290},-6.0342119007143258E-2,89,0,263,999,1315,82,903501.67,null,263,999,1315,82,903501.67]
[1316,264,"SCITUATE                     ",264,"SCITUATE",27783603.550999999,0.98552900411990352,{"$f":"U1325","v":28197733.99712},{"$f":"IF(H1329>0, H1325/H1329, 0)","v":0.98246801722333443},null,{"$f":"ROUND(J1329*I1325,0)","v":23263130},23886438,{"$f":"K1325-L1325","v":-623308},-2.609463997938914,3035,0,264,264,1316,3008,28197733.99712,null,264,264,1316,3008,28197733.99712]
[1317,264,"SCITUATE                     ",873,"SOUTH SHORE",407960,1.4470995880096513E-2,503184,{"$f":"IF(H1329>0, H1326/H1329, 0)","v":1.7531982776665615E-2},null,{"$f":"ROUND(J1329*I1326,0)","v":415127},350736,{"$f":"K1326-L1326","v":64391},18.358822590210302,27,0,264,873,1317,32,503184,null,264,873,1317,32,503184]
[1318,264,null,998,null,0,0,0,{"$f":"IF(H1329>0, H1327/H1329, 0)","v":0},null,{"$f":"ROUND(J1329*I1327,0)","v":0},0,{"$f":"K1327-L1327","v":0},0,0,0,264,998,1318,0,0,null,264,998,1318,0,0]
[1319,264,null,998,null,0,0,0,{"$f":"IF(H1329>0, H1328/H1329, 0)","v":0},null,{"$f":"ROUND(J1329*I1328,0)","v":0},0,{"$f":"K1328-L1328","v":0},0,0,0,264,998,1319,0,0,null,264,998,1319,0,0]
[1320,264,"SCITUATE                     ",999,"TOTAL",28191563.550999999,1,{"$f":"SUM(H1325:H1328)","v":28700917.99712},{"$f":"SUM(I1325:I1328)","v":1},{"$f":"VLOOKUP(B1329,town351,22)","v":23678257},{"$f":"SUM(K1325:K1328)","v":23678257},24237174,{"$f":"SUM(M1325:M1328)","v":-558917},-2.3060320481257426,3062,0,264,999,1320,3040,28700917.99712,null,264,999,1320,3040,28700917.99712]
[1321,265,"SEEKONK                      ",265,"SEEKONK",18854298.620000001,0.93772386665031382,{"$f":"U1330","v":18460114.679999996},{"$f":"IF(H1334>0, H1330/H1334, 0)","v":0.92717064573389929},null,{"$f":"ROUND(J1334*I1330,0)","v":13812195},14466350,{"$f":"K1330-L1330","v":-654155},-4.5219077376117678,2011,0,265,265,1321,1931,18460114.679999996,null,265,265,1321,1931,18460114.679999996]
[1322,265,"SEEKONK                      ",878,"TRI COUNTY",1177247,5.8550712020200409E-2,1282770,{"$f":"IF(H1334>0, H1331/H1334, 0)","v":6.4427914443924469E-2},null,{"$f":"ROUND(J1334*I1331,0)","v":959792},903267,{"$f":"K1331-L1331","v":56525},6.2578395978154857,76,0,265,878,1322,81,1282770,null,265,878,1322,81,1282770]
[1323,265,"SEEKONK                      ",910,"BRISTOL COUNTY",74905,3.7254213294857508E-3,167274,{"$f":"IF(H1334>0, H1332/H1334, 0)","v":8.4014398221762456E-3},null,{"$f":"ROUND(J1334*I1332,0)","v":125157},57472,{"$f":"K1332-L1332","v":67685},117.7703925389755,5,0,265,910,1323,11,167274,null,265,910,1323,11,167274]
[1324,265,null,998,null,0,0,0,{"$f":"IF(H1334>0, H1333/H1334, 0)","v":0},null,{"$f":"ROUND(J1334*I1333,0)","v":0},0,{"$f":"K1333-L1333","v":0},0,0,0,265,998,1324,0,0,null,265,998,1324,0,0]
[1325,265,"SEEKONK                      ",999,"TOTAL",20106450.620000001,1,{"$f":"SUM(H1330:H1333)","v":19910158.679999996},{"$f":"SUM(I1330:I1333)","v":1},{"$f":"VLOOKUP(B1334,town351,22)","v":14897144},{"$f":"SUM(K1330:K1333)","v":14897144},15427089,{"$f":"SUM(M1330:M1333)","v":-529945},-3.4351587652083944,2092,0,265,999,1325,2023,19910158.679999996,null,265,999,1325,2023,19910158.679999996]
[1326,266,"SHARON                       ",266,"SHARON",31433647.07305,0.98874860404838227,{"$f":"U1335","v":32275546.17168},{"$f":"IF(H1339>0, H1335/H1339, 0)","v":0.98689631792994825},null,{"$f":"ROUND(J1339*I1335,0)","v":26573303},25641123,{"$f":"K1335-L1335","v":932180},3.6354881960513197,3381,0,266,266,1326,3414,32275546.17168,null,266,266,1326,3414,32275546.17168]
[1327,266,"SHARON                       ",872,"SOUTHEASTERN",266124,8.3709578112992501E-3,334656,{"$f":"IF(H1339>0, H1336/H1339, 0)","v":1.0232848498252805E-2},null,{"$f":"ROUND(J1339*I1336,0)","v":275531},217083,{"$f":"K1336-L1336","v":58448},26.924263991192309,17,0,266,872,1327,21,334656,null,266,872,1327,21,334656]
[1328,266,"SHARON                       ",915,"NORFOLK COUNTY",91573,2.8804381403184465E-3,93888,{"$f":"IF(H1339>0, H1337/H1339, 0)","v":2.8708335717989798E-3},null,{"$f":"ROUND(J1339*I1337,0)","v":77300},74698,{"$f":"K1337-L1337","v":2602},3.4833596615705908,6,0,266,915,1328,6,93888,null,266,915,1328,6,93888]
[1329,266,null,998,null,0,0,0,{"$f":"IF(H1339>0, H1338/H1339, 0)","v":0},null,{"$f":"ROUND(J1339*I1338,0)","v":0},0,{"$f":"K1338-L1338","v":0},0,0,0,266,998,1329,0,0,null,266,998,1329,0,0]
[1330,266,"SHARON                       ",999,"TOTAL",31791344.07305,1,{"$f":"SUM(H1335:H1338)","v":32704090.17168},{"$f":"SUM(I1335:I1338)","v":1},{"$f":"VLOOKUP(B1339,town351,22)","v":26926134},{"$f":"SUM(K1335:K1338)","v":26926134},25932904,{"$f":"SUM(M1335:M1338)","v":993230},3.8299991393173709,3404,0,266,999,1330,3441,32704090.17168,null,266,999,1330,3441,32704090.17168]
[1331,267,"SHEFFIELD                    ",267,"SHEFFIELD",78029.39999999998,1.9935197208979391E-2,{"$f":"U1340","v":92399.719999999987},{"$f":"IF(H1344>0, H1340/H1344, 0)","v":2.3609127410343347E-2},null,{"$f":"ROUND(J1344*I1340,0)","v":76230},70226,{"$f":"K1340-L1340","v":6004},8.5495400563893718,6,0,267,267,1331,7,92399.719999999987,null,267,267,1331,7,92399.719999999987]
[1332,267,"SHEFFIELD                    ",765,"SOUTHERN BERKSHIRE",3836123,0.9800648027910206,3821329,{"$f":"IF(H1344>0, H1341/H1344, 0)","v":0.97639087258965662},null,{"$f":"ROUND(J1344*I1341,0)","v":3152596},3452511,{"$f":"K1341-L1341","v":-299915},-8.6868658781970574,415,0,267,765,1332,381,3821329,null,267,765,1332,381,3821329]
[1333,267,null,998,null,0,0,0,{"$f":"IF(H1344>0, H1342/H1344, 0)","v":0},null,{"$f":"ROUND(J1344*I1342,0)","v":0},0,{"$f":"K1342-L1342","v":0},0,0,0,267,998,1333,0,0,null,267,998,1333,0,0]
[1334,267,null,998,null,0,0,0,{"$f":"IF(H1344>0, H1343/H1344, 0)","v":0},null,{"$f":"ROUND(J1344*I1343,0)","v":0},0,{"$f":"K1343-L1343","v":0},0,0,0,267,998,1334,0,0,null,267,998,1334,0,0]
[1335,267,"SHEFFIELD                    ",999,"TOTAL",3914152.4,1,{"$f":"SUM(H1340:H1343)","v":3913728.72},{"$f":"SUM(I1340:I1343)","v":1},{"$f":"VLOOKUP(B1344,town351,22)","v":3228826},{"$f":"SUM(K1340:K1343)","v":3228826},3522737,{"$f":"SUM(M1340:M1343)","v":-293911},-8.3432569618452916,421,0,267,999,1335,388,3913728.72,null,267,999,1335,388,3913728.72]
[1336,268,"SHELBURNE                    ",268,"SHELBURNE",13004.9,7.1004619075716409E-3,{"$f":"U1345","v":0},{"$f":"IF(H1349>0, H1345/H1349, 0)","v":0},null,{"$f":"ROUND(J1349*I1345,0)","v":0},10008,{"$f":"K1345-L1345","v":-10008},-100,1,0,268,268,1336,0,0,null,268,268,1336,0,0]
[1337,268,"SHELBURNE                    ",717,"MOHAWK TRAIL",1646948,0.89920657119634129,1805497,{"$f":"IF(H1349>0, H1346/H1349, 0)","v":0.95784061887588423},null,{"$f":"ROUND(J1349*I1346,0)","v":1361455},1267412,{"$f":"K1346-L1346","v":94043},7.4200812364093132,167,0,268,717,1337,182,1805497,null,268,717,1337,182,1805497]
[1338,268,"SHELBURNE                    ",818,"FRANKLIN COUNTY",171604,9.3692966896087151E-2,79469,{"$f":"IF(H1349>0, H1347/H1349, 0)","v":4.2159381124115769E-2},null,{"$f":"ROUND(J1349*I1347,0)","v":59925},132058,{"$f":"K1347-L1347","v":-72133},-54.622211452543581,11,0,268,818,1338,5,79469,null,268,818,1338,5,79469]
[1339,268,null,998,null,0,0,0,{"$f":"IF(H1349>0, H1348/H1349, 0)","v":0},null,{"$f":"ROUND(J1349*I1348,0)","v":0},0,{"$f":"K1348-L1348","v":0},0,0,0,268,998,1339,0,0,null,268,998,1339,0,0]
[1340,268,"SHELBURNE                    ",999,"TOTAL",1831556.9,1,{"$f":"SUM(H1345:H1348)","v":1884966},{"$f":"SUM(I1345:I1348)","v":1},{"$f":"VLOOKUP(B1349,town351,22)","v":1421380},{"$f":"SUM(K1345:K1348)","v":1421380},1409478,{"$f":"SUM(M1345:M1348)","v":11902},0.84442609249665479,179,0,268,999,1340,187,1884966,null,268,999,1340,187,1884966]
[1341,269,"SHERBORN                     ",269,"SHERBORN",3327431.3505500001,0.38569566509035896,{"$f":"U1350","v":3380505.0839999993},{"$f":"IF(H1354>0, H1350/H1354, 0)","v":0.38631416288681325},null,{"$f":"ROUND(J1354*I1350,0)","v":2788917},2944257,{"$f":"K1350-L1350","v":-155340},-5.2760339875221494,379,0,269,269,1341,378,3380505.0839999993,null,269,269,1341,378,3380505.0839999993]
[1342,269,"SHERBORN                     ",655,"DOVER SHERBORN",5268679,0.61071332116790777,5370158,{"$f":"IF(H1354>0, H1351/H1354, 0)","v":0.61368583711318681},null,{"$f":"ROUND(J1354*I1351,0)","v":4430380},4661958,{"$f":"K1351-L1351","v":-231578},-4.9673978186847672,559,0,269,655,1342,560,5370158,null,269,655,1342,560,5370158]
[1343,269,"SHERBORN                     ",878,"TRI COUNTY",30980,3.5910137417333229E-3,0,{"$f":"IF(H1354>0, H1352/H1354, 0)","v":0},null,{"$f":"ROUND(J1354*I1352,0)","v":0},27412,{"$f":"K1352-L1352","v":-27412},-100,2,0,269,878,1343,0,0,null,269,878,1343,0,0]
[1344,269,null,998,null,0,0,0,{"$f":"IF(H1354>0, H1353/H1354, 0)","v":0},null,{"$f":"ROUND(J1354*I1353,0)","v":0},0,{"$f":"K1353-L1353","v":0},0,0,0,269,998,1344,0,0,null,269,998,1344,0,0]
[1345,269,"SHERBORN                     ",999,"TOTAL",8627090.3505499996,1.0000000000000002,{"$f":"SUM(H1350:H1353)","v":8750663.0839999989},{"$f":"SUM(I1350:I1353)","v":1},{"$f":"VLOOKUP(B1354,town351,22)","v":7219297},{"$f":"SUM(K1350:K1353)","v":7219297},7633627,{"$f":"SUM(M1350:M1353)","v":-414330},-5.4276951179301793,940,{"$f":"ABS(Q1354-B1354)+ABS(R1354-D1354)","v":0},{"$f":"IF($Q$6=1, W1354, IF($Q$6=2, AC1354, IF($Q$6=3, AI1354, IF($Q$6=4, AO1354, IF($Q$6=5, AU1354, IF($Q$6=6, BA1354, IF($Q$6=7, BG1354, IF($Q$6=8, BM1354, 0))))))))","v":269},{"$f":"IF($Q$6=1, X1354, IF($Q$6=2, AD1354, IF($Q$6=3, AJ1354, IF($Q$6=4, AP1354, IF($Q$6=5, AV1354, IF($Q$6=6, BB1354, IF($Q$6=7, BH1354, IF($Q$6=8, BN1354, 0))))))))","v":999},{"$f":"IF($Q$6=1, Y1354, IF($Q$6=2, AE1354, IF($Q$6=3, AK1354, IF($Q$6=4, AQ1354, IF($Q$6=5, AW1354, IF($Q$6=6, BC1354, IF($Q$6=7, BI1354, IF($Q$6=8, BO1354, 0))))))))","v":1345},{"$f":"IF($Q$6=1, Z1354, IF($Q$6=2, AF1354, IF($Q$6=3, AL1354, IF($Q$6=4, AR1354, IF($Q$6=5, AX1354, IF($Q$6=6, BD1354, IF($Q$6=7, BJ1354, IF($Q$6=8, BP1354, 0))))))))","v":938},{"$f":"IF($Q$6=1, AA1354, IF($Q$6=2, AG1354, IF($Q$6=3, AM1354, IF($Q$6=4, AS1354, IF($Q$6=5, AY1354, IF($Q$6=6, BE1354, IF($Q$6=7, BK1354, IF($Q$6=8, BQ1354, 0))))))))","v":8750663.0839999989},null,269,999,1345,938,8750663.0839999989]
[1346,270,"SHIRLEY                      ",270,"SHIRLEY",0,0,{"$f":"U1355","v":0},{"$f":"IF(H1359>0, H1355/H1359, 0)","v":0},null,{"$f":"ROUND(J1359*I1355,0)","v":0},0,{"$f":"K1355-L1355","v":0},0,0,0,270,270,1346,0,0,null,270,270,1346,0,0]
[1347,270,"SHIRLEY                      ",616,"AYER SHIRLEY",7692997,0.87829295768151572,7399165,{"$f":"IF(H1359>0, H1356/H1359, 0)","v":0.84931985333575299},null,{"$f":"ROUND(J1359*I1356,0)","v":4063835},4092358,{"$f":"K1356-L1356","v":-28523},-0.69698203334116904,756,0,270,616,1347,724,7399165,null,270,616,1347,724,7399165]
[1348,270,"SHIRLEY                      ",852,"NASHOBA VALLEY",1066036,0.12170704231848424,1312706,{"$f":"IF(H1359>0, H1357/H1359, 0)","v":0.15068014666424698},null,{"$f":"ROUND(J1359*I1357,0)","v":720976},567087,{"$f":"K1357-L1357","v":153889},27.136753267135379,69,0,270,852,1348,85,1312706,null,270,852,1348,85,1312706]
[1349,270,null,998,null,0,0,0,{"$f":"IF(H1359>0, H1358/H1359, 0)","v":0},null,{"$f":"ROUND(J1359*I1358,0)","v":0},0,{"$f":"K1358-L1358","v":0},0,0,0,270,998,1349,0,0,null,270,998,1349,0,0]
[1350,270,"SHIRLEY                      ",999,"TOTAL",8759033,1,{"$f":"SUM(H1355:H1358)","v":8711871},{"$f":"SUM(I1355:I1358)","v":1},{"$f":"VLOOKUP(B1359,town351,22)","v":4784811},{"$f":"SUM(K1355:K1358)","v":4784811},4659445,{"$f":"SUM(M1355:M1358)","v":125366},2.6905779550998026,825,0,270,999,1350,809,8711871,null,270,999,1350,809,8711871]
[1351,271,"SHREWSBURY                   ",271,"SHREWSBURY",55423621.549999997,1,{"$f":"U1360","v":57096131.690000013},{"$f":"IF(H1364>0, H1360/H1364, 0)","v":1},null,{"$f":"ROUND(J1364*I1360,0)","v":40658212},38578814,{"$f":"K1360-L1360","v":2079398},{"$f":"IF(L1360>0,M1360*100/L1360,IF(M1360>0,100,0))","v":5.3899998066296178},5943,0,271,271,1351,5993,57096131.690000013,null,271,271,1351,5993,57096131.690000013]
[1352,271,null,998,null,0,0,0,{"$f":"IF(H1364>0, H1361/H1364, 0)","v":0},null,{"$f":"ROUND(J1364*I1361,0)","v":0},0,{"$f":"K1361-L1361","v":0},{"$f":"IF(L1361>0,M1361*100/L1361,IF(M1361>0,100,0))","v":0},0,0,271,998,1352,0,0,null,271,998,1352,0,0]
[1353,271,null,998,null,0,0,0,{"$f":"IF(H1364>0, H1362/H1364, 0)","v":0},null,{"$f":"ROUND(J1364*I1362,0)","v":0},0,{"$f":"K1362-L1362","v":0},{"$f":"IF(L1362>0,M1362*100/L1362,IF(M1362>0,100,0))","v":0},0,0,271,998,1353,0,0,null,271,998,1353,0,0]
[1354,271,null,998,null,0,0,0,{"$f":"IF(H1364>0, H1363/H1364, 0)","v":0},null,{"$f":"ROUND(J1364*I1363,0)","v":0},0,{"$f":"K1363-L1363","v":0},{"$f":"IF(L1363>0,M1363*100/L1363,IF(M1363>0,100,0))","v":0},0,0,271,998,1354,0,0,null,271,998,1354,0,0]
[1355,271,"SHREWSBURY                   ",999,"TOTAL",55423621.549999997,1,{"$f":"SUM(H1360:H1363)","v":57096131.690000013},{"$f":"SUM(I1360:I1363)","v":1},{"$f":"VLOOKUP(B1364,town351,22)","v":40658212},{"$f":"SUM(K1360:K1363)","v":40658212},38578814,{"$f":"SUM(M1360:M1363)","v":2079398},{"$f":"IF(L1364>0,M1364*100/L1364,IF(M1364>0,100,0))","v":5.3899998066296178},5943,0,271,999,1355,5993,57096131.690000013,null,271,999,1355,5993,57096131.690000013]
[1356,272,"SHUTESBURY                   ",272,"SHUTESBURY",1268845.75,0.47554732772407854,{"$f":"U1365","v":1336733.0899999999},{"$f":"IF(H1369>0, H1365/H1369, 0)","v":0.4874382270663411},null,{"$f":"ROUND(J1369*I1365,0)","v":716351},689268,{"$f":"K1365-L1365","v":27083},3.9292408758276895,141,0,272,272,1356,146,1336733.0899999999,null,272,272,1356,146,1336733.0899999999]
[1357,272,"SHUTESBURY                   ",605,"AMHERST PELHAM",1399334,0.52445267227592141,1405631,{"$f":"IF(H1369>0, H1366/H1369, 0)","v":0.5125617729336589},null,{"$f":"ROUND(J1369*I1366,0)","v":753274},760153,{"$f":"K1366-L1366","v":-6879},-0.90494939834480692,138,0,272,605,1357,136,1405631,null,272,605,1357,136,1405631]
[1358,272,null,998,null,0,0,0,{"$f":"IF(H1369>0, H1367/H1369, 0)","v":0},null,{"$f":"ROUND(J1369*I1367,0)","v":0},0,{"$f":"K1367-L1367","v":0},0,0,0,272,998,1358,0,0,null,272,998,1358,0,0]
[1359,272,null,998,null,0,0,0,{"$f":"IF(H1369>0, H1368/H1369, 0)","v":0},null,{"$f":"ROUND(J1369*I1368,0)","v":0},0,{"$f":"K1368-L1368","v":0},0,0,0,272,998,1359,0,0,null,272,998,1359,0,0]
[1360,272,"SHUTESBURY                   ",999,"TOTAL",2668179.75,1,{"$f":"SUM(H1365:H1368)","v":2742364.09},{"$f":"SUM(I1365:I1368)","v":1},{"$f":"VLOOKUP(B1369,town351,22)","v":1469625},{"$f":"SUM(K1365:K1368)","v":1469625},1449421,{"$f":"SUM(M1365:M1368)","v":20204},1.3939359233790596,279,0,272,999,1360,282,2742364.09,null,272,999,1360,282,2742364.09]
[1361,273,"SOMERSET                     ",273,"SOMERSET",16069095.370000001,0.63245974596002519,{"$f":"U1370","v":16337259.259999998},{"$f":"IF(H1374>0, H1370/H1374, 0)","v":0.64496969485240774},null,{"$f":"ROUND(J1374*I1370,0)","v":10727871},11192906,{"$f":"K1370-L1370","v":-465035},-4.1547297904583491,1808,0,273,273,1361,1802,16337259.259999998,null,273,273,1361,1802,16337259.259999998]
[1362,273,"SOMERSET                     ",763,"SOMERSET BERKLEY",7161291,0.28185956846466925,6757770,{"$f":"IF(H1374>0, H1371/H1374, 0)","v":0.26678629416466493},null,{"$f":"ROUND(J1374*I1371,0)","v":4437494},4988187,{"$f":"K1371-L1371","v":-550693},-11.039942969259172,698,0,273,763,1362,649,6757770,null,273,763,1362,649,6757770]
[1363,273,"SOMERSET                     ",821,"GREATER FALL RIVER",2057067,8.0963616326010457E-2,2052765,{"$f":"IF(H1374>0, H1372/H1374, 0)","v":8.1039983180979588E-2},null,{"$f":"ROUND(J1374*I1372,0)","v":1347949},1432847,{"$f":"K1372-L1372","v":-84898},-5.9251266883344833,134,0,273,821,1363,130,2052765,null,273,821,1363,130,2052765]
[1364,273,"SOMERSET                     ",910,"BRISTOL COUNTY",119848,4.7170692492950897E-3,182480,{"$f":"IF(H1374>0, H1373/H1374, 0)","v":7.2040278019476923E-3},null,{"$f":"ROUND(J1374*I1373,0)","v":119826},83480,{"$f":"K1373-L1373","v":36346},43.538572113080974,8,0,273,910,1364,12,182480,null,273,910,1364,12,182480]
[1365,273,"SOMERSET                     ",999,"TOTAL",25407301.370000001,0.99999999999999989,{"$f":"SUM(H1370:H1373)","v":25330274.259999998},{"$f":"SUM(I1370:I1373)","v":1},{"$f":"VLOOKUP(B1374,town351,22)","v":16633140},{"$f":"SUM(K1370:K1373)","v":16633140},17697420,{"$f":"SUM(M1370:M1373)","v":-1064280},-6.013757937597684,2648,0,273,999,1365,2593,25330274.259999998,null,273,999,1365,2593,25330274.259999998]
[1366,274,"SOMERVILLE                   ",274,"SOMERVILLE",62767269.546019986,1,{"$f":"U1375","v":64208758.285060003},{"$f":"IF(H1379>0, H1375/H1379, 0)","v":1},null,{"$f":"ROUND(J1379*I1375,0)","v":52972226},52703692,{"$f":"K1375-L1375","v":268534},0.50951648700436392,5351,0,274,274,1366,5396,64208758.285060003,null,274,274,1366,5396,64208758.285060003]
[1367,274,null,998,null,0,0,0,{"$f":"IF(H1379>0, H1376/H1379, 0)","v":0},null,{"$f":"ROUND(J1379*I1376,0)","v":0},0,{"$f":"K1376-L1376","v":0},0,0,0,274,998,1367,0,0,null,274,998,1367,0,0]
[1368,274,null,998,null,0,0,0,{"$f":"IF(H1379>0, H1377/H1379, 0)","v":0},null,{"$f":"ROUND(J1379*I1377,0)","v":0},0,{"$f":"K1377-L1377","v":0},0,0,0,274,998,1368,0,0,null,274,998,1368,0,0]
[1369,274,null,998,null,0,0,0,{"$f":"IF(H1379>0, H1378/H1379, 0)","v":0},null,{"$f":"ROUND(J1379*I1378,0)","v":0},0,{"$f":"K1378-L1378","v":0},0,0,0,274,998,1369,0,0,null,274,998,1369,0,0]
[1370,274,"SOMERVILLE                   ",999,"TOTAL",62767269.546019986,1,{"$f":"SUM(H1375:H1378)","v":64208758.285060003},{"$f":"SUM(I1375:I1378)","v":1},{"$f":"VLOOKUP(B1379,town351,22)","v":52972226},{"$f":"SUM(K1375:K1378)","v":52972226},52703692,{"$f":"SUM(M1375:M1378)","v":268534},0.50951648700436392,5351,0,274,999,1370,5396,64208758.285060003,null,274,999,1370,5396,64208758.285060003]
[1371,275,"SOUTHAMPTON                  ",275,"SOUTHAMPTON",4598039.57,0.52147342688701581,{"$f":"U1380","v":4683286.6400000006},{"$f":"IF(H1384>0, H1380/H1384, 0)","v":0.52474148892490569},null,{"$f":"ROUND(J1384*I1380,0)","v":2974492},2840365,{"$f":"K1380-L1380","v":134127},4.7221747909159566,496,0,275,275,1371,490,4683286.6400000006,null,275,275,1371,490,4683286.6400000006]
[1372,275,"SOUTHAMPTON                  ",683,"HAMPSHIRE",4219360,0.47852657311298413,4241654,{"$f":"IF(H1384>0, H1381/H1384, 0)","v":0.47525851107509437},null,{"$f":"ROUND(J1384*I1381,0)","v":2693999},2606441,{"$f":"K1381-L1381","v":87558},3.3592933812812182,442,0,275,683,1372,431,4241654,null,275,683,1372,431,4241654]
[1373,275,null,998,null,0,0,0,{"$f":"IF(H1384>0, H1382/H1384, 0)","v":0},null,{"$f":"ROUND(J1384*I1382,0)","v":0},0,{"$f":"K1382-L1382","v":0},0,0,0,275,998,1373,0,0,null,275,998,1373,0,0]
[1374,275,null,998,null,0,0,0,{"$f":"IF(H1384>0, H1383/H1384, 0)","v":0},null,{"$f":"ROUND(J1384*I1383,0)","v":0},0,{"$f":"K1383-L1383","v":0},0,0,0,275,998,1374,0,0,null,275,998,1374,0,0]
[1375,275,"SOUTHAMPTON                  ",999,"TOTAL",8817399.5700000003,1,{"$f":"SUM(H1380:H1383)","v":8924940.6400000006},{"$f":"SUM(I1380:I1383)","v":1},{"$f":"VLOOKUP(B1384,town351,22)","v":5668491},{"$f":"SUM(K1380:K1383)","v":5668491},5446806,{"$f":"SUM(M1380:M1383)","v":221685},4.0699999228905899,938,0,275,999,1375,921,8924940.6400000006,null,275,999,1375,921,8924940.6400000006]
[1376,276,"SOUTHBOROUGH                 ",276,"SOUTHBOROUGH",11801364.191059999,0.64520690830590754,{"$f":"U1385","v":11574099.806239998},{"$f":"IF(H1389>0, H1385/H1389, 0)","v":0.63797339473569681},null,{"$f":"ROUND(J1389*I1385,0)","v":9548633},10384154,{"$f":"K1385-L1385","v":-835521},-8.0461152636989013,1323,0,276,276,1376,1274,11574099.806239998,null,276,276,1376,1274,11574099.806239998]
[1377,276,"SOUTHBOROUGH                 ",730,"NORTHBORO SOUTHBORO",6193219,0.3385970993487738,6349640,{"$f":"IF(H1389>0, H1386/H1389, 0)","v":0.34999710162906916},null,{"$f":"ROUND(J1389*I1386,0)","v":5238453},5449483,{"$f":"K1386-L1386","v":-211030},-3.8724774441905772,627,0,276,730,1377,630,6349640,null,276,730,1377,630,6349640]
[1378,276,"SOUTHBOROUGH                 ",801,"ASSABET VALLEY",296238,1.6195992345318655E-2,218239,{"$f":"IF(H1389>0, H1387/H1389, 0)","v":1.2029503635233875E-2},null,{"$f":"ROUND(J1389*I1387,0)","v":180047},260663,{"$f":"K1387-L1387","v":-80616},-30.927289258544558,18,0,276,801,1378,13,218239,null,276,801,1378,13,218239]
[1379,276,null,998,null,0,0,0,{"$f":"IF(H1389>0, H1388/H1389, 0)","v":0},null,{"$f":"ROUND(J1389*I1388,0)","v":0},0,{"$f":"K1388-L1388","v":0},0,0,0,276,998,1379,0,0,null,276,998,1379,0,0]
[1380,276,"SOUTHBOROUGH                 ",999,"TOTAL",18290821.191059999,1,{"$f":"SUM(H1385:H1388)","v":18141978.80624},{"$f":"SUM(I1385:I1388)","v":0.99999999999999989},{"$f":"VLOOKUP(B1389,town351,22)","v":14967133},{"$f":"SUM(K1385:K1388)","v":14967133},16094300,{"$f":"SUM(M1385:M1388)","v":-1127167},-7.0035167730190189,1968,0,276,999,1380,1917,18141978.80624,null,276,999,1380,1917,18141978.80624]
[1381,277,"SOUTHBRIDGE                  ",277,"SOUTHBRIDGE",26907889.430000003,0.9042910461090472,{"$f":"U1390","v":27590853.959999993},{"$f":"IF(H1394>0, H1390/H1394, 0)","v":0.91025968474154362},null,{"$f":"ROUND(J1394*I1390,0)","v":7681091},7788520,{"$f":"K1390-L1390","v":-107429},-1.3793249551904598,2432,0,277,277,1381,2437,27590853.959999993,null,277,277,1381,2437,27590853.959999993]
[1382,277,"SOUTHBRIDGE                  ",876,"SOUTHERN WORCESTER",2847895,9.5708953890952742E-2,2720116,{"$f":"IF(H1394>0, H1391/H1394, 0)","v":8.9740315258456368E-2},null,{"$f":"ROUND(J1394*I1391,0)","v":757260},824327,{"$f":"K1391-L1391","v":-67067},-8.1359703127521001,188,0,277,876,1382,177,2720116,null,277,876,1382,177,2720116]
[1383,277,null,998,null,0,0,0,{"$f":"IF(H1394>0, H1392/H1394, 0)","v":0},null,{"$f":"ROUND(J1394*I1392,0)","v":0},0,{"$f":"K1392-L1392","v":0},0,0,0,277,998,1383,0,0,null,277,998,1383,0,0]
[1384,277,null,998,null,0,0,0,{"$f":"IF(H1394>0, H1393/H1394, 0)","v":0},null,{"$f":"ROUND(J1394*I1393,0)","v":0},0,{"$f":"K1393-L1393","v":0},0,0,0,277,998,1384,0,0,null,277,998,1384,0,0]
[1385,277,"SOUTHBRIDGE                  ",999,"TOTAL",29755784.430000003,1,{"$f":"SUM(H1390:H1393)","v":30310969.959999993},{"$f":"SUM(I1390:I1393)","v":1},{"$f":"VLOOKUP(B1394,town351,22)","v":8438351},{"$f":"SUM(K1390:K1393)","v":8438351},8612847,{"$f":"SUM(M1390:M1393)","v":-174496},-2.0259967464881239,2620,0,277,999,1385,2614,30310969.959999993,null,277,999,1385,2614,30310969.959999993]
[1386,278,"SOUTH HADLEY                 ",278,"SOUTH HADLEY",19070528.080000002,1,{"$f":"U1395","v":19296183.16},{"$f":"IF(H1399>0, H1395/H1399, 0)","v":1},null,{"$f":"ROUND(J1399*I1395,0)","v":12744778},12680992,{"$f":"K1395-L1395","v":63786},0.50300481224181826,1934,0,278,278,1386,1921,19296183.16,null,278,278,1386,1921,19296183.16]
[1387,278,null,998,null,0,0,0,{"$f":"IF(H1399>0, H1396/H1399, 0)","v":0},null,{"$f":"ROUND(J1399*I1396,0)","v":0},0,{"$f":"K1396-L1396","v":0},0,0,0,278,998,1387,0,0,null,278,998,1387,0,0]
[1388,278,null,998,null,0,0,0,{"$f":"IF(H1399>0, H1397/H1399, 0)","v":0},null,{"$f":"ROUND(J1399*I1397,0)","v":0},0,{"$f":"K1397-L1397","v":0},0,0,0,278,998,1388,0,0,null,278,998,1388,0,0]
[1389,278,null,998,null,0,0,0,{"$f":"IF(H1399>0, H1398/H1399, 0)","v":0},null,{"$f":"ROUND(J1399*I1398,0)","v":0},0,{"$f":"K1398-L1398","v":0},0,0,0,278,998,1389,0,0,null,278,998,1389,0,0]
[1390,278,"SOUTH HADLEY                 ",999,"TOTAL",19070528.080000002,1,{"$f":"SUM(H1395:H1398)","v":19296183.16},{"$f":"SUM(I1395:I1398)","v":1},{"$f":"VLOOKUP(B1399,town351,22)","v":12744778},{"$f":"SUM(K1395:K1398)","v":12744778},12680992,{"$f":"SUM(M1395:M1398)","v":63786},0.50300481224181826,1934,0,278,999,1390,1921,19296183.16,null,278,999,1390,1921,19296183.16]
[1391,279,"SOUTHWICK                    ",279,"SOUTHWICK",0,0,{"$f":"U1400","v":0},{"$f":"IF(H1404>0, H1400/H1404, 0)","v":0},null,{"$f":"ROUND(J1404*I1400,0)","v":0},0,{"$f":"K1400-L1400","v":0},0,0,0,279,279,1391,0,0,null,279,279,1391,0,0]
[1392,279,"SOUTHWICK                    ",766,"SOUTHWICK TOLLAND",13646836,1,13547480,{"$f":"IF(H1404>0, H1401/H1404, 0)","v":1},null,{"$f":"ROUND(J1404*I1401,0)","v":8344603},8009794,{"$f":"K1401-L1401","v":334809},4.1799951409486935,1380,0,279,766,1392,1341,13547480,null,279,766,1392,1341,13547480]
[1393,279,null,998,null,0,0,0,{"$f":"IF(H1404>0, H1402/H1404, 0)","v":0},null,{"$f":"ROUND(J1404*I1402,0)","v":0},0,{"$f":"K1402-L1402","v":0},0,0,0,279,998,1393,0,0,null,279,998,1393,0,0]
[1394,279,null,998,null,0,0,0,{"$f":"IF(H1404>0, H1403/H1404, 0)","v":0},null,{"$f":"ROUND(J1404*I1403,0)","v":0},0,{"$f":"K1403-L1403","v":0},0,0,0,279,998,1394,0,0,null,279,998,1394,0,0]
[1395,279,"SOUTHWICK                    ",999,"TOTAL",13646836,1,{"$f":"SUM(H1400:H1403)","v":13547480},{"$f":"SUM(I1400:I1403)","v":1},{"$f":"VLOOKUP(B1404,town351,22)","v":8344603},{"$f":"SUM(K1400:K1403)","v":8344603},8009794,{"$f":"SUM(M1400:M1403)","v":334809},4.1799951409486935,1380,0,279,999,1395,1341,13547480,null,279,999,1395,1341,13547480]
[1396,280,"SPENCER                      ",280,"SPENCER",52019.6,2.8363353336612134E-3,{"$f":"U1405","v":79199.760000000009},{"$f":"IF(H1409>0, H1405/H1409, 0)","v":4.3460636640464704E-3},null,{"$f":"ROUND(J1409*I1405,0)","v":29599},18303,{"$f":"K1405-L1405","v":11296},61.716658471288859,4,0,280,280,1396,6,79199.760000000009,null,280,280,1396,6,79199.760000000009]
[1397,280,"SPENCER                      ",767,"SPENCER EAST BROOKFIELD",16273673,0.88731158521688902,15808214,{"$f":"IF(H1409>0, H1406/H1409, 0)","v":0.86747111934266852},null,{"$f":"ROUND(J1409*I1406,0)","v":5907839},5725754,{"$f":"K1406-L1406","v":182085},3.1801051878931577,1580,0,280,767,1397,1497,15808214,null,280,767,1397,1497,15808214]
[1398,280,"SPENCER                      ",876,"SOUTHERN WORCESTER",2014734,0.10985207944944966,2335918,{"$f":"IF(H1409>0, H1407/H1409, 0)","v":0.1281828169932851},null,{"$f":"ROUND(J1409*I1407,0)","v":872978},708867,{"$f":"K1407-L1407","v":164111},23.151169401312234,133,0,280,876,1398,152,2335918,null,280,876,1398,152,2335918]
[1399,280,null,998,null,0,0,0,{"$f":"IF(H1409>0, H1408/H1409, 0)","v":0},null,{"$f":"ROUND(J1409*I1408,0)","v":0},0,{"$f":"K1408-L1408","v":0},0,0,0,280,998,1399,0,0,null,280,998,1399,0,0]
[1400,280,"SPENCER                      ",999,"TOTAL",18340426.600000001,0.99999999999999989,{"$f":"SUM(H1405:H1408)","v":18223331.759999998},{"$f":"SUM(I1405:I1408)","v":1},{"$f":"VLOOKUP(B1409,town351,22)","v":6810416},{"$f":"SUM(K1405:K1408)","v":6810416},6452924,{"$f":"SUM(M1405:M1408)","v":357492},5.5400001611672476,1717,0,280,999,1400,1655,18223331.759999998,null,280,999,1400,1655,18223331.759999998]
[1401,281,"SPRINGFIELD                  ",281,"SPRINGFIELD",337653427.27999997,1,{"$f":"U1410","v":345592031.43000001},{"$f":"IF(H1414>0, H1410/H1414, 0)","v":1},null,{"$f":"ROUND(J1414*I1410,0)","v":36405937},36066908,{"$f":"K1410-L1410","v":339029},0.94000017966608063,28755,0,281,281,1401,28970,345592031.43000001,null,281,281,1401,28970,345592031.43000001]
[1402,281,null,998,null,0,0,0,{"$f":"IF(H1414>0, H1411/H1414, 0)","v":0},null,{"$f":"ROUND(J1414*I1411,0)","v":0},0,{"$f":"K1411-L1411","v":0},0,0,0,281,998,1402,0,0,null,281,998,1402,0,0]
[1403,281,null,998,null,0,0,0,{"$f":"IF(H1414>0, H1412/H1414, 0)","v":0},null,{"$f":"ROUND(J1414*I1412,0)","v":0},0,{"$f":"K1412-L1412","v":0},0,0,0,281,998,1403,0,0,null,281,998,1403,0,0]
[1404,281,null,998,null,0,0,0,{"$f":"IF(H1414>0, H1413/H1414, 0)","v":0},null,{"$f":"ROUND(J1414*I1413,0)","v":0},0,{"$f":"K1413-L1413","v":0},0,0,0,281,998,1404,0,0,null,281,998,1404,0,0]
[1405,281,"SPRINGFIELD                  ",999,"TOTAL",337653427.27999997,1,{"$f":"SUM(H1410:H1413)","v":345592031.43000001},{"$f":"SUM(I1410:I1413)","v":1},{"$f":"VLOOKUP(B1414,town351,22)","v":36405937},{"$f":"SUM(K1410:K1413)","v":36405937},36066908,{"$f":"SUM(M1410:M1413)","v":339029},0.94000017966608063,28755,0,281,999,1405,28970,345592031.43000001,null,281,999,1405,28970,345592031.43000001]
[1406,282,"STERLING                     ",282,"STERLING",0,0,{"$f":"U1415","v":0},{"$f":"IF(H1419>0, H1415/H1419, 0)","v":0},null,{"$f":"ROUND(J1419*I1415,0)","v":0},0,{"$f":"K1415-L1415","v":0},0,0,0,282,282,1406,0,0,null,282,282,1406,0,0]
[1407,282,"STERLING                     ",775,"WACHUSETT",11022885,0.92891207696053224,11021089,{"$f":"IF(H1419>0, H1416/H1419, 0)","v":0.91850062505208763},null,{"$f":"ROUND(J1419*I1416,0)","v":7833353},8061197,{"$f":"K1416-L1416","v":-227844},-2.8264288789865821,1222,0,282,775,1407,1184,11021089,null,282,775,1407,1184,11021089]
[1408,282,"STERLING                     ",832,"MONTACHUSETT",843561,7.108792303946776E-2,977911,{"$f":"IF(H1419>0, H1417/H1419, 0)","v":8.1499374947912331E-2},null,{"$f":"ROUND(J1419*I1417,0)","v":695060},616908,{"$f":"K1417-L1417","v":78152},12.668339525504614,56,0,282,832,1408,64,977911,null,282,832,1408,64,977911]
[1409,282,null,998,null,0,0,0,{"$f":"IF(H1419>0, H1418/H1419, 0)","v":0},null,{"$f":"ROUND(J1419*I1418,0)","v":0},0,{"$f":"K1418-L1418","v":0},0,0,{"$f":"ABS(Q1418-B1418)+ABS(R1418-D1418)","v":0},{"$f":"IF($Q$6=1, W1418, IF($Q$6=2, AC1418, IF($Q$6=3, AI1418, IF($Q$6=4, AO1418, IF($Q$6=5, AU1418, IF($Q$6=6, BA1418, IF($Q$6=7, BG1418, IF($Q$6=8, BM1418, 0))))))))","v":282},{"$f":"IF($Q$6=1, X1418, IF($Q$6=2, AD1418, IF($Q$6=3, AJ1418, IF($Q$6=4, AP1418, IF($Q$6=5, AV1418, IF($Q$6=6, BB1418, IF($Q$6=7, BH1418, IF($Q$6=8, BN1418, 0))))))))","v":998},{"$f":"IF($Q$6=1, Y1418, IF($Q$6=2, AE1418, IF($Q$6=3, AK1418, IF($Q$6=4, AQ1418, IF($Q$6=5, AW1418, IF($Q$6=6, BC1418, IF($Q$6=7, BI1418, IF($Q$6=8, BO1418, 0))))))))","v":1409},{"$f":"IF($Q$6=1, Z1418, IF($Q$6=2, AF1418, IF($Q$6=3, AL1418, IF($Q$6=4, AR1418, IF($Q$6=5, AX1418, IF($Q$6=6, BD1418, IF($Q$6=7, BJ1418, IF($Q$6=8, BP1418, 0))))))))","v":0},{"$f":"IF($Q$6=1, AA1418, IF($Q$6=2, AG1418, IF($Q$6=3, AM1418, IF($Q$6=4, AS1418, IF($Q$6=5, AY1418, IF($Q$6=6, BE1418, IF($Q$6=7, BK1418, IF($Q$6=8, BQ1418, 0))))))))","v":0},null,282,998,1409,0,0]
[1410,282,"STERLING                     ",999,"TOTAL",11866446,1,{"$f":"SUM(H1415:H1418)","v":11999000},{"$f":"SUM(I1415:I1418)","v":1},{"$f":"VLOOKUP(B1419,town351,22)","v":8528413},{"$f":"SUM(K1415:K1418)","v":8528413},8678105,{"$f":"SUM(M1415:M1418)","v":-149692},-1.7249387971221828,1278,0,282,999,1410,1248,11999000,null,282,999,1410,1248,11999000]
[1411,283,"STOCKBRIDGE                  ",283,"STOCKBRIDGE",0,0,{"$f":"U1420","v":0},{"$f":"IF(H1424>0, H1420/H1424, 0)","v":0},null,{"$f":"ROUND(J1424*I1420,0)","v":0},0,{"$f":"K1420-L1420","v":0},0,0,0,283,283,1411,0,0,null,283,283,1411,0,0]
[1412,283,"STOCKBRIDGE                  ",618,"BERKSHIRE HILLS",1510370,1,1521419,{"$f":"IF(H1424>0, H1421/H1424, 0)","v":1},null,{"$f":"ROUND(J1424*I1421,0)","v":1255171},1359333,{"$f":"K1421-L1421","v":-104162},-7.6627287059167992,151,0,283,618,1412,152,1521419,null,283,618,1412,152,1521419]
[1413,283,null,998,null,0,0,0,{"$f":"IF(H1424>0, H1422/H1424, 0)","v":0},null,{"$f":"ROUND(J1424*I1422,0)","v":0},0,{"$f":"K1422-L1422","v":0},0,0,0,283,998,1413,0,0,null,283,998,1413,0,0]
[1414,283,null,998,null,0,0,0,{"$f":"IF(H1424>0, H1423/H1424, 0)","v":0},null,{"$f":"ROUND(J1424*I1423,0)","v":0},0,{"$f":"K1423-L1423","v":0},0,0,0,283,998,1414,0,0,null,283,998,1414,0,0]
[1415,283,"STOCKBRIDGE                  ",999,"TOTAL",1510370,1,{"$f":"SUM(H1420:H1423)","v":1521419},{"$f":"SUM(I1420:I1423)","v":1},{"$f":"VLOOKUP(B1424,town351,22)","v":1255171},{"$f":"SUM(K1420:K1423)","v":1255171},1359333,{"$f":"SUM(M1420:M1423)","v":-104162},{"$f":"IF(L1424>0,M1424*100/L1424,IF(M1424>0,100,0))","v":-7.6627287059167992},151,0,283,999,1415,152,1521419,null,283,999,1415,152,1521419]
[1416,284,"STONEHAM                     ",284,"STONEHAM",22756236.458160002,0.9502562555469044,{"$f":"U1425","v":23623782.041999996},{"$f":"IF(H1429>0, H1425/H1429, 0)","v":0.95265924603923591},null,{"$f":"ROUND(J1429*I1425,0)","v":19489620},19732979,{"$f":"K1425-L1425","v":-243359},-1.2332603201979793,2339,0,284,284,1416,2378,23623782.041999996,null,284,284,1416,2378,23623782.041999996]
[1417,284,"STONEHAM                     ",853,"NORTHEAST METROPOLITAN",1191237,4.9743744453095574E-2,1173943,{"$f":"IF(H1429>0, H1426/H1429, 0)","v":4.7340753960764086E-2},null,{"$f":"ROUND(J1429*I1426,0)","v":968503},1032976,{"$f":"K1426-L1426","v":-64473},-6.241480925016651,73,0,284,853,1417,71,1173943,null,284,853,1417,71,1173943]
[1418,284,null,998,"ESSEX COUNTY",0,0,0,{"$f":"IF(H1429>0, H1427/H1429, 0)","v":0},null,{"$f":"ROUND(J1429*I1427,0)","v":0},0,{"$f":"K1427-L1427","v":0},0,0,0,284,998,1418,0,0,null,284,998,1418,0,0]
[1419,284,null,998,null,0,0,0,{"$f":"IF(H1429>0, H1428/H1429, 0)","v":0},null,{"$f":"ROUND(J1429*I1428,0)","v":0},0,{"$f":"K1428-L1428","v":0},0,0,0,284,998,1419,0,0,null,284,998,1419,0,0]
[1420,284,"STONEHAM                     ",999,"TOTAL",23947473.458160002,1,{"$f":"SUM(H1425:H1428)","v":24797725.041999996},{"$f":"SUM(I1425:I1428)","v":1},{"$f":"VLOOKUP(B1429,town351,22)","v":20458123},{"$f":"SUM(K1425:K1428)","v":20458123},20765955,{"$f":"SUM(M1425:M1428)","v":-307832},-1.4823878795846375,2412,0,284,999,1420,2449,24797725.041999996,null,284,999,1420,2449,24797725.041999996]
[1421,285,"STOUGHTON                    ",285,"STOUGHTON",37491590.603239998,0.94227284301677205,{"$f":"U1430","v":38474628.719349995},{"$f":"IF(H1434>0, H1430/H1434, 0)","v":0.94051076921015364},null,{"$f":"ROUND(J1434*I1430,0)","v":22627873},23503750,{"$f":"K1430-L1430","v":-875877},-3.7265415093336172,3696,0,285,285,1421,3724,38474628.719349995,null,285,285,1421,3724,38474628.719349995]
[1422,285,"STOUGHTON                    ",872,"SOUTHEASTERN",2128991,5.3507743204518926E-2,2183230,{"$f":"IF(H1434>0, H1431/H1434, 0)","v":5.3368970540058638E-2},null,{"$f":"ROUND(J1434*I1431,0)","v":1284011},1334680,{"$f":"K1431-L1431","v":-50669},-3.7963406958971437,136,0,285,872,1422,137,2183230,null,285,872,1422,137,2183230]
[1423,285,"STOUGHTON                    ",915,"NORFOLK COUNTY",167884,4.2194137787090009E-3,250369,{"$f":"IF(H1434>0, H1432/H1434, 0)","v":6.1202602497876729E-3},null,{"$f":"ROUND(J1434*I1432,0)","v":147248},105248,{"$f":"K1432-L1432","v":42000},39.90574642748556,11,0,285,915,1423,16,250369,null,285,915,1423,16,250369]
[1424,285,null,998,null,0,0,0,{"$f":"IF(H1434>0, H1433/H1434, 0)","v":0},null,{"$f":"ROUND(J1434*I1433,0)","v":0},0,{"$f":"K1433-L1433","v":0},0,0,0,285,998,1424,0,0,null,285,998,1424,0,0]
[1425,285,"STOUGHTON                    ",999,"TOTAL",39788465.603239998,1,{"$f":"SUM(H1430:H1433)","v":40908227.719349995},{"$f":"SUM(I1430:I1433)","v":0.99999999999999989},{"$f":"VLOOKUP(B1434,town351,22)","v":24059132},{"$f":"SUM(K1430:K1433)","v":24059132},24943678,{"$f":"SUM(M1430:M1433)","v":-884546},-3.5461731024590679,3843,0,285,999,1425,3877,40908227.719349995,null,285,999,1425,3877,40908227.719349995]
[1426,286,"STOW                         ",286,"STOW",0,0,{"$f":"U1435","v":13655.815820000002},{"$f":"IF(H1439>0, H1435/H1439, 0)","v":1.0939326392033631E-3},null,{"$f":"ROUND(J1439*I1435,0)","v":11266},0,{"$f":"K1435-L1435","v":11266},100,0,0,286,286,1426,1,13655.815820000002,null,286,286,1426,1,13655.815820000002]
[1427,286,"STOW                         ",725,"NASHOBA",11544558,0.96933785937824313,12164701,{"$f":"IF(H1439>0, H1436/H1439, 0)","v":0.97448322718003588},null,{"$f":"ROUND(J1439*I1436,0)","v":10035878},9917354,{"$f":"K1436-L1436","v":118524},1.1951171653245412,1248,0,286,725,1427,1289,12164701,null,286,725,1427,1289,12164701]
[1428,286,"STOW                         ",830,"MINUTEMAN",365178,3.0662140621756855E-2,304876,{"$f":"IF(H1439>0, H1437/H1439, 0)","v":2.4422840180760762E-2},null,{"$f":"ROUND(J1439*I1437,0)","v":251523},313706,{"$f":"K1437-L1437","v":-62183},-19.822062695644966,22,0,286,830,1428,18,304876,null,286,830,1428,18,304876]
[1429,286,null,998,null,0,0,0,{"$f":"IF(H1439>0, H1438/H1439, 0)","v":0},null,{"$f":"ROUND(J1439*I1438,0)","v":0},0,{"$f":"K1438-L1438","v":0},0,0,0,286,998,1429,0,0,null,286,998,1429,0,0]
[1430,286,"STOW                         ",999,"TOTAL",11909736,1,{"$f":"SUM(H1435:H1438)","v":12483232.815819999},{"$f":"SUM(I1435:I1438)","v":1},{"$f":"VLOOKUP(B1439,town351,22)","v":10298667},{"$f":"SUM(K1435:K1438)","v":10298667},10231060,{"$f":"SUM(M1435:M1438)","v":67607},0.66080152007709858,1270,0,286,999,1430,1308,12483232.815819999,null,286,999,1430,1308,12483232.815819999]
[1431,287,"STURBRIDGE                   ",287,"STURBRIDGE",8029576.1899999995,0.49033971202504412,{"$f":"U1440","v":8483866.0799999982},{"$f":"IF(H1444>0, H1440/H1444, 0)","v":0.49316949123894976},null,{"$f":"ROUND(J1444*I1440,0)","v":4796546},4960281,{"$f":"K1440-L1440","v":-163735},-3.3009218630960624,911,0,287,287,1431,934,8483866.0799999982,null,287,287,1431,934,8483866.0799999982]
[1432,287,"STURBRIDGE                   ",770,"TANTASQUA",8345961,0.50966028797495588,8718873,{"$f":"IF(H1444>0, H1441/H1444, 0)","v":0.50683050876105018},null,{"$f":"ROUND(J1444*I1441,0)","v":4929413},5155728,{"$f":"K1441-L1441","v":-226315},-4.3895837794391017,759,0,287,770,1432,772,8718873,null,287,770,1432,772,8718873]
[1433,287,null,998,null,0,0,0,{"$f":"IF(H1444>0, H1442/H1444, 0)","v":0},null,{"$f":"ROUND(J1444*I1442,0)","v":0},0,{"$f":"K1442-L1442","v":0},0,0,0,287,998,1433,0,0,null,287,998,1433,0,0]
[1434,287,null,998,null,0,0,0,{"$f":"IF(H1444>0, H1443/H1444, 0)","v":0},null,{"$f":"ROUND(J1444*I1443,0)","v":0},0,{"$f":"K1443-L1443","v":0},0,0,0,287,998,1434,0,0,null,287,998,1434,0,0]
[1435,287,"STURBRIDGE                   ",999,"TOTAL",16375537.189999999,1,{"$f":"SUM(H1440:H1443)","v":17202739.079999998},{"$f":"SUM(I1440:I1443)","v":1},{"$f":"VLOOKUP(B1444,town351,22)","v":9725959},{"$f":"SUM(K1440:K1443)","v":9725959},10116009,{"$f":"SUM(M1440:M1443)","v":-390050},-3.855769602419294,1670,0,287,999,1435,1706,17202739.079999998,null,287,999,1435,1706,17202739.079999998]
[1436,288,"SUDBURY                      ",288,"SUDBURY",24443508.479559995,0.61422246575688533,{"$f":"U1445","v":24450575.494369991},{"$f":"IF(H1449>0, H1445/H1449, 0)","v":0.61556643506352149},null,{"$f":"ROUND(J1449*I1445,0)","v":20171725},21216573,{"$f":"K1445-L1445","v":-1044848},-4.9246784577320755,2766,0,288,288,1436,2727,24450575.494369991,null,288,288,1436,2727,24450575.494369991]
[1437,288,"SUDBURY                      ",695,"LINCOLN SUDBURY",14987169,0.3766012520499209,14812559,{"$f":"IF(H1449>0, H1446/H1449, 0)","v":0.37292022594305091},null,{"$f":"ROUND(J1449*I1446,0)","v":12220361},13008622,{"$f":"K1446-L1446","v":-788261},-6.0595272889011609,1454,0,288,695,1437,1412,14812559,null,288,695,1437,1412,14812559]
[1438,288,"SUDBURY                      ",830,"MINUTEMAN",365178,9.1762821931937917E-3,457315,{"$f":"IF(H1449>0, H1447/H1449, 0)","v":1.1513338993427559E-2},null,{"$f":"ROUND(J1449*I1447,0)","v":377285},316969,{"$f":"K1447-L1447","v":60316},19.028990216708891,22,0,288,830,1438,27,457315,null,288,830,1438,27,457315]
[1439,288,null,998,null,0,0,0,{"$f":"IF(H1449>0, H1448/H1449, 0)","v":0},null,{"$f":"ROUND(J1449*I1448,0)","v":0},0,{"$f":"K1448-L1448","v":0},0,0,0,288,998,1439,0,0,null,288,998,1439,0,0]
[1440,288,"SUDBURY                      ",999,"TOTAL",39795855.479559995,1,{"$f":"SUM(H1445:H1448)","v":39720449.494369991},{"$f":"SUM(I1445:I1448)","v":0.99999999999999989},{"$f":"VLOOKUP(B1449,town351,22)","v":32769371},{"$f":"SUM(K1445:K1448)","v":32769371},34542164,{"$f":"SUM(M1445:M1448)","v":-1772793},-5.1322580716135793,4242,0,288,999,1440,4166,39720449.494369991,null,288,999,1440,4166,39720449.494369991]
[1441,289,"SUNDERLAND                   ",289,"SUNDERLAND",1659835.8300000003,0.50467982221217256,{"$f":"U1450","v":1744222.4},{"$f":"IF(H1454>0, H1450/H1454, 0)","v":0.52792890237115186},null,{"$f":"ROUND(J1454*I1450,0)","v":1415305},1346071,{"$f":"K1450-L1450","v":69234},5.1434136832306763,173,0,289,289,1441,175,1744222.4,null,289,289,1441,175,1744222.4]
[1442,289,"SUNDERLAND                   ",670,"FRONTIER",1488649,0.45262977161803308,1400735,{"$f":"IF(H1454>0, H1451/H1454, 0)","v":0.42396456499059715},null,{"$f":"ROUND(J1454*I1451,0)","v":1136590},1207244,{"$f":"K1451-L1451","v":-70654},-5.8525037192150053,150,0,289,670,1442,140,1400735,null,289,670,1442,140,1400735]
[1443,289,"SUNDERLAND                   ",818,"FRANKLIN COUNTY",140404,4.2690406169794436E-2,158939,{"$f":"IF(H1454>0, H1452/H1454, 0)","v":4.8106532638251008E-2},null,{"$f":"ROUND(J1454*I1452,0)","v":128967},113863,{"$f":"K1452-L1452","v":15104},13.265064156047179,9,0,289,818,1443,10,158939,null,289,818,1443,10,158939]
[1444,289,null,998,null,0,0,0,{"$f":"IF(H1454>0, H1453/H1454, 0)","v":0},null,{"$f":"ROUND(J1454*I1453,0)","v":0},0,{"$f":"K1453-L1453","v":0},0,0,0,289,998,1444,0,0,null,289,998,1444,0,0]
[1445,289,"SUNDERLAND                   ",999,"TOTAL",3288888.83,1,{"$f":"SUM(H1450:H1453)","v":3303896.4},{"$f":"SUM(I1450:I1453)","v":1},{"$f":"VLOOKUP(B1454,town351,22)","v":2680862},{"$f":"SUM(K1450:K1453)","v":2680862},2667178,{"$f":"SUM(M1450:M1453)","v":13684},0.5130516223514141,332,0,289,999,1445,325,3303896.4,null,289,999,1445,325,3303896.4]
[1446,290,"SUTTON                       ",290,"SUTTON",13581958.960000001,0.91367955694326797,{"$f":"U1455","v":13719822.630000001},{"$f":"IF(H1459>0, H1455/H1459, 0)","v":0.90697262484502905},null,{"$f":"ROUND(J1459*I1455,0)","v":9693543},9692460,{"$f":"K1455-L1455","v":1083},1.1173633938133353E-2,1511,0,290,290,1446,1490,13719822.630000001,null,290,290,1446,1490,13719822.630000001]
[1447,290,"SUTTON                       ",805,"BLACKSTONE VALLEY",1283164,8.6320443056732032E-2,1407230,{"$f":"IF(H1459>0, H1456/H1459, 0)","v":9.3027375154970948E-2},null,{"$f":"ROUND(J1459*I1456,0)","v":994258},915701,{"$f":"K1456-L1456","v":78557},8.5788920182461297,86,0,290,805,1447,93,1407230,null,290,805,1447,93,1407230]
[1448,290,null,998,null,0,0,0,{"$f":"IF(H1459>0, H1457/H1459, 0)","v":0},null,{"$f":"ROUND(J1459*I1457,0)","v":0},0,{"$f":"K1457-L1457","v":0},0,0,0,290,998,1448,0,0,null,290,998,1448,0,0]
[1449,290,null,998,null,0,0,0,{"$f":"IF(H1459>0, H1458/H1459, 0)","v":0},null,{"$f":"ROUND(J1459*I1458,0)","v":0},0,{"$f":"K1458-L1458","v":0},0,0,0,290,998,1449,0,0,null,290,998,1449,0,0]
[1450,290,"SUTTON                       ",999,"TOTAL",14865122.960000001,1,{"$f":"SUM(H1455:H1458)","v":15127052.630000001},{"$f":"SUM(I1455:I1458)","v":1},{"$f":"VLOOKUP(B1459,town351,22)","v":10687801},{"$f":"SUM(K1455:K1458)","v":10687801},10608161,{"$f":"SUM(M1455:M1458)","v":79640},0.75074275362148069,1597,0,290,999,1450,1583,15127052.630000001,null,290,999,1450,1583,15127052.630000001]
[1451,291,"SWAMPSCOTT                   ",291,"SWAMPSCOTT",19890269.34,0.97855945732403393,{"$f":"U1460","v":20062283.009999998},{"$f":"IF(H1464>0, H1460/H1464, 0)","v":0.98026984354881908},null,{"$f":"ROUND(J1464*I1460,0)","v":16551384},16959906,{"$f":"K1460-L1460","v":-408522},-2.4087515579390595,2143,0,291,291,1451,2120,20062283.009999998,null,291,291,1451,2120,20062283.009999998]
[1452,291,"SWAMPSCOTT                   ",817,"ESSEX NORTH SHORE",435802,2.144054267596603E-2,403799,{"$f":"IF(H1464>0, H1461/H1464, 0)","v":1.9730156451180959E-2},null,{"$f":"ROUND(J1464*I1461,0)","v":333134},371597,{"$f":"K1461-L1461","v":-38463},-10.350729419236432,28,0,291,817,1452,26,403799,null,291,817,1452,26,403799]
[1453,291,null,998,"ESSEX COUNTY",0,0,0,{"$f":"IF(H1464>0, H1462/H1464, 0)","v":0},null,{"$f":"ROUND(J1464*I1462,0)","v":0},0,{"$f":"K1462-L1462","v":0},0,0,0,291,998,1453,0,0,null,291,998,1453,0,0]
[1454,291,null,998,null,0,0,0,{"$f":"IF(H1464>0, H1463/H1464, 0)","v":0},null,{"$f":"ROUND(J1464*I1463,0)","v":0},0,{"$f":"K1463-L1463","v":0},0,0,0,291,998,1454,0,0,null,291,998,1454,0,0]
[1455,291,"SWAMPSCOTT                   ",999,"TOTAL",20326071.34,1,{"$f":"SUM(H1460:H1463)","v":20466082.009999998},{"$f":"SUM(I1460:I1463)","v":1},{"$f":"VLOOKUP(B1464,town351,22)","v":16884518},{"$f":"SUM(K1460:K1463)","v":16884518},17331503,{"$f":"SUM(M1460:M1463)","v":-446985},-2.5790319512393127,2171,0,291,999,1455,2146,20466082.009999998,null,291,999,1455,2146,20466082.009999998]
[1456,292,"SWANSEA                      ",292,"SWANSEA",19734625.710000001,0.90137278326025194,{"$f":"U1465","v":20558168.07},{"$f":"IF(H1469>0, H1465/H1469, 0)","v":0.9039521533972612},null,{"$f":"ROUND(J1469*I1465,0)","v":13116615},13253165,{"$f":"K1465-L1465","v":-136550},-1.030319927353202,2060,0,292,292,1456,2076,20558168.07,null,292,292,1456,2076,20558168.07]
[1457,292,"SWANSEA                      ",821,"GREATER FALL RIVER",1949608,8.9047728345614169E-2,1910651,{"$f":"IF(H1469>0, H1466/H1469, 0)","v":8.4012207700597447E-2},null,{"$f":"ROUND(J1469*I1466,0)","v":1219042},1309297,{"$f":"K1466-L1466","v":-90255},-6.8933939358296854,127,0,292,821,1457,121,1910651,null,292,821,1457,121,1910651]
[1458,292,"SWANSEA                      ",910,"BRISTOL COUNTY",209733,9.5794883941339466E-3,273721,{"$f":"IF(H1469>0, H1467/H1469, 0)","v":1.203563890214133E-2},null,{"$f":"ROUND(J1469*I1467,0)","v":174641},140850,{"$f":"K1467-L1467","v":33791},23.990770323038692,14,0,292,910,1458,18,273721,null,292,910,1458,18,273721]
[1459,292,null,998,null,0,0,0,{"$f":"IF(H1469>0, H1468/H1469, 0)","v":0},null,{"$f":"ROUND(J1469*I1468,0)","v":0},0,{"$f":"K1468-L1468","v":0},0,0,0,292,998,1459,0,0,null,292,998,1459,0,0]
[1460,292,"SWANSEA                      ",999,"TOTAL",21893966.710000001,1,{"$f":"SUM(H1465:H1468)","v":22742540.07},{"$f":"SUM(I1465:I1468)","v":1},{"$f":"VLOOKUP(B1469,town351,22)","v":14510298},{"$f":"SUM(K1465:K1468)","v":14510298},14703312,{"$f":"SUM(M1465:M1468)","v":-193014},-1.3127246432640483,2201,0,292,999,1460,2215,22742540.07,null,292,999,1460,2215,22742540.07]
[1461,293,"TAUNTON                      ",293,"TAUNTON",83736224.63000001,0.8912346479774349,{"$f":"U1470","v":86795145.73999998},{"$f":"IF(H1474>0, H1470/H1474, 0)","v":0.89647863817325157},null,{"$f":"ROUND(J1474*I1470,0)","v":32271814},33362611,{"$f":"K1470-L1470","v":-1090797},-3.2695192831280502,7851,0,293,293,1461,7916,86795145.73999998,null,293,293,1461,7916,86795145.73999998]
[1462,293,"TAUNTON                      ",810,"BRISTOL PLYMOUTH",9514977,0.10127131017165836,9338416,{"$f":"IF(H1474>0, H1471/H1474, 0)","v":9.6453440880820682E-2},null,{"$f":"ROUND(J1474*I1471,0)","v":3472171},3791005,{"$f":"K1471-L1471","v":-318834},-8.4102764306562516,631,0,293,810,1462,605,9338416,null,293,810,1462,605,9338416]
[1463,293,"TAUNTON                      ",910,"BRISTOL COUNTY",704105,7.4940418509067868E-3,684301,{"$f":"IF(H1474>0, H1472/H1474, 0)","v":7.0679209459277113E-3},null,{"$f":"ROUND(J1474*I1472,0)","v":254434},280533,{"$f":"K1472-L1472","v":-26099},-9.3033618148310531,47,0,293,910,1463,45,684301,null,293,910,1463,45,684301]
[1464,293,null,998,null,0,0,0,{"$f":"IF(H1474>0, H1473/H1474, 0)","v":0},null,{"$f":"ROUND(J1474*I1473,0)","v":0},0,{"$f":"K1473-L1473","v":0},0,0,0,293,998,1464,0,0,null,293,998,1464,0,0]
[1465,293,"TAUNTON                      ",999,"TOTAL",93955306.63000001,1,{"$f":"SUM(H1470:H1473)","v":96817862.73999998},{"$f":"SUM(I1470:I1473)","v":0.99999999999999989},{"$f":"VLOOKUP(B1474,town351,22)","v":35998419},{"$f":"SUM(K1470:K1473)","v":35998419},37434149,{"$f":"SUM(M1470:M1473)","v":-1435730},-3.8353483072367962,8529,0,293,999,1465,8566,96817862.73999998,null,293,999,1465,8566,96817862.73999998]
[1466,294,"TEMPLETON                    ",294,"TEMPLETON",0,0,{"$f":"U1475","v":0},{"$f":"IF(H1479>0, H1475/H1479, 0)","v":0},null,{"$f":"ROUND(J1479*I1475,0)","v":0},0,{"$f":"K1475-L1475","v":0},0,0,0,294,294,1466,0,0,null,294,294,1466,0,0]
[1467,294,"TEMPLETON                    ",720,"NARRAGANSETT",10573982,0.87421486706851625,10934072,{"$f":"IF(H1479>0, H1476/H1479, 0)","v":0.87846605764158403},null,{"$f":"ROUND(J1479*I1476,0)","v":3947028},3751960,{"$f":"K1476-L1476","v":195068},5.1990959391891174,1078,0,294,720,1467,1088,10934072,null,294,720,1467,1088,10934072]
[1468,294,"TEMPLETON                    ",832,"MONTACHUSETT",1521422,0.12578513293148372,1512706,{"$f":"IF(H1479>0, H1477/H1479, 0)","v":0.12153394235841597},null,{"$f":"ROUND(J1479*I1477,0)","v":546063},539845,{"$f":"K1477-L1477","v":6218},1.1518120942122276,101,0,294,832,1468,99,1512706,null,294,832,1468,99,1512706]
[1469,294,null,998,null,0,0,0,{"$f":"IF(H1479>0, H1478/H1479, 0)","v":0},null,{"$f":"ROUND(J1479*I1478,0)","v":0},0,{"$f":"K1478-L1478","v":0},0,0,0,294,998,1469,0,0,null,294,998,1469,0,0]
[1470,294,"TEMPLETON                    ",999,"TOTAL",12095404,1,{"$f":"SUM(H1475:H1478)","v":12446778},{"$f":"SUM(I1475:I1478)","v":1},{"$f":"VLOOKUP(B1479,town351,22)","v":4493091},{"$f":"SUM(K1475:K1478)","v":4493091},4291805,{"$f":"SUM(M1475:M1478)","v":201286},4.6900080502259538,1179,0,294,999,1470,1187,12446778,null,294,999,1470,1187,12446778]
[1471,295,"TEWKSBURY                    ",295,"TEWKSBURY",35271376.15231999,0.85435919279901418,{"$f":"U1480","v":34761232.521389998},{"$f":"IF(H1484>0, H1480/H1484, 0)","v":0.86352972881790779},null,{"$f":"ROUND(J1484*I1480,0)","v":26303220},26187077,{"$f":"K1480-L1480","v":116143},0.44351265320677064,3737,0,295,295,1471,3635,34761232.521389998,null,295,295,1471,3635,34761232.521389998]
[1472,295,"TEWKSBURY                    ",871,"SHAWSHEEN VALLEY",6012637,0.14564080720098585,5493586,{"$f":"IF(H1484>0, H1481/H1484, 0)","v":0.13647027118209218},null,{"$f":"ROUND(J1484*I1481,0)","v":4156901},4464056,{"$f":"K1481-L1481","v":-307155},-6.880626049494003,402,0,295,871,1472,365,5493586,null,295,871,1472,365,5493586]
[1473,295,null,998,"ESSEX COUNTY",0,0,0,{"$f":"IF(H1484>0, H1482/H1484, 0)","v":0},null,{"$f":"ROUND(J1484*I1482,0)","v":0},0,{"$f":"K1482-L1482","v":0},0,0,{"$f":"ABS(Q1482-B1482)+ABS(R1482-D1482)","v":0},{"$f":"IF($Q$6=1, W1482, IF($Q$6=2, AC1482, IF($Q$6=3, AI1482, IF($Q$6=4, AO1482, IF($Q$6=5, AU1482, IF($Q$6=6, BA1482, IF($Q$6=7, BG1482, IF($Q$6=8, BM1482, 0))))))))","v":295},{"$f":"IF($Q$6=1, X1482, IF($Q$6=2, AD1482, IF($Q$6=3, AJ1482, IF($Q$6=4, AP1482, IF($Q$6=5, AV1482, IF($Q$6=6, BB1482, IF($Q$6=7, BH1482, IF($Q$6=8, BN1482, 0))))))))","v":998},{"$f":"IF($Q$6=1, Y1482, IF($Q$6=2, AE1482, IF($Q$6=3, AK1482, IF($Q$6=4, AQ1482, IF($Q$6=5, AW1482, IF($Q$6=6, BC1482, IF($Q$6=7, BI1482, IF($Q$6=8, BO1482, 0))))))))","v":1473},{"$f":"IF($Q$6=1, Z1482, IF($Q$6=2, AF1482, IF($Q$6=3, AL1482, IF($Q$6=4, AR1482, IF($Q$6=5, AX1482, IF($Q$6=6, BD1482, IF($Q$6=7, BJ1482, IF($Q$6=8, BP1482, 0))))))))","v":0},{"$f":"IF($Q$6=1, AA1482, IF($Q$6=2, AG1482, IF($Q$6=3, AM1482, IF($Q$6=4, AS1482, IF($Q$6=5, AY1482, IF($Q$6=6, BE1482, IF($Q$6=7, BK1482, IF($Q$6=8, BQ1482, 0))))))))","v":0},null,295,998,1473,0,0]
[1474,295,null,998,null,0,0,0,{"$f":"IF(H1484>0, H1483/H1484, 0)","v":0},null,{"$f":"ROUND(J1484*I1483,0)","v":0},0,{"$f":"K1483-L1483","v":0},0,0,0,295,998,1474,0,0,null,295,998,1474,0,0]
[1475,295,"TEWKSBURY                    ",999,"TOTAL",41284013.15231999,1,{"$f":"SUM(H1480:H1483)","v":40254818.521389998},{"$f":"SUM(I1480:I1483)","v":1},{"$f":"VLOOKUP(B1484,town351,22)","v":30460121},{"$f":"SUM(K1480:K1483)","v":30460121},30651133,{"$f":"SUM(M1480:M1483)","v":-191012},-0.62318087882754614,4139,0,295,999,1475,4000,40254818.521389998,null,295,999,1475,4000,40254818.521389998]
[1476,296,"TISBURY                      ",296,"TISBURY",3448541.2399999993,0.65807658100831368,{"$f":"U1485","v":3757350.99},{"$f":"IF(H1489>0, H1485/H1489, 0)","v":0.66791425910468438},null,{"$f":"ROUND(J1489*I1485,0)","v":3099815},3079391,{"$f":"K1485-L1485","v":20424},0.66324802534007532,364,0,296,296,1476,378,3757350.99,null,296,296,1476,378,3757350.99]
[1477,296,"TISBURY                      ",700,"MARTHAS VINEYARD",1791793,0.34192341899168632,1868148,{"$f":"IF(H1489>0, H1486/H1489, 0)","v":0.33208574089531567},null,{"$f":"ROUND(J1489*I1486,0)","v":1541222},1599990,{"$f":"K1486-L1486","v":-58768},-3.6730229563934773,161,0,296,700,1477,164,1868148,null,296,700,1477,164,1868148]
[1478,296,null,998,null,0,0,0,{"$f":"IF(H1489>0, H1487/H1489, 0)","v":0},null,{"$f":"ROUND(J1489*I1487,0)","v":0},0,{"$f":"K1487-L1487","v":0},0,0,0,296,998,1478,0,0,null,296,998,1478,0,0]
[1479,296,null,998,null,0,0,0,{"$f":"IF(H1489>0, H1488/H1489, 0)","v":0},null,{"$f":"ROUND(J1489*I1488,0)","v":0},0,{"$f":"K1488-L1488","v":0},{"$f":"IF(L1488>0,M1488*100/L1488,IF(M1488>0,100,0))","v":0},0,0,296,998,1479,0,0,null,296,998,1479,0,0]
[1480,296,"TISBURY                      ",999,"TOTAL",5240334.2399999993,1,{"$f":"SUM(H1485:H1488)","v":5625498.9900000002},{"$f":"SUM(I1485:I1488)","v":1},{"$f":"VLOOKUP(B1489,town351,22)","v":4641037},{"$f":"SUM(K1485:K1488)","v":4641037},4679381,{"$f":"SUM(M1485:M1488)","v":-38344},{"$f":"IF(L1489>0,M1489*100/L1489,IF(M1489>0,100,0))","v":-0.81942462047864872},525,0,296,999,1480,542,5625498.9900000002,null,296,999,1480,542,5625498.9900000002]
[1481,297,"TOLLAND                      ",297,"TOLLAND",0,0,{"$f":"U1490","v":0},{"$f":"IF(H1494>0, H1490/H1494, 0)","v":0},null,{"$f":"ROUND(J1494*I1490,0)","v":0},0,{"$f":"K1490-L1490","v":0},0,0,0,297,297,1481,0,0,null,297,297,1481,0,0]
[1482,297,"TOLLAND                      ",766,"SOUTHWICK TOLLAND",626184,1,559813,{"$f":"IF(H1494>0, H1491/H1494, 0)","v":1},null,{"$f":"ROUND(J1494*I1491,0)","v":411508},386537,{"$f":"K1491-L1491","v":24971},6.4601836305450711,63,0,297,766,1482,55,559813,null,297,766,1482,55,559813]
[1483,297,null,998,null,0,0,0,{"$f":"IF(H1494>0, H1492/H1494, 0)","v":0},null,{"$f":"ROUND(J1494*I1492,0)","v":0},0,{"$f":"K1492-L1492","v":0},0,0,0,297,998,1483,0,0,null,297,998,1483,0,0]
[1484,297,null,998,null,0,0,0,{"$f":"IF(H1494>0, H1493/H1494, 0)","v":0},null,{"$f":"ROUND(J1494*I1493,0)","v":0},0,{"$f":"K1493-L1493","v":0},0,0,0,297,998,1484,0,0,null,297,998,1484,0,0]
[1485,297,"TOLLAND                      ",999,"TOTAL",626184,1,{"$f":"SUM(H1490:H1493)","v":559813},{"$f":"SUM(I1490:I1493)","v":1},{"$f":"VLOOKUP(B1494,town351,22)","v":411508},{"$f":"SUM(K1490:K1493)","v":411508},386537,{"$f":"SUM(M1490:M1493)","v":24971},6.4601836305450711,63,0,297,999,1485,55,559813,null,297,999,1485,55,559813]
[1486,298,"TOPSFIELD                    ",298,"TOPSFIELD",4950981.2964300001,0.47887229396253839,{"$f":"U1495","v":4876256.0624799998},{"$f":"IF(H1499>0, H1495/H1499, 0)","v":0.47803661891867566},null,{"$f":"ROUND(J1499*I1495,0)","v":4022911},4373961,{"$f":"K1495-L1495","v":-351050},-8.0259060380282303,572,0,298,298,1486,558,4876256.0624799998,null,298,298,1486,558,4876256.0624799998]
[1487,298,"TOPSFIELD                    ",705,"MASCONOMET",5310031,0.51360055183721776,5184558,{"$f":"IF(H1499>0, H1496/H1499, 0)","v":0.50826054767256934},null,{"$f":"ROUND(J1499*I1496,0)","v":4277261},4691164,{"$f":"K1496-L1496","v":-413903},-8.8230341126424054,558,0,298,705,1487,538,5184558,null,298,705,1487,538,5184558]
[1488,298,"TOPSFIELD                    ",817,"ESSEX NORTH SHORE",77822,7.5271542002440205E-3,139777,{"$f":"IF(H1499>0, H1497/H1499, 0)","v":1.3702833408755138E-2},null,{"$f":"ROUND(J1499*I1497,0)","v":115316},68752,{"$f":"K1497-L1497","v":46564},67.727484291366068,5,0,298,817,1488,9,139777,null,298,817,1488,9,139777]
[1489,298,null,998,"ESSEX COUNTY",0,0,0,{"$f":"IF(H1499>0, H1498/H1499, 0)","v":0},null,{"$f":"ROUND(J1499*I1498,0)","v":0},0,{"$f":"K1498-L1498","v":0},0,0,0,298,998,1489,0,0,null,298,998,1489,0,0]
[1490,298,"TOPSFIELD                    ",999,"TOTAL",10338834.296429999,1.0000000000000002,{"$f":"SUM(H1495:H1498)","v":10200591.062479999},{"$f":"SUM(I1495:I1498)","v":1.0000000000000002},{"$f":"VLOOKUP(B1499,town351,22)","v":8415488},{"$f":"SUM(K1495:K1498)","v":8415488},9133877,{"$f":"SUM(M1495:M1498)","v":-718389},-7.8651048180307219,1135,0,298,999,1490,1105,10200591.062479999,null,298,999,1490,1105,10200591.062479999]
[1491,299,"TOWNSEND                     ",299,"TOWNSEND",0,0,{"$f":"U1500","v":0},{"$f":"IF(H1504>0, H1500/H1504, 0)","v":0},null,{"$f":"ROUND(J1504*I1500,0)","v":0},0,{"$f":"K1500-L1500","v":0},0,0,0,299,299,1491,0,0,null,299,299,1491,0,0]
[1492,299,"TOWNSEND                     ",735,"NORTH MIDDLESEX",12567121,0.8866382496446461,12688771,{"$f":"IF(H1504>0, H1501/H1504, 0)","v":0.89733728794021694},null,{"$f":"ROUND(J1504*I1501,0)","v":6241358},6493733,{"$f":"K1501-L1501","v":-252375},-3.8864394332196905,1357,0,299,735,1492,1341,12688771,null,299,735,1492,1341,12688771]
[1493,299,"TOWNSEND                     ",852,"NASHOBA VALLEY",1606778,0.11336175035535388,1451699,{"$f":"IF(H1504>0, H1502/H1504, 0)","v":0.10266271205978302},null,{"$f":"ROUND(J1504*I1502,0)","v":714062},830261,{"$f":"K1502-L1502","v":-116199},-13.995478530245308,104,0,299,852,1493,94,1451699,null,299,852,1493,94,1451699]
[1494,299,null,998,null,0,0,0,{"$f":"IF(H1504>0, H1503/H1504, 0)","v":0},null,{"$f":"ROUND(J1504*I1503,0)","v":0},0,{"$f":"K1503-L1503","v":0},0,0,0,299,998,1494,0,0,null,299,998,1494,0,0]
[1495,299,"TOWNSEND                     ",999,"TOTAL",14173899,1,{"$f":"SUM(H1500:H1503)","v":14140470},{"$f":"SUM(I1500:I1503)","v":1},{"$f":"VLOOKUP(B1504,town351,22)","v":6955420},{"$f":"SUM(K1500:K1503)","v":6955420},7323994,{"$f":"SUM(M1500:M1503)","v":-368574},-5.0324181041109535,1461,0,299,999,1495,1435,14140470,null,299,999,1495,1435,14140470]
[1496,300,"TRURO                        ",300,"TRURO",1788414.01,0.9749621391487403,{"$f":"U1505","v":1879850.1199999996},{"$f":"IF(H1509>0, H1505/H1509, 0)","v":0.9836584559311935},null,{"$f":"ROUND(J1509*I1505,0)","v":1550876},1609573,{"$f":"K1505-L1505","v":-58697},-3.6467435773338641,194,0,300,300,1496,197,1879850.1199999996,null,300,300,1496,197,1879850.1199999996]
[1497,300,"TRURO                        ",815,"CAPE COD",45928,2.5037860851259683E-2,31230,{"$f":"IF(H1509>0, H1506/H1509, 0)","v":1.6341544068806495E-2},null,{"$f":"ROUND(J1509*I1506,0)","v":25765},41335,{"$f":"K1506-L1506","v":-15570},-37.667835974355874,3,0,300,815,1497,2,31230,null,300,815,1497,2,31230]
[1498,300,null,998,null,0,0,0,{"$f":"IF(H1509>0, H1507/H1509, 0)","v":0},null,{"$f":"ROUND(J1509*I1507,0)","v":0},0,{"$f":"K1507-L1507","v":0},0,0,0,300,998,1498,0,0,null,300,998,1498,0,0]
[1499,300,null,998,null,0,0,0,{"$f":"IF(H1509>0, H1508/H1509, 0)","v":0},null,{"$f":"ROUND(J1509*I1508,0)","v":0},0,{"$f":"K1508-L1508","v":0},0,0,0,300,998,1499,0,0,null,300,998,1499,0,0]
[1500,300,"TRURO                        ",999,"TOTAL",1834342.01,1,{"$f":"SUM(H1505:H1508)","v":1911080.1199999996},{"$f":"SUM(I1505:I1508)","v":1},{"$f":"VLOOKUP(B1509,town351,22)","v":1576641},{"$f":"SUM(K1505:K1508)","v":1576641},1650908,{"$f":"SUM(M1505:M1508)","v":-74267},-4.4985547347277981,197,0,300,999,1500,199,1911080.1199999996,null,300,999,1500,199,1911080.1199999996]
[1501,301,"TYNGSBOROUGH                 ",301,"TYNGSBOROUGH",16424708.550000001,0.90523665715980461,{"$f":"U1510","v":16310112.57},{"$f":"IF(H1514>0, H1510/H1514, 0)","v":0.90692268362383965},null,{"$f":"ROUND(J1514*I1510,0)","v":10865397},10954033,{"$f":"K1510-L1510","v":-88636},-0.80916316392327825,1802,0,301,301,1501,1750,16310112.57,null,301,301,1501,1750,16310112.57]
[1502,301,"TYNGSBOROUGH                 ",828,"GREATER LOWELL",1719396,9.4763342840195441E-2,1673904,{"$f":"IF(H1514>0, H1511/H1514, 0)","v":9.3077316376160346E-2},null,{"$f":"ROUND(J1514*I1511,0)","v":1115114},1146707,{"$f":"K1511-L1511","v":-31593},-2.7551065790999791,109,0,301,828,1502,105,1673904,null,301,828,1502,105,1673904]
[1503,301,null,998,null,0,0,0,{"$f":"IF(H1514>0, H1512/H1514, 0)","v":0},null,{"$f":"ROUND(J1514*I1512,0)","v":0},0,{"$f":"K1512-L1512","v":0},0,0,0,301,998,1503,0,0,null,301,998,1503,0,0]
[1504,301,null,998,null,0,0,0,{"$f":"IF(H1514>0, H1513/H1514, 0)","v":0},null,{"$f":"ROUND(J1514*I1513,0)","v":0},0,{"$f":"K1513-L1513","v":0},0,0,0,301,998,1504,0,0,null,301,998,1504,0,0]
[1505,301,"TYNGSBOROUGH                 ",999,"TOTAL",18144104.550000001,1,{"$f":"SUM(H1510:H1513)","v":17984016.57},{"$f":"SUM(I1510:I1513)","v":1},{"$f":"VLOOKUP(B1514,town351,22)","v":11980511},{"$f":"SUM(K1510:K1513)","v":11980511},12100740,{"$f":"SUM(M1510:M1513)","v":-120229},-0.99356733555137955,1911,0,301,999,1505,1855,17984016.57,null,301,999,1505,1855,17984016.57]
[1506,302,"TYRINGHAM                    ",302,"TYRINGHAM",249461.65000000002,1,{"$f":"U1515","v":249733.64},{"$f":"IF(H1519>0, H1515/H1519, 0)","v":1},null,{"$f":"ROUND(J1519*I1515,0)","v":206030},224515,{"$f":"K1515-L1515","v":-18485},-8.2333028973565234,29,0,302,302,1506,28,249733.64,null,302,302,1506,28,249733.64]
[1507,302,null,998,null,0,0,0,{"$f":"IF(H1519>0, H1516/H1519, 0)","v":0},null,{"$f":"ROUND(J1519*I1516,0)","v":0},0,{"$f":"K1516-L1516","v":0},0,0,0,302,998,1507,0,0,null,302,998,1507,0,0]
[1508,302,null,998,null,0,0,0,{"$f":"IF(H1519>0, H1517/H1519, 0)","v":0},null,{"$f":"ROUND(J1519*I1517,0)","v":0},0,{"$f":"K1517-L1517","v":0},0,0,0,302,998,1508,0,0,null,302,998,1508,0,0]
[1509,302,null,998,null,0,0,0,{"$f":"IF(H1519>0, H1518/H1519, 0)","v":0},null,{"$f":"ROUND(J1519*I1518,0)","v":0},0,{"$f":"K1518-L1518","v":0},0,0,0,302,998,1509,0,0,null,302,998,1509,0,0]
[1510,302,"TYRINGHAM                    ",999,"TOTAL",249461.65000000002,1,{"$f":"SUM(H1515:H1518)","v":249733.64},{"$f":"SUM(I1515:I1518)","v":1},{"$f":"VLOOKUP(B1519,town351,22)","v":206030},{"$f":"SUM(K1515:K1518)","v":206030},224515,{"$f":"SUM(M1515:M1518)","v":-18485},-8.2333028973565234,29,0,302,999,1510,28,249733.64,null,302,999,1510,28,249733.64]
[1511,303,"UPTON                        ",303,"UPTON",40041.258719999991,2.8570475083264666E-3,{"$f":"U1520","v":27007.727760000002},{"$f":"IF(H1524>0, H1520/H1524, 0)","v":1.9941727970839069E-3},null,{"$f":"ROUND(J1524*I1520,0)","v":15988},21792,{"$f":"K1520-L1520","v":-5804},-26.633627019089573,3,0,303,303,1511,2,27007.727760000002,null,303,303,1511,2,27007.727760000002]
[1512,303,"UPTON                        ",710,"MENDON UPTON",12244088,0.87364738847875045,11715667,{"$f":"IF(H1524>0, H1521/H1524, 0)","v":0.86505109347612963},null,{"$f":"ROUND(J1524*I1521,0)","v":6935338},6663739,{"$f":"K1521-L1521","v":271599},4.0757748765370314,1328,0,303,710,1512,1252,11715667,null,303,710,1512,1252,11715667]
[1513,303,"UPTON                        ",805,"BLACKSTONE VALLEY",1730779,0.12349556401292308,1800649,{"$f":"IF(H1524>0, H1522/H1524, 0)","v":0.13295473372678648},null,{"$f":"ROUND(J1524*I1522,0)","v":1065932},941962,{"$f":"K1522-L1522","v":123970},13.160828143810472,116,0,303,805,1513,119,1800649,null,303,805,1513,119,1800649]
[1514,303,null,998,null,0,0,0,{"$f":"IF(H1524>0, H1523/H1524, 0)","v":0},null,{"$f":"ROUND(J1524*I1523,0)","v":0},0,{"$f":"K1523-L1523","v":0},0,0,0,303,998,1514,0,0,null,303,998,1514,0,0]
[1515,303,"UPTON                        ",999,"TOTAL",14014908.258719999,1,{"$f":"SUM(H1520:H1523)","v":13543323.72776},{"$f":"SUM(I1520:I1523)","v":1},{"$f":"VLOOKUP(B1524,town351,22)","v":8017258},{"$f":"SUM(K1520:K1523)","v":8017258},7627493,{"$f":"SUM(M1520:M1523)","v":389765},5.1100014119973629,1447,0,303,999,1515,1373,13543323.72776,null,303,999,1515,1373,13543323.72776]
[1516,304,"UXBRIDGE                     ",304,"UXBRIDGE",18066543.430000003,0.88716735470164376,{"$f":"U1525","v":18526071.940000001},{"$f":"IF(H1529>0, H1525/H1529, 0)","v":0.88827124480649222},null,{"$f":"ROUND(J1529*I1525,0)","v":10719548},10926419,{"$f":"K1525-L1525","v":-206871},-1.8933101503795526,1934,0,304,304,1516,1934,18526071.940000001,null,304,304,1516,1934,18526071.940000001]
[1517,304,"UXBRIDGE                     ",805,"BLACKSTONE VALLEY",2297758,0.11283264529835628,2330251,{"$f":"IF(H1529>0, H1526/H1529, 0)","v":0.11172875519350775},null,{"$f":"ROUND(J1529*I1526,0)","v":1348329},1389655,{"$f":"K1526-L1526","v":-41326},-2.9738316344704261,154,0,304,805,1517,154,2330251,null,304,805,1517,154,2330251]
[1518,304,null,998,null,0,0,0,{"$f":"IF(H1529>0, H1527/H1529, 0)","v":0},null,{"$f":"ROUND(J1529*I1527,0)","v":0},0,{"$f":"K1527-L1527","v":0},0,0,0,304,998,1518,0,0,null,304,998,1518,0,0]
[1519,304,null,998,null,0,0,0,{"$f":"IF(H1529>0, H1528/H1529, 0)","v":0},null,{"$f":"ROUND(J1529*I1528,0)","v":0},0,{"$f":"K1528-L1528","v":0},0,0,0,304,998,1519,0,0,null,304,998,1519,0,0]
[1520,304,"UXBRIDGE                     ",999,"TOTAL",20364301.430000003,1,{"$f":"SUM(H1525:H1528)","v":20856322.940000001},{"$f":"SUM(I1525:I1528)","v":1},{"$f":"VLOOKUP(B1529,town351,22)","v":12067877},{"$f":"SUM(K1525:K1528)","v":12067877},12316074,{"$f":"SUM(M1525:M1528)","v":-248197},-2.0152282293854356,2088,0,304,999,1520,2088,20856322.940000001,null,304,999,1520,2088,20856322.940000001]
[1521,305,"WAKEFIELD                    ",305,"WAKEFIELD",31933215.629270006,0.96641801046072096,{"$f":"U1530","v":32600249.418120001},{"$f":"IF(H1534>0, H1530/H1534, 0)","v":0.96856058566525982},null,{"$f":"ROUND(J1534*I1530,0)","v":26895205},27532408,{"$f":"K1530-L1530","v":-637203},-2.3143743910812304,3380,0,305,305,1521,3374,32600249.418120001,null,305,305,1521,3374,32600249.418120001]
[1522,305,"WAKEFIELD                    ",853,"NORTHEAST METROPOLITAN",1109645,3.3581989539279024E-2,1058202,{"$f":"IF(H1534>0, H1531/H1534, 0)","v":3.1439414334740248E-2},null,{"$f":"ROUND(J1534*I1531,0)","v":873017},956722,{"$f":"K1531-L1531","v":-83705},-8.7491455198061718,68,0,305,853,1522,64,1058202,null,305,853,1522,64,1058202]
[1523,305,null,998,"ESSEX COUNTY",0,0,0,{"$f":"IF(H1534>0, H1532/H1534, 0)","v":0},null,{"$f":"ROUND(J1534*I1532,0)","v":0},0,{"$f":"K1532-L1532","v":0},0,0,0,305,998,1523,0,0,null,305,998,1523,0,0]
[1524,305,null,998,null,0,0,0,{"$f":"IF(H1534>0, H1533/H1534, 0)","v":0},null,{"$f":"ROUND(J1534*I1533,0)","v":0},0,{"$f":"K1533-L1533","v":0},0,0,0,305,998,1524,0,0,null,305,998,1524,0,0]
[1525,305,"WAKEFIELD                    ",999,"TOTAL",33042860.629270006,1,{"$f":"SUM(H1530:H1533)","v":33658451.418119997},{"$f":"SUM(I1530:I1533)","v":1},{"$f":"VLOOKUP(B1534,town351,22)","v":27768222},{"$f":"SUM(K1530:K1533)","v":27768222},28489130,{"$f":"SUM(M1530:M1533)","v":-720908},-2.5304668833340997,3448,0,305,999,1525,3438,33658451.418119997,null,305,999,1525,3438,33658451.418119997]
[1526,306,"WALES                        ",306,"WALES",1356194.98,0.52186575988364958,{"$f":"U1535","v":1467392.6599999997},{"$f":"IF(H1539>0, H1535/H1539, 0)","v":0.53047454109655701},null,{"$f":"ROUND(J1539*I1535,0)","v":641264},645271,{"$f":"K1535-L1535","v":-4007},-0.62097940245261296,141,0,306,306,1526,151,1467392.6599999997,null,306,306,1526,151,1467392.6599999997]
[1527,306,"WALES                        ",770,"TANTASQUA",1242548,0.47813424011635042,1298796,{"$f":"IF(H1539>0, H1536/H1539, 0)","v":0.46952545890344305},null,{"$f":"ROUND(J1539*I1536,0)","v":567585},591198,{"$f":"K1536-L1536","v":-23613},-3.9940933494362296,113,0,306,770,1527,115,1298796,null,306,770,1527,115,1298796]
[1528,306,null,998,null,0,0,0,{"$f":"IF(H1539>0, H1537/H1539, 0)","v":0},null,{"$f":"ROUND(J1539*I1537,0)","v":0},0,{"$f":"K1537-L1537","v":0},0,0,0,306,998,1528,0,0,null,306,998,1528,0,0]
[1529,306,null,998,null,0,0,0,{"$f":"IF(H1539>0, H1538/H1539, 0)","v":0},null,{"$f":"ROUND(J1539*I1538,0)","v":0},0,{"$f":"K1538-L1538","v":0},0,0,0,306,998,1529,0,0,null,306,998,1529,0,0]
[1530,306,"WALES                        ",999,"TOTAL",2598742.98,1,{"$f":"SUM(H1535:H1538)","v":2766188.6599999997},{"$f":"SUM(I1535:I1538)","v":1},{"$f":"VLOOKUP(B1539,town351,22)","v":1208849},{"$f":"SUM(K1535:K1538)","v":1208849},1236469,{"$f":"SUM(M1535:M1538)","v":-27620},-2.233780224170602,254,0,306,999,1530,266,2766188.6599999997,null,306,999,1530,266,2766188.6599999997]
[1531,307,"WALPOLE                      ",307,"WALPOLE",36833859.746200003,0.97104818590278663,{"$f":"U1540","v":37317617.441239998},{"$f":"IF(H1544>0, H1540/H1544, 0)","v":0.96682934068381843},null,{"$f":"ROUND(J1544*I1540,0)","v":30270297},30016055,{"$f":"K1540-L1540","v":254242},0.84702003644382984,3869,0,307,307,1531,3834,37317617.441239998,null,307,307,1531,3834,37317617.441239998]
[1532,307,"WALPOLE                      ",878,"TRI COUNTY",991366,2.6135304920495497E-2,1076894,{"$f":"IF(H1544>0, H1541/H1544, 0)","v":2.7900299842179947E-2},null,{"$f":"ROUND(J1544*I1541,0)","v":873526},807868,{"$f":"K1541-L1541","v":65658},8.1273178291503072,64,0,307,878,1532,68,1076894,null,307,878,1532,68,1076894]
[1533,307,"WALPOLE                      ",915,"NORFOLK COUNTY",106836,2.8165091767178387E-3,203425,{"$f":"IF(H1544>0, H1542/H1544, 0)","v":5.2703594740015789E-3},null,{"$f":"ROUND(J1544*I1542,0)","v":165009},87061,{"$f":"K1542-L1542","v":77948},89.53262654920114,7,0,307,915,1533,13,203425,null,307,915,1533,13,203425]
[1534,307,null,998,null,0,0,0,{"$f":"IF(H1544>0, H1543/H1544, 0)","v":0},null,{"$f":"ROUND(J1544*I1543,0)","v":0},0,{"$f":"K1543-L1543","v":0},0,0,0,307,998,1534,0,0,null,307,998,1534,0,0]
[1535,307,"WALPOLE                      ",999,"TOTAL",37932061.746200003,1,{"$f":"SUM(H1540:H1543)","v":38597936.441239998},{"$f":"SUM(I1540:I1543)","v":0.99999999999999989},{"$f":"VLOOKUP(B1544,town351,22)","v":31308832},{"$f":"SUM(K1540:K1543)","v":31308832},30910984,{"$f":"SUM(M1540:M1543)","v":397848},1.2870764644697172,3940,0,307,999,1535,3915,38597936.441239998,null,307,999,1535,3915,38597936.441239998]
[1536,308,"WALTHAM                      ",308,"WALTHAM",58974377.85684,1,{"$f":"U1545","v":62218743.565559998},{"$f":"IF(H1549>0, H1545/H1549, 0)","v":1},null,{"$f":"ROUND(J1549*I1545,0)","v":51330463},51151815,{"$f":"K1545-L1545","v":178648},0.34925055933987875,5195,0,308,308,1536,5298,62218743.565559998,null,308,308,1536,5298,62218743.565559998]
[1537,308,null,998,null,0,0,0,{"$f":"IF(H1549>0, H1546/H1549, 0)","v":0},null,{"$f":"ROUND(J1549*I1546,0)","v":0},0,{"$f":"K1546-L1546","v":0},0,0,{"$f":"ABS(Q1546-B1546)+ABS(R1546-D1546)","v":0},{"$f":"IF($Q$6=1, W1546, IF($Q$6=2, AC1546, IF($Q$6=3, AI1546, IF($Q$6=4, AO1546, IF($Q$6=5, AU1546, IF($Q$6=6, BA1546, IF($Q$6=7, BG1546, IF($Q$6=8, BM1546, 0))))))))","v":308},{"$f":"IF($Q$6=1, X1546, IF($Q$6=2, AD1546, IF($Q$6=3, AJ1546, IF($Q$6=4, AP1546, IF($Q$6=5, AV1546, IF($Q$6=6, BB1546, IF($Q$6=7, BH1546, IF($Q$6=8, BN1546, 0))))))))","v":998},{"$f":"IF($Q$6=1, Y1546, IF($Q$6=2, AE1546, IF($Q$6=3, AK1546, IF($Q$6=4, AQ1546, IF($Q$6=5, AW1546, IF($Q$6=6, BC1546, IF($Q$6=7, BI1546, IF($Q$6=8, BO1546, 0))))))))","v":1537},{"$f":"IF($Q$6=1, Z1546, IF($Q$6=2, AF1546, IF($Q$6=3, AL1546, IF($Q$6=4, AR1546, IF($Q$6=5, AX1546, IF($Q$6=6, BD1546, IF($Q$6=7, BJ1546, IF($Q$6=8, BP1546, 0))))))))","v":0},{"$f":"IF($Q$6=1, AA1546, IF($Q$6=2, AG1546, IF($Q$6=3, AM1546, IF($Q$6=4, AS1546, IF($Q$6=5, AY1546, IF($Q$6=6, BE1546, IF($Q$6=7, BK1546, IF($Q$6=8, BQ1546, 0))))))))","v":0},null,308,998,1537,0,0]
[1538,308,null,998,null,0,0,0,{"$f":"IF(H1549>0, H1547/H1549, 0)","v":0},null,{"$f":"ROUND(J1549*I1547,0)","v":0},0,{"$f":"K1547-L1547","v":0},0,0,0,308,998,1538,0,0,null,308,998,1538,0,0]
[1539,308,null,998,null,0,0,0,{"$f":"IF(H1549>0, H1548/H1549, 0)","v":0},null,{"$f":"ROUND(J1549*I1548,0)","v":0},0,{"$f":"K1548-L1548","v":0},0,0,0,308,998,1539,0,0,null,308,998,1539,0,0]
[1540,308,"WALTHAM                      ",999,"TOTAL",58974377.85684,1,{"$f":"SUM(H1545:H1548)","v":62218743.565559998},{"$f":"SUM(I1545:I1548)","v":1},{"$f":"VLOOKUP(B1549,town351,22)","v":51330463},{"$f":"SUM(K1545:K1548)","v":51330463},51151815,{"$f":"SUM(M1545:M1548)","v":178648},0.34925055933987875,5195,0,308,999,1540,5298,62218743.565559998,null,308,999,1540,5298,62218743.565559998]
[1541,309,"WARE                         ",309,"WARE",14311776.950000001,0.90173096325902868,{"$f":"U1550","v":14379106.989999996},{"$f":"IF(H1554>0, H1550/H1554, 0)","v":0.89174996326527889},null,{"$f":"ROUND(J1554*I1550,0)","v":5325839},5575059,{"$f":"K1550-L1550","v":-249220},-4.4702665926943554,1394,0,309,309,1541,1375,14379106.989999996,null,309,309,1541,1375,14379106.989999996]
[1542,309,"WARE                         ",860,"PATHFINDER",1559672,9.8269036740971275E-2,1745488,{"$f":"IF(H1554>0, H1551/H1554, 0)","v":0.10825003673472114},null,{"$f":"ROUND(J1554*I1551,0)","v":646507},607560,{"$f":"K1551-L1551","v":38947},6.4103956810849958,101,0,309,860,1542,110,1745488,null,309,860,1542,110,1745488]
[1543,309,null,998,null,0,0,0,{"$f":"IF(H1554>0, H1552/H1554, 0)","v":0},null,{"$f":"ROUND(J1554*I1552,0)","v":0},0,{"$f":"K1552-L1552","v":0},{"$f":"IF(L1552>0,M1552*100/L1552,IF(M1552>0,100,0))","v":0},0,0,309,998,1543,0,0,null,309,998,1543,0,0]
[1544,309,null,998,null,0,0,0,{"$f":"IF(H1554>0, H1553/H1554, 0)","v":0},null,{"$f":"ROUND(J1554*I1553,0)","v":0},0,{"$f":"K1553-L1553","v":0},{"$f":"IF(L1553>0,M1553*100/L1553,IF(M1553>0,100,0))","v":0},0,0,309,998,1544,0,0,null,309,998,1544,0,0]
[1545,309,"WARE                         ",999,"TOTAL",15871448.950000001,1,{"$f":"SUM(H1550:H1553)","v":16124594.989999996},{"$f":"SUM(I1550:I1553)","v":1},{"$f":"VLOOKUP(B1554,town351,22)","v":5972346},{"$f":"SUM(K1550:K1553)","v":5972346},6182619,{"$f":"SUM(M1550:M1553)","v":-210273},{"$f":"IF(L1554>0,M1554*100/L1554,IF(M1554>0,100,0))","v":-3.4010344159974921},1495,0,309,999,1545,1485,16124594.989999996,null,309,999,1545,1485,16124594.989999996]
[1546,310,"WAREHAM                      ",310,"WAREHAM",29801464.629999995,0.89590280381799481,{"$f":"U1555","v":30579432.949999999},{"$f":"IF(H1559>0, H1555/H1559, 0)","v":0.89152811290046741},null,{"$f":"ROUND(J1559*I1555,0)","v":17432016},18563068,{"$f":"K1555-L1555","v":-1131052},-6.0930229852091262,2859,0,310,310,1546,2815,30579432.949999999,null,310,310,1546,2815,30579432.949999999]
[1547,310,"WAREHAM                      ",879,"UPPER CAPE COD",3462707,0.10409719618200516,3720588,{"$f":"IF(H1559>0, H1556/H1559, 0)","v":0.10847188709953251},null,{"$f":"ROUND(J1559*I1556,0)","v":2120947},2156890,{"$f":"K1556-L1556","v":-35943},-1.6664271242390665,236,0,310,879,1547,243,3720588,null,310,879,1547,243,3720588]
[1548,310,null,998,null,0,0,0,{"$f":"IF(H1559>0, H1557/H1559, 0)","v":0},null,{"$f":"ROUND(J1559*I1557,0)","v":0},0,{"$f":"K1557-L1557","v":0},0,0,0,310,998,1548,0,0,null,310,998,1548,0,0]
[1549,310,null,998,null,0,0,0,{"$f":"IF(H1559>0, H1558/H1559, 0)","v":0},null,{"$f":"ROUND(J1559*I1558,0)","v":0},0,{"$f":"K1558-L1558","v":0},0,0,0,310,998,1549,0,0,null,310,998,1549,0,0]
[1550,310,"WAREHAM                      ",999,"TOTAL",33264171.629999995,1,{"$f":"SUM(H1555:H1558)","v":34300020.950000003},{"$f":"SUM(I1555:I1558)","v":0.99999999999999989},{"$f":"VLOOKUP(B1559,town351,22)","v":19552963},{"$f":"SUM(K1555:K1558)","v":19552963},20719958,{"$f":"SUM(M1555:M1558)","v":-1166995},-5.6322266676409285,3095,0,310,999,1550,3058,34300020.950000003,null,310,999,1550,3058,34300020.950000003]
[1551,311,"WARREN                       ",311,"WARREN",0,0,{"$f":"U1560","v":0},{"$f":"IF(H1564>0, H1560/H1564, 0)","v":0},null,{"$f":"ROUND(J1564*I1560,0)","v":0},0,{"$f":"K1560-L1560","v":0},0,0,0,311,311,1551,0,0,null,311,311,1551,0,0]
[1552,311,"WARREN                       ",778,"QUABOAG",7972100,0.91818595819657267,8256066,{"$f":"IF(H1564>0, H1561/H1564, 0)","v":0.91715061267859499},null,{"$f":"ROUND(J1564*I1561,0)","v":2341340},2474537,{"$f":"K1561-L1561","v":-133197},-5.3827039159244743,783,0,311,778,1552,789,8256066,null,311,778,1552,789,8256066]
[1553,311,"WARREN                       ",860,"PATHFINDER",710346,8.1814041803427287E-2,745799,{"$f":"IF(H1564>0, H1562/H1564, 0)","v":8.2849387321405066E-2},null,{"$f":"ROUND(J1564*I1562,0)","v":211501},220491,{"$f":"K1562-L1562","v":-8990},-4.0772639246046323,46,0,311,860,1553,47,745799,null,311,860,1553,47,745799]
[1554,311,null,998,null,0,0,0,{"$f":"IF(H1564>0, H1563/H1564, 0)","v":0},null,{"$f":"ROUND(J1564*I1563,0)","v":0},0,{"$f":"K1563-L1563","v":0},0,0,0,311,998,1554,0,0,null,311,998,1554,0,0]
[1555,311,"WARREN                       ",999,"TOTAL",8682446,1,{"$f":"SUM(H1560:H1563)","v":9001865},{"$f":"SUM(I1560:I1563)","v":1},{"$f":"VLOOKUP(B1564,town351,22)","v":2552841},{"$f":"SUM(K1560:K1563)","v":2552841},2695028,{"$f":"SUM(M1560:M1563)","v":-142187},-5.2759006585460337,829,0,311,999,1555,836,9001865,null,311,999,1555,836,9001865]
[1556,312,"WARWICK                      ",312,"WARWICK",0,0,{"$f":"U1565","v":0},{"$f":"IF(H1569>0, H1565/H1569, 0)","v":0},null,{"$f":"ROUND(J1569*I1565,0)","v":0},0,{"$f":"K1565-L1565","v":0},0,0,0,312,312,1556,0,0,null,312,312,1556,0,0]
[1557,312,"WARWICK                      ",750,"PIONEER",790191,0.80846555541459142,680980,{"$f":"IF(H1569>0, H1566/H1569, 0)","v":0.85956601370549468},null,{"$f":"ROUND(J1569*I1566,0)","v":460404},419037,{"$f":"K1566-L1566","v":41367},9.8719206179883869,81,0,312,750,1557,68,680980,null,312,750,1557,68,680980]
[1558,312,"WARWICK                      ",818,"FRANKLIN COUNTY",187205,0.19153444458540858,111257,{"$f":"IF(H1569>0, H1567/H1569, 0)","v":0.14043398629450532},null,{"$f":"ROUND(J1569*I1567,0)","v":75220},99275,{"$f":"K1567-L1567","v":-24055},-24.230672374716697,12,0,312,818,1558,7,111257,null,312,818,1558,7,111257]
[1559,312,null,998,null,0,0,0,{"$f":"IF(H1569>0, H1568/H1569, 0)","v":0},null,{"$f":"ROUND(J1569*I1568,0)","v":0},0,{"$f":"K1568-L1568","v":0},0,0,0,312,998,1559,0,0,null,312,998,1559,0,0]
[1560,312,"WARWICK                      ",999,"TOTAL",977396,1,{"$f":"SUM(H1565:H1568)","v":792237},{"$f":"SUM(I1565:I1568)","v":1},{"$f":"VLOOKUP(B1569,town351,22)","v":535624},{"$f":"SUM(K1565:K1568)","v":535624},518312,{"$f":"SUM(M1565:M1568)","v":17312},3.3400731605673801,93,0,312,999,1560,75,792237,null,312,999,1560,75,792237]
[1561,313,"WASHINGTON                   ",313,"WASHINGTON",13004.9,2.2968661885451106E-2,{"$f":"U1570","v":13199.960000000001},{"$f":"IF(H1574>0, H1570/H1574, 0)","v":2.1575543824671632E-2},null,{"$f":"ROUND(J1574*I1570,0)","v":10149},10244,{"$f":"K1570-L1570","v":-95},-0.92737212026552129,1,0,313,313,1561,1,13199.960000000001,null,313,313,1561,1,13199.960000000001]
[1562,313,"WASHINGTON                   ",635,"CENTRAL BERKSHIRE",553197,0.9770313381145489,598602,{"$f":"IF(H1574>0, H1571/H1574, 0)","v":0.97842445617532847},null,{"$f":"ROUND(J1574*I1571,0)","v":460235},435744,{"$f":"K1571-L1571","v":24491},5.6205019460967911,56,0,313,635,1562,60,598602,null,313,635,1562,60,598602]
[1563,313,null,998,null,0,0,0,{"$f":"IF(H1574>0, H1572/H1574, 0)","v":0},null,{"$f":"ROUND(J1574*I1572,0)","v":0},0,{"$f":"K1572-L1572","v":0},0,0,0,313,998,1563,0,0,null,313,998,1563,0,0]
[1564,313,null,998,null,0,0,0,{"$f":"IF(H1574>0, H1573/H1574, 0)","v":0},null,{"$f":"ROUND(J1574*I1573,0)","v":0},0,{"$f":"K1573-L1573","v":0},0,0,0,313,998,1564,0,0,null,313,998,1564,0,0]
[1565,313,"WASHINGTON                   ",999,"TOTAL",566201.9,1,{"$f":"SUM(H1570:H1573)","v":611801.96},{"$f":"SUM(I1570:I1573)","v":1},{"$f":"VLOOKUP(B1574,town351,22)","v":470384},{"$f":"SUM(K1570:K1573)","v":470384},445988,{"$f":"SUM(M1570:M1573)","v":24396},5.4701023345919619,57,0,313,999,1565,61,611801.96,null,313,999,1565,61,611801.96]
[1566,314,"WATERTOWN                    ",314,"WATERTOWN",28744449.526519999,1,{"$f":"U1575","v":26987815.659180008},{"$f":"IF(H1579>0, H1575/H1579, 0)","v":1},null,{"$f":"ROUND(J1579*I1575,0)","v":22264948},24409669,{"$f":"K1575-L1575","v":-2144721},-8.7863583893743087,2776,0,314,314,1566,2590,26987815.659180008,null,314,314,1566,2590,26987815.659180008]
[1567,314,null,998,null,0,0,0,{"$f":"IF(H1579>0, H1576/H1579, 0)","v":0},null,{"$f":"ROUND(J1579*I1576,0)","v":0},0,{"$f":"K1576-L1576","v":0},0,0,0,314,998,1567,0,0,null,314,998,1567,0,0]
[1568,314,null,998,null,0,0,0,{"$f":"IF(H1579>0, H1577/H1579, 0)","v":0},null,{"$f":"ROUND(J1579*I1577,0)","v":0},0,{"$f":"K1577-L1577","v":0},0,0,0,314,998,1568,0,0,null,314,998,1568,0,0]
[1569,314,null,998,null,0,0,0,{"$f":"IF(H1579>0, H1578/H1579, 0)","v":0},null,{"$f":"ROUND(J1579*I1578,0)","v":0},0,{"$f":"K1578-L1578","v":0},0,0,0,314,998,1569,0,0,null,314,998,1569,0,0]
[1570,314,"WATERTOWN                    ",999,"TOTAL",28744449.526519999,1,{"$f":"SUM(H1575:H1578)","v":26987815.659180008},{"$f":"SUM(I1575:I1578)","v":1},{"$f":"VLOOKUP(B1579,town351,22)","v":22264948},{"$f":"SUM(K1575:K1578)","v":22264948},24409669,{"$f":"SUM(M1575:M1578)","v":-2144721},-8.7863583893743087,2776,0,314,999,1570,2590,26987815.659180008,null,314,999,1570,2590,26987815.659180008]
[1571,315,"WAYLAND                      ",315,"WAYLAND",24309849.451349992,0.99456719928309278,{"$f":"U1580","v":24601190.323630001},{"$f":"IF(H1584>0, H1580/H1584, 0)","v":0.99656937464854412},null,{"$f":"ROUND(J1584*I1580,0)","v":20295982},21783923,{"$f":"K1580-L1580","v":-1487941},-6.8304547348978417,2644,0,315,315,1571,2620,24601190.323630001,null,315,315,1571,2620,24601190.323630001]
[1572,315,"WAYLAND                      ",830,"MINUTEMAN",132792,5.4328007169072053E-3,84688,{"$f":"IF(H1584>0, H1581/H1584, 0)","v":3.4306253514558693E-3},null,{"$f":"ROUND(J1584*I1581,0)","v":69868},118994,{"$f":"K1581-L1581","v":-49126},-41.28443450930299,8,0,315,830,1572,5,84688,null,315,830,1572,5,84688]
[1573,315,null,998,null,0,0,0,{"$f":"IF(H1584>0, H1582/H1584, 0)","v":0},null,{"$f":"ROUND(J1584*I1582,0)","v":0},0,{"$f":"K1582-L1582","v":0},0,0,0,315,998,1573,0,0,null,315,998,1573,0,0]
[1574,315,null,998,null,0,0,0,{"$f":"IF(H1584>0, H1583/H1584, 0)","v":0},null,{"$f":"ROUND(J1584*I1583,0)","v":0},0,{"$f":"K1583-L1583","v":0},0,0,0,315,998,1574,0,0,null,315,998,1574,0,0]
[1575,315,"WAYLAND                      ",999,"TOTAL",24442641.451349992,1,{"$f":"SUM(H1580:H1583)","v":24685878.323630001},{"$f":"SUM(I1580:I1583)","v":1},{"$f":"VLOOKUP(B1584,town351,22)","v":20365850},{"$f":"SUM(K1580:K1583)","v":20365850},21902917,{"$f":"SUM(M1580:M1583)","v":-1537067},-7.0176360527686787,2652,0,315,999,1575,2625,24685878.323630001,null,315,999,1575,2625,24685878.323630001]
[1576,316,"WEBSTER                      ",316,"WEBSTER",20776506.130000003,0.89905170932168244,{"$f":"U1585","v":21401884.859999996},{"$f":"IF(H1589>0, H1585/H1589, 0)","v":0.89752756647960419},null,{"$f":"ROUND(J1589*I1585,0)","v":10061690},10261282,{"$f":"K1585-L1585","v":-199592},-1.9450980881336271,1980,0,316,316,1576,1990,21401884.859999996,null,316,316,1576,1990,21401884.859999996]
[1577,316,"WEBSTER                      ",876,"SOUTHERN WORCESTER",2332850,0.10094829067831756,2443494,{"$f":"IF(H1589>0, H1586/H1589, 0)","v":0.10247243352039576},null,{"$f":"ROUND(J1589*I1586,0)","v":1148762},1152168,{"$f":"K1586-L1586","v":-3406},-0.29561661146638335,154,0,316,876,1577,159,2443494,null,316,876,1577,159,2443494]
[1578,316,null,998,null,0,0,0,{"$f":"IF(H1589>0, H1587/H1589, 0)","v":0},null,{"$f":"ROUND(J1589*I1587,0)","v":0},0,{"$f":"K1587-L1587","v":0},0,0,0,316,998,1578,0,0,null,316,998,1578,0,0]
[1579,316,null,998,null,0,0,0,{"$f":"IF(H1589>0, H1588/H1589, 0)","v":0},null,{"$f":"ROUND(J1589*I1588,0)","v":0},0,{"$f":"K1588-L1588","v":0},0,0,0,316,998,1579,0,0,null,316,998,1579,0,0]
[1580,316,"WEBSTER                      ",999,"TOTAL",23109356.130000003,1,{"$f":"SUM(H1585:H1588)","v":23845378.859999996},{"$f":"SUM(I1585:I1588)","v":1},{"$f":"VLOOKUP(B1589,town351,22)","v":11210452},{"$f":"SUM(K1585:K1588)","v":11210452},11413450,{"$f":"SUM(M1585:M1588)","v":-202998},-1.778585791325147,2134,0,316,999,1580,2149,23845378.859999996,null,316,999,1580,2149,23845378.859999996]
[1581,317,"WELLESLEY                    ",317,"WELLESLEY",47297420.926149994,0.99967742264745751,{"$f":"U1590","v":48641677.772080004},{"$f":"IF(H1594>0, H1590/H1594, 0)","v":1},null,{"$f":"ROUND(J1594*I1590,0)","v":40129384},40402136,{"$f":"K1590-L1590","v":-272752},-0.67509301983439685,5050,0,317,317,1581,5081,48641677.772080004,null,317,317,1581,5081,48641677.772080004]
[1582,317,"WELLESLEY                    ",915,"NORFOLK COUNTY",15262,3.2257735254249563E-4,0,{"$f":"IF(H1594>0, H1591/H1594, 0)","v":0},null,{"$f":"ROUND(J1594*I1591,0)","v":0},13037,{"$f":"K1591-L1591","v":-13037},-100,1,0,317,915,1582,0,0,null,317,915,1582,0,0]
[1583,317,null,998,null,0,0,0,{"$f":"IF(H1594>0, H1592/H1594, 0)","v":0},null,{"$f":"ROUND(J1594*I1592,0)","v":0},0,{"$f":"K1592-L1592","v":0},0,0,0,317,998,1583,0,0,null,317,998,1583,0,0]
[1584,317,null,998,null,0,0,0,{"$f":"IF(H1594>0, H1593/H1594, 0)","v":0},null,{"$f":"ROUND(J1594*I1593,0)","v":0},0,{"$f":"K1593-L1593","v":0},0,0,0,317,998,1584,0,0,null,317,998,1584,0,0]
[1585,317,"WELLESLEY                    ",999,"TOTAL",47312682.926149994,1,{"$f":"SUM(H1590:H1593)","v":48641677.772080004},{"$f":"SUM(I1590:I1593)","v":1},{"$f":"VLOOKUP(B1594,town351,22)","v":40129384},{"$f":"SUM(K1590:K1593)","v":40129384},40415173,{"$f":"SUM(M1590:M1593)","v":-285789},-0.70713293742426886,5051,0,317,999,1585,5081,48641677.772080004,null,317,999,1585,5081,48641677.772080004]
[1586,318,"WELLFLEET                    ",318,"WELLFLEET",1240792.6900000002,0.45081297212087196,{"$f":"U1595","v":1150249.74},{"$f":"IF(H1599>0, H1595/H1599, 0)","v":0.40747271799054963},null,{"$f":"ROUND(J1599*I1595,0)","v":948956},1116713,{"$f":"K1595-L1595","v":-167757},-15.022391608228792,132,0,318,318,1586,124,1150249.74,null,318,318,1586,124,1150249.74]
[1587,318,"WELLFLEET                    ",660,"NAUSET",1419696,0.51581330098593126,1547718,{"$f":"IF(H1599>0, H1596/H1599, 0)","v":0.54827472522871201},null,{"$f":"ROUND(J1599*I1596,0)","v":1276867},1277726,{"$f":"K1596-L1596","v":-859},-6.7228811184870618E-2,146,0,318,660,1587,153,1547718,null,318,660,1587,153,1547718]
[1588,318,"WELLFLEET                    ",815,"CAPE COD",91856,3.3373726893196648E-2,124920,{"$f":"IF(H1599>0, H1597/H1599, 0)","v":4.4252556780738292E-2},null,{"$f":"ROUND(J1599*I1597,0)","v":103059},82670,{"$f":"K1597-L1597","v":20389},24.663118422644249,6,0,318,815,1588,8,124920,null,318,815,1588,8,124920]
[1589,318,null,998,null,0,0,0,{"$f":"IF(H1599>0, H1598/H1599, 0)","v":0},null,{"$f":"ROUND(J1599*I1598,0)","v":0},0,{"$f":"K1598-L1598","v":0},0,0,0,318,998,1589,0,0,null,318,998,1589,0,0]
[1590,318,"WELLFLEET                    ",999,"TOTAL",2752344.6900000004,0.99999999999999978,{"$f":"SUM(H1595:H1598)","v":2822887.74},{"$f":"SUM(I1595:I1598)","v":0.99999999999999989},{"$f":"VLOOKUP(B1599,town351,22)","v":2328882},{"$f":"SUM(K1595:K1598)","v":2328882},2477109,{"$f":"SUM(M1595:M1598)","v":-148227},-5.9838707138038734,284,0,318,999,1590,285,2822887.74,null,318,999,1590,285,2822887.74]
[1591,319,"WENDELL                      ",319,"WENDELL",0,0,{"$f":"U1600","v":0},{"$f":"IF(H1604>0, H1600/H1604, 0)","v":0},null,{"$f":"ROUND(J1604*I1600,0)","v":0},0,{"$f":"K1600-L1600","v":0},0,0,0,319,319,1591,0,0,null,319,319,1591,0,0]
[1592,319,"WENDELL                      ",728,"NEW SALEM WENDELL",466044,0.53323051117790488,569605,{"$f":"IF(H1604>0, H1601/H1604, 0)","v":0.56520488000912894},null,{"$f":"ROUND(J1604*I1601,0)","v":344370},328485,{"$f":"K1601-L1601","v":15885},4.8358372528425955,46,0,319,728,1592,55,569605,null,319,728,1592,55,569605]
[1593,319,"WENDELL                      ",755,"RALPH C MAHAR",267553,0.30612436370210105,295135,{"$f":"IF(H1604>0, H1602/H1604, 0)","v":0.29285512286846899},null,{"$f":"ROUND(J1604*I1602,0)","v":178432},188581,{"$f":"K1602-L1602","v":-10149},-5.3817722888307946,25,0,319,755,1593,27,295135,null,319,755,1593,27,295135]
[1594,319,"WENDELL                      ",818,"FRANKLIN COUNTY",140404,0.16064512511999415,143045,{"$f":"IF(H1604>0, H1603/H1604, 0)","v":0.1419399971224021},null,{"$f":"ROUND(J1604*I1603,0)","v":86482},98962,{"$f":"K1603-L1603","v":-12480},-12.610901153978295,9,0,319,818,1594,9,143045,null,319,818,1594,9,143045]
[1595,319,"WENDELL                      ",999,"TOTAL",874001,1,{"$f":"SUM(H1600:H1603)","v":1007785},{"$f":"SUM(I1600:I1603)","v":1},{"$f":"VLOOKUP(B1604,town351,22)","v":609284},{"$f":"SUM(K1600:K1603)","v":609284},616028,{"$f":"SUM(M1600:M1603)","v":-6744},-1.094755433194595,80,0,319,999,1595,91,1007785,null,319,999,1595,91,1007785]
[1596,320,"WENHAM                       ",320,"WENHAM",13282.92632,2.5624847131312826E-3,{"$f":"U1605","v":0},{"$f":"IF(H1609>0, H1605/H1609, 0)","v":0},null,{"$f":"ROUND(J1609*I1605,0)","v":0},11679,{"$f":"K1605-L1605","v":-11679},-100,1,0,320,320,1596,0,0,null,320,320,1596,0,0]
[1597,320,"WENHAM                       ",675,"HAMILTON WENHAM",5061379,0.97641935236328992,5606681,{"$f":"IF(H1609>0, H1606/H1609, 0)","v":0.97832008678526183},null,{"$f":"ROUND(J1609*I1606,0)","v":4625512},4450164,{"$f":"K1606-L1606","v":175348},3.9402592803321408,553,0,320,675,1597,599,5606681,null,320,675,1597,599,5606681]
[1598,320,"WENHAM                       ",817,"ESSEX NORTH SHORE",108950,2.1018162923578821E-2,124246,{"$f":"IF(H1609>0, H1607/H1609, 0)","v":2.1679913214738208E-2},null,{"$f":"ROUND(J1609*I1607,0)","v":102503},95793,{"$f":"K1607-L1607","v":6710},7.0046871900869583,7,0,320,817,1598,8,124246,null,320,817,1598,8,124246]
[1599,320,null,998,"ESSEX COUNTY",0,0,0,{"$f":"IF(H1609>0, H1608/H1609, 0)","v":0},null,{"$f":"ROUND(J1609*I1608,0)","v":0},0,{"$f":"K1608-L1608","v":0},0,0,0,320,998,1599,0,0,null,320,998,1599,0,0]
[1600,320,"WENHAM                       ",999,"TOTAL",5183611.9263199996,1,{"$f":"SUM(H1605:H1608)","v":5730927},{"$f":"SUM(I1605:I1608)","v":1},{"$f":"VLOOKUP(B1609,town351,22)","v":4728015},{"$f":"SUM(K1605:K1608)","v":4728015},4557636,{"$f":"SUM(M1605:M1608)","v":170379},3.7383196025307859,561,0,320,999,1600,607,5730927,null,320,999,1600,607,5730927]
[1601,321,"WESTBOROUGH                  ",321,"WESTBOROUGH",31788292.559999999,0.97871821640920487,{"$f":"U1610","v":32643542.910000004},{"$f":"IF(H1614>0, H1610/H1614, 0)","v":0.98083227861564015},null,{"$f":"ROUND(J1614*I1610,0)","v":26930923},27852628,{"$f":"K1610-L1610","v":-921705},-3.3092209467630846,3465,{"$f":"ABS(Q1610-B1610)+ABS(R1610-D1610)","v":0},{"$f":"IF($Q$6=1, W1610, IF($Q$6=2, AC1610, IF($Q$6=3, AI1610, IF($Q$6=4, AO1610, IF($Q$6=5, AU1610, IF($Q$6=6, BA1610, IF($Q$6=7, BG1610, IF($Q$6=8, BM1610, 0))))))))","v":321},{"$f":"IF($Q$6=1, X1610, IF($Q$6=2, AD1610, IF($Q$6=3, AJ1610, IF($Q$6=4, AP1610, IF($Q$6=5, AV1610, IF($Q$6=6, BB1610, IF($Q$6=7, BH1610, IF($Q$6=8, BN1610, 0))))))))","v":321},{"$f":"IF($Q$6=1, Y1610, IF($Q$6=2, AE1610, IF($Q$6=3, AK1610, IF($Q$6=4, AQ1610, IF($Q$6=5, AW1610, IF($Q$6=6, BC1610, IF($Q$6=7, BI1610, IF($Q$6=8, BO1610, 0))))))))","v":1601},{"$f":"IF($Q$6=1, Z1610, IF($Q$6=2, AF1610, IF($Q$6=3, AL1610, IF($Q$6=4, AR1610, IF($Q$6=5, AX1610, IF($Q$6=6, BD1610, IF($Q$6=7, BJ1610, IF($Q$6=8, BP1610, 0))))))))","v":3498},{"$f":"IF($Q$6=1, AA1610, IF($Q$6=2, AG1610, IF($Q$6=3, AM1610, IF($Q$6=4, AS1610, IF($Q$6=5, AY1610, IF($Q$6=6, BE1610, IF($Q$6=7, BK1610, IF($Q$6=8, BQ1610, 0))))))))","v":32643542.910000004},null,321,321,1601,3498,32643542.910000004]
[1602,321,"WESTBOROUGH                  ",801,"ASSABET VALLEY",691222,2.1281783590795147E-2,637930,{"$f":"IF(H1614>0, H1611/H1614, 0)","v":1.9167721384359845E-2},null,{"$f":"ROUND(J1614*I1611,0)","v":526292},605643,{"$f":"K1611-L1611","v":-79351},-13.101942893750939,42,0,321,801,1602,38,637930,null,321,801,1602,38,637930]
[1603,321,null,998,null,0,0,0,{"$f":"IF(H1614>0, H1612/H1614, 0)","v":0},null,{"$f":"ROUND(J1614*I1612,0)","v":0},0,{"$f":"K1612-L1612","v":0},0,0,0,321,998,1603,0,0,null,321,998,1603,0,0]
[1604,321,null,998,null,0,0,0,{"$f":"IF(H1614>0, H1613/H1614, 0)","v":0},null,{"$f":"ROUND(J1614*I1613,0)","v":0},0,{"$f":"K1613-L1613","v":0},0,0,0,321,998,1604,0,0,null,321,998,1604,0,0]
[1605,321,"WESTBOROUGH                  ",999,"TOTAL",32479514.559999999,1,{"$f":"SUM(H1610:H1613)","v":33281472.910000004},{"$f":"SUM(I1610:I1613)","v":1},{"$f":"VLOOKUP(B1614,town351,22)","v":27457215},{"$f":"SUM(K1610:K1613)","v":27457215},28458271,{"$f":"SUM(M1610:M1613)","v":-1001056},-3.5176276169413101,3507,0,321,999,1605,3536,33281472.910000004,null,321,999,1605,3536,33281472.910000004]
[1606,322,"WEST BOYLSTON                ",322,"WEST BOYLSTON",8413020.9400000013,1,{"$f":"U1615","v":8930152.6600000001},{"$f":"IF(H1619>0, H1615/H1619, 0)","v":1},null,{"$f":"ROUND(J1619*I1615,0)","v":6681715},6777592,{"$f":"K1615-L1615","v":-95877},-1.4146174629573454,893,0,322,322,1606,896,8930152.6600000001,null,322,322,1606,896,8930152.6600000001]
[1607,322,null,998,null,0,0,0,{"$f":"IF(H1619>0, H1616/H1619, 0)","v":0},null,{"$f":"ROUND(J1619*I1616,0)","v":0},0,{"$f":"K1616-L1616","v":0},{"$f":"IF(L1616>0,M1616*100/L1616,IF(M1616>0,100,0))","v":0},0,0,322,998,1607,0,0,null,322,998,1607,0,0]
[1608,322,null,998,null,0,0,0,{"$f":"IF(H1619>0, H1617/H1619, 0)","v":0},null,{"$f":"ROUND(J1619*I1617,0)","v":0},0,{"$f":"K1617-L1617","v":0},{"$f":"IF(L1617>0,M1617*100/L1617,IF(M1617>0,100,0))","v":0},0,0,322,998,1608,0,0,null,322,998,1608,0,0]
[1609,322,null,998,null,0,0,0,{"$f":"IF(H1619>0, H1618/H1619, 0)","v":0},null,{"$f":"ROUND(J1619*I1618,0)","v":0},0,{"$f":"K1618-L1618","v":0},{"$f":"IF(L1618>0,M1618*100/L1618,IF(M1618>0,100,0))","v":0},0,0,322,998,1609,0,0,null,322,998,1609,0,0]
[1610,322,"WEST BOYLSTON                ",999,"TOTAL",8413020.9400000013,1,{"$f":"SUM(H1615:H1618)","v":8930152.6600000001},{"$f":"SUM(I1615:I1618)","v":1},{"$f":"VLOOKUP(B1619,town351,22)","v":6681715},{"$f":"SUM(K1615:K1618)","v":6681715},6777592,{"$f":"SUM(M1615:M1618)","v":-95877},{"$f":"IF(L1619>0,M1619*100/L1619,IF(M1619>0,100,0))","v":-1.4146174629573454},893,0,322,999,1610,896,8930152.6600000001,null,322,999,1610,896,8930152.6600000001]
[1611,323,"WEST BRIDGEWATER             ",323,"WEST BRIDGEWATER",9789063.1500000022,0.95131789160996438,{"$f":"U1620","v":9864782.7299999986},{"$f":"IF(H1624>0, H1620/H1624, 0)","v":0.94216354202300923},null,{"$f":"ROUND(J1624*I1620,0)","v":6568900},6918340,{"$f":"K1620-L1620","v":-349440},-5.0509226201661095,1052,0,323,323,1611,1024,9864782.7299999986,null,323,323,1611,1024,9864782.7299999986]
[1612,323,"WEST BRIDGEWATER             ",872,"SOUTHEASTERN",500939,4.8682108390035651E-2,605568,{"$f":"IF(H1624>0, H1621/H1624, 0)","v":5.7836457976990815E-2},null,{"$f":"ROUND(J1624*I1621,0)","v":403244},354034,{"$f":"K1621-L1621","v":49210},13.899794934949751,32,0,323,872,1612,38,605568,null,323,872,1612,38,605568]
[1613,323,null,998,null,0,0,0,{"$f":"IF(H1624>0, H1622/H1624, 0)","v":0},null,{"$f":"ROUND(J1624*I1622,0)","v":0},0,{"$f":"K1622-L1622","v":0},0,0,0,323,998,1613,0,0,null,323,998,1613,0,0]
[1614,323,null,998,null,0,0,0,{"$f":"IF(H1624>0, H1623/H1624, 0)","v":0},null,{"$f":"ROUND(J1624*I1623,0)","v":0},0,{"$f":"K1623-L1623","v":0},0,0,0,323,998,1614,0,0,null,323,998,1614,0,0]
[1615,323,"WEST BRIDGEWATER             ",999,"TOTAL",10290002.150000002,1,{"$f":"SUM(H1620:H1623)","v":10470350.729999999},{"$f":"SUM(I1620:I1623)","v":1},{"$f":"VLOOKUP(B1624,town351,22)","v":6972144},{"$f":"SUM(K1620:K1623)","v":6972144},7272374,{"$f":"SUM(M1620:M1623)","v":-300230},-4.1283630352344369,1084,0,323,999,1615,1062,10470350.729999999,null,323,999,1615,1062,10470350.729999999]
[1616,324,"WEST BROOKFIELD              ",324,"WEST BROOKFIELD",233036.45,4.2646188742144181E-2,{"$f":"U1625","v":355331.41999999993},{"$f":"IF(H1629>0, H1625/H1629, 0)","v":6.5121064014811228E-2},null,{"$f":"ROUND(J1629*I1625,0)","v":184172},115505,{"$f":"K1625-L1625","v":68667},59.449374485952987,16,0,324,324,1616,25,355331.41999999993,null,324,324,1616,25,355331.41999999993]
[1617,324,"WEST BROOKFIELD              ",778,"QUABOAG",5231378,0.95735381125785579,5101143,{"$f":"IF(H1629>0, H1626/H1629, 0)","v":0.93487893598518879},null,{"$f":"ROUND(J1629*I1626,0)","v":2643979},2592933,{"$f":"K1626-L1626","v":51046},1.9686586579753507,513,0,324,778,1617,488,5101143,null,324,778,1617,488,5101143]
[1618,324,null,998,null,0,0,0,{"$f":"IF(H1629>0, H1627/H1629, 0)","v":0},null,{"$f":"ROUND(J1629*I1627,0)","v":0},0,{"$f":"K1627-L1627","v":0},0,0,0,324,998,1618,0,0,null,324,998,1618,0,0]
[1619,324,null,998,null,0,0,0,{"$f":"IF(H1629>0, H1628/H1629, 0)","v":0},null,{"$f":"ROUND(J1629*I1628,0)","v":0},0,{"$f":"K1628-L1628","v":0},0,0,0,324,998,1619,0,0,null,324,998,1619,0,0]
[1620,324,"WEST BROOKFIELD              ",999,"TOTAL",5464414.4500000002,1,{"$f":"SUM(H1625:H1628)","v":5456474.4199999999},{"$f":"SUM(I1625:I1628)","v":1},{"$f":"VLOOKUP(B1629,town351,22)","v":2828151},{"$f":"SUM(K1625:K1628)","v":2828151},2708438,{"$f":"SUM(M1625:M1628)","v":119713},4.4200014916346619,529,0,324,999,1620,513,5456474.4199999999,null,324,999,1620,513,5456474.4199999999]
[1621,325,"WESTFIELD                    ",325,"WESTFIELD",59091820.839999996,1,{"$f":"U1630","v":59194723.68},{"$f":"IF(H1634>0, H1630/H1634, 0)","v":1},null,{"$f":"ROUND(J1634*I1630,0)","v":26751463},27452394,{"$f":"K1630-L1630","v":-700931},-2.5532600180516134,5685,0,325,325,1621,5574,59194723.68,null,325,325,1621,5574,59194723.68]
[1622,325,null,998,null,0,0,0,{"$f":"IF(H1634>0, H1631/H1634, 0)","v":0},null,{"$f":"ROUND(J1634*I1631,0)","v":0},0,{"$f":"K1631-L1631","v":0},0,0,0,325,998,1622,0,0,null,325,998,1622,0,0]
[1623,325,null,998,null,0,0,0,{"$f":"IF(H1634>0, H1632/H1634, 0)","v":0},null,{"$f":"ROUND(J1634*I1632,0)","v":0},0,{"$f":"K1632-L1632","v":0},0,0,0,325,998,1623,0,0,null,325,998,1623,0,0]
[1624,325,null,998,null,0,0,0,{"$f":"IF(H1634>0, H1633/H1634, 0)","v":0},null,{"$f":"ROUND(J1634*I1633,0)","v":0},0,{"$f":"K1633-L1633","v":0},0,0,0,325,998,1624,0,0,null,325,998,1624,0,0]
[1625,325,"WESTFIELD                    ",999,"TOTAL",59091820.839999996,1,{"$f":"SUM(H1630:H1633)","v":59194723.68},{"$f":"SUM(I1630:I1633)","v":1},{"$f":"VLOOKUP(B1634,town351,22)","v":26751463},{"$f":"SUM(K1630:K1633)","v":26751463},27452394,{"$f":"SUM(M1630:M1633)","v":-700931},-2.5532600180516134,5685,0,325,999,1625,5574,59194723.68,null,325,999,1625,5574,59194723.68]
[1626,326,"WESTFORD                     ",326,"WESTFORD",45600413.679659985,0.98170645370847964,{"$f":"U1635","v":45124999.36552},{"$f":"IF(H1639>0, H1635/H1639, 0)","v":0.98251467863661479},null,{"$f":"ROUND(J1639*I1635,0)","v":33086801},32229875,{"$f":"K1635-L1635","v":856926},2.6587940536536365,4959,0,326,326,1626,4911,45124999.36552,null,326,326,1626,4911,45124999.36552]
[1627,326,"WESTFORD                     ",852,"NASHOBA VALLEY",849738,1.8293546291520316E-2,803067,{"$f":"IF(H1639>0, H1636/H1639, 0)","v":1.7485321363385199E-2},null,{"$f":"ROUND(J1639*I1636,0)","v":588829},600586,{"$f":"K1636-L1636","v":-11757},-1.9575880889664428,55,0,326,852,1627,52,803067,null,326,852,1627,52,803067]
[1628,326,null,998,null,0,0,0,{"$f":"IF(H1639>0, H1637/H1639, 0)","v":0},null,{"$f":"ROUND(J1639*I1637,0)","v":0},0,{"$f":"K1637-L1637","v":0},0,0,0,326,998,1628,0,0,null,326,998,1628,0,0]
[1629,326,null,998,null,0,0,0,{"$f":"IF(H1639>0, H1638/H1639, 0)","v":0},null,{"$f":"ROUND(J1639*I1638,0)","v":0},0,{"$f":"K1638-L1638","v":0},0,0,0,326,998,1629,0,0,null,326,998,1629,0,0]
[1630,326,"WESTFORD                     ",999,"TOTAL",46450151.679659985,1,{"$f":"SUM(H1635:H1638)","v":45928066.36552},{"$f":"SUM(I1635:I1638)","v":1},{"$f":"VLOOKUP(B1639,town351,22)","v":33675630},{"$f":"SUM(K1635:K1638)","v":33675630},32830461,{"$f":"SUM(M1635:M1638)","v":845169},2.5743439910880324,5014,0,326,999,1630,4963,45928066.36552,null,326,999,1630,4963,45928066.36552]
[1631,327,"WESTHAMPTON                  ",327,"WESTHAMPTON",1314694.2799999998,0.57691222595321345,{"$f":"U1640","v":1294416.6200000001},{"$f":"IF(H1644>0, H1640/H1644, 0)","v":0.58579645042139827},null,{"$f":"ROUND(J1644*I1640,0)","v":922713},956723,{"$f":"K1640-L1640","v":-34010},-3.5548429378200379,138,0,327,327,1631,137,1294416.6200000001,null,327,327,1631,137,1294416.6200000001]
[1632,327,"WESTHAMPTON                  ",683,"HAMPSHIRE",964152,0.42308777404678655,915253,{"$f":"IF(H1644>0, H1641/H1644, 0)","v":0.41420354957860167},null,{"$f":"ROUND(J1644*I1641,0)","v":652430},701628,{"$f":"K1641-L1641","v":-49198},-7.0119778572120843,101,0,327,683,1632,93,915253,null,327,683,1632,93,915253]
[1633,327,null,998,null,0,0,0,{"$f":"IF(H1644>0, H1642/H1644, 0)","v":0},null,{"$f":"ROUND(J1644*I1642,0)","v":0},0,{"$f":"K1642-L1642","v":0},0,0,0,327,998,1633,0,0,null,327,998,1633,0,0]
[1634,327,null,998,null,0,0,0,{"$f":"IF(H1644>0, H1643/H1644, 0)","v":0},null,{"$f":"ROUND(J1644*I1643,0)","v":0},0,{"$f":"K1643-L1643","v":0},0,0,0,327,998,1634,0,0,null,327,998,1634,0,0]
[1635,327,"WESTHAMPTON                  ",999,"TOTAL",2278846.2799999998,1,{"$f":"SUM(H1640:H1643)","v":2209669.62},{"$f":"SUM(I1640:I1643)","v":1},{"$f":"VLOOKUP(B1644,town351,22)","v":1575143},{"$f":"SUM(K1640:K1643)","v":1575143},1658351,{"$f":"SUM(M1640:M1643)","v":-83208},-5.0175143862788998,239,0,327,999,1635,230,2209669.62,null,327,999,1635,230,2209669.62]
[1636,328,"WESTMINSTER                  ",328,"WESTMINSTER",0,0,{"$f":"U1645","v":0},{"$f":"IF(H1649>0, H1645/H1649, 0)","v":0},null,{"$f":"ROUND(J1649*I1645,0)","v":0},0,{"$f":"K1645-L1645","v":0},0,0,0,328,328,1636,0,0,null,328,328,1636,0,0]
[1637,328,"WESTMINSTER                  ",610,"ASHBURNHAM WESTMINSTER",11238500,0.90206402780397554,11456488,{"$f":"IF(H1649>0, H1646/H1649, 0)","v":0.90033349270820662},null,{"$f":"ROUND(J1649*I1646,0)","v":6273614},6392497,{"$f":"K1646-L1646","v":-118883},-1.8597271144593419,1193,0,328,610,1637,1192,11456488,null,328,610,1637,1192,11456488]
[1638,328,"WESTMINSTER                  ",832,"MONTACHUSETT",1220150,9.7935972196024443E-2,1268228,{"$f":"IF(H1649>0, H1647/H1649, 0)","v":9.9666507291793383E-2},null,{"$f":"ROUND(J1649*I1647,0)","v":694486},694025,{"$f":"K1647-L1647","v":461},6.6424120168581818E-2,81,0,328,832,1638,83,1268228,null,328,832,1638,83,1268228]
[1639,328,null,998,null,0,0,0,{"$f":"IF(H1649>0, H1648/H1649, 0)","v":0},null,{"$f":"ROUND(J1649*I1648,0)","v":0},0,{"$f":"K1648-L1648","v":0},0,0,0,328,998,1639,0,0,null,328,998,1639,0,0]
[1640,328,"WESTMINSTER                  ",999,"TOTAL",12458650,1,{"$f":"SUM(H1645:H1648)","v":12724716},{"$f":"SUM(I1645:I1648)","v":1},{"$f":"VLOOKUP(B1649,town351,22)","v":6968100},{"$f":"SUM(K1645:K1648)","v":6968100},7086522,{"$f":"SUM(M1645:M1648)","v":-118422},-1.6710877352811435,1274,0,328,999,1640,1275,12724716,null,328,999,1640,1275,12724716]
[1641,329,"WEST NEWBURY                 ",329,"WEST NEWBURY",13004.9,1.9874049364033935E-3,{"$f":"U1650","v":13199.960000000001},{"$f":"IF(H1654>0, H1650/H1654, 0)","v":2.0697738691185441E-3},null,{"$f":"ROUND(J1654*I1650,0)","v":10890},10405,{"$f":"K1650-L1650","v":485},4.6612205670350795,1,0,329,329,1641,1,13199.960000000001,null,329,329,1641,1,13199.960000000001]
[1642,329,"WEST NEWBURY                 ",745,"PENTUCKET",6330273,0.96739043045168505,6113681,{"$f":"IF(H1654>0, H1651/H1654, 0)","v":0.95863450934143213},null,{"$f":"ROUND(J1654*I1651,0)","v":5043786},5064710,{"$f":"K1651-L1651","v":-20924},-0.41313322974069594,697,0,329,745,1642,666,6113681,null,329,745,1642,666,6113681]
[1643,329,"WEST NEWBURY                 ",885,"WHITTIER",200381,3.0622164611911539E-2,250608,{"$f":"IF(H1654>0, H1652/H1654, 0)","v":3.9295716789449368E-2},null,{"$f":"ROUND(J1654*I1652,0)","v":206752},160320,{"$f":"K1652-L1652","v":46432},28.962075848303392,13,0,329,885,1643,16,250608,null,329,885,1643,16,250608]
[1644,329,null,998,"ESSEX COUNTY",0,0,0,{"$f":"IF(H1654>0, H1653/H1654, 0)","v":0},null,{"$f":"ROUND(J1654*I1653,0)","v":0},0,{"$f":"K1653-L1653","v":0},0,0,0,329,998,1644,0,0,null,329,998,1644,0,0]
[1645,329,"WEST NEWBURY                 ",999,"TOTAL",6543658.9000000004,1,{"$f":"SUM(H1650:H1653)","v":6377488.96},{"$f":"SUM(I1650:I1653)","v":1},{"$f":"VLOOKUP(B1654,town351,22)","v":5261428},{"$f":"SUM(K1650:K1653)","v":5261428},5235435,{"$f":"SUM(M1650:M1653)","v":25993},0.49648214522766493,711,0,329,999,1645,683,6377488.96,null,329,999,1645,683,6377488.96]
[1646,330,"WESTON                       ",330,"WESTON",21506483.175400004,0.99692224670336482,{"$f":"U1655","v":21219806.953260001},{"$f":"IF(H1659>0, H1655/H1659, 0)","v":0.99761111805336866},null,{"$f":"ROUND(J1659*I1655,0)","v":17506340},19355835,{"$f":"K1655-L1655","v":-1849495},-9.5552323110834543,2322,0,330,330,1646,2249,21219806.953260001,null,330,330,1646,2249,21219806.953260001]
[1647,330,"WESTON                       ",830,"MINUTEMAN",66396,3.0777532966351898E-3,50813,{"$f":"IF(H1659>0, H1656/H1659, 0)","v":2.388881946631379E-3},null,{"$f":"ROUND(J1659*I1656,0)","v":41921},59756,{"$f":"K1656-L1656","v":-17835},-29.846375259388179,4,0,330,830,1647,3,50813,null,330,830,1647,3,50813]
[1648,330,null,998,null,0,0,0,{"$f":"IF(H1659>0, H1657/H1659, 0)","v":0},null,{"$f":"ROUND(J1659*I1657,0)","v":0},0,{"$f":"K1657-L1657","v":0},0,0,0,330,998,1648,0,0,null,330,998,1648,0,0]
[1649,330,null,998,null,0,0,0,{"$f":"IF(H1659>0, H1658/H1659, 0)","v":0},null,{"$f":"ROUND(J1659*I1658,0)","v":0},0,{"$f":"K1658-L1658","v":0},0,0,0,330,998,1649,0,0,null,330,998,1649,0,0]
[1650,330,"WESTON                       ",999,"TOTAL",21572879.175400004,1,{"$f":"SUM(H1655:H1658)","v":21270619.953260001},{"$f":"SUM(I1655:I1658)","v":1},{"$f":"VLOOKUP(B1659,town351,22)","v":17548261},{"$f":"SUM(K1655:K1658)","v":17548261},19415591,{"$f":"SUM(M1655:M1658)","v":-1867330},-9.6176830259763921,2326,0,330,999,1650,2252,21270619.953260001,null,330,999,1650,2252,21270619.953260001]
[1651,331,"WESTPORT                     ",331,"WESTPORT",15286780.110000001,0.87201283469848667,{"$f":"U1660","v":14995933.330000002},{"$f":"IF(H1664>0, H1660/H1664, 0)","v":0.86918660284923732},null,{"$f":"ROUND(J1664*I1660,0)","v":12371645},12928118,{"$f":"K1660-L1660","v":-556473},-4.3043620115472336,1604,0,331,331,1651,1549,14995933.330000002,null,331,331,1651,1549,14995933.330000002]
[1652,331,"WESTPORT                     ",821,"GREATER FALL RIVER",1719339,9.8077270975912623E-2,1815908,{"$f":"IF(H1664>0, H1661/H1664, 0)","v":0.1052527289147899},null,{"$f":"ROUND(J1664*I1661,0)","v":1498124},1454055,{"$f":"K1661-L1661","v":44069},3.0307656863048509,112,0,331,821,1652,115,1815908,null,331,821,1652,115,1815908]
[1653,331,"WESTPORT                     ",910,"BRISTOL COUNTY",524334,2.9909894325600806E-2,440994,{"$f":"IF(H1664>0, H1662/H1664, 0)","v":2.5560668235972781E-2},null,{"$f":"ROUND(J1664*I1662,0)","v":363820},443432,{"$f":"K1662-L1662","v":-79612},-17.953598296920383,35,0,331,910,1653,29,440994,null,331,910,1653,29,440994]
[1654,331,null,998,null,0,0,0,{"$f":"IF(H1664>0, H1663/H1664, 0)","v":0},null,{"$f":"ROUND(J1664*I1663,0)","v":0},0,{"$f":"K1663-L1663","v":0},0,0,0,331,998,1654,0,0,null,331,998,1654,0,0]
[1655,331,"WESTPORT                     ",999,"TOTAL",17530453.109999999,1.0000000000000002,{"$f":"SUM(H1660:H1663)","v":17252835.330000002},{"$f":"SUM(I1660:I1663)","v":1},{"$f":"VLOOKUP(B1664,town351,22)","v":14233589},{"$f":"SUM(K1660:K1663)","v":14233589},14825605,{"$f":"SUM(M1660:M1663)","v":-592016},-3.9931996029841614,1751,0,331,999,1655,1693,17252835.330000002,null,331,999,1655,1693,17252835.330000002]
[1656,332,"WEST SPRINGFIELD             ",332,"WEST SPRINGFIELD",41551686.519999996,1,{"$f":"U1665","v":42891023.810000002},{"$f":"IF(H1669>0, H1665/H1669, 0)","v":1},null,{"$f":"ROUND(J1669*I1665,0)","v":20277457},20188627,{"$f":"K1665-L1665","v":88830},0.4400002040752945,3871,0,332,332,1656,3938,42891023.810000002,null,332,332,1656,3938,42891023.810000002]
[1657,332,null,998,null,0,0,0,{"$f":"IF(H1669>0, H1666/H1669, 0)","v":0},null,{"$f":"ROUND(J1669*I1666,0)","v":0},0,{"$f":"K1666-L1666","v":0},0,0,0,332,998,1657,0,0,null,332,998,1657,0,0]
[1658,332,null,998,null,0,0,0,{"$f":"IF(H1669>0, H1667/H1669, 0)","v":0},null,{"$f":"ROUND(J1669*I1667,0)","v":0},0,{"$f":"K1667-L1667","v":0},0,0,0,332,998,1658,0,0,null,332,998,1658,0,0]
[1659,332,null,998,null,0,0,0,{"$f":"IF(H1669>0, H1668/H1669, 0)","v":0},null,{"$f":"ROUND(J1669*I1668,0)","v":0},0,{"$f":"K1668-L1668","v":0},0,0,0,332,998,1659,0,0,null,332,998,1659,0,0]
[1660,332,"WEST SPRINGFIELD             ",999,"TOTAL",41551686.519999996,1,{"$f":"SUM(H1665:H1668)","v":42891023.810000002},{"$f":"SUM(I1665:I1668)","v":1},{"$f":"VLOOKUP(B1669,town351,22)","v":20277457},{"$f":"SUM(K1665:K1668)","v":20277457},20188627,{"$f":"SUM(M1665:M1668)","v":88830},0.4400002040752945,3871,0,332,999,1660,3938,42891023.810000002,null,332,999,1660,3938,42891023.810000002]
[1661,333,"WEST STOCKBRIDGE             ",333,"WEST STOCKBRIDGE",0,0,{"$f":"U1670","v":0},{"$f":"IF(H1674>0, H1670/H1674, 0)","v":0},null,{"$f":"ROUND(J1674*I1670,0)","v":0},0,{"$f":"K1670-L1670","v":0},0,0,0,333,333,1661,0,0,null,333,333,1661,0,0]
[1662,333,"WEST STOCKBRIDGE             ",618,"BERKSHIRE HILLS",1649483,1,1620858,{"$f":"IF(H1674>0, H1671/H1674, 0)","v":1},null,{"$f":"ROUND(J1674*I1671,0)","v":1337208},1454156,{"$f":"K1671-L1671","v":-116948},-8.0423283334112714,165,0,333,618,1662,162,1620858,null,333,618,1662,162,1620858]
[1663,333,null,998,null,0,0,0,{"$f":"IF(H1674>0, H1672/H1674, 0)","v":0},null,{"$f":"ROUND(J1674*I1672,0)","v":0},0,{"$f":"K1672-L1672","v":0},0,0,0,333,998,1663,0,0,null,333,998,1663,0,0]
[1664,333,null,998,null,0,0,0,{"$f":"IF(H1674>0, H1673/H1674, 0)","v":0},null,{"$f":"ROUND(J1674*I1673,0)","v":0},0,{"$f":"K1673-L1673","v":0},0,0,0,333,998,1664,0,0,null,333,998,1664,0,0]
[1665,333,"WEST STOCKBRIDGE             ",999,"TOTAL",1649483,1,{"$f":"SUM(H1670:H1673)","v":1620858},{"$f":"SUM(I1670:I1673)","v":1},{"$f":"VLOOKUP(B1674,town351,22)","v":1337208},{"$f":"SUM(K1670:K1673)","v":1337208},1454156,{"$f":"SUM(M1670:M1673)","v":-116948},-8.0423283334112714,165,{"$f":"ABS(Q1674-B1674)+ABS(R1674-D1674)","v":0},{"$f":"IF($Q$6=1, W1674, IF($Q$6=2, AC1674, IF($Q$6=3, AI1674, IF($Q$6=4, AO1674, IF($Q$6=5, AU1674, IF($Q$6=6, BA1674, IF($Q$6=7, BG1674, IF($Q$6=8, BM1674, 0))))))))","v":333},{"$f":"IF($Q$6=1, X1674, IF($Q$6=2, AD1674, IF($Q$6=3, AJ1674, IF($Q$6=4, AP1674, IF($Q$6=5, AV1674, IF($Q$6=6, BB1674, IF($Q$6=7, BH1674, IF($Q$6=8, BN1674, 0))))))))","v":999},{"$f":"IF($Q$6=1, Y1674, IF($Q$6=2, AE1674, IF($Q$6=3, AK1674, IF($Q$6=4, AQ1674, IF($Q$6=5, AW1674, IF($Q$6=6, BC1674, IF($Q$6=7, BI1674, IF($Q$6=8, BO1674, 0))))))))","v":1665},{"$f":"IF($Q$6=1, Z1674, IF($Q$6=2, AF1674, IF($Q$6=3, AL1674, IF($Q$6=4, AR1674, IF($Q$6=5, AX1674, IF($Q$6=6, BD1674, IF($Q$6=7, BJ1674, IF($Q$6=8, BP1674, 0))))))))","v":162},{"$f":"IF($Q$6=1, AA1674, IF($Q$6=2, AG1674, IF($Q$6=3, AM1674, IF($Q$6=4, AS1674, IF($Q$6=5, AY1674, IF($Q$6=6, BE1674, IF($Q$6=7, BK1674, IF($Q$6=8, BQ1674, 0))))))))","v":1620858},null,333,999,1665,162,1620858]
[1666,334,"WEST TISBURY                 ",334,"WEST TISBURY",0,0,{"$f":"U1675","v":0},{"$f":"IF(H1679>0, H1675/H1679, 0)","v":0},null,{"$f":"ROUND(J1679*I1675,0)","v":0},0,{"$f":"K1675-L1675","v":0},0,0,0,334,334,1666,0,0,null,334,334,1666,0,0]
[1667,334,"WEST TISBURY                 ",700,"MARTHAS VINEYARD",1346627,0.39190085857918561,1309982,{"$f":"IF(H1679>0, H1676/H1679, 0)","v":0.3596063711045997},null,{"$f":"ROUND(J1679*I1676,0)","v":1080735},1211964,{"$f":"K1676-L1676","v":-131229},-10.827796865253424,121,0,334,700,1667,115,1309982,null,334,700,1667,115,1309982]
[1668,334,"WEST TISBURY                 ",774,"UPISLAND",2089515,0.60809914142081434,2332840,{"$f":"IF(H1679>0, H1677/H1679, 0)","v":0.6403936288954003},null,{"$f":"ROUND(J1679*I1677,0)","v":1924593},1880564,{"$f":"K1677-L1677","v":44029},2.3412657053947648,238,0,334,774,1668,251,2332840,null,334,774,1668,251,2332840]
[1669,334,null,998,null,0,0,0,{"$f":"IF(H1679>0, H1678/H1679, 0)","v":0},null,{"$f":"ROUND(J1679*I1678,0)","v":0},0,{"$f":"K1678-L1678","v":0},0,0,0,334,998,1669,0,0,null,334,998,1669,0,0]
[1670,334,"WEST TISBURY                 ",999,"TOTAL",3436142,1,{"$f":"SUM(H1675:H1678)","v":3642822},{"$f":"SUM(I1675:I1678)","v":1},{"$f":"VLOOKUP(B1679,town351,22)","v":3005328},{"$f":"SUM(K1675:K1678)","v":3005328},3092528,{"$f":"SUM(M1675:M1678)","v":-87200},-2.8196996114505675,359,0,334,999,1670,366,3642822,null,334,999,1670,366,3642822]
[1671,335,"WESTWOOD                     ",335,"WESTWOOD",29096356.715499997,0.99465220326736481,{"$f":"U1680","v":29539997.822689999},{"$f":"IF(H1684>0, H1680/H1684, 0)","v":0.99196285043717503},null,{"$f":"ROUND(J1684*I1680,0)","v":24370499},24830260,{"$f":"K1680-L1680","v":-459761},{"$f":"IF(L1680>0,M1680*100/L1680,IF(M1680>0,100,0))","v":-1.8516157301615046},3110,0,335,335,1671,3100,29539997.822689999,null,335,335,1671,3100,29539997.822689999]
[1672,335,"WESTWOOD                     ",806,"BLUE HILLS",95389,3.260850832466165E-3,145453,{"$f":"IF(H1684>0, H1681/H1684, 0)","v":4.8843596181246942E-3},null,{"$f":"ROUND(J1684*I1681,0)","v":119999},81403,{"$f":"K1681-L1681","v":38596},{"$f":"IF(L1681>0,M1681*100/L1681,IF(M1681>0,100,0))","v":47.413485989459851},6,0,335,806,1672,9,145453,null,335,806,1672,9,145453]
[1673,335,"WESTWOOD                     ",915,"NORFOLK COUNTY",61049,2.0869459001690645E-3,93888,{"$f":"IF(H1684>0, H1682/H1684, 0)","v":3.1527899447002898E-3},null,{"$f":"ROUND(J1684*I1682,0)","v":77458},52098,{"$f":"K1682-L1682","v":25360},{"$f":"IF(L1682>0,M1682*100/L1682,IF(M1682>0,100,0))","v":48.677492418135053},4,0,335,915,1673,6,93888,null,335,915,1673,6,93888]
[1674,335,null,998,null,0,0,0,{"$f":"IF(H1684>0, H1683/H1684, 0)","v":0},null,{"$f":"ROUND(J1684*I1683,0)","v":0},0,{"$f":"K1683-L1683","v":0},{"$f":"IF(L1683>0,M1683*100/L1683,IF(M1683>0,100,0))","v":0},0,0,335,998,1674,0,0,null,335,998,1674,0,0]
[1675,335,"WESTWOOD                     ",999,"TOTAL",29252794.715499997,1,{"$f":"SUM(H1680:H1683)","v":29779338.822689999},{"$f":"SUM(I1680:I1683)","v":1},{"$f":"VLOOKUP(B1684,town351,22)","v":24567955},{"$f":"SUM(K1680:K1683)","v":24567956},24963761,{"$f":"SUM(M1680:M1683)","v":-395805},{"$f":"IF(L1684>0,M1684*100/L1684,IF(M1684>0,100,0))","v":-1.5855183039126195},3120,0,335,999,1675,3115,29779338.822689999,null,335,999,1675,3115,29779338.822689999]
[1676,336,"WEYMOUTH                     ",336,"WEYMOUTH",68999976.990219995,0.9940632792360834,{"$f":"U1685","v":69769188.724899977},{"$f":"IF(H1689>0, H1685/H1689, 0)","v":0.9939807971611242},null,{"$f":"ROUND(J1689*I1685,0)","v":45695271},43802418,{"$f":"K1685-L1685","v":1892853},4.3213436299338541,6623,0,336,336,1676,6556,69769188.724899977,null,336,336,1676,6556,69769188.724899977]
[1677,336,"WEYMOUTH                     ",915,"NORFOLK COUNTY",412080,5.9367207639165797E-3,422498,{"$f":"IF(H1689>0, H1686/H1689, 0)","v":6.0192028388758182E-3},null,{"$f":"ROUND(J1689*I1686,0)","v":276715},261596,{"$f":"K1686-L1686","v":15119},5.7795226226700711,27,0,336,915,1677,27,422498,null,336,915,1677,27,422498]
[1678,336,null,998,null,0,0,0,{"$f":"IF(H1689>0, H1687/H1689, 0)","v":0},null,{"$f":"ROUND(J1689*I1687,0)","v":0},0,{"$f":"K1687-L1687","v":0},0,0,0,336,998,1678,0,0,null,336,998,1678,0,0]
[1679,336,null,998,null,0,0,0,{"$f":"IF(H1689>0, H1688/H1689, 0)","v":0},null,{"$f":"ROUND(J1689*I1688,0)","v":0},0,{"$f":"K1688-L1688","v":0},0,0,0,336,998,1679,0,0,null,336,998,1679,0,0]
[1680,336,"WEYMOUTH                     ",999,"TOTAL",69412056.990219995,1,{"$f":"SUM(H1685:H1688)","v":70191686.724899977},{"$f":"SUM(I1685:I1688)","v":1},{"$f":"VLOOKUP(B1689,town351,22)","v":45971986},{"$f":"SUM(K1685:K1688)","v":45971986},44064014,{"$f":"SUM(M1685:M1688)","v":1907972},4.3300004398146754,6650,0,336,999,1680,6583,70191686.724899977,null,336,999,1680,6583,70191686.724899977]
[1681,337,"WHATELY                      ",337,"WHATELY",973888.2100000002,0.53542136706555543,{"$f":"U1690","v":877253.83999999985},{"$f":"IF(H1694>0, H1690/H1694, 0)","v":0.50861698044259296},null,{"$f":"ROUND(J1694*I1690,0)","v":723734},773751,{"$f":"K1690-L1690","v":-50017},-6.4642242788700761,99,0,337,337,1681,89,877253.83999999985,null,337,337,1681,89,877253.83999999985]
[1682,337,"WHATELY                      ",670,"FRONTIER",704627,0.38738773889797995,720378,{"$f":"IF(H1694>0, H1691/H1694, 0)","v":0.41766301431895048},null,{"$f":"ROUND(J1694*I1691,0)","v":594312},559824,{"$f":"K1691-L1691","v":34488},6.1605075880991169,71,0,337,670,1682,72,720378,null,337,670,1682,72,720378]
[1683,337,"WHATELY                      ",818,"FRANKLIN COUNTY",140404,7.7190894036464647E-2,127151,{"$f":"IF(H1694>0, H1692/H1694, 0)","v":7.3720005238456579E-2},null,{"$f":"ROUND(J1694*I1692,0)","v":104900},111550,{"$f":"K1692-L1692","v":-6650},-5.9614522635589422,9,0,337,818,1683,8,127151,null,337,818,1683,8,127151]
[1684,337,null,998,null,0,0,0,{"$f":"IF(H1694>0, H1693/H1694, 0)","v":0},null,{"$f":"ROUND(J1694*I1693,0)","v":0},0,{"$f":"K1693-L1693","v":0},0,0,0,337,998,1684,0,0,null,337,998,1684,0,0]
[1685,337,"WHATELY                      ",999,"TOTAL",1818919.2100000002,1,{"$f":"SUM(H1690:H1693)","v":1724782.8399999999},{"$f":"SUM(I1690:I1693)","v":1},{"$f":"VLOOKUP(B1694,town351,22)","v":1422946},{"$f":"SUM(K1690:K1693)","v":1422946},1445125,{"$f":"SUM(M1690:M1693)","v":-22179},-1.5347461292275755,179,0,337,999,1685,169,1724782.8399999999,null,337,999,1685,169,1724782.8399999999]
[1686,338,"WHITMAN                      ",338,"WHITMAN",78029.39999999998,3.2316140310429658E-3,{"$f":"U1695","v":118799.64000000001},{"$f":"IF(H1699>0, H1695/H1699, 0)","v":4.8981996737884788E-3},null,{"$f":"ROUND(J1699*I1695,0)","v":47836},29915,{"$f":"K1695-L1695","v":17921},59.906401470834027,6,0,338,338,1686,9,118799.64000000001,null,338,338,1686,9,118799.64000000001]
[1687,338,"WHITMAN                      ",780,"WHITMAN HANSON",22209128,0.91979855877437511,22342344,{"$f":"IF(H1699>0, H1696/H1699, 0)","v":0.92119186634294492},null,{"$f":"ROUND(J1699*I1696,0)","v":8996371},8514467,{"$f":"K1696-L1696","v":481904},5.6598258000177815,2366,0,338,780,1687,2311,22342344,null,338,780,1687,2311,22342344]
[1688,338,"WHITMAN                      ",873,"SOUTH SHORE",1858486,7.6969827194582036E-2,1792592,{"$f":"IF(H1699>0, H1697/H1699, 0)","v":7.390993398326659E-2},null,{"$f":"ROUND(J1699*I1697,0)","v":721805},712501,{"$f":"K1697-L1697","v":9304},1.3058227286698545,123,0,338,873,1688,114,1792592,null,338,873,1688,114,1792592]
[1689,338,null,998,null,0,0,0,{"$f":"IF(H1699>0, H1698/H1699, 0)","v":0},null,{"$f":"ROUND(J1699*I1698,0)","v":0},0,{"$f":"K1698-L1698","v":0},0,0,0,338,998,1689,0,0,null,338,998,1689,0,0]
[1690,338,"WHITMAN                      ",999,"TOTAL",24145643.399999999,1.0000000000000002,{"$f":"SUM(H1695:H1698)","v":24253735.640000001},{"$f":"SUM(I1695:I1698)","v":1},{"$f":"VLOOKUP(B1699,town351,22)","v":9766012},{"$f":"SUM(K1695:K1698)","v":9766012},9256883,{"$f":"SUM(M1695:M1698)","v":509129},5.5000046992059852,2495,0,338,999,1690,2434,24253735.640000001,null,338,999,1690,2434,24253735.640000001]
[1691,339,"WILBRAHAM                    ",339,"WILBRAHAM",0,0,{"$f":"U1700","v":0},{"$f":"IF(H1704>0, H1700/H1704, 0)","v":0},null,{"$f":"ROUND(J1704*I1700,0)","v":0},0,{"$f":"K1700-L1700","v":0},0,0,0,339,339,1691,0,0,null,339,339,1691,0,0]
[1692,339,"WILBRAHAM                    ",680,"HAMPDEN WILBRAHAM",23068976,1,22846917,{"$f":"IF(H1704>0, H1701/H1704, 0)","v":1},null,{"$f":"ROUND(J1704*I1701,0)","v":15493968},15287635,{"$f":"K1701-L1701","v":206333},1.3496724640534654,2470,0,339,680,1692,2396,22846917,null,339,680,1692,2396,22846917]
[1693,339,null,998,null,0,0,0,{"$f":"IF(H1704>0, H1702/H1704, 0)","v":0},null,{"$f":"ROUND(J1704*I1702,0)","v":0},0,{"$f":"K1702-L1702","v":0},0,0,0,339,998,1693,0,0,null,339,998,1693,0,0]
[1694,339,null,998,null,0,0,0,{"$f":"IF(H1704>0, H1703/H1704, 0)","v":0},null,{"$f":"ROUND(J1704*I1703,0)","v":0},0,{"$f":"K1703-L1703","v":0},0,0,0,339,998,1694,0,0,null,339,998,1694,0,0]
[1695,339,"WILBRAHAM                    ",999,"TOTAL",23068976,1,{"$f":"SUM(H1700:H1703)","v":22846917},{"$f":"SUM(I1700:I1703)","v":1},{"$f":"VLOOKUP(B1704,town351,22)","v":15493968},{"$f":"SUM(K1700:K1703)","v":15493968},15287635,{"$f":"SUM(M1700:M1703)","v":206333},1.3496724640534654,2470,0,339,999,1695,2396,22846917,null,339,999,1695,2396,22846917]
[1696,340,"WILLIAMSBURG                 ",340,"WILLIAMSBURG",1740594.9700000002,0.65274849669122947,{"$f":"U1705","v":1731396.01},{"$f":"IF(H1709>0, H1705/H1709, 0)","v":0.64696714432524682},null,{"$f":"ROUND(J1709*I1705,0)","v":1374154},1393645,{"$f":"K1705-L1705","v":-19491},-1.3985627616789067,188,0,340,340,1696,185,1731396.01,null,340,340,1696,185,1731396.01]
[1697,340,"WILLIAMSBURG                 ",683,"HAMPSHIRE",925968,0.34725150330877053,944777,{"$f":"IF(H1709>0, H1706/H1709, 0)","v":0.35303285567475329},null,{"$f":"ROUND(J1709*I1706,0)","v":749840},741397,{"$f":"K1706-L1706","v":8443},1.138796083609726,97,0,340,683,1697,96,944777,null,340,683,1697,96,944777]
[1698,340,null,998,null,0,0,0,{"$f":"IF(H1709>0, H1707/H1709, 0)","v":0},null,{"$f":"ROUND(J1709*I1707,0)","v":0},0,{"$f":"K1707-L1707","v":0},0,0,0,340,998,1698,0,0,null,340,998,1698,0,0]
[1699,340,null,998,null,0,0,0,{"$f":"IF(H1709>0, H1708/H1709, 0)","v":0},null,{"$f":"ROUND(J1709*I1708,0)","v":0},0,{"$f":"K1708-L1708","v":0},0,0,0,340,998,1699,0,0,null,340,998,1699,0,0]
[1700,340,"WILLIAMSBURG                 ",999,"TOTAL",2666562.9700000002,1,{"$f":"SUM(H1705:H1708)","v":2676173.0099999998},{"$f":"SUM(I1705:I1708)","v":1},{"$f":"VLOOKUP(B1709,town351,22)","v":2123994},{"$f":"SUM(K1705:K1708)","v":2123994},2135042,{"$f":"SUM(M1705:M1708)","v":-11048},-0.51746054644358286,285,0,340,999,1700,281,2676173.0099999998,null,340,999,1700,281,2676173.0099999998]
[1701,341,"WILLIAMSTOWN                 ",341,"WILLIAMSTOWN",3344865.7700000005,0.50016917985547471,{"$f":"U1710","v":3691422.7599999993},{"$f":"IF(H1714>0, H1710/H1714, 0)","v":0.53388383956800722},null,{"$f":"ROUND(J1714*I1710,0)","v":3045424},2917285,{"$f":"K1710-L1710","v":128139},4.3924059527951504,376,0,341,341,1701,397,3691422.7599999993,null,341,341,1701,397,3691422.7599999993]
[1702,341,"WILLIAMSTOWN                 ",715,"MOUNT GREYLOCK",3053021,0.45652863661896392,3020936,{"$f":"IF(H1714>0, H1711/H1714, 0)","v":0.43691254446543476},null,{"$f":"ROUND(J1714*I1711,0)","v":2492272},2662747,{"$f":"K1711-L1711","v":-170475},-6.402222967484331,312,0,341,715,1702,301,3020936,null,341,715,1702,301,3020936]
[1703,341,"WILLIAMSTOWN                 ",851,"NORTHERN BERKSHIRE",289582,4.3302183525561345E-2,201922,{"$f":"IF(H1714>0, H1712/H1714, 0)","v":2.9203615966557888E-2},null,{"$f":"ROUND(J1714*I1712,0)","v":166586},252564,{"$f":"K1712-L1712","v":-85978},-34.042064585609985,19,0,341,851,1703,13,201922,null,341,851,1703,13,201922]
[1704,341,null,998,null,0,0,0,{"$f":"IF(H1714>0, H1713/H1714, 0)","v":0},null,{"$f":"ROUND(J1714*I1713,0)","v":0},0,{"$f":"K1713-L1713","v":0},0,0,0,341,998,1704,0,0,null,341,998,1704,0,0]
[1705,341,"WILLIAMSTOWN                 ",999,"TOTAL",6687468.7700000005,1,{"$f":"SUM(H1710:H1713)","v":6914280.7599999998},{"$f":"SUM(I1710:I1713)","v":0.99999999999999978},{"$f":"VLOOKUP(B1714,town351,22)","v":5704282},{"$f":"SUM(K1710:K1713)","v":5704282},5832596,{"$f":"SUM(M1710:M1713)","v":-128314},-2.1999466446844593,707,0,341,999,1705,711,6914280.7599999998,null,341,999,1705,711,6914280.7599999998]
[1706,342,"WILMINGTON                   ",342,"WILMINGTON",33711949.045720004,0.89479758252490627,{"$f":"U1715","v":33895541.813259996},{"$f":"IF(H1719>0, H1715/H1719, 0)","v":0.90044212692130043},null,{"$f":"ROUND(J1719*I1715,0)","v":24122111},24256928,{"$f":"K1715-L1715","v":-134817},-0.55578760838965269,3571,0,342,342,1706,3496,33895541.813259996,null,342,342,1706,3496,33895541.813259996]
[1707,342,"WILMINGTON                   ",871,"SHAWSHEEN VALLEY",3963554,0.10520241747509369,3747679,{"$f":"IF(H1719>0, H1716/H1719, 0)","v":9.9557873078699552E-2},null,{"$f":"ROUND(J1719*I1716,0)","v":2667074},2851916,{"$f":"K1716-L1716","v":-184842},-6.481326939503127,265,0,342,871,1707,249,3747679,null,342,871,1707,249,3747679]
[1708,342,null,998,"ESSEX COUNTY",0,0,0,{"$f":"IF(H1719>0, H1717/H1719, 0)","v":0},null,{"$f":"ROUND(J1719*I1717,0)","v":0},0,{"$f":"K1717-L1717","v":0},0,0,0,342,998,1708,0,0,null,342,998,1708,0,0]
[1709,342,null,998,null,0,0,0,{"$f":"IF(H1719>0, H1718/H1719, 0)","v":0},null,{"$f":"ROUND(J1719*I1718,0)","v":0},0,{"$f":"K1718-L1718","v":0},0,0,0,342,998,1709,0,0,null,342,998,1709,0,0]
[1710,342,"WILMINGTON                   ",999,"TOTAL",37675503.045720004,1,{"$f":"SUM(H1715:H1718)","v":37643220.813259996},{"$f":"SUM(I1715:I1718)","v":1},{"$f":"VLOOKUP(B1719,town351,22)","v":26789185},{"$f":"SUM(K1715:K1718)","v":26789185},27108844,{"$f":"SUM(M1715:M1718)","v":-319659},-1.1791686875323788,3836,0,342,999,1710,3745,37643220.813259996,null,342,999,1710,3745,37643220.813259996]
[1711,343,"WINCHENDON                   ",343,"WINCHENDON",14667673.109999999,0.87429484348429687,{"$f":"U1720","v":14868534.459999999},{"$f":"IF(H1724>0, H1720/H1724, 0)","v":0.86489859748982745},null,{"$f":"ROUND(J1724*I1720,0)","v":4796712},4914309,{"$f":"K1720-L1720","v":-117597},-2.3929508706107003,1472,0,343,343,1711,1458,14868534.459999999,null,343,343,1711,1458,14868534.459999999]
[1712,343,"WINCHENDON                   ",832,"MONTACHUSETT",2108902,0.12570515651570316,2322538,{"$f":"IF(H1724>0, H1721/H1724, 0)","v":0.13510140251017241},null,{"$f":"ROUND(J1724*I1721,0)","v":749270},706574,{"$f":"K1721-L1721","v":42696},6.0426791815153118,140,0,343,832,1712,152,2322538,null,343,832,1712,152,2322538]
[1713,343,null,998,null,0,0,0,{"$f":"IF(H1724>0, H1722/H1724, 0)","v":0},null,{"$f":"ROUND(J1724*I1722,0)","v":0},0,{"$f":"K1722-L1722","v":0},0,0,0,343,998,1713,0,0,null,343,998,1713,0,0]
[1714,343,null,998,null,0,0,0,{"$f":"IF(H1724>0, H1723/H1724, 0)","v":0},null,{"$f":"ROUND(J1724*I1723,0)","v":0},0,{"$f":"K1723-L1723","v":0},0,0,0,343,998,1714,0,0,null,343,998,1714,0,0]
[1715,343,"WINCHENDON                   ",999,"TOTAL",16776575.109999999,1,{"$f":"SUM(H1720:H1723)","v":17191072.460000001},{"$f":"SUM(I1720:I1723)","v":0.99999999999999989},{"$f":"VLOOKUP(B1724,town351,22)","v":5545982},{"$f":"SUM(K1720:K1723)","v":5545982},5620883,{"$f":"SUM(M1720:M1723)","v":-74901},-1.3325486404894036,1612,0,343,999,1715,1610,17191072.460000001,null,343,999,1715,1610,17191072.460000001]
[1716,344,"WINCHESTER                   ",344,"WINCHESTER",39564443.627320006,0.99548356355456946,{"$f":"U1725","v":40749515.511779994},{"$f":"IF(H1729>0, H1725/H1729, 0)","v":0.99636146472654152},null,{"$f":"ROUND(J1729*I1725,0)","v":33618351},32332932,{"$f":"K1725-L1725","v":1285419},3.9755720266878365,4302,0,344,344,1716,4340,40749515.511779994,null,344,344,1716,4340,40749515.511779994]
[1717,344,"WINCHESTER                   ",853,"NORTHEAST METROPOLITAN",179501,4.5164364454305054E-3,148810,{"$f":"IF(H1729>0, H1726/H1729, 0)","v":3.6385352734585202E-3},null,{"$f":"ROUND(J1729*I1726,0)","v":122768},146692,{"$f":"K1726-L1726","v":-23924},-16.309001172524745,11,0,344,853,1717,9,148810,null,344,853,1717,9,148810]
[1718,344,null,998,null,0,0,0,{"$f":"IF(H1729>0, H1727/H1729, 0)","v":0},null,{"$f":"ROUND(J1729*I1727,0)","v":0},0,{"$f":"K1727-L1727","v":0},0,0,0,344,998,1718,0,0,null,344,998,1718,0,0]
[1719,344,null,998,null,0,0,0,{"$f":"IF(H1729>0, H1728/H1729, 0)","v":0},null,{"$f":"ROUND(J1729*I1728,0)","v":0},0,{"$f":"K1728-L1728","v":0},0,0,0,344,998,1719,0,0,null,344,998,1719,0,0]
[1720,344,"WINCHESTER                   ",999,"TOTAL",39743944.627320006,1,{"$f":"SUM(H1725:H1728)","v":40898325.511779994},{"$f":"SUM(I1725:I1728)","v":1},{"$f":"VLOOKUP(B1729,town351,22)","v":33741119},{"$f":"SUM(K1725:K1728)","v":33741119},32479624,{"$f":"SUM(M1725:M1728)","v":1261495},3.8839581394168849,4313,0,344,999,1720,4349,40898325.511779994,null,344,999,1720,4349,40898325.511779994]
[1721,345,"WINDSOR                      ",345,"WINDSOR",91034.3,8.4978692853641638E-2,{"$f":"U1730","v":39599.880000000005},{"$f":"IF(H1734>0, H1730/H1734, 0)","v":4.2461993291242082E-2},null,{"$f":"ROUND(J1734*I1730,0)","v":32060},66927,{"$f":"K1730-L1730","v":-34867},-52.09706097688526,7,0,345,345,1721,3,39599.880000000005,null,345,345,1721,3,39599.880000000005]
[1722,345,"WINDSOR                      ",635,"CENTRAL BERKSHIRE",980226,0.91502130714635832,892996,{"$f":"IF(H1734>0, H1731/H1734, 0)","v":0.95753800670875788},null,{"$f":"ROUND(J1734*I1731,0)","v":722979},720652,{"$f":"K1731-L1731","v":2327},0.32290203870939094,100,0,345,635,1722,90,892996,null,345,635,1722,90,892996]
[1723,345,null,998,null,0,0,0,{"$f":"IF(H1734>0, H1732/H1734, 0)","v":0},null,{"$f":"ROUND(J1734*I1732,0)","v":0},0,{"$f":"K1732-L1732","v":0},0,0,0,345,998,1723,0,0,null,345,998,1723,0,0]
[1724,345,null,998,null,0,0,0,{"$f":"IF(H1734>0, H1733/H1734, 0)","v":0},null,{"$f":"ROUND(J1734*I1733,0)","v":0},0,{"$f":"K1733-L1733","v":0},0,0,0,345,998,1724,0,0,null,345,998,1724,0,0]
[1725,345,"WINDSOR                      ",999,"TOTAL",1071260.3,1,{"$f":"SUM(H1730:H1733)","v":932595.88},{"$f":"SUM(I1730:I1733)","v":1},{"$f":"VLOOKUP(B1734,town351,22)","v":755039},{"$f":"SUM(K1730:K1733)","v":755039},787579,{"$f":"SUM(M1730:M1733)","v":-32540},-4.1316490155273309,107,0,345,999,1725,93,932595.88,null,345,999,1725,93,932595.88]
[1726,346,"WINTHROP                     ",346,"WINTHROP",19874501.94588,0.95155972793847032,{"$f":"U1735","v":19501001.633919992},{"$f":"IF(H1739>0, H1735/H1739, 0)","v":0.94548744840420318},null,{"$f":"ROUND(J1739*I1735,0)","v":13580430},13576177,{"$f":"K1735-L1735","v":4253},3.1326933937293244E-2,1985,0,346,346,1726,1946,19501001.633919992,null,346,346,1726,1946,19501001.633919992]
[1727,346,"WINTHROP                     ",853,"NORTHEAST METROPOLITAN",1011735,4.8440272061529684E-2,1124340,{"$f":"IF(H1739>0, H1736/H1739, 0)","v":5.4512551595796828E-2},null,{"$f":"ROUND(J1739*I1736,0)","v":782987},691111,{"$f":"K1736-L1736","v":91876},13.293957121214971,62,0,346,853,1727,68,1124340,null,346,853,1727,68,1124340]
[1728,346,null,998,"ESSEX COUNTY",0,0,0,{"$f":"IF(H1739>0, H1737/H1739, 0)","v":0},null,{"$f":"ROUND(J1739*I1737,0)","v":0},0,{"$f":"K1737-L1737","v":0},0,0,0,346,998,1728,0,0,null,346,998,1728,0,0]
[1729,346,null,998,null,0,0,0,{"$f":"IF(H1739>0, H1738/H1739, 0)","v":0},null,{"$f":"ROUND(J1739*I1738,0)","v":0},0,{"$f":"K1738-L1738","v":0},0,0,{"$f":"ABS(Q1738-B1738)+ABS(R1738-D1738)","v":0},{"$f":"IF($Q$6=1, W1738, IF($Q$6=2, AC1738, IF($Q$6=3, AI1738, IF($Q$6=4, AO1738, IF($Q$6=5, AU1738, IF($Q$6=6, BA1738, IF($Q$6=7, BG1738, IF($Q$6=8, BM1738, 0))))))))","v":346},{"$f":"IF($Q$6=1, X1738, IF($Q$6=2, AD1738, IF($Q$6=3, AJ1738, IF($Q$6=4, AP1738, IF($Q$6=5, AV1738, IF($Q$6=6, BB1738, IF($Q$6=7, BH1738, IF($Q$6=8, BN1738, 0))))))))","v":998},{"$f":"IF($Q$6=1, Y1738, IF($Q$6=2, AE1738, IF($Q$6=3, AK1738, IF($Q$6=4, AQ1738, IF($Q$6=5, AW1738, IF($Q$6=6, BC1738, IF($Q$6=7, BI1738, IF($Q$6=8, BO1738, 0))))))))","v":1729},{"$f":"IF($Q$6=1, Z1738, IF($Q$6=2, AF1738, IF($Q$6=3, AL1738, IF($Q$6=4, AR1738, IF($Q$6=5, AX1738, IF($Q$6=6, BD1738, IF($Q$6=7, BJ1738, IF($Q$6=8, BP1738, 0))))))))","v":0},{"$f":"IF($Q$6=1, AA1738, IF($Q$6=2, AG1738, IF($Q$6=3, AM1738, IF($Q$6=4, AS1738, IF($Q$6=5, AY1738, IF($Q$6=6, BE1738, IF($Q$6=7, BK1738, IF($Q$6=8, BQ1738, 0))))))))","v":0},null,346,998,1729,0,0]
[1730,346,"WINTHROP                     ",999,"TOTAL",20886236.94588,1,{"$f":"SUM(H1735:H1738)","v":20625341.633919992},{"$f":"SUM(I1735:I1738)","v":1},{"$f":"VLOOKUP(B1739,town351,22)","v":14363417},{"$f":"SUM(K1735:K1738)","v":14363417},14267288,{"$f":"SUM(M1735:M1738)","v":96129},0.67377205815148611,2047,0,346,999,1730,2014,20625341.633919992,null,346,999,1730,2014,20625341.633919992]
[1731,347,"WOBURN",347,"WOBURN",48695159.223999999,0.96820328991843618,{"$f":"U1740","v":49230530.561499998},{"$f":"IF(H1744>0, H1740/H1744, 0)","v":0.96281276964418827},null,{"$f":"ROUND(J1744*I1740,0)","v":40615188},40727571,{"$f":"K1740-L1740","v":-112383},-0.27593838090663447,4860,0,347,347,1731,4789,49230530.561499998,null,347,347,1731,4789,49230530.561499998]
[1732,347,"WOBURN",853,"NORTHEAST METROPOLITAN",1599195,3.1796710081563768E-2,1901457,{"$f":"IF(H1744>0, H1741/H1744, 0)","v":3.7187230355811722E-2},null,{"$f":"ROUND(J1744*I1741,0)","v":1568702},1337532,{"$f":"K1741-L1741","v":231170},17.283324810172765,98,0,347,853,1732,115,1901457,null,347,853,1732,115,1901457]
[1733,347,null,998,"ESSEX COUNTY",0,0,0,{"$f":"IF(H1744>0, H1742/H1744, 0)","v":0},null,{"$f":"ROUND(J1744*I1742,0)","v":0},0,{"$f":"K1742-L1742","v":0},0,0,0,347,998,1733,0,0,null,347,998,1733,0,0]
[1734,347,null,998,null,0,0,0,{"$f":"IF(H1744>0, H1743/H1744, 0)","v":0},null,{"$f":"ROUND(J1744*I1743,0)","v":0},0,{"$f":"K1743-L1743","v":0},0,0,0,347,998,1734,0,0,null,347,998,1734,0,0]
[1735,347,"WOBURN",999,"TOTAL",50294354.223999999,1,{"$f":"SUM(H1740:H1743)","v":51131987.561499998},{"$f":"SUM(I1740:I1743)","v":1},{"$f":"VLOOKUP(B1744,town351,22)","v":42183890},{"$f":"SUM(K1740:K1743)","v":42183890},42065103,{"$f":"SUM(M1740:M1743)","v":118787},{"$f":"IF(L1744>0,M1744*100/L1744,IF(M1744>0,100,0))","v":0.28238846817990676},4958,0,347,999,1735,4904,51131987.561499998,null,347,999,1735,4904,51131987.561499998]
[1736,348,"WORCESTER                    ",348,"WORCESTER",314854112.86000001,1,{"$f":"U1745","v":329468506.71999997},{"$f":"IF(H1749>0, H1745/H1749, 0)","v":1},null,{"$f":"ROUND(J1749*I1745,0)","v":96907634},96374700,{"$f":"K1745-L1745","v":532934},0.55298122847593822,26874,0,348,348,1736,27452,329468506.71999997,null,348,348,1736,27452,329468506.71999997]
[1737,348,null,998,null,0,0,0,{"$f":"IF(H1749>0, H1746/H1749, 0)","v":0},null,{"$f":"ROUND(J1749*I1746,0)","v":0},0,{"$f":"K1746-L1746","v":0},0,0,0,348,998,1737,0,0,null,348,998,1737,0,0]
[1738,348,null,998,null,0,0,0,{"$f":"IF(H1749>0, H1747/H1749, 0)","v":0},null,{"$f":"ROUND(J1749*I1747,0)","v":0},0,{"$f":"K1747-L1747","v":0},0,0,0,348,998,1738,0,0,null,348,998,1738,0,0]
[1739,348,null,998,null,0,0,0,{"$f":"IF(H1749>0, H1748/H1749, 0)","v":0},null,{"$f":"ROUND(J1749*I1748,0)","v":0},0,{"$f":"K1748-L1748","v":0},0,0,0,348,998,1739,0,0,null,348,998,1739,0,0]
[1740,348,"WORCESTER                    ",999,"TOTAL",314854112.86000001,1,{"$f":"SUM(H1745:H1748)","v":329468506.71999997},{"$f":"SUM(I1745:I1748)","v":1},{"$f":"VLOOKUP(B1749,town351,22)","v":96907634},{"$f":"SUM(K1745:K1748)","v":96907634},96374700,{"$f":"SUM(M1745:M1748)","v":532934},0.55298122847593822,26874,0,348,999,1740,27452,329468506.71999997,null,348,999,1740,27452,329468506.71999997]
[1741,349,"WORTHINGTON                  ",349,"WORTHINGTON",181016.85000000003,0.17939994520386932,{"$f":"U1750","v":1164871.5999999999},{"$f":"IF(H1754>0, H1750/H1754, 0)","v":1},null,{"$f":"ROUND(J1754*I1750,0)","v":939802},161882,{"$f":"K1750-L1750","v":777920},480.54755933334155,12,0,349,349,1741,115,1164871.5999999999,null,349,349,1741,115,1164871.5999999999]
[1742,349,"WORTHINGTON                  ",998,"GATEWAY",827996,0.82060005479613063,0,{"$f":"IF(H1754>0, H1751/H1754, 0)","v":0},null,{"$f":"ROUND(J1754*I1751,0)","v":0},740472,{"$f":"K1751-L1751","v":-740472},-100,84,0,349,998,1742,0,0,null,349,998,1742,0,0]
[1743,349,null,998,null,0,0,0,{"$f":"IF(H1754>0, H1752/H1754, 0)","v":0},null,{"$f":"ROUND(J1754*I1752,0)","v":0},0,{"$f":"K1752-L1752","v":0},0,0,0,349,998,1743,0,0,null,349,998,1743,0,0]
[1744,349,null,998,null,0,0,0,{"$f":"IF(H1754>0, H1753/H1754, 0)","v":0},null,{"$f":"ROUND(J1754*I1753,0)","v":0},0,{"$f":"K1753-L1753","v":0},0,0,0,349,998,1744,0,0,null,349,998,1744,0,0]
[1745,349,"WORTHINGTON                  ",999,"TOTAL",1009012.8500000001,1,{"$f":"SUM(H1750:H1753)","v":1164871.5999999999},{"$f":"SUM(I1750:I1753)","v":1},{"$f":"VLOOKUP(B1754,town351,22)","v":939802},{"$f":"SUM(K1750:K1753)","v":939802},902354,{"$f":"SUM(M1750:M1753)","v":37448},4.1500342437668589,96,0,349,999,1745,115,1164871.5999999999,null,349,999,1745,115,1164871.5999999999]
[1746,350,"WRENTHAM                     ",350,"WRENTHAM",9069999.5540800001,0.48316342012441388,{"$f":"U1755","v":8534196.4301100001},{"$f":"IF(H1759>0, H1755/H1759, 0)","v":0.47285203710277302},null,{"$f":"ROUND(J1759*I1755,0)","v":6762850},6555043,{"$f":"K1755-L1755","v":207807},3.1701851536290455,1038,0,350,350,1746,958,8534196.4301100001,null,350,350,1746,958,8534196.4301100001]
[1747,350,"WRENTHAM                     ",690,"KING PHILIP",8464959,0.45093260669600949,8264937,{"$f":"IF(H1759>0, H1756/H1759, 0)","v":0.45793324878106989},null,{"$f":"ROUND(J1759*I1756,0)","v":6549478},6117770,{"$f":"K1756-L1756","v":431708},7.0566235736224145,899,0,350,690,1747,864,8264937,null,350,690,1747,864,8264937]
[1748,350,"WRENTHAM                     ",878,"TRI COUNTY",1099797,5.8586737165112215E-2,1092730,{"$f":"IF(H1759>0, H1757/H1759, 0)","v":6.0544611403636657E-2},null,{"$f":"ROUND(J1759*I1757,0)","v":865924},794842,{"$f":"K1757-L1757","v":71082},8.9429094084107277,71,0,350,878,1748,69,1092730,null,350,878,1748,69,1092730]
[1749,350,"WRENTHAM                     ",915,"NORFOLK COUNTY",137360,7.317236014464319E-3,156481,{"$f":"IF(H1759>0, H1758/H1759, 0)","v":8.6701027125204461E-3},null,{"$f":"ROUND(J1759*I1758,0)","v":124002},99272,{"$f":"K1758-L1758","v":24730},24.911354661938915,9,0,350,915,1749,10,156481,null,350,915,1749,10,156481]
[1750,350,"WRENTHAM                     ",999,"TOTAL",18772115.554080002,0.99999999999999989,{"$f":"SUM(H1755:H1758)","v":18048344.43011},{"$f":"SUM(I1755:I1758)","v":1},{"$f":"VLOOKUP(B1759,town351,22)","v":14302254},{"$f":"SUM(K1755:K1758)","v":14302254},13566927,{"$f":"SUM(M1755:M1758)","v":735327},5.4199967317580464,2017,0,350,999,1750,1901,18048344.43011,null,350,999,1750,1901,18048344.43011]
[1751,351,"YARMOUTH                     ",351,"YARMOUTH",0,0,{"$f":"U1760","v":0},{"$f":"IF(H1764>0, H1760/H1764, 0)","v":0},null,{"$f":"ROUND(J1764*I1760,0)","v":0},0,{"$f":"K1760-L1760","v":0},0,0,0,351,351,1751,0,0,null,351,351,1751,0,0]
[1752,351,"YARMOUTH                     ",645,"DENNIS YARMOUTH",22532754,0.8975506792249982,22794558,{"$f":"IF(H1764>0, H1761/H1764, 0)","v":0.89900132602801874},null,{"$f":"ROUND(J1764*I1761,0)","v":18805510},19267113,{"$f":"K1761-L1761","v":-461603},-2.3958078202998032,2255,0,351,645,1752,2191,22794558,null,351,645,1752,2191,22794558]
[1753,351,"YARMOUTH                     ",815,"CAPE COD",2571961,0.10244932077500182,2560864,{"$f":"IF(H1764>0, H1762/H1764, 0)","v":0.10099867397198121},null,{"$f":"ROUND(J1764*I1762,0)","v":2112713},2199210,{"$f":"K1762-L1762","v":-86497},-3.9330941565380297,168,0,351,815,1753,164,2560864,null,351,815,1753,164,2560864]
[1754,351,null,998,null,0,0,0,{"$f":"IF(H1764>0, H1763/H1764, 0)","v":0},null,{"$f":"ROUND(J1764*I1763,0)","v":0},0,{"$f":"K1763-L1763","v":0},0,0,0,351,998,1754,0,0,null,351,998,1754,0,0]
[1755,351,"YARMOUTH                     ",999,"TOTAL",25104715,1,{"$f":"SUM(H1760:H1763)","v":25355422},{"$f":"SUM(I1760:I1763)","v":1},{"$f":"VLOOKUP(B1764,town351,22)","v":20918223},{"$f":"SUM(K1760:K1763)","v":20918223},21466323,{"$f":"SUM(M1760:M1763)","v":-548100},-2.553301746181682,2423,0,351,999,1755,2355,25355422,null,351,999,1755,2355,25355422]
[1756,999,"State Total",999,"STATE TOTAL",{"$f":"SUM(F10:F1764)/2","v":9866011313.06777},null,{"$f":"SUM(H10:H1764)/2","v":10090177272.100735},null,{"$f":"SUM(J10:J1764)","v":5826426116},{"$f":"SUM(K10:K1764)/2","v":5826426115},{"$f":"SUM(L10:L1764)/2","v":5817618237},{"$f":"SUM(M10:M1764)/2","v":8807878},0.15140006857070776,{"$f":"SUM(O10:O1764)/2","v":940831},null,null,null,null,{"$f":"SUM(T10:T1764)/2","v":942120},{"$f":"SUM(U10:U1764)/2","v":10090177272.100735},null,null,null,null,{"$f":"SUM(Z10:Z1764)/2","v":942120},{"$f":"SUM(AA10:AA1764)/2","v":10090177272.100735},null,null,null,null,{"$f":"SUM(AF10:AF1764)/2","v":0},{"$f":"SUM(AG10:AG1764)/2","v":0},null,null,null,null,{"$f":"SUM(AL10:AL1764)/2","v":0},{"$f":"SUM(AM10:AM1764)/2","v":0},null,null,null,null,{"$f":"SUM(AR10:AR1764)/2","v":0},{"$f":"SUM(AS10:AS1764)/2","v":0},null,null,null,null,{"$f":"SUM(AX10:AX1764)/2","v":0},{"$f":"SUM(AY10:AY1764)/2","v":0},null,null,null,null,{"$f":"SUM(BD10:BD1764)/2","v":0},{"$f":"SUM(BE10:BE1764)/2","v":0},null,null,null,null,{"$f":"SUM(BJ10:BJ1764)/2","v":0},{"$f":"SUM(BK10:BK1764)/2","v":0},null,null,null,null,{"$f":"SUM(BP10:BP1764)/2","v":0},{"$f":"SUM(BQ10:BQ1764)/2","v":0}]
[1756,999,"State Total FY14",999,"STATE TOTAL FY15",9711217584.8007965,null,9866011313.06777,null,5817618245.2574377,5817618237,5748475145,69143092,1.2028075316658606,938083,null,null,null,null,940831,9866011313.06777,null,null,null,null,null,null,null,null,null,null,null,{"$f":"AG1765-AA1765","v":-10090177272.100735},null,null,null,null,null,{"$f":"AM1765-AA1765","v":-10090177272.100735}]
[null,null,null,null,null,null,null,null,null,null,null,null,null,null,null,null,null,null,null,null,{"$f":"(U1765-U1766)*100/U1766","v":2.2721032028014347}]

{"sheet":"regionals","index":10,"n_rows":469,"n_cols":14,"rows_kept":469,"cut":false,"hidden":true,"merged":[]}
[]
[null,null,null,null,null,null,"     ---------------------------------this file -------------------------------"]
[null,null,null,null,null,null,null,null,"50% effort reduction"]
[]
[1,2,3,4,5,6,7,8,9,10,11,12]
[]
[null,null,null,null,null,null,"FY15","FY16","FY15","FY16"]
[null,"Record",null,null,null,null,"Foundation","Foundation","Minimum","Minimum"]
["code","Number","fraclea","District","memlea","Town","Enrollment","Enrollment","Contribution","Contribution",null,null,"regcount"]
[{"$f":"C10*100+B10","v":40601},1,406,"NORTHAMPTON SMITH",210,"NORTHAMPTON                  ",91,97,1447978,1655651,{"$f":"C10*1000+E10","v":406210},null,406,1]
[60001,{"$f":"IF(C11=C10, B10+1, 1)","v":1},600,"ACTON BOXBOROUGH",2,"ACTON                        ",4775,4714,32993280,34296868,600002,null,600,2]
[60002,2,600,"ACTON BOXBOROUGH",37,"BOXBOROUGH                   ",874,830,7297088,7019084,600037,null,603,2]
[60301,1,603,"ADAMS CHESHIRE",4,"ADAMS                        ",1043,1021,3232134,3326750,603004,null,605,4]
[60302,2,603,"ADAMS CHESHIRE",58,"CHESHIRE                     ",381,377,1756516,1833866,603058,null,610,2]
[60501,1,605,"AMHERST PELHAM",8,"AMHERST                      ",1203,1223,9008539,9342698,605008,null,615,2]
[60502,2,605,"AMHERST PELHAM",154,"LEVERETT                     ",111,113,1012997,1003259,605154,null,616,2]
[60503,3,605,"AMHERST PELHAM",230,"PELHAM                       ",77,60,702709,558118,605230,null,618,3]
[60504,4,605,"AMHERST PELHAM",272,"SHUTESBURY                   ",138,136,760153,760651,605272,null,620,2]
[61001,1,610,"ASHBURNHAM WESTMINSTER",11,"ASHBURNHAM                   ",1031,1061,4668297,4645495,610011,null,622,2]
[61002,2,610,"ASHBURNHAM WESTMINSTER",328,"WESTMINSTER                  ",1193,1192,6392497,6451976,610328,null,625,2]
[61501,1,615,"ATHOL ROYALSTON",15,"ATHOL                        ",1611,1610,2163703,2314968,615015,null,632,2]
[61502,2,615,"ATHOL ROYALSTON",255,"ROYALSTON                    ",108,107,337236,372514,615255,null,635,7]
[61601,1,616,"AYER SHIRLEY",19,"AYER                         ",1015,1015,6644403,6752864,616019,null,640,2]
[61602,2,616,"AYER SHIRLEY",270,"SHIRLEY                      ",756,724,4092358,4088557,616270,null,645,2]
[61801,1,618,"BERKSHIRE HILLS",113,"GREAT BARRINGTON             ",751,772,6511186,6597578,618113,null,650,2]
[61802,2,618,"BERKSHIRE HILLS",283,"STOCKBRIDGE                  ",151,152,1359333,1332400,618283,null,655,2]
[61803,3,618,"BERKSHIRE HILLS",333,"WEST STOCKBRIDGE             ",165,162,1454156,1419894,618333,null,658,2]
[62001,1,620,"BERLIN BOYLSTON",28,"BERLIN                       ",206,209,1615515,1679212,620028,null,660,4]
[62002,2,620,"BERLIN BOYLSTON",39,"BOYLSTON                     ",311,324,2506657,2655047,620039,null,662,2]
[62201,1,622,"BLACKSTONE MILLVILLE",32,"BLACKSTONE                   ",1343,1285,6313167,6297964,622032,null,665,2]
[62202,2,622,"BLACKSTONE MILLVILLE",188,"MILLVILLE                    ",536,515,1870811,1936827,622188,null,670,4]
[62501,1,625,"BRIDGEWATER RAYNHAM",42,"BRIDGEWATER                  ",3262,3300,18991202,19421229,625042,null,672,6]
[62502,2,625,"BRIDGEWATER RAYNHAM",245,"RAYNHAM                      ",2055,2107,12230194,12425350,625245,null,673,2]
[63201,1,632,"CHESTERFIELD GOSHEN",60,"CHESTERFIELD                 ",74,72,384011,387114,632060,null,674,2]
[63202,2,632,"CHESTERFIELD GOSHEN",108,"GOSHEN                       ",72,64,399110,408797,632108,null,675,2]
[63501,1,635,"CENTRAL BERKSHIRE",22,"BECKET                       ",168,180,1484897,1572048,635022,null,680,2]
[63502,2,635,"CENTRAL BERKSHIRE",69,"CUMMINGTON                   ",76,76,654100,668749,635069,null,683,5]
[63503,3,635,"CENTRAL BERKSHIRE",70,"DALTON                       ",999,961,5057271,5068511,635070,null,685,2]
[63504,4,635,"CENTRAL BERKSHIRE",132,"HINSDALE                     ",226,232,1661474,1770725,635132,null,690,3]
[63505,5,635,"CENTRAL BERKSHIRE",233,"PERU                         ",107,102,507428,522609,635233,null,695,2]
[63506,6,635,"CENTRAL BERKSHIRE",313,"WASHINGTON                   ",56,60,435744,460235,635313,null,698,2]
[63507,7,635,"CENTRAL BERKSHIRE",345,"WINDSOR                      ",100,90,720652,752434,635345,null,700,6]
[64001,1,640,"CONCORD CARLISLE",51,"CARLISLE                     ",339,337,3132609,3077762,640051,null,705,3]
[64002,2,640,"CONCORD CARLISLE",67,"CONCORD                      ",944,964,8337437,8641812,640067,null,710,2]
[64501,1,645,"DENNIS YARMOUTH",75,"DENNIS                       ",1214,1218,10922472,10948106,645075,null,712,2]
[64502,2,645,"DENNIS YARMOUTH",351,"YARMOUTH                     ",2255,2191,19267113,19336531,645351,null,715,2]
[65001,1,650,"DIGHTON REHOBOTH",76,"DIGHTON                      ",1180,1189,6205681,6057753,650076,null,717,8]
[65002,2,650,"DIGHTON REHOBOTH",247,"REHOBOTH                     ",1734,1740,11845469,11971224,650247,null,720,2]
[65501,1,655,"DOVER SHERBORN",78,"DOVER                        ",644,648,5437025,5479692,655078,null,725,3]
[65502,2,655,"DOVER SHERBORN",269,"SHERBORN                     ",559,560,4661958,4635046,655269,null,728,2]
[65801,1,658,"DUDLEY CHARLTON",54,"CHARLTON                     ",2112,2071,9132717,9476493,658054,null,730,2]
[65802,2,658,"DUDLEY CHARLTON",80,"DUDLEY                       ",1783,1799,4873616,5152575,658080,null,735,3]
[66001,1,660,"NAUSET",41,"BREWSTER                     ",603,590,5277185,5189424,660041,null,740,3]
[66002,2,660,"NAUSET",85,"EASTHAM                      ",296,298,2574437,2609660,660085,null,745,3]
[66003,3,660,"NAUSET",224,"ORLEANS                      ",256,232,2236324,2053137,660224,null,750,4]
[66004,4,660,"NAUSET",318,"WELLFLEET                    ",146,153,1277726,1336312,660318,null,753,5]
[66201,1,662,"FARMINGTON RIVER",225,"OTIS                         ",148,165,1282340,1338625,662225,null,755,4]
[66202,2,662,"FARMINGTON RIVER",260,"SANDISFIELD                  ",95,89,800023,775786,662260,null,760,3]
[66501,1,665,"FREETOWN LAKEVILLE",102,"FREETOWN                     ",1181,1183,7709580,7805518,665102,null,763,2]
[66502,2,665,"FREETOWN LAKEVILLE",146,"LAKEVILLE                    ",1673,1577,9808770,9842434,665146,null,765,5]
[67001,1,670,"FRONTIER",68,"CONWAY                       ",93,91,752257,768157,670068,null,766,3]
[67002,2,670,"FRONTIER",74,"DEERFIELD                    ",262,263,2230964,2247563,670074,null,767,2]
[67003,3,670,"FRONTIER",289,"SUNDERLAND                   ",150,140,1207244,1156984,670289,null,770,5]
[67004,4,670,"FRONTIER",337,"WHATELY                      ",71,72,559824,612313,670337,null,773,3]
[67201,1,672,"GATEWAY",33,"BLANDFORD                    ",134,131,1029849,1107243,672033,null,774,3]
[67202,2,672,"GATEWAY",59,"CHESTER                      ",166,175,812004,830684,672059,null,775,5]
[67203,3,672,"GATEWAY",143,"HUNTINGTON                   ",260,259,1377654,1484445,672143,null,778,2]
[67204,4,672,"GATEWAY",183,"MIDDLEFIELD                  ",47,39,350223,353575,672183,null,780,2]
[67205,5,672,"GATEWAY",194,"MONTGOMERY                   ",93,79,759036,713926,672194,null,801,7]
[{"$f":"C70*100+B70","v":67206},{"$f":"IF(C70=C69, B69+1, 1)","v":6},672,"GATEWAY",256,"RUSSELL                      ",282,267,1051937,1076505,672256,null,805,13]
[67301,1,673,"GROTON DUNSTABLE",81,"DUNSTABLE                    ",602,574,4088752,4168398,673081,null,806,9]
[67302,2,673,"GROTON DUNSTABLE",115,"GROTON                       ",1950,1922,14739440,15120202,673115,null,810,7]
[{"$f":"C73*100+B73","v":67401},1,674,"GILL MONTAGUE",106,"GILL                         ",151,159,966832,1021751,{"$f":"C73*1000+E73","v":674106},null,815,12]
[67402,{"$f":"IF(C74=C73, B73+1, 1)","v":2},674,"GILL MONTAGUE",192,"MONTAGUE                     ",947,930,4858813,5006608,674192,null,817,17]
[67501,1,675,"HAMILTON WENHAM",119,"HAMILTON                     ",1164,1186,9515114,9494240,675119,null,818,19]
[67502,2,675,"HAMILTON WENHAM",320,"WENHAM                       ",553,599,4450164,4626218,675320,null,821,4]
[68001,1,680,"HAMPDEN WILBRAHAM",120,"HAMPDEN                      ",782,746,5113306,5219703,680120,null,823,4]
[68002,2,680,"HAMPDEN WILBRAHAM",339,"WILBRAHAM                    ",2470,2396,15287635,15697319,680339,null,825,3]
[68301,1,683,"HAMPSHIRE",60,"CHESTERFIELD                 ",73,72,413398,401566,683060,null,828,4]
[68302,2,683,"HAMPSHIRE",108,"GOSHEN                       ",37,42,226480,278288,683108,null,829,5]
[68303,3,683,"HAMPSHIRE",275,"SOUTHAMPTON                  ",442,431,2606441,2693999,683275,null,830,16]
[68304,4,683,"HAMPSHIRE",327,"WESTHAMPTON                  ",101,93,701628,682061,683327,null,832,18]
[68305,5,683,"HAMPSHIRE",340,"WILLIAMSBURG                 ",97,96,741397,766149,683340,null,851,9]
[68501,1,685,"HAWLEMONT",53,"CHARLEMONT                   ",78,69,422753,403511,685053,null,852,8]
[68502,2,685,"HAWLEMONT",129,"HAWLEY                       ",17,24,108588,128772,685129,null,853,12]
[69001,1,690,"KING PHILIP",208,"NORFOLK                      ",737,746,5920286,6131197,690208,null,855,5]
[69002,2,690,"KING PHILIP",238,"PLAINVILLE                   ",559,564,3403299,3658965,690238,null,860,9]
[69003,3,690,"KING PHILIP",350,"WRENTHAM                     ",899,864,6117770,6549478,690350,null,871,5]
[69501,1,695,"LINCOLN SUDBURY",157,"LINCOLN                      ",247,264,2246891,2380952,695157,null,872,9]
[69502,2,695,"LINCOLN SUDBURY",288,"SUDBURY                      ",1454,1412,13008622,12814987,695288,null,873,8]
[69801,1,698,"MANCHESTER ESSEX",92,"ESSEX                        ",579,564,4493006,4490279,698092,null,876,10]
[69802,2,698,"MANCHESTER ESSEX",166,"MANCHESTER                   ",902,894,6728641,6958936,698166,null,878,11]
[70001,1,700,"MARTHAS VINEYARD",62,"CHILMARK                     ",40,31,368060,304333,700062,null,879,5]
[70002,2,700,"MARTHAS VINEYARD",89,"EDGARTOWN                    ",193,187,1841502,1805838,700089,null,885,11]
[70003,3,700,"MARTHAS VINEYARD",104,"AQUINNAH",10,15,100162,125436,700104,null,910,20]
[70004,4,700,"MARTHAS VINEYARD",221,"OAK BLUFFS                   ",209,218,1946827,1972487,700221,null,915,28]
[70005,5,700,"MARTHAS VINEYARD",296,"TISBURY                      ",161,164,1599990,1573229,700296]
[70006,6,700,"MARTHAS VINEYARD",334,"WEST TISBURY                 ",121,115,1211964,1114541,700334]
[70501,1,705,"MASCONOMET",38,"BOXFORD                      ",795,768,6572723,6389632,705038]
[70502,2,705,"MASCONOMET",184,"MIDDLETON                    ",739,707,5987571,5879846,705184]
[70503,3,705,"MASCONOMET",298,"TOPSFIELD                    ",558,538,4691164,4566832,705298]
[71001,1,710,"MENDON UPTON",179,"MENDON                       ",1047,1043,5635362,5971725,710179]
[71002,2,710,"MENDON UPTON",303,"UPTON                        ",1328,1252,6663739,6935338,710303]
[71201,1,712,"MONOMOY",55,"CHATHAM                      ",480,499,4089455,4175621,712055]
[71202,2,712,"MONOMOY",126,"HARWICH                      ",1383,1375,11428918,11544399,712126]
[71501,1,715,"MOUNT GREYLOCK",148,"LANESBOROUGH                 ",204,186,1335692,1267973,715148]
[71502,2,715,"MOUNT GREYLOCK",341,"WILLIAMSTOWN                 ",312,301,2662747,2556490,715341]
[71701,1,717,"MOHAWK TRAIL",13,"ASHFIELD                     ",168,165,1350493,1353498,717013]
[71702,2,717,"MOHAWK TRAIL",47,"BUCKLAND                     ",187,172,1252868,1265503,717047]
[71703,3,717,"MOHAWK TRAIL",53,"CHARLEMONT                   ",83,84,450847,477100,717053]
[71704,4,717,"MOHAWK TRAIL",66,"COLRAIN                      ",174,169,1036377,1047977,717066]
[71705,5,717,"MOHAWK TRAIL",129,"HAWLEY                       ",15,15,92513,75631,717129]
[71706,6,717,"MOHAWK TRAIL",130,"HEATH                        ",98,94,491735,452390,717130]
[71707,7,717,"MOHAWK TRAIL",237,"PLAINFIELD                   ",52,57,422815,470598,717237]
[71708,8,717,"MOHAWK TRAIL",268,"SHELBURNE                    ",167,182,1267412,1380529,717268]
[72001,1,720,"NARRAGANSETT",235,"PHILLIPSTON                  ",231,223,1215534,1222365,720235]
[72002,2,720,"NARRAGANSETT",294,"TEMPLETON                    ",1078,1088,3751960,3947028,720294]
[72501,1,725,"NASHOBA",34,"BOLTON                       ",1011,1010,8076577,8159692,725034]
[72502,2,725,"NASHOBA",147,"LANCASTER                    ",966,978,6520648,6629995,725147]
[72503,3,725,"NASHOBA",286,"STOW                         ",1248,1289,9917354,10213304,725286]
[72801,1,728,"NEW SALEM WENDELL",206,"NEW SALEM                    ",73,66,379035,358038,728206]
[72802,2,728,"NEW SALEM WENDELL",319,"WENDELL                      ",46,55,328485,353675,728319]
[73001,1,730,"NORTHBORO SOUTHBORO",213,"NORTHBOROUGH                 ",881,862,7317809,7363380,730213]
[73002,2,730,"NORTHBORO SOUTHBORO",276,"SOUTHBOROUGH                 ",627,630,5449483,5569488,730276]
[73501,1,735,"NORTH MIDDLESEX",12,"ASHBY                        ",439,420,2139882,2149785,735012]
[73502,2,735,"NORTH MIDDLESEX",232,"PEPPERELL                    ",1755,1661,8549998,8530691,735232]
[73503,3,735,"NORTH MIDDLESEX",299,"TOWNSEND                     ",1357,1341,6493733,6550655,735299]
[74001,1,740,"OLD ROCHESTER",169,"MARION                       ",325,344,2599245,2773295,740169]
[74002,2,740,"OLD ROCHESTER",173,"MATTAPOISETT                 ",380,397,3084903,3208709,740173]
[74003,3,740,"OLD ROCHESTER",250,"ROCHESTER                    ",427,439,2592970,2722094,740250]
[74501,1,745,"PENTUCKET",116,"GROVELAND                    ",1003,995,5788974,5926373,745116]
[74502,2,745,"PENTUCKET",180,"MERRIMAC                     ",974,912,5232611,5138821,745180]
[74503,3,745,"PENTUCKET",329,"WEST NEWBURY                 ",697,666,5064710,5138230,745329]
[75001,1,750,"PIONEER",29,"BERNARDSTON                  ",259,262,1477075,1493322,750029]
[75002,2,750,"PIONEER",156,"LEYDEN                       ",57,53,496964,442121,750156]
[75003,3,750,"PIONEER",216,"NORTHFIELD                   ",405,368,2410019,2380408,750216]
[{"$f":"C137*100+B137","v":75004},4,750,"PIONEER",312,"WARWICK                      ",81,68,419037,460404,{"$f":"C137*1000+E137","v":750312}]
[75301,{"$f":"IF(C138=C137, B137+1, 1)","v":1},753,"QUABBIN",21,"BARRE                        ",810,823,3394730,3370990,753021]
[75302,2,753,"QUABBIN",124,"HARDWICK                     ",384,390,1447391,1436561,753124]
[75303,3,753,"QUABBIN",140,"HUBBARDSTON                  ",652,601,2908136,3031818,753140]
[75304,4,753,"QUABBIN",202,"NEW BRAINTREE                ",148,150,806889,844818,753202]
[75305,5,753,"QUABBIN",222,"OAKHAM                       ",272,255,1384505,1405849,753222]
[75501,1,755,"RALPH C MAHAR",206,"NEW SALEM                    ",63,66,340121,376834,755206]
[75502,2,755,"RALPH C MAHAR",223,"ORANGE                       ",562,539,1749395,1707721,755223]
[75503,3,755,"RALPH C MAHAR",234,"PETERSHAM                    ",71,67,609541,574260,755234]
[75504,4,755,"RALPH C MAHAR",319,"WENDELL                      ",25,27,188581,183253,755319]
[76001,1,760,"SILVER LAKE",118,"HALIFAX                      ",649,623,3636253,3549412,760118]
[76002,2,760,"SILVER LAKE",145,"KINGSTON                     ",966,1020,6450392,7005150,760145]
[76003,3,760,"SILVER LAKE",240,"PLYMPTON                     ",211,215,1535914,1708586,760240]
[76301,1,763,"SOMERSET BERKLEY",27,"BERKLEY                      ",281,273,1406712,1463849,763027]
[76302,2,763,"SOMERSET BERKLEY",273,"SOMERSET                     ",698,649,4988187,4592682,763273]
[76501,1,765,"SOUTHERN BERKSHIRE",6,"ALFORD                       ",26,26,214237,217857,765006]
[76502,2,765,"SOUTHERN BERKSHIRE",90,"EGREMONT                     ",89,101,741589,772365,765090]
[76503,3,765,"SOUTHERN BERKSHIRE",193,"MONTEREY                     ",81,90,670011,700965,765193]
[76504,4,765,"SOUTHERN BERKSHIRE",205,"NEW MARLBOROUGH              ",161,156,1334861,1339282,765205]
[76505,5,765,"SOUTHERN BERKSHIRE",267,"SHEFFIELD                    ",415,381,3452511,3337701,765267]
[76601,1,766,"SOUTHWICK TOLLAND GRANVILLE",112,"GRANVILLE                    ",229,215,1434883,1479651,766112]
[76602,2,766,"SOUTHWICK TOLLAND GRANVILLE",279,"SOUTHWICK                    ",1380,1341,8009794,8344603,766279]
[76603,3,766,"SOUTHWICK TOLLAND GRANVILLE",297,"TOLLAND                      ",63,55,386537,411508,766297]
[76701,1,767,"SPENCER EAST BROOKFIELD",84,"EAST BROOKFIELD              ",351,322,1255303,1329724,767084]
[76702,2,767,"SPENCER EAST BROOKFIELD",280,"SPENCER                      ",1580,1497,5725754,5907839,767280]
[77001,1,770,"TANTASQUA",43,"BRIMFIELD                    ",280,285,1800525,1859793,770043]
[77002,2,770,"TANTASQUA",45,"BROOKFIELD                   ",254,248,1258718,1209946,770045]
[77003,3,770,"TANTASQUA",135,"HOLLAND                      ",193,190,1238163,1290133,770135]
[77004,4,770,"TANTASQUA",287,"STURBRIDGE                   ",759,772,5155728,5121571,770287]
[77005,5,770,"TANTASQUA",306,"WALES                        ",113,115,591198,585158,770306]
[77301,1,773,"TRITON",203,"NEWBURY                      ",859,820,7334327,7077872,773203]
[77302,2,773,"TRITON",254,"ROWLEY                       ",872,857,6644391,6798125,773254]
[77303,3,773,"TRITON",259,"SALISBURY                    ",947,950,7887435,7958991,773259]
[77401,1,774,"UPISLAND",62,"CHILMARK                     ",79,79,573476,635732,774062]
[77402,2,774,"UPISLAND",104,"AQUINNAH",32,35,249701,236917,774104]
[77403,3,774,"UPISLAND",334,"WEST TISBURY                 ",238,251,1880564,1984795,774334]
[77501,1,775,"WACHUSETT",134,"HOLDEN                       ",3071,3097,17038520,17312246,775134]
[77502,2,775,"WACHUSETT",228,"PAXTON                       ",708,709,4282288,4506979,775228]
[77503,3,775,"WACHUSETT",241,"PRINCETON                    ",450,435,3650842,3527209,775241]
[77504,4,775,"WACHUSETT",257,"RUTLAND                      ",1613,1627,6610818,6790981,775257]
[77505,5,775,"WACHUSETT",282,"STERLING                     ",1222,1184,8061197,8081045,775282]
[77801,1,778,"QUABOAG",311,"WARREN                       ",783,789,2474537,2451777,778311]
[77802,2,778,"QUABOAG",324,"WEST BROOKFIELD              ",513,488,2592933,2643979,778324]
[78001,1,780,"WHITMAN HANSON",123,"HANSON                       ",1701,1653,6764003,7150999,780123]
[78002,2,780,"WHITMAN HANSON",338,"WHITMAN                      ",2366,2311,8514467,8996371,780338]
[80101,1,801,"ASSABET VALLEY",28,"BERLIN                       ",29,31,401690,441557,801028]
[80102,2,801,"ASSABET VALLEY",141,"HUDSON                       ",174,180,1745776,1805897,801141]
[80103,3,801,"ASSABET VALLEY",170,"MARLBOROUGH                  ",336,361,3456885,3553914,801170]
[80104,4,801,"ASSABET VALLEY",174,"MAYNARD                      ",60,62,685276,707267,801174]
[80105,5,801,"ASSABET VALLEY",213,"NORTHBOROUGH                 ",56,58,774306,824884,801213]
[80106,6,801,"ASSABET VALLEY",276,"SOUTHBOROUGH                 ",18,13,260663,191425,801276]
[80107,7,801,"ASSABET VALLEY",321,"WESTBOROUGH                  ",42,38,605643,546114,801321]
[80501,1,805,"BLACKSTONE VALLEY",25,"BELLINGHAM                   ",89,103,884227,1017273,805025]
[80502,2,805,"BLACKSTONE VALLEY",32,"BLACKSTONE                   ",79,78,584702,592465,805032]
[80503,3,805,"BLACKSTONE VALLEY",77,"DOUGLAS                      ",79,81,526853,580524,805077]
[80504,4,805,"BLACKSTONE VALLEY",110,"GRAFTON                      ",76,71,721080,692333,805110]
[80505,5,805,"BLACKSTONE VALLEY",138,"HOPEDALE                     ",22,23,171060,186063,805138]
[80506,6,805,"BLACKSTONE VALLEY",179,"MENDON                       ",76,75,661773,694376,805179]
[80507,7,805,"BLACKSTONE VALLEY",185,"MILFORD                      ",152,150,1229435,1204608,805185]
[80508,8,805,"BLACKSTONE VALLEY",186,"MILLBURY                     ",72,75,658083,697683,805186]
[80509,9,805,"BLACKSTONE VALLEY",188,"MILLVILLE                    ",43,36,236381,209591,805188]
[80510,10,805,"BLACKSTONE VALLEY",214,"NORTHBRIDGE                  ",142,146,843287,956954,805214]
[80511,11,805,"BLACKSTONE VALLEY",290,"SUTTON                       ",86,93,915701,1010685,805290]
[80512,12,805,"BLACKSTONE VALLEY",303,"UPTON                        ",116,119,941962,1065932,805303]
[{"$f":"C201*100+B201","v":80513},13,805,"BLACKSTONE VALLEY",304,"UXBRIDGE                     ",154,154,1389655,1392055,{"$f":"C201*1000+E201","v":805304}]
[80601,{"$f":"IF(C202=C201, B201+1, 1)","v":1},806,"BLUE HILLS",18,"AVON                         ",45,51,631680,672590,806018]
[80602,2,806,"BLUE HILLS",40,"BRAINTREE                    ",144,159,1662104,1858455,806040]
[80603,3,806,"BLUE HILLS",50,"CANTON                       ",64,63,869289,853561,806050]
[80604,4,806,"BLUE HILLS",73,"DEDHAM                       ",79,79,1118677,1126106,806073]
[80605,5,806,"BLUE HILLS",133,"HOLBROOK                     ",134,150,1222534,1373030,806133]
[80606,6,806,"BLUE HILLS",189,"MILTON                       ",50,52,673299,702330,806189]
[80607,7,806,"BLUE HILLS",220,"NORWOOD                      ",63,50,889082,700209,806220]
[80608,8,806,"BLUE HILLS",244,"RANDOLPH                     ",274,257,2539933,2413329,806244]
[80609,9,806,"BLUE HILLS",335,"WESTWOOD                     ",6,9,81403,123709,806335]
[81001,1,810,"BRISTOL PLYMOUTH",27,"BERKLEY                      ",106,105,778215,836385,810027]
[81002,2,810,"BRISTOL PLYMOUTH",42,"BRIDGEWATER                  ",112,110,1051957,1049274,810042]
[81003,3,810,"BRISTOL PLYMOUTH",76,"DIGHTON                      ",18,37,147768,296779,810076]
[81004,4,810,"BRISTOL PLYMOUTH",182,"MIDDLEBOROUGH                ",275,289,2061516,2237902,810182]
[81005,5,810,"BRISTOL PLYMOUTH",245,"RAYNHAM                      ",148,159,1421477,1519991,810245]
[81006,6,810,"BRISTOL PLYMOUTH",247,"REHOBOTH                     ",19,41,202595,443919,810247]
[81007,7,810,"BRISTOL PLYMOUTH",293,"TAUNTON                      ",631,605,3791005,3617597,810293]
[81501,1,815,"CAPE COD",20,"BARNSTABLE                   ",168,177,2206121,2328948,815020]
[81502,2,815,"CAPE COD",41,"BREWSTER                     ",42,39,578691,530409,815041]
[81503,3,815,"CAPE COD",55,"CHATHAM                      ",21,17,289346,225507,815055]
[81504,4,815,"CAPE COD",75,"DENNIS                       ",85,79,1171161,1066280,815075]
[81505,5,815,"CAPE COD",85,"EASTHAM                      ",13,12,178011,162215,815085]
[81506,6,815,"CAPE COD",126,"HARWICH                      ",73,73,976871,971264,815126]
[81507,7,815,"CAPE COD",172,"MASHPEE                      ",57,63,767666,854627,815172]
[81508,8,815,"CAPE COD",224,"ORLEANS                      ",12,14,165040,191249,815224]
[81509,9,815,"CAPE COD",242,"PROVINCETOWN                 ",6,4,78539,56214,815242]
[81510,10,815,"CAPE COD",300,"TRURO                        ",3,2,41335,26931,815300]
[81511,11,815,"CAPE COD",318,"WELLFLEET                    ",6,8,82670,107857,815318]
[81512,12,815,"CAPE COD",351,"YARMOUTH                     ",168,164,2199210,2172371,815351]
[81701,1,817,"ESSEX NORTH SHORE",30,"BEVERLY                      ",75,110,1000465,1423095,817030]
[81702,2,817,"ESSEX NORTH SHORE",38,"BOXFORD                      ",5,16,67611,214535,817038]
[81703,3,817,"ESSEX NORTH SHORE",71,"DANVERS                      ",84,107,1093743,1400528,817071]
[81704,4,817,"ESSEX NORTH SHORE",92,"ESSEX                        ",4,11,52709,145548,817092]
[81705,5,817,"ESSEX NORTH SHORE",107,"GLOUCESTER                   ",58,80,789878,1080171,817107]
[81706,6,817,"ESSEX NORTH SHORE",119,"HAMILTON                     ",6,12,83314,159396,817119]
[81707,7,817,"ESSEX NORTH SHORE",164,"LYNNFIELD                    ",18,19,245678,255096,817164]
[81708,8,817,"ESSEX NORTH SHORE",166,"MANCHESTER                   ",4,4,50682,51675,817166]
[81709,9,817,"ESSEX NORTH SHORE",168,"MARBLEHEAD                   ",10,12,128852,157652,817168]
[81710,10,817,"ESSEX NORTH SHORE",184,"MIDDLETON                    ",16,25,212029,335080,817184]
[81711,11,817,"ESSEX NORTH SHORE",196,"NAHANT                       ",3,4,42024,55777,817196]
[81712,12,817,"ESSEX NORTH SHORE",229,"PEABODY",211,159,2371220,1810787,817229]
[81713,13,817,"ESSEX NORTH SHORE",252,"ROCKPORT                     ",13,17,182103,228606,817252]
[81714,14,817,"ESSEX NORTH SHORE",258,"SALEM                        ",130,170,1238847,1591390,817258]
[81715,15,817,"ESSEX NORTH SHORE",291,"SWAMPSCOTT                   ",28,26,371597,343767,817291]
[81716,16,817,"ESSEX NORTH SHORE",298,"TOPSFIELD                    ",5,9,68752,123123,817298]
[81717,17,817,"ESSEX NORTH SHORE",320,"WENHAM                       ",7,8,95793,102519,817320]
[81801,1,818,"FRANKLIN COUNTY",29,"BERNARDSTON                  ",20,21,182670,191175,818029]
[81802,2,818,"FRANKLIN COUNTY",47,"BUCKLAND                     ",9,10,95565,117769,818047]
[81803,3,818,"FRANKLIN COUNTY",66,"COLRAIN                      ",23,23,216859,228221,818066]
[81804,4,818,"FRANKLIN COUNTY",68,"CONWAY                       ",7,5,89006,67047,818068]
[81805,5,818,"FRANKLIN COUNTY",74,"DEERFIELD                    ",21,16,281090,217209,818074]
[81806,6,818,"FRANKLIN COUNTY",91,"ERVING                       ",24,31,321680,412390,818091]
[81807,7,818,"FRANKLIN COUNTY",106,"GILL                         ",8,5,76902,48920,818106]
[81808,8,818,"FRANKLIN COUNTY",114,"GREENFIELD                   ",123,113,881601,829975,818114]
[81809,9,818,"FRANKLIN COUNTY",130,"HEATH                        ",4,7,31674,53721,818130]
[81810,10,818,"FRANKLIN COUNTY",156,"LEYDEN                       ",7,12,98283,160518,818156]
[81811,11,818,"FRANKLIN COUNTY",192,"MONTAGUE                     ",67,70,517466,572357,818192]
[81812,12,818,"FRANKLIN COUNTY",206,"NEW SALEM                    ",9,8,70827,66415,818206]
[81813,13,818,"FRANKLIN COUNTY",216,"NORTHFIELD                   ",33,39,314028,402317,818216]
[81814,14,818,"FRANKLIN COUNTY",223,"ORANGE                       ",71,79,322737,363939,818223]
[81815,15,818,"FRANKLIN COUNTY",268,"SHELBURNE                    ",11,5,132058,60764,818268]
[81816,16,818,"FRANKLIN COUNTY",289,"SUNDERLAND                   ",9,10,113863,131281,818289]
[81817,17,818,"FRANKLIN COUNTY",312,"WARWICK                      ",12,7,99275,75220,818312]
[81818,18,818,"FRANKLIN COUNTY",319,"WENDELL                      ",9,9,98962,88819,818319]
[{"$f":"C265*100+B265","v":81819},19,818,"FRANKLIN COUNTY",337,"WHATELY                      ",9,8,111550,108077,{"$f":"C265*1000+E265","v":818337}]
[82101,{"$f":"IF(C266=C265, B265+1, 1)","v":1},821,"GREATER FALL RIVER",95,"FALL RIVER                   ",1096,1108,3172961,3369028,821095]
[82102,2,821,"GREATER FALL RIVER",273,"SOMERSET                     ",134,130,1432847,1395090,821273]
[82103,3,821,"GREATER FALL RIVER",292,"SWANSEA                      ",127,121,1309297,1255993,821292]
[82104,4,821,"GREATER FALL RIVER",331,"WESTPORT                     ",112,115,1454055,1559318,821331]
[82301,1,823,"GREATER LAWRENCE",9,"ANDOVER                      ",19,24,284895,358973,823009]
[82302,2,823,"GREATER LAWRENCE",149,"LAWRENCE                     ",1058,1067,824705,849498,823149]
[82303,3,823,"GREATER LAWRENCE",181,"METHUEN                      ",390,377,3062654,2989263,823181]
[82304,4,823,"GREATER LAWRENCE",211,"NORTH ANDOVER                ",19,22,274337,316441,823211]
[82501,1,825,"GREATER NEW BEDFORD",72,"DARTMOUTH                    ",253,248,3326157,3331371,825072]
[82502,2,825,"GREATER NEW BEDFORD",94,"FAIRHAVEN                    ",216,200,2173221,2097917,825094]
[82503,3,825,"GREATER NEW BEDFORD",201,"NEW BEDFORD                  ",1680,1695,4089422,4425014,825201]
[82801,1,828,"GREATER LOWELL",79,"DRACUT                       ",467,453,3792487,3869112,828079]
[82802,2,828,"GREATER LOWELL",81,"DUNSTABLE                    ",15,11,174980,136019,828081]
[82803,3,828,"GREATER LOWELL",160,"LOWELL                       ",1599,1626,5866015,6291388,828160]
[82804,4,828,"GREATER LOWELL",301,"TYNGSBOROUGH                 ",109,105,1146707,1137885,828301]
[82901,1,829,"SOUTH MIDDLESEX",14,"ASHLAND                      ",82,74,1061461,980070,829014]
[82902,2,829,"SOUTH MIDDLESEX",100,"FRAMINGHAM                   ",496,514,5235042,5258856,829100]
[82903,3,829,"SOUTH MIDDLESEX",136,"HOLLISTON                    ",39,40,477671,498587,829136]
[82904,4,829,"SOUTH MIDDLESEX",139,"HOPKINTON                    ",26,18,366204,257680,829139]
[82905,5,829,"SOUTH MIDDLESEX",198,"NATICK                       ",53,59,728191,828079,829198]
[83001,1,830,"MINUTEMAN",2,"ACTON                        ",26,28,321317,363639,830002]
[83002,2,830,"MINUTEMAN",10,"ARLINGTON                    ",165,158,2152653,2105921,830010]
[83003,3,830,"MINUTEMAN",26,"BELMONT                      ",31,30,426916,420377,830026]
[83004,4,830,"MINUTEMAN",34,"BOLTON                       ",11,10,157682,145052,830034]
[83005,5,830,"MINUTEMAN",37,"BOXBOROUGH                   ",5,5,74696,75526,830037]
[83006,6,830,"MINUTEMAN",51,"CARLISLE                     ",12,8,179269,118006,830051]
[83007,7,830,"MINUTEMAN",67,"CONCORD                      ",7,12,99959,173463,830067]
[83008,8,830,"MINUTEMAN",78,"DOVER                        ",1,3,14880,44838,830078]
[83009,9,830,"MINUTEMAN",147,"LANCASTER                    ",27,34,327003,413523,830147]
[83010,10,830,"MINUTEMAN",155,"LEXINGTON                    ",49,45,707981,648897,830155]
[83011,11,830,"MINUTEMAN",157,"LINCOLN                      ",6,5,87721,72693,830157]
[83012,12,830,"MINUTEMAN",199,"NEEDHAM                      ",35,23,494164,331704,830199]
[83013,13,830,"MINUTEMAN",286,"STOW                         ",22,18,313706,255969,830286]
[83014,14,830,"MINUTEMAN",288,"SUDBURY                      ",22,27,316969,395643,830288]
[83015,15,830,"MINUTEMAN",315,"WAYLAND                      ",8,5,118994,74150,830315]
[83016,16,830,"MINUTEMAN",330,"WESTON                       ",4,3,59756,45155,830330]
[83201,1,832,"MONTACHUSETT",11,"ASHBURNHAM                   ",55,60,398483,417743,832011]
[83202,2,832,"MONTACHUSETT",12,"ASHBY                        ",44,40,349252,330632,832012]
[83203,3,832,"MONTACHUSETT",15,"ATHOL                        ",97,92,192288,194163,832015]
[83204,4,832,"MONTACHUSETT",21,"BARRE                        ",40,38,263273,239207,832021]
[83205,5,832,"MONTACHUSETT",97,"FITCHBURG                    ",403,412,1578366,1682053,832097]
[83206,6,832,"MONTACHUSETT",103,"GARDNER                      ",173,157,747056,717159,832103]
[83207,7,832,"MONTACHUSETT",125,"HARVARD                      ",6,8,80404,105952,832125]
[83208,8,832,"MONTACHUSETT",134,"HOLDEN                       ",70,77,648590,706376,832134]
[83209,9,832,"MONTACHUSETT",140,"HUBBARDSTON                  ",64,61,448619,473306,832140]
[83210,10,832,"MONTACHUSETT",162,"LUNENBURG                    ",71,78,670826,738561,832162]
[83211,11,832,"MONTACHUSETT",234,"PETERSHAM                    ",4,5,48335,59905,832234]
[83212,12,832,"MONTACHUSETT",235,"PHILLIPSTON                  ",21,19,169596,158673,832235]
[83213,13,832,"MONTACHUSETT",241,"PRINCETON                    ",18,21,244031,279658,832241]
[83214,14,832,"MONTACHUSETT",255,"ROYALSTON                    ",23,20,106464,101757,832255]
[83215,15,832,"MONTACHUSETT",282,"STERLING                     ",56,64,616908,717038,832282]
[83216,16,832,"MONTACHUSETT",294,"TEMPLETON                    ",101,99,539845,546063,832294]
[83217,17,832,"MONTACHUSETT",328,"WESTMINSTER                  ",81,83,694025,714231,832328]
[83218,18,832,"MONTACHUSETT",343,"WINCHENDON                   ",140,152,706574,770391,832343]
[85101,1,851,"NORTHERN BERKSHIRE",4,"ADAMS                        ",131,138,611081,672499,851004]
[85102,2,851,"NORTHERN BERKSHIRE",58,"CHESIRE",50,50,346853,363321,851058]
[85103,3,851,"NORTHERN BERKSHIRE",63,"CLARKSBURG                   ",44,50,209245,256740,851063]
[85104,4,851,"NORTHERN BERKSHIRE",98,"FLORIDA                      ",21,20,159435,167113,851098]
[85105,5,851,"NORTHERN BERKSHIRE",148,"LANESBOROUGH                 ",22,18,224358,189904,851148]
[85106,6,851,"NORTHERN BERKSHIRE",190,"MONROE                       ",3,4,38497,42519,851190]
[85107,7,851,"NORTHERN BERKSHIRE",209,"NORTH ADAMS                  ",158,162,724885,766160,851209]
[85108,8,851,"NORTHERN BERKSHIRE",263,"SAVOY                        ",24,20,181966,168265,851263]
[85109,9,851,"NORTHERN BERKSHIRE",341,"WILLIAMSTOWN                 ",19,13,252564,170878,851341]
[{"$f":"C329*100+B329","v":85201},1,852,"NASHOBA VALLEY",19,"AYER",49,57,487033,572848,{"$f":"C329*1000+E329","v":852019}]
[85202,{"$f":"IF(C330=C329, B329+1, 1)","v":2},852,"NASHOBA VALLEY",56,"CHELMSFORD                   ",173,185,2229779,2384887,852056]
[85203,3,852,"NASHOBA VALLEY",115,"GROTON                       ",39,39,496346,506159,852115]
[85204,4,852,"NASHOBA VALLEY",158,"LITTLETON                    ",38,33,460024,397469,852158]
[85205,5,852,"NASHOBA VALLEY",232,"PEPPERELL                    ",140,159,1137837,1333463,852232]
[85206,6,852,"NASHOBA VALLEY",270,"SHIRLEY                      ",69,85,567087,725362,852270]
[85207,7,852,"NASHOBA VALLEY",299,"TOWNSEND                     ",104,94,830261,749448,852299]
[85208,8,852,"NASHOBA VALLEY",326,"WESTFORD                     ",55,52,600586,597915,852326]
[85301,1,853,"NORTHEAST METROPOLITAN",57,"CHELSEA                      ",199,208,541332,569669,853057]
[85302,2,853,"NORTHEAST METROPOLITAN",165,"MALDEN                       ",189,170,1314487,1191109,853165]
[85303,3,853,"NORTHEAST METROPOLITAN",178,"MELROSE                      ",74,62,962824,826753,853178]
[85304,4,853,"NORTHEAST METROPOLITAN",217,"NORTH READING                ",27,34,368595,472865,853217]
[85305,5,853,"NORTHEAST METROPOLITAN",246,"READING                      ",17,17,214488,225555,853246]
[85306,6,853,"NORTHEAST METROPOLITAN",248,"REVERE                       ",224,216,1326178,1274030,853248]
[85307,7,853,"NORTHEAST METROPOLITAN",262,"SAUGUS                       ",190,199,2601361,2763820,853262]
[85308,8,853,"NORTHEAST METROPOLITAN",284,"STONEHAM                     ",73,71,1032976,993190,853284]
[85309,9,853,"NORTHEAST METROPOLITAN",305,"WAKEFIELD                    ",68,64,956722,905577,853305]
[85310,10,853,"NORTHEAST METROPOLITAN",344,"WINCHESTER                   ",11,9,146692,122878,853344]
[85311,11,853,"NORTHEAST METROPOLITAN",346,"WINTHROP                     ",62,68,691111,793199,853346]
[85312,12,853,"NORTHEAST METROPOLITAN",347,"WOBURN",98,115,1337532,1607947,853347]
[85501,1,855,"OLD COLONY",3,"ACUSHNET                     ",175,154,1441247,1353327,855003]
[85502,2,855,"OLD COLONY",52,"CARVER                       ",93,95,709646,768938,855052]
[85503,3,855,"OLD COLONY",146,"LAKEVILLE                    ",124,132,1173201,1346923,855146]
[85504,4,855,"OLD COLONY",173,"MATTAPOISETT                 ",27,31,345992,396159,855173]
[85505,5,855,"OLD COLONY",250,"ROCHESTER                    ",70,67,670984,656873,855250]
[86001,1,860,"PATHFINDER",24,"BELCHERTOWN                  ",96,89,707249,699790,860024]
[86002,2,860,"PATHFINDER",111,"GRANBY                       ",26,21,227902,199715,860111]
[86003,3,860,"PATHFINDER",124,"HARDWICK                     ",24,25,145699,147033,860124]
[86004,4,860,"PATHFINDER",191,"MONSON                       ",83,110,629723,888180,860191]
[86005,5,860,"PATHFINDER",202,"NEW BRAINTREE                ",12,11,105592,99119,860202]
[86006,6,860,"PATHFINDER",222,"OAKHAM                       ",10,14,82056,123200,860222]
[86007,7,860,"PATHFINDER",227,"PALMER                       ",168,161,1143001,1125729,860227]
[86008,8,860,"PATHFINDER",309,"WARE                         ",101,110,607560,668596,860309]
[86009,9,860,"PATHFINDER",311,"WARREN                       ",46,47,220491,221477,860311]
[87101,1,871,"SHAWSHEEN VALLEY",23,"BEDFORD                      ",26,18,329149,230723,871023]
[87102,2,871,"SHAWSHEEN VALLEY",31,"BILLERICA                    ",600,647,6239049,6717670,871031]
[87103,3,871,"SHAWSHEEN VALLEY",48,"BURLINGTON                   ",104,110,1386622,1457865,871048]
[87104,4,871,"SHAWSHEEN VALLEY",295,"TEWKSBURY                    ",402,365,4464056,4257568,871295]
[87105,5,871,"SHAWSHEEN VALLEY",342,"WILMINGTON                   ",265,249,2851916,2746546,871342]
[87201,1,872,"SOUTHEASTERN",44,"BROCKTON                     ",821,866,2396677,2598214,872044]
[87202,2,872,"SOUTHEASTERN",83,"EAST BRIDGEWATER             ",103,94,844138,801227,872083]
[87203,3,872,"SOUTHEASTERN",88,"EASTON                       ",48,55,560075,671897,872088]
[87204,4,872,"SOUTHEASTERN",99,"FOXBOROUGH                   ",19,23,234131,294516,872099]
[87205,5,872,"SOUTHEASTERN",167,"MANSFIELD                    ",63,77,624042,803727,872167]
[87206,6,872,"SOUTHEASTERN",218,"NORTON                       ",117,105,1161724,1075372,872218]
[87207,7,872,"SOUTHEASTERN",266,"SHARON                       ",17,21,217083,275531,872266]
[87208,8,872,"SOUTHEASTERN",285,"STOUGHTON                    ",136,137,1334680,1342626,872285]
[87209,9,872,"SOUTHEASTERN",323,"WEST BRIDGEWATER             ",32,38,354034,420486,872323]
[87301,1,873,"SOUTH SHORE",1,"ABINGTON                     ",152,149,1625528,1617681,873001]
[87302,2,873,"SOUTH SHORE",65,"COHASSET                     ",5,4,63717,53589,873065]
[87303,3,873,"SOUTH SHORE",122,"HANOVER                      ",48,46,545959,555586,873122]
[87304,4,873,"SOUTH SHORE",123,"HANSON                       ",74,75,473751,527749,873123]
[87305,5,873,"SOUTH SHORE",219,"NORWELL                      ",8,7,103453,93513,873219]
[87306,6,873,"SOUTH SHORE",251,"ROCKLAND                     ",157,161,1260001,1265361,873251]
[87307,7,873,"SOUTH SHORE",264,"SCITUATE                     ",27,32,350736,429311,873264]
[87308,8,873,"SOUTH SHORE",338,"WHITMAN                      ",123,114,712501,721805,873338]
[87601,1,876,"SOUTHERN WORCESTER",17,"AUBURN                       ",83,95,814905,928093,876017]
[87602,2,876,"SOUTHERN WORCESTER",54,"CHARLTON                     ",190,192,1320703,1394996,876054]
[87603,3,876,"SOUTHERN WORCESTER",80,"DUDLEY                       ",129,128,566532,581954,876080]
[87604,4,876,"SOUTHERN WORCESTER",215,"NORTH BROOKFIELD             ",49,46,345006,324100,876215]
[87605,5,876,"SOUTHERN WORCESTER",226,"OXFORD                       ",151,154,1117543,1145666,876226]
[87606,6,876,"SOUTHERN WORCESTER",228,"PAXTON                       ",18,11,182892,115375,876228]
[87607,7,876,"SOUTHERN WORCESTER",257,"RUTLAND                      ",36,34,247785,234222,876257]
[87608,8,876,"SOUTHERN WORCESTER",277,"SOUTHBRIDGE                  ",188,177,824327,779118,876277]
[{"$f":"C393*100+B393","v":87609},9,876,"SOUTHERN WORCESTER",280,"SPENCER                      ",133,152,708867,872978,{"$f":"C393*1000+E393","v":876280}]
[87610,{"$f":"IF(C394=C393, B393+1, 1)","v":10},876,"SOUTHERN WORCESTER",316,"WEBSTER                      ",154,159,1152168,1181268,876316]
[87801,1,878,"TRI COUNTY",101,"FRANKLIN                     ",231,203,2028212,1922689,878101]
[87802,2,878,"TRI COUNTY",175,"MEDFIELD                     ",11,8,151761,111106,878175]
[87803,3,878,"TRI COUNTY",177,"MEDWAY                       ",62,54,628883,563926,878177]
[87804,4,878,"TRI COUNTY",187,"MILLIS                       ",31,30,319432,322055,878187]
[87805,5,878,"TRI COUNTY",208,"NORFOLK                      ",44,43,581456,585077,878208]
[87806,6,878,"TRI COUNTY",212,"NORTH ATTLEBOROUGH           ",281,297,2503628,2746196,878212]
[87807,7,878,"TRI COUNTY",238,"PLAINVILLE                   ",102,101,1021592,1084773,878238]
[87808,8,878,"TRI COUNTY",265,"SEEKONK                      ",76,81,903267,997090,878265]
[87809,9,878,"TRI COUNTY",269,"SHERBORN                     ",2,0,27412,0,878269]
[87810,10,878,"TRI COUNTY",307,"WALPOLE                      ",64,68,807868,886777,878307]
[87811,11,878,"TRI COUNTY",350,"WRENTHAM                     ",71,69,794842,865924,878350]
[87901,1,879,"UPPER CAPE COD",36,"BOURNE                       ",193,211,2432520,2767612,879036]
[87902,2,879,"UPPER CAPE COD",96,"FALMOUTH                     ",145,128,1892118,1676966,879096]
[87903,3,879,"UPPER CAPE COD",169,"MARION                       ",12,13,149544,165810,879169]
[87904,4,879,"UPPER CAPE COD",261,"SANDWICH                     ",117,127,1488536,1682136,879261]
[87905,5,879,"UPPER CAPE COD",310,"WAREHAM                      ",236,243,2156890,2224808,879310]
[88501,1,885,"WHITTIER",7,"AMESBURY                     ",74,64,720862,634993,885007]
[88502,2,885,"WHITTIER",105,"GEORGETOWN                   ",39,44,401654,495695,885105]
[88503,3,885,"WHITTIER",116,"GROVELAND                    ",73,73,714582,742467,885116]
[88504,4,885,"WHITTIER",128,"HAVERHILL                    ",760,771,5423680,5505056,885128]
[88505,5,885,"WHITTIER",144,"IPSWICH                      ",25,33,329244,442343,885144]
[88506,6,885,"WHITTIER",180,"MERRIMAC                     ",54,66,492415,635260,885180]
[88507,7,885,"WHITTIER",203,"NEWBURY                      ",19,23,259702,317664,885203]
[88508,8,885,"WHITTIER",204,"NEWBURYPORT                  ",19,18,248342,237333,885204]
[88509,9,885,"WHITTIER",254,"ROWLEY                       ",12,15,146332,190352,885254]
[88510,10,885,"WHITTIER",259,"SALISBURY                    ",47,46,626553,616248,885259]
[88511,11,885,"WHITTIER",329,"WEST NEWBURY                 ",13,16,160320,210623,885329]
[91001,1,910,"BRISTOL COUNTY",3,"ACUSHNET                     ",11,10,91308,87332,910003]
[91002,2,910,"BRISTOL COUNTY",16,"ATTLEBORO                    ",36,41,263534,301886,910016]
[91003,3,910,"BRISTOL COUNTY",27,"BERKLEY                      ",13,11,94819,86323,910027]
[91004,4,910,"BRISTOL COUNTY",72,"DARTMOUTH                    ",15,15,188247,191305,910072]
[91005,5,910,"BRISTOL COUNTY",76,"DIGHTON                      ",31,28,252832,221262,910076]
[91006,6,910,"BRISTOL COUNTY",88,"EASTON                       ",3,4,33499,46629,910088]
[91007,7,910,"BRISTOL COUNTY",94,"FAIRHAVEN                    ",11,12,105648,119509,910094]
[91008,8,910,"BRISTOL COUNTY",95,"FALL RIVER                   ",42,44,118659,128842,910095]
[91009,9,910,"BRISTOL COUNTY",102,"FREETOWN                     ",18,17,190980,182172,910102]
[91010,10,910,"BRISTOL COUNTY",167,"MANSFIELD                    ",0,1,0,9961,910167]
[91011,11,910,"BRISTOL COUNTY",201,"NEW BEDFORD                  ",28,19,65062,47094,910201]
[91012,12,910,"BRISTOL COUNTY",212,"NORTH ATTLEBOROUGH           ",14,9,120636,79908,910212]
[91013,13,910,"BRISTOL COUNTY",218,"NORTON                       ",19,17,180541,166140,910218]
[91014,14,910,"BRISTOL COUNTY",245,"RAYNHAM                      ",11,11,104962,103599,910245]
[91015,15,910,"BRISTOL COUNTY",247,"REHOBOTH                     ",26,30,275429,320007,910247]
[91016,16,910,"BRISTOL COUNTY",265,"SEEKONK                      ",5,11,57472,130021,910265]
[91017,17,910,"BRISTOL COUNTY",273,"SOMERSET                     ",8,12,83480,124016,910273]
[91018,18,910,"BRISTOL COUNTY",292,"SWANSEA                      ",14,18,140850,179934,910292]
[91019,19,910,"BRISTOL COUNTY",293,"TAUNTON                      ",47,45,280533,265090,910293]
[91020,20,910,"BRISTOL COUNTY",331,"WESTPORT                     ",35,29,443432,378681,910331]
[91501,1,915,"NORFOLK COUNTY",18,"AVON                         ",0,0,0,0,915018]
[91502,2,915,"NORFOLK COUNTY",25,"BELLINGHAM                   ",16,14,162602,142990,915025]
[91503,3,915,"NORFOLK COUNTY",40,"BRAINTREE                    ",8,11,88646,124488,915040]
[91504,4,915,"NORFOLK COUNTY",46,"BROOKLINE                    ",0,0,0,0,915046]
[91505,5,915,"NORFOLK COUNTY",50,"CANTON                       ",5,4,65197,52473,915050]
[91506,6,915,"NORFOLK COUNTY",65,"COHASSET                     ",1,2,12872,26664,915065]
[91507,7,915,"NORFOLK COUNTY",73,"DEDHAM                       ",27,30,367039,414052,915073]
[91508,8,915,"NORFOLK COUNTY",78,"DOVER                        ",2,2,27363,27616,915078]
[91509,9,915,"NORFOLK COUNTY",99,"FOXBOROUGH                   ",14,15,168196,188605,915099]
[91510,10,915,"NORFOLK COUNTY",101,"FRANKLIN                     ",15,13,129764,121662,915101]
[91511,11,915,"NORFOLK COUNTY",133,"HOLBROOK                     ",20,20,175169,177255,915133]
[91512,12,915,"NORFOLK COUNTY",175,"MEDFIELD                     ",5,4,67967,54891,915175]
[91513,13,915,"NORFOLK COUNTY",177,"MEDWAY                       ",8,7,79953,72231,915177]
[91514,14,915,"NORFOLK COUNTY",187,"MILLIS                       ",6,5,60916,53036,915187]
[91515,15,915,"NORFOLK COUNTY",189,"MILTON                       ",2,2,25854,26155,915189]
[{"$f":"C457*100+B457","v":91516},16,915,"NORFOLK COUNTY",199,"NEEDHAM                      ",2,4,25963,53295,{"$f":"C457*1000+E457","v":915199}]
[91517,{"$f":"IF(C458=C457, B457+1, 1)","v":17},915,"NORFOLK COUNTY",208,"NORFOLK                      ",5,9,65102,121000,915208]
[91518,18,915,"NORFOLK COUNTY",220,"NORWOOD                      ",12,11,162575,149153,915220]
[91519,19,915,"NORFOLK COUNTY",238,"PLAINVILLE                   ",6,6,59209,63674,915238]
[91520,20,915,"NORFOLK COUNTY",243,"QUINCY                       ",29,24,336988,290131,915243]
[91521,21,915,"NORFOLK COUNTY",244,"RANDOLPH                     ",10,10,88990,90921,915244]
[91522,22,915,"NORFOLK COUNTY",266,"SHARON                       ",6,6,74698,77300,915266]
[91523,23,915,"NORFOLK COUNTY",285,"STOUGHTON                    ",11,16,105248,153970,915285]
[91524,24,915,"NORFOLK COUNTY",307,"WALPOLE                      ",7,13,87061,167512,915307]
[91525,25,915,"NORFOLK COUNTY",317,"WELLESLEY                    ",1,0,13037,0,915317]
[91526,26,915,"NORFOLK COUNTY",335,"WESTWOOD                     ",4,6,52098,79852,915335]
[91527,27,915,"NORFOLK COUNTY",336,"WEYMOUTH                     ",27,27,261596,276715,915336]
[91528,28,915,"NORFOLK COUNTY",350,"WRENTHAM                     ",9,10,99272,124002,915350]

{"sheet":"comparison to fy15","index":11,"n_rows":337,"n_cols":17,"rows_kept":337,"cut":false,"hidden":false,"merged":[[1,0,1,12],[2,0,2,12],[3,0,3,12]]}
[null,"Return to Index"]
["Massachusetts Department of Elementary and Secondary Education"]
["FY16 Chapter 70 Comparison to FY15"]
[]
[]
[]
[null,null,null,"FY15","FY16",null,"FY15","FY16",null,"FY15","FY16",null,"FY15","FY16"]
[null,"Operating",null,"Foundation ","Foundation ",null,"Foundation","Foundation",null,"Minimum","Minimum",null,"Chapter 70","Chapter 70"]
["LEA","District name","Non-Op","Enrollment","Enrollment","change","Budget","Budget","chg pp","Contribution","Contribution","chg pp","aid","aid","change","chg pp","pct chg"]
[1,"ABINGTON                     ",1,{"$f":"VLOOKUP(A10,aidcalc,17)","v":1952},{"$f":"VLOOKUP(A10,aidcalc,18)","v":1955},{"$f":"E10-D10","v":3},{"$f":"VLOOKUP(A10,aidcalc,4)","v":18287521.510000002},{"$f":"VLOOKUP(A10,aidcalc,6)","v":18870910.490000002},{"$f":"(H10-G10)/$E10","v":298.40868542199513},{"$f":"SUMIF(dist1755,A10,pynetmin)","v":12943494},{"$f":"VLOOKUP(A10,aidcalc,7)","v":12546660},{"$f":"(K10-J10)/$E10","v":-202.98414322250639},{"$f":"VLOOKUP(A10,disthist,37)","v":7423394},{"$f":"VLOOKUP(A10,aidcalc,35)","v":7472269},{"$f":"N10-M10","v":48875},{"$f":"(N10-M10)/$E10","v":25},{"$f":"ROUND(IF(G10>0,(N10-M10)*100/M10,100),2)","v":0.66}]
[3,"ACUSHNET                     ",1,{"$f":"VLOOKUP(A11,aidcalc,17)","v":1251},{"$f":"VLOOKUP(A11,aidcalc,18)","v":1244},{"$f":"E11-D11","v":-7},{"$f":"VLOOKUP(A11,aidcalc,4)","v":11538501.129999999},{"$f":"VLOOKUP(A11,aidcalc,6)","v":11701370.220000003},{"$f":"(H11-G11)/$E11","v":130.92370578778423},{"$f":"SUMIF(dist1755,A11,pynetmin)","v":6393318},{"$f":"VLOOKUP(A11,aidcalc,7)","v":6709873},{"$f":"(K11-J11)/$E11","v":254.46543408360128},6150152,6181252,{"$f":"N11-M11","v":31100},{"$f":"(N11-M11)/$E11","v":25},{"$f":"ROUND(IF(G11>0,(N11-M11)*100/M11,100),2)","v":0.51}]
[5,"AGAWAM                       ",1,4051,4013,-38,40513463.040000007,40806967.850000001,73.138502367304994,22228633,22234809,1.5389982556690756,18827346.812022001,18927671.812022001,100325,25,0.53]
[7,"AMESBURY                     ",1,2440,2394,-46,23277123.93,23284050.52,2.8933124477860699,14710835,14202425,-212.36842105263159,8807407,9081626,274219,114.54427736006683,3.11]
[8,"AMHERST                      ",1,1205,1192,-13,11927369.58,12222179.260000002,247.32355704698116,8808278,8979352,143.51845637583892,5925198,5954998,29800,25,0.5]
[9,"ANDOVER                      ",1,5998,5950,-48,56905481.147259988,57593754.781260006,115.67624100840642,49453903,47514848,-325.89159663865547,9042864.1595289409,10078907,1036042.8404710591,174.12484713799313,11.46]
[10,"ARLINGTON                    ",1,5141,5318,177,47819420.315520003,50290292.382299997,464.62430740503828,37584838,39574733,374.18108311395264,10234582,10715559,480977,90.443211733734486,4.7]
[14,"ASHLAND                      ",1,2479,2494,15,23394153.285179999,23999962.492609996,242.90665895348741,18210677,18558228,139.35485164394547,5517159.5103722075,5579509.5103722075,62350,25,1.1299999999999999]
[16,"ATTLEBORO                    ",1,6227,6292,65,66876305.419999994,68325590.250000015,230.33770343293398,32678917,32304159,-59.561029879211695,34235474,36021431,1785957,283.84567705022249,5.22]
[17,"AUBURN                       ",1,2340,2343,3,22469656.549999997,22643826.370000001,74.336244131457121,14563293,13773515,-337.0798122065728,8389817.1613508761,8870311,480493.83864912391,205.07632891554584,5.73]
[18,"AVON                         ",1,537,531,-6,5301350.57,5497208.8500000006,368.84798493408709,4680844,4116665,-1062.4839924670432,946828.92975868739,1380544,433715.07024131261,816.78920949399742,45.81]
[20,"BARNSTABLE                   ",1,5423,5492,69,53870372.68999999,55521659.879999995,300.67137472687637,46207751,45805369,-73.266933721777136,8440922.3601875007,9716291,1275368.6398124993,232.22298612754904,15.11]
[23,"BEDFORD                      ",1,2608,2585,-23,25862895.333689999,26053076.229189999,73.570946034816473,21890571,21493787,-153.49477756286268,4145009.3652098598,4559289,414279.6347901402,160.26291481243334,9.99]
[24,"BELCHERTOWN                  ",1,2493,2401,-92,23327151.939999998,22973661.619999997,-147.22628904623087,11128856,11198625,29.058309037900873,13481666,13541691,60025,25,0.45]
[25,"BELLINGHAM                   ",1,2424,2424,0,22925709.119999997,23462633.450000003,221.5034364686492,15265577,14932642,-137.34942244224422,8245235,8529991,284756,117.47359735973598,3.45]
[26,"BELMONT                      ",1,4068,4156,88,37689370.076880001,39180121.943280004,358.69871665062641,31269266,32323600,253.68960538979789,6420104,6856522,436418,105.00914340712224,6.8]
[27,"BERKLEY                      ",1,742,723,-19,6578224.6799999988,6569709.3200000003,-11.77781466113205,3202757,3390355,259.47164591977872,3875013,3893088,18075,25,0.47]
[28,"BERLIN                       ",1,166,152,-14,1474055.7653800002,1394075.23704,-526.18768644736974,1240618,1150112,-595.43421052631584,437180,440980,3800,25,0.87]
[30,"BEVERLY                      ",1,4345,4426,81,43026226.781149998,44949344.692879997,434.50472474694959,36875947,37083209,46.82828739267962,7336283.4600120001,7866136,529852.53998799995,119.71363307455941,7.22]
[31,"BILLERICA                    ",1,5385,5359,-26,50581059.937599994,51437518.584149994,159.81687750513152,35165450,34395999,-143.58107855943274,18486609.0465394,18620584.0465394,133975,25,0.72]
[35,"BOSTON                       ",1,63058,64196,1138,780383012.88296986,805600562.75407994,392.82120180556547,627463814,657393838,466.22879930213719,210991435,212596335,1604900,25,0.76]
[36,"BOURNE                       ",1,2084,2001,-83,19753593.370000005,19473369.859999999,-140.04173413293623,16968423,16065530,-451.22088955522241,4877338,4927363,50025,25,1.03]
[38,"BOXFORD                      ",1,730,729,-1,6315613.1311499998,6380974.8437599996,89.659413731138287,5486948,5264304,-305.41015089163238,1625748,1643973,18225,25,1.1200000000000001]
[39,"BOYLSTON                     ",1,299,283,-16,2701535.6,2619960.2999999998,-288.25194346289851,2336823,2161467,-619.63250883392232,443237.88018750004,458493,15255.119812499965,53.90501700530023,3.44]
[40,"BRAINTREE                    ",1,5508,5559,51,53388255.002250001,55247735.783950001,334.49915123223604,38760993,39433581,120.9908256880734,14627262,15814155,1186893,213.50836481381543,8.11]
[41,"BREWSTER                     ",1,473,474,1,4371530.74,4481450.93,231.89913502109596,3934378,3697197,-500.38185654008441,930169,942019,11850,25,1.27]
[43,"BRIMFIELD                    ",1,285,274,-11,2557047.06,2535170.4500000002,-79.841642335765954,1495359,1422293,-266.66423357664235,1202422,1209272,6850,25,0.56999999999999995]
[44,"BROCKTON                     ",1,17469,17694,225,202656340.72,209479318.44,385.60968237820725,37791281,39438390,93.088561094156205,164865060,170040928,5175868,292.52108059229118,3.14]
[45,"BROOKFIELD                   ",1,232,249,17,2293424.8199999998,2475237.4299999997,730.1711244979914,1033581,1028507,-20.377510040160644,1366889.719122,1446730,79840.280877999961,320.64369830522071,5.84]
[46,"BROOKLINE                    ",1,7142,7343,201,68558216.958700001,71400245.83788,387.0392045730627,57398755,58905203,205.15429660901538,11159462,12495043,1335581,181.8849244178129,11.97]
[48,"BURLINGTON                   ",1,3553,3469,-84,34467698.66996,34239007.273680001,-65.924299878927101,30725441,28247181,-714.40184491207845,5684571.2333384063,5991826,307254.76666159369,88.571567212912569,5.41]
[49,"CAMBRIDGE                    ",1,6709,6888,179,75565946.828440011,79533780.825280011,576.05023182926834,67728118,65615369,-306.72894889663183,10513263,13918412,3405149,494.35961091753774,32.39]
[50,"CANTON                       ",1,3157,3224,67,30171279.553439993,31710377.389359999,477.38766622828973,25776936,26161061,119.14547146401985,4936587.2551948912,5549316,612728.74480510876,190.05234020009576,12.41]
[51,"CARLISLE                     ",1,596,609,13,5130124.3316099988,5330419.6237000003,328.89210523809771,4617112,4397596,-360.45320197044333,859890.09694868745,932824,72933.903051312547,119.76010353253292,8.48]
[52,"CARVER                       ",1,1714,1657,-57,16482096.760799997,16197468.462199999,-171.77326409173057,8461514,8264514,-118.88955944477972,9731289,9772714,41425,25,0.43]
[56,"CHELMSFORD                   ",1,5122,5056,-66,47335965.470179997,47241970.625249989,-18.590752557359188,39489751,38029641,-288.78757911392404,10346618,10473018,126400,25,1.22]
[57,"CHELSEA                      ",1,6557,6924,367,77392158.150499985,84321341.850099981,1000.7486567879832,12901270,13967161,153.94150779896015,64490888,70354181,5863293,846.80719237435005,9.09]
[61,"CHICOPEE                     ",1,7757,7852,95,86339875.140000001,89726607.379999995,431.32096790626525,29088958,29813236,92.241212429954146,57250917,59913371,2662454,339.07972491085076,4.6500000000000004]
[63,"CLARKSBURG                   ",1,200,180,-20,1905986.03,1772262.85,-742.9065555555552,594708,585884,-49.022222222222226,1769100,1773600,4500,25,0.25]
[64,"CLINTON                      ",1,1991,1979,-12,20886485.84,21129205.020000003,122.64738756948127,9674943,9447493,-114.93178372915614,11251678.80557175,11681712,430033.19442825019,217.29822861457816,3.82]
[65,"COHASSET                     ",1,1573,1553,-20,14009300.662070001,14047813.289400002,24.798858551192172,11815460,11589446,-145.53380553766902,2265937.0686455625,2458367,192429.93135443749,123.90851986763522,8.49]
[67,"CONCORD                      ",1,2088,2040,-48,18417417.455640003,18462886.786499996,22.288887676466988,15844185,15231882,-300.14852941176468,2573232,3231005,657773,322.43774509803922,25.56]
[68,"CONWAY                       ",1,147,145,-2,1306815.92,1311758.95,34.089862068965708,1065116,1082201,117.82758620689656,606379,610004,3625,25,0.6]
[71,"DANVERS                      ",1,3717,3660,-57,34741461.949999996,34881940.840000004,38.382210382515858,29063843,28777601,-78.208196721311481,6334657.4445563704,6426157.4445563704,91500,25,1.44]
[72,"DARTMOUTH                    ",1,3719,3721,2,35239525.229999997,36075718.260000005,224.72266326256616,29520834,29762467,64.937651169040578,9326041,9419066,93025,25,1]
[73,"DEDHAM                       ",1,2731,2681,-50,27117828.372749999,26929202.733199999,-70.356448918314229,24153827,22216592,-722.57926146960085,4312267.8425356252,4712611,400343.15746437479,149.32605649547736,9.2799999999999994]
[74,"DEERFIELD                    ",1,350,345,-5,3182088.0800000005,3228031.8499999992,133.17034782608297,2730251,2663126,-194.56521739130434,1059343,1067968,8625,25,0.81]
[77,"DOUGLAS                      ",1,1508,1452,-56,13898746.319999997,13645814.699999997,-174.19533057851183,6212332,6463272,172.8236914600551,8530840,8567140,36300,25,0.43]
[78,"DOVER                        ",1,517,480,-37,4528034.3919200003,4322776.7936200006,-427.61999645833276,4059051,3566291,-1026.5833333333333,690567,756486,65919,137.33125000000001,9.5500000000000007]
[79,"DRACUT                       ",1,3957,3873,-84,37334953.579999998,37644250.119999997,79.859679834753194,19220889,20168359,244.63465014200878,18761667,18858492,96825,25,0.52]
[82,"DUXBURY                      ",1,3165,3134,-31,28945039.577839997,29322453.03464001,120.4254807913254,24862384,24191024,-214.21825143586472,4782129.23820375,5131429,349299.76179625001,111.45493356612955,7.3]
[83,"EAST BRIDGEWATER             ",1,2210,2185,-25,20492729.260000002,20764631.130000003,124.4402151029753,10728557,10964339,107.90938215102975,10306507,10361132,54625,25,0.53]
[85,"EASTHAM                      ",1,202,184,-18,1871143.94,1830657.57,-220.03461956521673,1673613,1510293,-887.60869565217388,334856,339456,4600,25,1.37]
[86,"EASTHAMPTON                  ",1,1782,1774,-8,17813516.280000001,18095294,158.83749718151003,11344349,11740238,223.16178128523111,7731667,7776017,44350,25,0.56999999999999995]
[87,"EAST LONGMEADOW              ",1,2680,2646,-34,25028520.540000003,25486357.480000004,173.0298337112628,15784772,15989870,77.512471655328795,9901624.2199039999,9967774.2199039999,66150,25,0.67]
[88,"EASTON                       ",1,3767,3691,-76,34368780.379999988,34281775.100000001,-23.57227851530379,25617334,26036262,113.49986453535627,9531741,9624016,92275,25,0.97]
[89,"EDGARTOWN                    ",1,405,406,1,3756339.3899999997,3949969.68,476.92189655172535,3220458,3258725,94.253694581280783,535881,691245,155364,382.66995073891627,28.99]
[91,"ERVING                       ",1,257,255,-2,2387006.7599999998,2412269.36,99.069019607843501,2050836,1990122,-238.09411764705882,431895,438270,6375,25,1.48]
[93,"EVERETT                      ",1,7295,7490,195,85328324.66643998,89667949.965919986,579.38922556475381,24693137,25666047,129.89452603471295,60635188,64001903,3366715,449.49465954606143,5.55]
[94,"FAIRHAVEN                    ",1,1803,1785,-18,17736701.940000001,17707799.16,-16.192033613446046,11371020,11363006,-4.4896358543417367,7383635,7428260,44625,25,0.6]
[95,"FALL RIVER                   ",1,11142,11317,175,126851512.44000001,130963260.19999999,363.32488822125788,23922480,25218449,114.51524255544756,102929032,105744811,2815779,248.80966687284615,2.74]
[96,"FALMOUTH                     ",1,{"$f":"VLOOKUP(A71,aidcalc,17)","v":3576},{"$f":"VLOOKUP(A71,aidcalc,18)","v":3575},{"$f":"E71-D71","v":-1},{"$f":"VLOOKUP(A71,aidcalc,4)","v":34334682.75},{"$f":"VLOOKUP(A71,aidcalc,6)","v":35910247.149999999},{"$f":"(H71-G71)/$E71","v":440.71731468531425},{"$f":"SUMIF(dist1755,A71,pynetmin)","v":30535810},{"$f":"VLOOKUP(A71,aidcalc,7)","v":29625954},{"$f":"(K71-J71)/$E71","v":-254.50517482517483},5403420,6284293,{"$f":"N71-M71","v":880873},{"$f":"(N71-M71)/$E71","v":246.39804195804197},16.3]
[97,"FITCHBURG                    ",1,5482,5491,9,61364752.100000001,62363310.040000007,181.85356765616555,15954871,16662973,128.95683846293934,45409881,45700337,290456,52.896740120196682,0.64]
[98,"FLORIDA                      ",1,89,85,-4,924504.84,872994.29,-606.00647058823449,460528,468646,95.505882352941171,537067,539192,2125,25,0.4]
[99,"FOXBOROUGH                   ",1,2729,2690,-39,26242664.986009996,26484573.869379997,89.928952925650876,20657534,21012275,131.8739776951673,{"$f":"VLOOKUP(A74,disthist,37)","v":8597390},{"$f":"VLOOKUP(A74,aidcalc,35)","v":8664640},67250,25,{"$f":"ROUND(IF(G74>0,(N74-M74)*100/M74,100),2)","v":0.78}]
[100,"FRAMINGHAM                   ",1,8572,8641,69,91598610.68881999,95619668.628199995,465.34636493230011,58137448,55930159,-255.44369864599005,33596454.666226074,39689510,6093055.3337739259,705.13312507509852,18.14]
[101,"FRANKLIN                     ",1,6194,6086,-108,57559562.145959996,57388919.031509995,-28.038632016102568,32626068,34322367,278.72149194873481,27423796,27575946,152150,25,0.55000000000000004]
[103,"GARDNER                      ",1,2470,2505,35,26236297.479999997,27133681.380000003,358.2370858283457,7521101,8111579,235.71976047904192,19023155,19085780,62625,25,0.33]
[105,"GEORGETOWN                   ",1,1490,1389,-101,13311710.359999999,12726852.809999999,-421.06375089992855,8894215,9137713,175.30453563714903,5297543,5332268,34725,25,0.66]
[107,"GLOUCESTER                   ",1,3348,3237,-111,35333205.213599995,34881817.403679989,-139.44634226753337,30916076,28777499,-660.66635773864687,6157967.4910011301,6238892.4910011301,80925,25,1.31]
[110,"GRAFTON                      ",1,3103,3159,56,28066998.630000003,29002097.030000001,296.01088952200018,17847710,18689770,266.55903767014877,10571515,10650490,78975,25,0.75]
[111,"GRANBY                       ",1,852,812,-40,8273052.5900000017,7978374.4699999979,-362.90408866995546,4695999,4658238,-46.50369458128079,4537515,4557815,20300,25,0.45]
[114,"GREENFIELD                   ",1,2065,2048,-17,21246903.91,21378359.310000002,64.187207031251091,9761739,9577049,-90.1806640625,11983812.357180249,12035012.357180249,51200,25,0.43]
[117,"HADLEY                       ",1,627,611,-16,5981187.5199999996,5986156.3800000008,8.1323404255339877,5351851,4938579,-676.3862520458265,938253.99517187499,1047577,109323.00482812501,178.92472148629298,11.65]
[118,"HALIFAX                      ",1,594,592,-2,5366429.71,5540979.4299999988,294.84749999999798,2903829,2871459,-54.679054054054056,2699817,2714617,14800,25,0.55000000000000004]
[121,"HANCOCK                      ",1,90,75,-15,806235.6399999999,700017.85,-1416.2371999999989,725612,577515,-1974.6266666666668,199115,200990,1875,25,0.94]
[122,"HANOVER                      ",1,2586,2566,-20,23675035.831840001,24041587.167499997,142.84931241621032,17821949,18359459,209.47388932190179,6590763.713344737,6654913.713344737,64150,25,0.97]
[125,"HARVARD                      ",1,1036,1019,-17,9617698.6389000006,9693663.2637600005,74.54820889106955,8555966,7997272,-548.27674190382731,1816706,1842181,25475,25,1.4]
[127,"HATFIELD                     ",1,375,381,6,3505759.1100000003,3617908.4000000004,294.35509186351715,3095381,2984774,-290.30708661417322,786221,795746,9525,25,1.21]
[128,"HAVERHILL                    ",1,7951,8105,154,83661746.030000001,85387258.689999998,212.89483775447209,38734196,37789636,-116.5404071560765,45091781.071740001,47597623,2505841.9282599986,309.17235388772343,5.56]
[131,"HINGHAM                      ",1,4119,4189,70,37371415.691150002,39001020.533249997,389.02001482453915,31288570,32175842,211.80997851515875,6499060.2338675,6825179,326118.76613250002,77.851221325495345,5.0199999999999996]
[133,"HOLBROOK                     ",1,1208,1168,-40,12460674.085960001,12443297.537840001,-14.877181609588586,7150740,6790414,-308.4982876712329,5309934,5652884,342950,293.62157534246575,6.46]
[135,"HOLLAND                      ",1,185,163,-22,1736861.59,1599126.75,-844.9990184049085,1013330,929167,-516.3374233128834,907048,911123,4075,25,0.45]
[136,"HOLLISTON                    ",1,2568,2565,-3,24025115.2018,24361946.347450003,131.31818543859771,17695327,17526806,-65.700194931773879,7155224.6612902638,7219349.6612902638,64125,25,0.9]
[137,"HOLYOKE                      ",1,6552,6639,87,78698902.669999987,80596955.480000004,285.89438319024208,9692069,10055521,54.744991715619825,69785403,70541434,756031,113.87724054827534,1.08]
[138,"HOPEDALE                     ",1,1104,1077,-27,10475107.010799998,10396781.262500001,-72.725857288762583,5458850,5476378,16.274837511606314,5914920,5941845,26925,25,0.46]
[139,"HOPKINTON                    ",1,3387,3489,102,32526014.474999998,33687637.267440006,332.93860488392329,27549192,27792300,69.678417884780742,5873878.4027372804,5961103.4027372804,87225,25,1.48]
[141,"HUDSON                       ",1,2771,2759,-12,27792860.269480001,28189612.605080001,143.80294874954689,16943537,16152251,-286.80173976078288,10859646.737085393,12037362,1177715.2629146073,426.86308913178954,10.84]
[142,"HULL                         ",1,1054,1042,-12,10591221.700679999,10627740.812809998,35.047132562379389,9492718,8767886,-695.61612284069099,3708196,3734246,26050,25,0.7]
[144,"IPSWICH                      ",1,1921,1865,-56,18277939.337160002,18118176.856480002,-85.663528514745323,15616820,14947496,-358.8868632707775,3032974.52940783,3170681,137706.47059217002,73.837249647276153,4.54]
[145,"KINGSTON                     ",1,1160,1092,-68,10520096.445809999,10093730.667000001,-390.44485239010822,6787210,6415834,-340.08791208791212,4188864.5356259407,4216164.5356259402,27299.999999999534,24.999999999999574,0.65]
[148,"LANESBOROUGH                 ",1,198,200,2,1841661.51,1924866.88,416.0268499999994,1232284,1248595,81.555000000000007,747323,752323,5000,25,0.67]
[149,"LAWRENCE                     ",1,14714,15186,472,177176380.49999997,186136094.67000002,589.99829909127129,8004505,8507699,33.135387857236928,169171876,177628396,8456520,556.86290003951012,5]
[150,"LEE                          ",1,661,601,-60,6714728.879999999,6274000.4799999986,-733.32512479201398,5764466,5176050,-979.06156405990021,1980674,1995699,15025,25,0.76]
[151,"LEICESTER                    ",1,1629,1598,-31,16135346.720000001,16315414.450000001,112.68318523153971,7906856,8064134,98.421777221526909,9534162,9574112,39950,25,0.42]
[152,"LENOX                        ",1,577,521,-56,5600729.1799999997,5259228.0599999996,-655.47239923224595,5040656,4338863,-1347.0115163147793,1185105,1198130,13025,25,1.1000000000000001]
[153,"LEOMINSTER                   ",1,6335,6274,-61,68009798.659999996,68789894.089999989,124.33781160344155,25511102,26480524,154.51418552757411,43390737,43547587,156850,25,0.36]
[154,"LEVERETT                     ",1,100,104,4,934315.57,982131.53,459.76884615384694,840884,810259,-294.47115384615387,277216,279816,2600,25,0.94]
[155,"LEXINGTON                    ",1,6695,6849,154,64514813.130400017,67063773.197500005,372.16528939991071,56156903,55327612,-121.08205577456563,9584428.3342046905,11736161,2151732.6657953095,314.16742090747692,22.45]
[157,"LINCOLN                      ",1,623,618,-5,5682114.4160699993,5601678.0140399989,-130.15599033980658,5004725,4621384,-620.29288025889969,841588,980294,138706,224.44336569579289,16.48]
[158,"LITTLETON                    ",1,1542,1558,16,14701467.741599999,15178691.897499997,306.30561996148765,11519536,11472283,-30.329268292682926,3770462.508446292,3809412.508446292,38950,25,1.03]
[159,"LONGMEADOW                   ",1,2758,2811,53,24849640.570000004,25612986.450000003,271.55669868374207,21747129,21130714,-219.28673070081823,4363911,4482272,118361,42.106367840626113,2.71]
[160,"LOWELL                       ",1,15093,15300,207,176078571.80969998,177537953.73000002,95.384439235296512,40949807,43089941,139.87803921568627,135128765,135511265,382500,25,0.28000000000000003]
[161,"LUDLOW                       ",1,2761,2680,-81,27236633.910000004,27187438.540000007,-18.356481343282582,14951306,15164414,79.517910447761196,13351728,13418728,67000,25,0.5]
[162,"LUNENBURG                    ",1,1627,1647,20,14945462.859999999,15341249.750000002,240.30776563448845,9374156,9249930,-75.425622343655135,5605871.9110325621,6091320,485448.08896743786,294.74686640403024,8.66]
[163,"LYNN                         ",1,15431,16036,605,181764114.65000001,191949856.55000001,635.17971439261703,43133574,44587175,90.646108755300574,138630541,147362682,8732141,544.53361187328505,6.3]
[164,"LYNNFIELD                    ",1,2117,2104,-13,19490234.623029999,19743094.595660001,120.18059535646464,17091539,16288053,-381.88498098859316,4036801,4089401,52600,25,1.3]
[165,"MALDEN                       ",1,7309,7395,86,80737953.747600004,84059175.637440011,449.11722648275952,34410984,35620417,163.54739688979041,47246321,48438759,1192438,161.24922244759972,2.52]
[167,"MANSFIELD                    ",1,4357,4171,-186,41985292.046640001,40931631.918399997,-252.61571043874471,26566576,25990129,-138.20354830975785,18283964,18388239,104275,25,0.56999999999999995]
[168,"MARBLEHEAD                   ",1,3366,3308,-58,30687140.549999997,30592758.849999998,-28.531348246674504,25404870,25239026,-50.134220072551393,5381364,5464064,82700,25,1.54]
[169,"MARION                       ",1,448,439,-9,3955020.5,4014302.5699999994,135.03888382687782,3359179,3311800,-107.9248291571754,595842,702503,106661,242.96355353075171,17.899999999999999]
[170,"MARLBOROUGH                  ",1,4798,4976,178,52135804.352599993,55409404.919719994,657.87792747588435,32592161,32195951,-79.624196141479104,19543643,23213454,3669811,737.50221061093248,18.78]
[171,"MARSHFIELD                   ",1,4299,4193,-106,40490934.449160002,40254049.280549996,-56.495389604103643,31137078,31962838,196.93775339852135,13963368,14068193,104825,25,0.75]
[172,"MASHPEE                      ",1,1734,1688,-46,16847491.769999996,16578175.300000003,-159.54767180094385,14820989,13676995,-677.72156398104266,4359861,4402061,42200,25,0.97]
[173,"MATTAPOISETT                 ",1,511,510,-1,4564402.3699999992,4686148.55,238.71800000000124,3935161,3866072,-135.46862745098039,661547.15474999999,820077,158529.84525000001,310.84283382352942,23.96]
[174,"MAYNARD                      ",1,1393,1384,-9,13617361.215549998,13850824.283779997,168.68718802745622,9450152,9037642,-298.05635838150289,4180312.5528999842,4813182,632869.44710001582,457.27561206648539,15.14]
[175,"MEDFIELD                     ",1,2578,2538,-40,23366471.620039996,23395043.4848,11.257629929079584,20811592,19300911,-595.22498029944836,5862409,5925859,63450,25,1.08]
[176,"MEDFORD                      ",1,4990,4896,-94,52268719.305079997,52826959.864799984,114.01972216503007,45014043,43582242,-292.44301470588238,11332041,11454441,122400,25,1.08]
[177,"MEDWAY                       ",1,2351,2331,-20,21554025.020479999,21958660.335269995,173.58872363363173,14114067,14185958,30.841269841269842,10117244,10175519,58275,25,0.57999999999999996]
[178,"MELROSE                      ",1,3727,3732,5,35264711.847039998,36086251.428580001,220.13386429260541,28117748,29102972,263.99356913183277,7867296,7960596,93300,25,1.19]
[181,"METHUEN                      ",1,7098,7112,14,73674473.939999998,75476679.289999992,253.40345191226012,33532493,33685127,21.461473565804276,40839452.117845498,41791552,952099.88215450197,133.87231188899071,2.33]
[182,"MIDDLEBOROUGH                ",1,{"$f":"VLOOKUP(A131,aidcalc,17)","v":3299},{"$f":"VLOOKUP(A131,aidcalc,18)","v":3217},{"$f":"E131-D131","v":-82},{"$f":"VLOOKUP(A131,aidcalc,4)","v":32073963.209999997},{"$f":"VLOOKUP(A131,aidcalc,6)","v":32000342.629999999},{"$f":"(H131-G131)/$E131","v":-22.884855455392668},{"$f":"SUMIF(dist1755,A131,pynetmin)","v":15945136},{"$f":"VLOOKUP(A131,aidcalc,7)","v":15610347},{"$f":"(K131-J131)/$E131","v":-104.06869754429593},17459284,17539709,{"$f":"N131-M131","v":80425},{"$f":"(N131-M131)/$E131","v":25},0.46]
[184,"MIDDLETON                    ",1,743,729,-14,6500381.7589600012,6509297.9842300005,12.230761687241914,5534548,5370171,-225.48285322359396,1550526,1568751,18225,25,1.18]
[185,"MILFORD                      ",1,4207,4221,14,43366941.909150004,44418717.093200006,249.17677897417701,23509175,22720588,-186.82468609334282,20022624.302150823,21698129,1675504.6978491768,396.94496513839772,8.3699999999999992]
[186,"MILLBURY                     ",1,1781,1757,-24,17048501.060000002,17130949.16,46.925498007966858,10443623,10272343,-97.484348321001704,6879057.8450512495,6922982.8450512495,43925,25,0.64]
[187,"MILLIS                       ",1,1308,1277,-31,12356473.845559999,12205625.68949,-118.12698204385244,8219727,8055578,-128.54267815191855,4625471.5320735266,4657396.5320735266,31925,25,0.69]
[189,"MILTON                       ",1,3762,3860,98,35082060.980719998,36501504.885839999,367.73158163730574,29715046,30113742,103.28911917098445,5964021.6424181247,6387763,423741.35758187529,109.7775537776879,7.1]
[191,"MONSON                       ",1,1172,1096,-76,11227559.509999998,10642912.68,-533.43688868612981,5516259,5358402,-144.03010948905109,7372025,7399425,27400,25,0.37]
[196,"NAHANT                       ",1,298,282,-16,2670798.36,2552657.5399999991,-418.93907801418709,2403719,2105943,-1055.9432624113474,{"$f":"VLOOKUP(A138,disthist,37)","v":477893},{"$f":"VLOOKUP(A138,aidcalc,35)","v":484943},7050,25,{"$f":"ROUND(IF(G138>0,(N138-M138)*100/M138,100),2)","v":1.48}]
[197,"NANTUCKET                    ",1,1480,1552,72,13869821.479999997,15206451.73,861.2308311855694,11742876,12225508,310.9742268041237,2126945,2980944,853999,550.25708762886597,40.15]
[198,"NATICK                       ",1,5333,5417,84,49956678.079499997,51546022.215100005,293.3993235370146,41275438,42525468,230.76056858039505,8681240,9020554,339314,62.638729924312351,3.91]
[199,"NEEDHAM                      ",1,5327,5362,35,50670510.318260007,51969545.140780009,242.2668449309964,43099948,42874874,-41.975755315180905,8239739.7644304372,9094671,854931.23556956276,159.44260267988861,10.38]
[201,"NEW BEDFORD                  ",1,13193,13211,18,146174509.68000001,149495329.88,251.36781469987042,22672562,24366967,128.25713420634321,123501948,125128363,1626415,123.11066535462872,1.32]
[204,"NEWBURYPORT                  ",1,2420,2445,25,22313844.746979997,22958152.764539998,263.5206615787327,18921662,18940476,7.6948875255623719,3658991.6660889401,4017677,358685.33391105989,146.70156806178318,9.8000000000000007]
[207,"NEWTON                       ",1,12650,12711,61,123275321.48661001,126316298.67331998,239.23980699472662,103657391,104210946,43.549288018251907,19617930,22105353,2487423,195.69058295964126,12.68]
[208,"NORFOLK                      ",1,835,803,-32,7315213.0608799998,7167206.0455,-184.3175783063509,6240752,5912945,-408.22789539227898,3312405,3332480,20075,25,0.61]
[209,"NORTH ADAMS                  ",1,1554,1545,-9,16417451.109999998,16664714.390000004,160.04095792880699,4941966,5022499,52.124919093851133,13556793,13595418,38625,25,0.28000000000000003]
[210,"NORTHAMPTON                  ",1,2805,2767,-38,27395100.530000001,27323757.340000004,-25.783588724249228,22476877,22542100,23.571738344777739,7093554,7162729,69175,25,0.98]
[211,"NORTH ANDOVER                ",1,4687,4834,147,43286349.479999997,45462873.919999987,450.25329747620816,36224040,37506871,265.37670666115019,7262285.6748125004,7956003,693717.32518749963,143.50792825558537,9.5500000000000007]
[212,"NORTH ATTLEBOROUGH           ",1,4586,4558,-28,42114635.469999991,42858323.110000007,163.1609565598981,24223806,25023400,175.42650285212812,19941736,20055686,113950,25,0.56999999999999995]
[213,"NORTHBOROUGH                 ",1,1779,1755,-24,15486011.710000001,15526446.370000001,23.039692307692391,13010542,12557223,-258.30142450142449,3712560.0384160001,3756435.0384160001,43875,25,1.18]
[214,"NORTHBRIDGE                  ",1,2566,2435,-131,24874347.920000002,24091597.779999997,-321.45796303901614,9900452,10435707,219.81724845995893,15214206,15275081,60875,25,0.4]
[215,"NORTH BROOKFIELD             ",1,639,635,-4,6138607.5700000012,6330664.1299999999,302.45127559054907,2853212,2817346,-56.481889763779527,4187213,4203088,15875,25,0.38]
[217,"NORTH READING                ",1,2545,2501,-44,23706840.709970001,23928340.855640002,88.564632415034168,19832830,19740881,-36.764894042383048,6739782,6802307,62525,25,0.93]
[218,"NORTON                       ",1,2685,2611,-74,24839826.120000001,24716889.330000006,-47.084178475678044,15755447,15331089,-162.52700114898505,12395800,12461075,65275,25,0.53]
[219,"NORWELL                      ",1,2210,2202,-8,20295768.49016,20603272.396599997,139.64755060853645,17370172,16997699,-169.1521344232516,3362602.9436770314,3605573,242970.05632296856,110.3406250331374,7.23]
[220,"NORWOOD                      ",1,3491,3492,1,35458013.178439997,36030240.360470004,163.86803609106735,31475235,29724948,-501.22766323024052,5663726.3884928748,6305292,641565.6115071252,183.72440192071167,11.33]
[221,"OAK BLUFFS                   ",1,409,434,25,3839529.9800000004,4306524.25,1076.0236635944691,3213640,3420717,477.13594470046081,650652,885807,235155,541.83179723502303,36.14]
[223,"ORANGE                       ",1,621,626,5,6225638.2200000016,6497667.1399999978,434.55099041532941,1814005,1842295,45.191693290734825,5173729,5189379,15650,25,0.3]
[224,"ORLEANS                      ",1,212,223,11,1909216.98,2072439.67,731.94031390134501,1715171,1709763,-24.251121076233183,279616,362677,83061,372.4708520179372,29.71]
[226,"OXFORD                       ",1,1942,1934,-8,18717632.59,19226330.559999999,263.02894002068189,9144757,9103172,-21.502068252326783,10258149,10306499,48350,25,0.47]
[227,"PALMER                       ",1,1533,1501,-32,15478309.109999996,15466730.400000002,-7.7139973351055584,6819446,6526230,-195.34710193204529,10664455,10701980,37525,25,0.35]
[229,"PEABODY                      ",1,5990,5970,-20,61102630.279999994,62367587.499999993,211.88563149078706,44118255,45049402,155.97102177554439,18597967,18747217,149250,25,0.8]
[230,"PELHAM                       ",1,70,73,3,689081.27,696611.65,103.15589041095897,620173,574705,-622.84931506849318,222256,224081,1825,25,0.82]
[231,"PEMBROKE                     ",1,3252,3179,-73,30579313.617779996,30953452.00279,117.69058981126267,18171451,18500755,103.58729160113243,13095032.304039083,13174507.304039083,79475,25,0.61]
[234,"PETERSHAM                    ",1,57,58,1,566086.55000000005,611232.30999999994,778.37517241379123,454106,466259,209.5344827586207,424308,425758,1450,25,0.34]
[236,"PITTSFIELD                   ",1,6269,6192,-77,67481752.38000001,68905111.570000008,229.87067021963784,29005679,28464819,-87.34819121447029,39447162.62740925,40440293,993130.37259075046,160.38927205922971,2.52]
[238,"PLAINVILLE                   ",1,740,713,-27,6579213.379999999,6450343.1600000001,-180.7436465638132,4253996,4374579,169.12061711079943,2806755.59601,2824580.59601,17825,25,0.64]
[239,"PLYMOUTH                     ",1,8126,8064,-62,83619257.170059979,84831859.535599992,150.37231715525951,61240645,60349251,-110.53993055555556,23670916.509499453,24482609,811692.49050054699,100.65631082596069,3.43]
[240,"PLYMPTON                     ",1,249,227,-22,2194273.0299999998,2074615.8599999996,-527.12409691630023,1544590,1557980,58.986784140969164,702595.25887999998,708270.25887999998,5675,25,0.81]
[242,"PROVINCETOWN                 ",1,147,129,-18,1414247.5399999998,1284862.27,-1002.9865891472851,1209208,1060011,-1156.5658914728683,269641,272866,3225,25,1.2]
[243,"QUINCY                       ",1,9356,9295,-61,108294787.80678003,109837246.19363996,165.94495824205902,82452996,83899688,155.64195804195805,26024786.287227817,26257161.287227817,232375,25,0.89]
[244,"RANDOLPH                     ",1,3333,3295,-38,35955443.988719992,36417465.611719996,140.2190054628235,20964754,20444408,-157.91987860394536,14990690,15973058,982368,298.13899848254931,6.55]
[246,"READING                      ",1,4269,4245,-24,38963364.685199998,39638139.190400004,158.95748061248671,30125539,31807445,396.20871613663132,10126574,10232699,106125,25,1.05]
[248,"REVERE                       ",1,6923,7135,212,79960501.103390008,84281832.122129992,605.65256044008174,29010426,29875530,121.2479327259986,50950075,54406302,3456227,484.40462508759634,6.78]
[249,"RICHMOND                     ",1,146,123,-23,1381559.82,1238912.1900000002,-1159.7368292682918,1243404,1022103,-1799.1951219512196,344169,347244,3075,25,0.89]
[250,"ROCHESTER                    ",1,486,476,-10,4252932.9000000004,4382165.5599999996,271.49718487394796,2742703,2799991,120.35294117647059,1750422,1762322,11900,25,0.68]
[251,"ROCKLAND                     ",1,2253,2326,73,23580543.138319999,25189073.019840002,691.54337124677693,12524805,12069060,-195.93508168529664,11055738,13120013,2064275,887.47850386930349,18.670000000000002]
[252,"ROCKPORT                     ",1,805,777,-28,7619731.0979199996,7726823.8438600004,137.82850185328283,6857758,6374630,-621.78635778635783,1377981,1397406,19425,25,1.41]
[253,"ROWE                         ",1,63,70,7,618393.5,676330.15,827.66642857142892,525865,545165,275.71428571428572,103362,131165,27803,397.18571428571431,26.9]
[258,"SALEM                        ",1,4784,4671,-113,52070759.630000003,52542429.829999998,100.97842003853469,31881386,31053555,-177.22778848212374,21231627.191162799,21488875,257247.80883720145,55.073390887861578,1.21]
[261,"SANDWICH                     ",1,3093,2977,-116,28304004.249999989,27987804.329999994,-106.21428283506695,24542435,23089938,-487.90628149143436,6665593,6740018,74425,25,1.1200000000000001]
[262,"SAUGUS                       ",1,2882,2855,-27,28469688.994549997,28704386.50144,82.205781747811784,23886601,23424459,-161.87110332749563,5266627.0180176003,5338002.0180176003,71375,25,1.36]
[263,"SAVOY                        ",1,65,62,-3,600300.83000000007,592852.67000000004,-120.13161290322633,298627,315161,266.67741935483872,505329,506879,1550,25,0.31]
[264,"SCITUATE                     ",1,3035,3008,-27,27783603.550999999,28197733.99712,137.67634511968132,23886438,23263130,-207.21675531914894,5110701,5185901,75200,25,1.47]
[265,"SEEKONK                      ",1,2011,1931,-80,18854298.620000001,18460114.679999996,-204.13461418954174,14466350,13812195,-338.76488865872602,4931239.9737716876,4979514.9737716876,48275,25,0.98]
[266,"SHARON                       ",1,3381,3414,33,31433647.07305,32275546.17168,246.60196210603394,25641123,26573303,273.04628002343293,6865177,6950527,85350,25,1.24]
[269,"SHERBORN                     ",1,379,378,-1,3327431.3505500001,3380505.0839999993,140.40670224867526,2944257,2788917,-410.95238095238096,545223,591588,46365,122.65873015873017,8.5]
[271,"SHREWSBURY                   ",1,5943,5993,50,55423621.549999997,57096131.690000013,279.07728016018945,38578814,40658212,346.97113298848654,19045813,19195638,149825,25,0.79]
[272,"SHUTESBURY                   ",1,141,146,5,1268845.75,1336733.0899999999,464.9817808219168,689268,716351,185.5,593590.46020800003,620382,26791.539791999967,183.50369720547923,4.51]
[273,"SOMERSET                     ",1,1808,1802,-6,16069095.370000001,16337259.259999998,148.8145893451703,11192906,10727871,-258.06603773584908,5217678.062146375,5609388,391709.93785362504,217.3751042472947,7.51]
[274,"SOMERVILLE                   ",1,5351,5396,45,62767269.546019986,64208758.285060003,267.14024074129304,52703692,52972226,49.765381764269833,19582488,19717388,134900,25,0.69]
[275,"SOUTHAMPTON                  ",1,496,490,-6,4598039.57,4683286.6400000006,173.97361224489856,2840365,2974492,273.72857142857146,2468676,2480926,12250,25,0.5]
[276,"SOUTHBOROUGH                 ",1,1323,1274,-49,11801364.191059999,11574099.806239998,-178.38648729984396,10384154,9548633,-655.8249607535322,2777761,2809611,31850,25,1.1499999999999999]
[277,"SOUTHBRIDGE                  ",1,{"$f":"VLOOKUP(A194,aidcalc,17)","v":2432},{"$f":"VLOOKUP(A194,aidcalc,18)","v":2437},{"$f":"E194-D194","v":5},{"$f":"VLOOKUP(A194,aidcalc,4)","v":26907889.430000003},{"$f":"VLOOKUP(A194,aidcalc,6)","v":27590853.959999993},{"$f":"(H194-G194)/$E194","v":280.24806319244561},{"$f":"SUMIF(dist1755,A194,pynetmin)","v":7788520},{"$f":"VLOOKUP(A194,aidcalc,7)","v":7681091},{"$f":"(K194-J194)/$E194","v":-44.082478457119407},19119369,19909763,{"$f":"N194-M194","v":790394},{"$f":"(N194-M194)/$E194","v":324.33073450964298},4.13]
[278,"SOUTH HADLEY                 ",1,1934,1921,-13,19070528.080000002,19296183.16,117.46750650702666,12680992,12744778,33.204580947423217,7724754,7772779,48025,25,0.62]
[281,"SPRINGFIELD                  ",1,28755,28970,215,337653427.27999997,345592031.43000001,274.02844839489251,36066908,36405937,11.702761477390403,301586519,309186094,7599575,262.32568173973078,2.52]
[284,"STONEHAM                     ",1,2339,2378,39,22756236.458160002,23623782.041999996,364.82152390243647,19732979,19489620,-102.33767872161481,3779409.3832463399,4134162,354752.61675366014,149.18108358017668,9.39]
[285,"STOUGHTON                    ",1,3696,3724,28,37491590.603239998,38474628.719349995,263.97371538936545,23503750,22627873,-235.19790547798067,14600824.148446621,15846756,1245931.8515533786,334.56816636771714,8.5299999999999994]
[287,"STURBRIDGE                   ",1,911,934,23,8029576.1899999995,8483866.0799999982,486.3917451820115,4960281,4796546,-175.30513918629549,3069295,3687320,618025,661.69700214132763,20.14]
[288,"SUDBURY                      ",1,2766,2727,-39,24443508.479559995,24450575.494369991,2.591497913456505,21216573,20171725,-383.14924825815916,4466220,4534395,68175,25,1.53]
[289,"SUNDERLAND                   ",1,173,175,2,1659835.8300000003,1744222.4,482.20897142856916,1346071,1415305,395.62285714285713,841288,845663,4375,25,0.52]
[290,"SUTTON                       ",1,1511,1490,-21,13581958.960000001,13719822.630000001,92.525953020134182,9692460,9693543,0.72684563758389265,{"$f":"VLOOKUP(A202,disthist,37)","v":5239230},{"$f":"VLOOKUP(A202,aidcalc,35)","v":5276480},37250,25,{"$f":"ROUND(IF(G202>0,(N202-M202)*100/M202,100),2)","v":0.71}]
[291,"SWAMPSCOTT                   ",1,2143,2120,-23,19890269.34,20062283.009999998,81.138523584904746,16959906,16551384,-192.69905660377358,3140515.2075,3510899,370383.79249999998,174.70933608490566,11.79]
[292,"SWANSEA                      ",1,2060,2076,16,19734625.710000001,20558168.07,396.69670520231188,13253165,13116615,-65.775529865125236,6481461,7441553,960092,462.47206165703278,14.81]
[293,"TAUNTON                      ",1,7851,7916,65,83736224.63000001,86795145.73999998,386.42257579585265,33362611,32271814,-137.79648812531582,50373614,54523332,4149718,524.21905002526523,8.24]
[295,"TEWKSBURY                    ",1,3737,3635,-102,35271376.15231999,34761232.521389998,-140.34212680329892,26187077,26303220,31.951306740027512,12727415,12818290,90875,25,0.71]
[296,"TISBURY                      ",1,364,378,14,3448541.2399999993,3757350.99,816.95701058201303,3079391,3099815,54.031746031746032,474255,657536,183281,484.87037037037038,38.65]
[298,"TOPSFIELD                    ",1,572,558,-14,4950981.2964300001,4876256.0624799998,-133.91618987455243,4373961,4022911,-629.12186379928312,1093858,1107808,13950,25,1.28]
[300,"TRURO                        ",1,194,197,3,1788414.01,1879850.1199999996,464.14269035532811,1609573,1550876,-297.95431472081219,277556,328974,51418,261.005076142132,18.53]
[301,"TYNGSBOROUGH                 ",1,1802,1750,-52,16424708.550000001,16310112.57,-65.483417142857405,10954033,10865397,-50.649142857142856,7125624,7169374,43750,25,0.61]
[304,"UXBRIDGE                     ",1,1934,1934,0,18066543.430000003,18526071.940000001,237.60522750775488,10926419,10719548,-106.96535677352637,9122764,9171114,48350,25,0.53]
[305,"WAKEFIELD                    ",1,3380,3374,-6,31933215.629270006,32600249.418120001,197.69821839063263,27532408,26895205,-188.85684647302904,5317017.2860360602,5705044,388026.71396393981,115.00495375339058,7.3]
[306,"WALES                        ",1,141,151,10,1356194.98,1467392.6599999997,736.40847682119011,645271,641264,-26.536423841059602,737534,826129,88595,586.72185430463571,12.01]
[307,"WALPOLE                      ",1,3869,3834,-35,36833859.746200003,37317617.441239998,126.17571597287298,30016055,30270297,66.312467396974441,7542980.7103260532,7638830.7103260532,95850,25,1.27]
[308,"WALTHAM                      ",1,5195,5298,103,58974377.85684,62218743.565559998,612.37555845979591,51151815,51330463,33.719894299735749,9012826.3317359835,10888281,1875454.6682640165,353.99295361721715,20.81]
[309,"WARE                         ",1,1394,1375,-19,14311776.950000001,14379106.989999996,48.967301818178456,5575059,5325839,-181.25090909090909,8736718,9053268,316550,230.21818181818182,3.62]
[310,"WAREHAM                      ",1,2859,2815,-44,29801464.629999995,30579432.949999999,276.36530017762135,18563068,17432016,-401.79467140319719,12488232.138633749,13147417,659184.86136625148,234.16868965053339,5.28]
[314,"WATERTOWN                    ",1,2776,2590,-186,28744449.526519999,26987815.659180008,-678.23701441698495,24409669,22264948,-828.07760617760619,4334781,4722868,388087,149.84054054054053,8.9499999999999993]
[315,"WAYLAND                      ",1,2644,2620,-24,24309849.451349992,24601190.323630001,111.19880621374392,21783923,20295982,-567.9164122137405,3644813,4305208,660395,252.05916030534351,18.12]
[316,"WEBSTER                      ",1,1980,1990,10,20776506.130000003,21401884.859999996,314.26066834170501,10261282,10061690,-100.29748743718594,10515224,11340195,824971,414.55829145728643,7.85]
[317,"WELLESLEY                    ",1,5050,5081,31,47297420.926149994,48641677.772080004,264.56540955127144,40402136,40129384,-53.680771501672901,7789132,8512294,723162,142.32670734107458,9.2799999999999994]
[318,"WELLFLEET                    ",1,132,124,-8,1240792.6900000002,1150249.74,-730.18508064516277,1116713,948956,-1352.8790322580646,176624,201294,24670,198.95161290322579,13.97]
[321,"WESTBOROUGH                  ",1,3465,3498,33,31788292.559999999,32643542.910000004,244.49695540308898,27852628,26930923,-263.49485420240137,5025628.3124719998,5712620,686991.68752800021,196.39556533104638,13.67]
[322,"WEST BOYLSTON                ",1,893,896,3,8413020.9400000013,8930152.6600000001,577.15593749999869,6777592,6681715,-107.00558035714286,2886885,2909285,22400,25,0.78]
[323,"WEST BRIDGEWATER             ",1,1052,1024,-28,9789063.1500000022,9864782.7299999986,73.944902343746435,6918340,6568900,-341.25,3006077.2266937499,3295883,289805.77330625011,283.01345049438487,9.64]
[325,"WESTFIELD                    ",1,5685,5574,-111,59091820.839999996,59194723.68,18.461219949767415,27452394,26751463,-125.75008970218873,33214624.488096002,33353974.488096002,139350,25,0.42]
[326,"WESTFORD                     ",1,4959,4911,-48,45600413.679659985,45124999.36552,-96.806009802481071,32229875,33086801,174.49114233353697,16313850,16436625,122775,25,0.75]
[327,"WESTHAMPTON                  ",1,138,137,-1,1314694.2799999998,1294416.6200000001,-148.01211678831885,956723,922713,-248.24817518248176,454345,457770,3425,25,0.75]
[330,"WESTON                       ",1,2322,2249,-73,21506483.175400004,21219806.953260001,-127.46830686527478,19355835,17506340,-822.36327256558468,2988929,3713467,724538,322.16007114273009,24.24]
[331,"WESTPORT                     ",1,1604,1549,-55,15286780.110000001,14995933.330000002,-187.76422207876007,12928118,12371645,-359.24661071659136,4303047,4341772,38725,25,0.9]
[332,"WEST SPRINGFIELD             ",1,3871,3938,67,41551686.519999996,42891023.810000002,340.10596495683257,20188627,20277457,22.557135601828339,21363060,22613567,1250507,317.54875571356018,5.85]
[335,"WESTWOOD                     ",1,3110,3100,-10,29096356.715499997,29539997.822689999,143.11003457741992,24830260,24370499,-148.31,4725912.9092836883,5169499,443586.09071631171,143.09228732784248,9.39]
[336,"WEYMOUTH                     ",1,6623,6556,-67,68999976.990219995,69769188.724899977,117.3294287187282,43802418,45695271,288.72071384990846,27366185,27530085,163900,25,0.6]
[337,"WHATELY                      ",1,99,89,-10,973888.2100000002,877253.83999999985,-1085.779438202251,773751,723734,-561.98876404494376,250115.0875275,252340.0875275,2225,25,0.89]
[340,"WILLIAMSBURG                 ",1,188,185,-3,1740594.9700000002,1731396.01,-49.724108108109164,1393645,1374154,-105.35675675675675,514620.14508649998,519245.14508649998,4625,25,0.9]
[341,"WILLIAMSTOWN                 ",1,376,397,21,3344865.7700000005,3691422.7599999993,872.93952141057639,2917285,3045424,322.76826196473553,928776,938701,9925,25,1.07]
[342,"WILMINGTON                   ",1,3571,3496,-75,33711949.045720004,33895541.813259996,52.51509368992933,24256928,24122111,-38.56321510297483,10891329.755806601,10978729.755806601,87400,25,0.8]
[343,"WINCHENDON                   ",1,1472,1458,-14,14667673.109999999,14868534.459999999,137.76498628257863,4914309,4796712,-80.656378600823047,11251885,11288335,36450,25,0.32]
[344,"WINCHESTER                   ",1,4302,4340,38,39564443.627320006,40749515.511779994,273.0580378940063,32332932,33618351,296.1794930875576,7572048,7680548,108500,25,1.43]
[346,"WINTHROP                     ",1,1985,1946,-39,19874501.94588,19501001.633919992,-191.93232885920247,13576177,13580430,2.185508735868448,6298325,6346975,48650,25,0.77]
[347,"WOBURN",1,4860,4789,-71,48695159.223999999,49230530.561499998,111.79188504907047,40727571,40615188,-23.466903320108582,8202269.03757165,8615343,413073.96242835,86.254742624420544,5.04]
[348,"WORCESTER                    ",1,26874,27452,578,314854112.86000001,329468506.71999997,532.3617171790745,96374700,96907634,19.413303220166107,220569583,232560873,11991290,436.80933993880228,5.44]
[349,"WORTHINGTON",1,{"$f":"VLOOKUP(A243,aidcalc,17)","v":12},{"$f":"VLOOKUP(A243,aidcalc,18)","v":115},{"$f":"E243-D243","v":103},{"$f":"VLOOKUP(A243,aidcalc,4)","v":181016.85000000003},{"$f":"VLOOKUP(A243,aidcalc,6)","v":1164871.5999999999},{"$f":"(H243-G243)/$E243","v":8555.2586956521718},{"$f":"SUMIF(dist1755,A243,pynetmin)","v":161882},{"$f":"VLOOKUP(A243,aidcalc,7)","v":939802},{"$f":"(K243-J243)/$E243","v":6764.521739130435},{"$f":"VLOOKUP(A243,disthist,37)","v":193899.28},{"$f":"VLOOKUP(A243,aidcalc,35)","v":225070},{"$f":"N243-M243","v":31170.720000000001},{"$f":"(N243-M243)/$E243","v":271.04973913043477},{"$f":"ROUND(IF(G243>0,(N243-M243)*100/M243,100),2)","v":16.079999999999998}]
[350,"WRENTHAM                     ",1,1038,958,-80,9069999.5540800001,8534196.4301100001,-559.29344882045939,6555043,6762850,216.91753653444675,3632823,3656773,23950,25,0.66]
[406,"NORTHAMPTON SMITH            ",1,91,97,6,1764814,1980086,2219.2989690721652,1447978,1633571,1913.3298969072166,895485,{"$f":"VLOOKUP(A245,aidcalc,35)","v":897910},{"$f":"N245-M245","v":2425},{"$f":"(N245-M245)/$E245","v":25},{"$f":"ROUND(IF(G245>0,(N245-M245)*100/M245,100),2)","v":0.27}]
[600,"ACTON BOXBOROUGH             ",1,5649,5544,-105,52422543,52599957,32.001082251082252,40290368,40790108,90.140692640692635,14254475.561999999,14393075.561999999,138600,25,0.97]
[603,"ADAMS CHESHIRE               ",1,1424,1398,-26,14419594,14523439,74.28111587982832,4988650,5160616,123.00858369098712,10121468,10156418,34950,25,0.35]
[605,"AMHERST PELHAM               ",1,1529,1532,3,15504219,15834018,215.27349869451697,11484398,11514977,19.960182767624023,9311217,9349517,38300,25,0.41]
[610,"ASHBURNHAM WESTMINSTER       ",1,2224,2253,29,20944478,21651624,313.86861961828674,11060794,10777792,-125.61118508655126,10138704,10873832,735128,326.28850421660007,7.25]
[615,"ATHOL ROYALSTON              ",1,1719,1717,-2,17539155,17879139,198.01048340128131,2500939,2687482,108.64472917880023,17129715,17172640,42925,25,0.25]
[616,"AYER SHIRLEY",1,{"$f":"VLOOKUP(A251,aidcalc,17)","v":1771},{"$f":"VLOOKUP(A251,aidcalc,18)","v":1739},{"$f":"E251-D251","v":-32},{"$f":"VLOOKUP(A251,aidcalc,4)","v":18020997},{"$f":"VLOOKUP(A251,aidcalc,6)","v":17776166},{"$f":"(H251-G251)/$E251","v":-140.78838412880967},{"$f":"SUMIF(dist1755,A251,pynetmin)","v":10736761},{"$f":"VLOOKUP(A251,aidcalc,7)","v":10628966},{"$f":"(K251-J251)/$E251","v":-61.986774008050602},8003886,8047361,43475,25,0.54]
[618,"BERKSHIRE HILLS              ",1,1067,1086,19,10662018,10878643,199.4705340699816,9324675,8974881,-322.09392265193372,2753513,2780663,27150,25,0.99]
[620,"BERLIN BOYLSTON              ",1,517,533,16,4817370,5052434,441.02063789868669,4122172,4168258,86.465290806754226,1049323,1062648,13325,25,1.27]
[622,"BLACKSTONE MILLVILLE         ",1,1879,1800,-79,17804636,17580139,-124.72055555555555,8183978,8008096,-97.712222222222223,10684594,10729594,45000,25,0.42]
[625,"BRIDGEWATER RAYNHAM          ",1,5317,5407,90,49690981,51489038,332.54244497873128,31221396,31121472,-18.480488255964492,20536596,20671771,135175,25,0.66]
[632,"CHESTERFIELD GOSHEN",1,146,136,-10,1269753,1290268,150.84558823529412,783121,781591,-11.25,730880,734280,3400,25,0.47]
[635,"CENTRAL BERKSHIRE            ",1,1732,1701,-31,16974405,16927679,-27.469723691945916,10521566,10475256,-27.225161669606113,8498034,8540559,42525,25,0.5]
[640,"CONCORD CARLISLE             ",1,1283,1301,18,13172186,13659882,374.86241352805536,11470046,11269403,-154.22213681783245,2020931,2390479,369548,284.0491929285165,18.29]
[645,"DENNIS YARMOUTH              ",1,3469,3409,-60,34668834,35460503,232.2290994426518,30189585,29254915,-274.17717805808155,6718014,6803239,85225,25,1.27]
[650,"DIGHTON REHOBOTH             ",1,{"$f":"VLOOKUP(A260,aidcalc,17)","v":2914},{"$f":"VLOOKUP(A260,aidcalc,18)","v":2929},{"$f":"E260-D260","v":15},{"$f":"VLOOKUP(A260,aidcalc,4)","v":28150365},{"$f":"VLOOKUP(A260,aidcalc,6)","v":28723483},{"$f":"(H260-G260)/$E260","v":195.67019460566746},{"$f":"SUMIF(dist1755,A260,pynetmin)","v":18051150},{"$f":"VLOOKUP(A260,aidcalc,7)","v":17596516},{"$f":"(K260-J260)/$E260","v":-155.2181631956299},12463021,12536246,73225,25,0.59]
[655,"DOVER SHERBORN               ",1,1203,1208,5,11333898,11580014,203.73841059602648,10098983,9553511,-451.5496688741722,1629376,2026503,397127,328.74751655629137,24.37]
[658,"DUDLEY CHARLTON              ",1,3895,3870,-25,36713400,37460711,193.10361757105943,14006333,14629068,160.91343669250645,23842023,23938773,96750,25,0.41]
[660,"NAUSET                       ",1,1301,1273,-28,12650853,12867301,170.02985074626866,11365672,10615523,-589.27651217596224,3321529,3353354,31825,25,0.96]
[662,"FARMINGTON RIVER",1,243,254,11,2333265,2496034,640.82283464566933,2082363,2059228,-91.082677165354326,407070,436806,29736,117.07086614173228,7.3]
[665,"FREETOWN LAKEVILLE           ",1,2854,2760,-94,26295108,25836232,-166.25942028985509,17518350,17254031,-95.767753623188412,10623488,10692488,69000,25,0.65]
[670,"FRONTIER                     ",1,576,566,-10,5716411,5662972,-94.415194346289752,4750289,4652935,-172.0035335689046,2758445,2772595,14150,25,0.51]
[672,"GATEWAY                      ",1,1066,950,-116,10475106,9565466,-957.51578947368421,5380703,5418570,39.86,{"$f":"VLOOKUP(A267,disthist,37)","v":5507624},5531374,23750,25,0.43]
[673,"GROTON DUNSTABLE             ",1,2552,2496,-56,23421974,23366261,-22.32091346153846,18828192,18923995,38.382612179487182,10513273,10575673,62400,25,0.59]
[674,"GILL MONTAGUE                ",1,1098,1089,-9,11383341,11391876,7.8374655647382916,5825645,6019203,177.73921028466484,6065444,6092669,27225,25,0.45]
[675,"HAMILTON WENHAM              ",1,1717,1785,68,15726746,16707535,549.46162464985991,13965278,13783717,-101.71484593837535,3413341,3457966,44625,25,1.31]
[680,"HAMPDEN WILBRAHAM            ",1,3252,3142,-110,30372595,29954423,-133.09102482495226,20400941,20646727,78.225970719287076,11405264,11483814,78550,25,0.69]
[683,"HAMPSHIRE                    ",1,750,734,-16,7159547,7223607,87.275204359673026,4689344,4761268,97.989100817438697,3151983,3170333,18350,25,0.57999999999999996]
[685,"HAWLEMONT                    ",1,95,93,-2,933646,950854,185.03225806451613,531341,518351,-139.67741935483872,612202,614527,2325,25,0.38]
[690,"KING PHILIP                  ",1,2195,2174,-21,20668060,20796265,58.971941122355105,15441355,16095776,301.02161913523457,7224100,7278450,54350,25,0.75]
[695,"LINCOLN SUDBURY              ",1,1701,1676,-25,17538177,17586404,28.775059665871122,15255513,14508783,-445.54295942720762,2820121.1578124999,3077621,257499.84218750009,153.639523978222,9.1300000000000008]
[698,"MANCHESTER ESSEX",1,1481,1458,-23,13572189,13636380,44.026748971193413,11221647,11250014,19.45610425240055,2813718,2850168,36450,25,1.3]
[700,"MARTHAS VINEYARD             ",1,734,730,-4,8168795,8315537,201.01643835616437,7068505,6768578,-410.85890410958905,2756975,{"$f":"VLOOKUP(A277,aidcalc,35)","v":2775225},{"$f":"N277-M277","v":18250},{"$f":"(N277-M277)/$E277","v":25},{"$f":"ROUND(IF(G277>0,(N277-M277)*100/M277,100),2)","v":0.66}]
[705,"MASCONOMET                   ",1,2092,2013,-79,19907859,19398726,-252.92250372578241,17251458,16003949,-619.72627918529554,4875399,4925724,50325,25,1.03]
[710,"MENDON UPTON                 ",1,2375,2295,-80,21900366,21475634,-185.06840958605665,12299101,12907063,264.90718954248365,12074206,12131581,57375,25,0.48]
[712,"MONOMOY",1,{"$f":"VLOOKUP(A280,aidcalc,17)","v":1863},{"$f":"VLOOKUP(A280,aidcalc,18)","v":1874},{"$f":"E280-D280","v":11},{"$f":"VLOOKUP(A280,aidcalc,4)","v":17618966},{"$f":"VLOOKUP(A280,aidcalc,6)","v":18464076},{"$f":"(H280-G280)/$E280","v":450.965848452508},{"$f":"SUMIF(dist1755,A280,pynetmin)","v":15518373},{"$f":"VLOOKUP(A280,aidcalc,7)","v":15232863},{"$f":"(K280-J280)/$E280","v":-152.35325506937033},2708296,3231213,522917,279.03788687299891,19.309999999999999]
[715,"MOUNT GREYLOCK               ",1,516,487,-29,5049227,4887694,-331.6899383983573,3998439,3703174,-606.29363449691994,1693808,1705983,12175,25,0.72]
[717,"MOHAWK TRAIL                 ",1,944,938,-6,9300413,9310511,10.76545842217484,6365060,6391878,28.590618336886994,5897844,5921294,23450,25,0.4]
[720,"NARRAGANSETT                 ",1,1309,1311,2,12841231,13170587,251.22501906941267,4967494,5111461,109.81464530892448,9731269,9764044,32775,25,0.34]
[725,"NASHOBA                      ",1,3225,3277,52,29833754,30925691,333.21238938053096,24514579,24340060,-53.255721696673788,6492305.0653249994,6585631,93325.934675000608,28.479076800427407,1.44]
[728,"NEW SALEM WENDELL            ",1,119,121,2,1217420,1255062,311.09090909090907,707520,690657,-139.36363636363637,631982,635007,3025,25,0.48]
[730,"NORTHBORO SOUTHBORO          ",1,1508,1492,-16,14903362,15041278,92.436997319034859,12767292,12267933,-334.69101876675603,2914613.6458749999,2951913.6458749999,37300,25,1.28]
[735,"NORTH MIDDLESEX              ",1,3551,3422,-129,32881223,32371795,-148.86849795441262,17183613,16847833,-98.123904149620103,19840443,19925993,85550,25,0.43]
[740,"OLD ROCHESTER                ",1,1132,1180,48,10659228,11419777,644.53305084745762,8277118,8630880,299.79830508474578,2382613.4918999998,2788897,406283.50810000021,344.30805771186459,17.05]
[745,"PENTUCKET                    ",1,2674,2573,-101,24290785,23602673,-267.43567819665759,16086295,15804866,-109.37776914108045,12770527,12834852,64325,25,0.5]
[750,"PIONEER                      ",1,802,751,-51,7816227,7481050,-446.30758988015981,4803095,4712640,-120.44607190412783,4048786,4067561,18775,25,0.46]
[753,"QUABBIN                      ",1,2266,2219,-47,21722178,22051647,148.4763406940063,9941651,9830630,-50.03199639477242,16286563,16342038,55475,25,0.34]
[755,"RALPH C MAHAR                ",1,721,699,-22,7705540,7640717,-92.736766809728181,2887638,2772067,-165.3376251788269,5322215,5339690,17475,25,0.33]
[760,"SILVER LAKE                  ",1,1826,1858,32,18899966,19669150,413.98493003229277,11622559,11990396,197.97470398277719,7617506.5369499996,7678754,61247.46305000037,32.96418893972033,0.8]
[763,"SOMERSET BERKLEY",null,{"$f":"VLOOKUP(A294,aidcalc,17)","v":979},{"$f":"VLOOKUP(A294,aidcalc,18)","v":922},{"$f":"E294-D294","v":-57},{"$f":"VLOOKUP(A294,aidcalc,4)","v":10050573},{"$f":"VLOOKUP(A294,aidcalc,6)","v":9594365},{"$f":"(H294-G294)/$E294","v":-494.80260303687635},{"$f":"SUMIF(dist1755,A294,pynetmin)","v":6394899},{"$f":"VLOOKUP(A294,aidcalc,7)","v":5901343},{"$f":"(K294-J294)/$E294","v":-535.31019522776569},3820117.8262999998,3843167.8262999998,23050,25,0.6]
[765,"SOUTHERN BERKSHIRE           ",1,772,754,-18,7132076,7553559,558.99602122015915,6413209,6128718,-377.30901856763927,1869396,1888246,18850,25,1.01]
[766,"SOUTHWICK TOLLAND GRANVILLE",1,1672,1611,-61,16539210,16275297,-163.81936685288642,9831214,10235762,251.11607697082556,9588623,9628898,40275,25,0.42]
[767,"SPENCER EAST BROOKFIELD      ",1,1931,1819,-112,19886690,19202300,-376.24518966465092,6981057,7237563,141.01484332050578,13412164,13457639,45475,25,0.34]
[770,"TANTASQUA                    ",1,1599,1610,11,17582598,18183142,373.00869565217391,10044332,9713445,-205.51987577639753,7701145.309475,8469697,768551.69052499998,477.36129846273292,9.98]
[773,"TRITON                       ",1,2678,2627,-51,25789437,25722812,-25.361629234868673,21866153,20982390,-336.41530262657022,8362546,8428221,65675,25,0.79]
[774,"UPISLAND",1,349,365,16,3060576,3393222,911.35890410958905,2703741,2770077,181.74246575342465,812797,821922,9125,25,1.1200000000000001]
[775,"WACHUSETT                    ",1,7064,7052,-12,63713837,65656785,275.51730005672152,39643665,39146180,-70.545235394214401,24988919.504425,26510605,1521685.4955749996,215.78069988301186,6.09]
[778,"QUABOAG",1,1296,1277,-19,13203478,13357209,120.38449490994519,5067470,4985319,-64.331245105716519,8512186,8544111,31925,25,0.38]
[780,"WHITMAN HANSON               ",1,4067,3964,-103,38173063,38322360,37.663218970736629,15278470,16147370,219.19778002018163,24120485,24219585,99100,25,0.41]
[801,"ASSABET VALLEY               ",1,715,743,28,11767240,12473207,950.15746971736201,7930239,7855127,-101.09286675639301,3884226.0669062501,4618080,733853.93309374992,987.69035409656783,18.89]
[805,"BLACKSTONE VALLEY            ",1,1186,1204,18,17695720,18218330,434.06146179401992,9764199,10130170,303.96262458471762,8056069,8088160,32091,26.653654485049834,0.4]
[806,"BLUE HILLS                   ",1,859,870,11,13656513,14060446,464.29080459770114,9688001,9479299,-239.88735632183909,4130304.1981125004,4581147,450842.80188749963,518.21011711206859,10.92]
[810,"BRISTOL PLYMOUTH             ",1,1309,1346,37,19738678,20776046,770.70430906389299,9454533,9722828,199.32763744427933,10595527.050000001,11053218,457690.94999999925,340.03785289747344,4.32]
[815,"CAPE COD                     ",1,654,652,-2,10012278,10180996,258.76993865030676,8734661,8399322,-514.32361963190181,2080187,2096487,16300,25,0.78]
[817,"ESSEX NORTH SHORE",1,677,789,112,10537063,12253746,2175.770595690748,8095297,9238021,1448.319391634981,3060544.19536875,{"$f":"VLOOKUP(A309,aidcalc,35)","v":3080269.19536875},{"$f":"N309-M309","v":19725},{"$f":"(N309-M309)/$E309","v":25},{"$f":"ROUND(IF(G309>0,(N309-M309)*100/M309,100),2)","v":0.64}]
[818,"FRANKLIN COUNTY              ",1,476,478,2,7425790,7597275,358.75523012552298,4056096,4112775,118.57531380753139,3437610.8843999999,3484500,46889.115600000136,98.094384100418694,1.36]
[821,"GREATER FALL RIVER           ",1,1469,1474,5,22550978,23275199,491.33039348710992,7369160,7434143,44.086160108548171,15181818,15841056,659238,447.24423337856172,4.34]
[823,"GREATER LAWRENCE             ",1,1486,1490,4,25639135,25953903,211.2536912751678,4446591,4441318,-3.5389261744966443,21192544,21512585,320041,214.79261744966442,1.51]
[825,"GREATER NEW BEDFORD          ",1,2149,2143,-6,33725633,34323634,279.04853009799348,9588800,9757574,78.755949603359781,24138401,24566060,427659,199.56089594027065,1.77]
[828,"GREATER LOWELL               ",1,2190,2195,5,34545660,34992565,203.60136674259681,10980189,11408762,195.2496583143508,23685627,23740502,54875,25,0.23]
[829,"SOUTH MIDDLESEX              ",1,696,705,9,11573926,11914131,482.56028368794324,7868569,7607708,-370.01560283687945,3818290.5708499998,4306423,488132.42915000021,692.38642432624147,12.78]
[830,"MINUTEMAN                    ",1,431,414,-17,7154168,7012158,-343.0193236714976,5853666,5582320,-655.42512077294691,2166677,2177027,10350,25,0.48]
[832,"MONTACHUSETT                 ",1,1467,1486,19,22098279,22705864,408.8728129205922,8502935,8787263,191.3378196500673,13800675,13918601,117926,79.358008075370122,0.85]
[851,"NORTHERN BERKSHIRE           ",1,472,475,3,7193835,7377904,387.51368421052632,2748884,2773291,51.38315789473684,4629241,4641116,11875,25,0.26]
[852,"NASHOBA VALLEY               ",1,667,704,37,10305011,10872297,805.80397727272725,6808953,7096274,408.12642045454544,3602853.8408499998,3776023,173169.1591500002,245.97891924715938,4.8099999999999996]
[853,"NORTHEAST METROPOLITAN       ",1,1232,1233,1,20104161,20386925,229.33008921330088,11494298,11543941,40.261962692619626,8609863,8842984,233121,189.06812652068126,2.71]
[855,"OLD COLONY                   ",1,489,479,-10,7268292,7329579,127.94780793319416,4341070,4462136,252.74739039665971,3203704,3215679,11975,25,0.37]
[860,"PATHFINDER                   ",1,566,588,22,8740342,9330426,1003.5442176870748,3869273,4057557,320.21088435374151,5376309.7480999995,5391009.7480999995,14700,25,0.27]
[871,"SHAWSHEEN VALLEY             ",1,1397,1389,-8,20894661,20905729,7.9683225341972639,15270792,14925066,-248.90280777537797,6241110.7275124993,6275835.7275124993,34725,25,0.56000000000000005]
[872,"SOUTHEASTERN                 ",1,1356,1416,60,21227292,22565360,944.96327683615823,7726584,8125468,281.69774011299432,13500708,14439892,939184,663.26553672316379,6.96]
[873,"SOUTH SHORE                  ",1,594,588,-6,8975128,9246000,460.66666666666669,5135646,5130511,-8.7329931972789119,3866773,4115489,248716,422.98639455782313,6.43]
[876,"SOUTHERN WORCESTER           ",1,{"$f":"VLOOKUP(A326,aidcalc,17)","v":1131},{"$f":"VLOOKUP(A326,aidcalc,18)","v":1148},{"$f":"E326-D326","v":17},{"$f":"VLOOKUP(A326,aidcalc,4)","v":17132815},{"$f":"VLOOKUP(A326,aidcalc,6)","v":17642332},{"$f":"(H326-G326)/$E326","v":443.83013937282232},{"$f":"SUMIF(dist1755,A326,pynetmin)","v":7280728},{"$f":"VLOOKUP(A326,aidcalc,7)","v":7421624},{"$f":"(K326-J326)/$E326","v":122.73170731707317},9852087,10220708,368621,321.09843205574913,3.74]
[878,"TRI COUNTY                   ",1,975,954,-21,15102844,15108183,5.5964360587002098,9768353,9985261,227.36687631027254,5553893,5577743,23850,25,0.43]
[879,"UPPER CAPE COD               ",1,703,722,19,10314759,11054587,1024.6925207756233,8119608,8171496,71.86703601108033,2909460,2927510,18050,25,0.62]
[885,"WHITTIER                     ",1,1135,1169,34,17494788,18310028,697.38237810094097,9523686,9735239,180.96920444824636,8010858.9927000003,8574789,563930.00729999971,482.40377014542321,7.04]
[910,"BRISTOL COUNTY               ",1,387,384,-3,5797631,5839373,108.703125,3091923,3090017,-4.963541666666667,2983352,2992952,9600,25,0.32]
[915,"NORFOLK COUNTY               ",1,258,271,13,3937649,4240624,1117.9889298892988,2863375,3047333,678.81180811808122,1119500.7805750002,1193291,73790.219424999785,272.28863256457487,6.59]
[999,"STATE TOTAL, ALL DISTRICTS",1,{"$f":"VLOOKUP(A332,aidcalc,17)","v":940831},{"$f":"VLOOKUP(A332,aidcalc,18)","v":942120},{"$f":"E332-D332","v":1289},9866011313.0677662,10090177272.100754,237.93779882922303,{"$f":"localcont!L1765","v":5817618237},5826426115,{"$f":"(K332-J332)/$E332","v":9.3489980045004888},4400335961.8829308,4557150719.8985062,156814758.01557541,166.44881545405619,{"$f":"(N332-M332)*100/M332","v":3.5636996668880121}]
[null,null,null,null,null,null,null,{"$f":"H332-G332","v":224165959.03298759},null,null,{"$f":"K332-J332","v":8807878}]
[]
[null,"increasing",null,null,null,{"$f":"COUNTIF(F10:F331,\">0\")","v":127},null,null,{"$f":"COUNTIF(I10:I331,\">.5\")","v":237},null,null,{"$f":"COUNTIF(L10:L331,\">.5\")","v":139},null,null,{"$f":"COUNTIF(O10:O331,\">.5\")","v":322},{"$f":"COUNTIF(P10:P331,\">.5\")","v":322}]
[null,"decreasing",null,null,null,{"$f":"COUNTIF(F10:F331,\"<.00\")","v":193},null,null,{"$f":"COUNTIF(I10:I331,\"<-.5\")","v":85},null,null,{"$f":"COUNTIF(L10:L331,\"<-.5\")","v":183},null,null,{"$f":"COUNTIF(O10:O331,\"<-.5\")","v":0},{"$f":"COUNTIF(P10:P331,\"<-.5\")","v":0}]
[null,"same",null,null,null,{"$f":"322-F335-F336","v":2},null,null,{"$f":"322-I335-I336","v":0},null,null,{"$f":"322-L335-L336","v":0},null,null,{"$f":"322-O335-O336","v":0},{"$f":"322-P335-P336","v":0}]

{"sheet":"townwide contributions","index":12,"n_rows":365,"n_cols":37,"rows_kept":365,"cut":false,"hidden":false,"merged":[[365,20,365,21],[6,25,6,26]]}
[1,2,3,4,5,6,7,8,9,10,11,12,13,14,15,16,17,18,19,20,21,22,23,24,25,26,27,28,29,30,31,32,null,"MRGF UGGA $979.8M & Level PILOT"]
[null,"Return to Index","1. Calculation of effort goal",null,null,null,null,null,null,null,null,null,"2. Calculation of annual increments toward goal",null,null,null,null,null,null,null,null,"Cap at 89%",null,null,null,null,null,null,null,null,null,null,null,"2019-02-19"]
[null,null,null,null,null,null,null,null,null,null,null,null,null,null,null,null,null,"increments","thresholds"]
[null,null,null,"property percentage",null,"income percentage",null,null,null,null,null,null,null,"Version",null,null,null,{"$f":"parameters!C18","v":0.01},{"$f":"parameters!C16","v":2.5},null,"effort reduction",null,null,null,null,null,null,null,null,null,null,-0.05]
[null,null,null,{"$f":"parameters!C29","v":3.8078205033868049E-3},null,{"$f":"parameters!C30","v":1.4930037603273993E-2},null,null,null,null,null,null,null,{"$f":"mrgfvers","v":1},null,null,null,{"$f":"parameters!C19","v":0.02},{"$f":"parameters!C17","v":7.5},null,{"$f":"effortred","v":1},null,null,null,null,null,null,null,null,null,null,-0.1]
[null,null,null,null,null,null,null,null,"maximum ","target local",null,null,"required",null,null,"preliminary",null,"percentage","dollar",null,null,null,null,null,null,null,null,null,null,null,null,0.02]
[null,null,null,"local effort","DOR total","local effort","combined",null,"local contribution","contribution","target",null,"local",null,"preliminary","contribution","shortfall","increment","increment",null,"excess effort","required",null,null,"Before","After implementation",null,null,null,null,null,0.01,null,1,2,3,4]
[null,null,"total","from property","income","from income","effort ","FY16","foundation pct=","(lesser of max local","local ",null,"contribution","mrgf ","contribution","percentage of","from target","toward","toward","excess","times effort","contribution","percentage ",null,"below effort","below effort","above effort","distance from",null,"% distance","Points","x% of",null,"mrgf","mrgf ","mrgf ","mrgf "]
["Lea","District","EQV 2014","wealth",2012,"wealth","yield","foundation",{"$f":"maxloc","v":0.82499999999999996},"or effort yield)","share",null,"FY15","FY16","FY16","foundation","local share","target","target","effort","reduction %","FY16","of foundation",null,"shortfall","shortfall","excess","target",null,"from target","from target","the gap"]
[1,"ABINGTON",1759005600,{"$f":"D$5*C10","v":6697977.5892522084},496076000,{"$f":"E10*F$5","v":7406433.3340817494},{"$f":"ROUND(D10+F10,0)","v":14104411},{"$f":"(SUMIF(town1755,A10,found1755)/2)","v":21213859.490000002},{"$f":"ROUND(H10*maxloc,0)","v":17501434},{"$f":"MIN(G10,I10)","v":14104411},{"$f":"IF(H10>0, ROUND((J10*100/H10), 2), 0)","v":66.489999999999995},null,{"$f":"(SUMIF(town1755,A10,pynetmin)/2)","v":14569022},{"$f":"IF($N$5=1,AH10, IF( $N$5=2, AI10, IF($N$5=3, AJ10, IF($N$5=4, AK10, 0))))","v":4.2599999999999999E-2},{"$f":"ROUND(M10*(1+N10),0)","v":15189662},{"$f":"O10*100/H10","v":71.602538930552697},{"$f":"IF(K10>P10,K10-P10,0)","v":0},{"$f":"IF(AND(Q10>$S$4,Q10<=$S$5),$R$4,IF(Q10>$S$5,$R$5,0))","v":0},{"$f":"ROUND(R10*M10,0)","v":0},{"$f":"MAX(O10-J10,0)","v":1085251},{"$f":"MAX(T10*(U$5),0)","v":1085251},{"$f":"MIN(H10*parameters!C$22,ROUND(O10+S10-U10,0))","v":14104411},{"$f":"V10*100/H10","v":66.486774868329249},null,{"$f":"IF(P10<K10, O10-J10, 0)","v":0},{"$f":"MAX(J10-(O10+S10),0)","v":0},{"$f":"IF(P10>K10, V10-J10,0)","v":0},{"$f":"W10-K10","v":-3.2251316707458955E-3},null,{"$f":"(O10-J10)/J10","v":7.6944085080901281E-2},{"$f":"P10-K10","v":5.1125389305527023},{"$f":"IF(AD10<$AF$5, $AF$6*(M10), IF(AND(AD10<$AF$4, AD10>$AF$5), $AF$7*(M10), 0))","v":0},null,4.2599999999999999E-2]
[2,"ACTON",3865006000,14717249.092513021,1355941000,{"$f":"E11*F$5","v":20244250.117820941},34961499,{"$f":"(SUMIF(town1755,A11,found1755)/2)","v":45203615},{"$f":"ROUND(H11*maxloc,0)","v":37292982},{"$f":"MIN(G11,I11)","v":34961499},{"$f":"IF(H11>0, ROUND((J11*100/H11), 2), 0)","v":77.34},null,{"$f":"(SUMIF(town1755,A11,pynetmin)/2)","v":33314597},{"$f":"IF($N$5=1,AH11, IF( $N$5=2, AI11, IF($N$5=3, AJ11, IF($N$5=4, AK11, 0))))","v":4.0399999999999998E-2},{"$f":"ROUND(M11*(1+N11),0)","v":34660507},{"$f":"O11*100/H11","v":76.676405194584547},{"$f":"IF(K11>P11,K11-P11,0)","v":0.66359480541545679},{"$f":"IF(AND(Q11>$S$4,Q11<=$S$5),$R$4,IF(Q11>$S$5,$R$5,0))","v":0},{"$f":"ROUND(R11*M11,0)","v":0},{"$f":"MAX(O11-J11,0)","v":0},0,{"$f":"MIN(H11*parameters!C$22,ROUND(O11+S11-U11,0))","v":34660507},{"$f":"V11*100/H11","v":76.676405194584547},null,{"$f":"IF(P11<K11, O11-J11, 0)","v":-300992},300992,{"$f":"IF(P11>K11, V11-J11,0)","v":0},{"$f":"W11-K11","v":-0.66359480541545679},null,-8.6092418405743984E-3,{"$f":"P11-K11","v":-0.66359480541545679},0,null,4.0399999999999998E-2]
[3,"ACUSHNET",1040797100,3963168.5372455264,280319000,{"$f":"E12*F$5","v":4185173.2109121624},8148342,14209920.220000003,11723184,8148342,57.34,null,7925873,3.1199999999999995E-2,8173160,57.517282809910093,0,0,0,24818,24818,{"$f":"MIN(H12*parameters!C$22,ROUND(O12+S12-U12,0))","v":8148342},57.342630175583061,null,0,0,0,2.630175583057337E-3,null,3.0457729928370703E-3,0.17728280991008916,0,null,3.1199999999999995E-2]
[4,"ADAMS",483765400,1842091.8089491189,163740000,2444644.3571600835,4286736,12746916,10516206,4286736,33.630000000000003,null,3843215,3.0600000000000002E-2,3960817,31.072747321783559,2.5572526782164431,0.01,38432,0,0,{"$f":"MIN(H13*parameters!C$22,ROUND(O13+S13-U13,0))","v":3999249},31.374247700384942,null,-325919,287487,0,-2.255752299615061,null,-7.6029641200204542E-2,-2.5572526782164431,38432.15,null,3.0600000000000002E-2]
[5,"AGAWAM",2944629200,11212619.442631485,738256000,11022189.840842646,22234809,40806967.850000001,33665748,22234809,54.49,null,22228633,4.4699999999999997E-2,23222253,56.907568053968994,0,0,0,987444,987444,{"$f":"MIN(H14*parameters!C$22,ROUND(O14+S14-U14,0))","v":22234809},54.487775425343195,null,0,0,0,-2.2245746568074765E-3,null,4.4409826052474746E-2,2.4175680539689921,0,null,4.4699999999999997E-2]
[6,"ALFORD",281265800,1071009.6801414923,19630000,293076.63815226848,1364086,257395,212351,212351,82.5,null,214237,4.2599999999999999E-2,223363,86.778297946735563,0,0,0,11012,11012,{"$f":"MIN(H15*parameters!C$22,ROUND(O15+S15-U15,0))","v":212351},82.500048563491916,null,0,0,0,4.856349191584286E-5,null,5.1857537755885301E-2,4.2782979467355631,0,null,4.2599999999999999E-2]
[7,"AMESBURY",1849252600,7041621.9662213577,520578000,7772249.1154371686,14813871,24286481.52,20036347,14813871,61,null,15431697,3.39E-2,15954832,65.69429164476189,0,0,0,1140961,1140961,{"$f":"MIN(H16*parameters!C$22,ROUND(O16+S16-U16,0))","v":14813871},60.996365355766855,null,0,0,0,-3.634644233144968E-3,null,7.7019774237267219E-2,4.6942916447618899,0,null,3.39E-2]
[8,"AMHERST",2220991600,8457137.3523298651,656983000,9808780.8947117589,18265918,24862521.260000002,20511580,18265918,73.47,null,17816817,3.7600000000000001E-2,18486729,74.355809721286491,0,0,0,220811,220811,{"$f":"MIN(H17*parameters!C$22,ROUND(O17+S17-U17,0))","v":18265918},73.467681772833998,null,0,0,0,-2.3182271660004972E-3,null,1.2088688890424231E-2,0.88580972128649194,0,null,3.7600000000000001E-2]
[9,"ANDOVER",7120772800,27114624.667799067,2527715000,37738880.000359721,64853505,58011803.781260006,47859738,47859738,82.5,null,49738798,4.0800000000000003E-2,51768141,89.237254533917906,0,0,0,3908403,3908403,{"$f":"MIN(H18*parameters!C$22,ROUND(O18+S18-U18,0))","v":47859738},82.499999793939338,null,0,0,0,-2.0606066186701355E-7,null,8.1663694021893732E-2,6.7372545339179055,0,null,4.0800000000000003E-2]
[10,"ARLINGTON",7913085100,30131607.688824624,2093883000,31261751.92685616,61393360,52966429.382299997,43697304,43697304,82.5,null,39737491,3.8899999999999997E-2,41283279,77.942348543124183,4.5576514568758171,0.01,397375,0,0,{"$f":"MIN(H19*parameters!C$22,ROUND(O19+S19-U19,0))","v":41680654},78.69258790158996,null,-2414025,2016650,0,-3.8074120984100404,null,-5.5244254885839179E-2,-4.5576514568758171,397374.91000000003,null,3.8899999999999997E-2]
[11,"ASHBURNHAM",585465100,2229346.0117974062,179495000,2679867.0995996655,4909213,11111927,9167340,4909213,44.18,null,5066780,2.9700000000000001E-2,5217263,46.951919320564294,0,0,0,308050,308050,{"$f":"MIN(H20*parameters!C$22,ROUND(O20+S20-U20,0))","v":4909213},44.179672886619933,null,0,0,0,-3.2711338006663482E-4,null,6.2749365325969766E-2,2.7719193205642938,0,null,2.9700000000000001E-2]
[12,"ASHBY",288268400,1097674.3239985087,86896000,1297360.5475740968,2395035,4585201,3782791,2395035,52.23,null,2489134,3.0800000000000001E-2,2565799,55.958266605978672,0,0,0,170764,170764,{"$f":"MIN(H21*parameters!C$22,ROUND(O21+S21-U21,0))","v":2395035},52.234024200901992,null,0,0,0,4.0242009019948455E-3,null,7.1299166818021453E-2,3.7282666059786749,0,null,3.0800000000000001E-2]
[13,"ASHFIELD",230930200,879340.75041121547,46582000,695471.0116357092,1574812,1915718.66,1580468,1574812,82.2,null,1519261,4.53E-2,1588084,82.897558663441743,0,0,0,13272,13272,{"$f":"MIN(H22*parameters!C$22,ROUND(O22+S22-U22,0))","v":1574812},82.204763824767468,null,0,0,0,4.7638247674655076E-3,null,8.4276726364797827E-3,0.69755866344173967,0,null,4.53E-2]
[14,"ASHLAND",2267885700,8635701.6677977368,729371000,10889536.456737556,19525238,25250523.492609996,20831682,19525238,77.33,null,19272138,4.0500000000000001E-2,20052660,79.414828789069503,0,0,0,527422,527422,{"$f":"MIN(H23*parameters!C$22,ROUND(O23+S23-U23,0))","v":19525238},77.326072093968264,null,0,0,0,-3.9279060317340964E-3,null,2.7012321181437073E-2,2.0848287890695048,0,null,4.0500000000000001E-2]
[15,"ATHOL",635006300,2417990.0089197922,202867000,3028811.9384633852,5446802,18166157,14987080,5446802,29.98,null,2355991,4.4999999999999998E-2,2462011,13.55273435102427,16.42726564897573,0.02,47120,0,0,{"$f":"MIN(H24*parameters!C$22,ROUND(O24+S24-U24,0))","v":2509131},13.812117774827113,null,-2984791,2937671,0,-16.167882225172889,null,-0.54798962767510184,-16.42726564897573,47119.82,null,4.4999999999999998E-2]
[16,"ATTLEBORO",3884331000,14790835.223740971,1192770000,17808100.952057119,32598936,68949065.250000015,56882979,32598936,47.28,null,32942451,3.73E-2,34171204,49.560068546396998,0,0,0,1572268,1572268,{"$f":"MIN(H25*parameters!C$22,ROUND(O25+S25-U25,0))","v":32598936},47.279735964223235,null,0,0,0,-2.6403577676603618E-4,null,4.8230653908458855E-2,2.280068546396997,0,null,3.73E-2]
[17,"AUBURN",1944459700,7404153.5136693558,486094000,7257401.6987258689,14661555,24103775.370000001,19885615,14661555,60.83,null,15378198,3.9399999999999998E-2,15984099,66.313673914726664,0,0,0,1322544,1322544,{"$f":"MIN(H26*parameters!C$22,ROUND(O26+S26-U26,0))","v":14661555},60.826799017750716,null,0,0,0,-3.2009822492824469E-3,null,9.0204893000776526E-2,5.4836739147266655,0,null,3.9399999999999998E-2]
[18,"AVON",770032900,2932147.0649024011,120680000,1801756.9379631055,4733904,6321441.8500000006,5215190,4733904,74.89,null,5312524,5.0900000000000001E-2,5582931,88.3173670260053,0,0,0,849027,849027,{"$f":"MIN(H27*parameters!C$22,ROUND(O27+S27-U27,0))","v":4733904},74.886459645278549,null,0,0,0,-3.5403547214514219E-3,null,0.17935027833264047,13.4273670260053,0,null,5.0900000000000001E-2]
[19,"AYER",1012014600,3853569.9436067957,218920000,3268483.8321087426,7122054,11257286,9287261,7122054,63.27,null,7131436,5.5800000000000002E-2,7529370,66.884416012882681,0,0,0,407316,407316,{"$f":"MIN(H28*parameters!C$22,ROUND(O28+S28-U28,0))","v":7122054},63.266172681408293,null,0,0,0,-3.8273185917105934E-3,null,5.7190804787495296E-2,3.6144160128826783,0,null,5.5800000000000002E-2]
[20,"BARNSTABLE",13476184100,51314890.123395257,1548890000,23124985.943335056,74439876,58285519.879999995,48085554,48085554,82.5,null,48413872,3.5700000000000003E-2,50142247,86.028651890271178,0,0,0,2056693,2056693,{"$f":"MIN(H29*parameters!C$22,ROUND(O29+S29-U29,0))","v":48085554},82.500000169853521,null,0,0,0,1.6985352147003141E-7,null,4.2771535917003264E-2,3.5286518902711776,0,null,3.5700000000000003E-2]
[21,"BARRE",406699000,1548636.7909069101,125961000,1880602.4665459956,3429239,8763136,7229587,3429239,39.130000000000003,null,3658003,3.6400000000000002E-2,3791154,43.262526109374541,0,0,0,361915,361915,{"$f":"MIN(H30*parameters!C$22,ROUND(O30+S30-U30,0))","v":3429239},39.132554829686541,null,0,0,0,2.5548296865380848E-3,null,0.10553799254003585,4.1325261093745382,0,null,3.6400000000000002E-2]
[22,"BECKET",516080100,1965140.3861699125,39148000,584481.11209297029,2549621,1914605.6400000001,1579550,1579550,82.5,null,1706334,3.8800000000000001E-2,1772540,92.579900683881817,0,0,0,192990,192990,{"$f":"MIN(H31*parameters!C$22,ROUND(O31+S31-U31,0))","v":1579550},82.500018123836711,null,0,0,0,1.8123836710515207E-5,null,0.12218036782627964,10.079900683881817,0,null,3.8800000000000001E-2]
[23,"BEDFORD",3037581300,11566564.354844345,771668000,11521032.257243237,23087597,26323993.229189999,21717294,21717294,82.5,null,22219720,4.0500000000000001E-2,23119619,87.827172719233374,0,0,0,1402325,1402325,{"$f":"MIN(H32*parameters!C$22,ROUND(O32+S32-U32,0))","v":21717294},82.49999842697973,null,0,0,0,-1.5730202704844487E-6,null,6.4571810834259558E-2,5.3271727192333742,0,null,4.0500000000000001E-2]
[24,"BELCHERTOWN",1401621900,5337124.6088159699,438707000,6549912.0068195239,11887037,24385919.619999997,20118384,11887037,48.75,null,11836105,3.7499999999999999E-2,12279959,50.356759930958887,0,0,0,392922,392922,{"$f":"MIN(H33*parameters!C$22,ROUND(O33+S33-U33,0))","v":11887037},48.745494060641875,null,0,0,0,-4.5059393581254881E-3,null,3.3054662823039919E-2,1.6067599309588871,0,null,3.7499999999999999E-2]
[25,"BELLINGHAM",2163943500,8239908.427470604,524050000,7824086.2059957366,16063995,25240251.450000003,20823207,16063995,63.64,null,16312406,3.5099999999999999E-2,16884971,66.896999950450166,0,0,0,820976,820976,{"$f":"MIN(H34*parameters!C$22,ROUND(O34+S34-U34,0))","v":16063995},63.644354066052692,null,0,0,0,4.3540660526915076E-3,null,5.1106589612359817E-2,3.2569999504501652,0,null,3.5099999999999999E-2]
[26,"BELMONT",5760631800,21935451.880502034,2012464000,30046163.195235193,51981615,39688248.943280004,32742805,32742805,82.5,null,31696182,3.8800000000000001E-2,32925994,82.961568919444645,0,0,0,183189,183189,{"$f":"MIN(H35*parameters!C$22,ROUND(O35+S35-U35,0))","v":32742805},82.499999047057969,null,0,0,0,-9.5294203106277564E-7,null,5.5947863965839211E-3,0.46156891944464462,0,null,3.8800000000000001E-2]
[27,"BERKLEY",755363800,2876289.7651561699,214557000,3203344.0780456583,6079634,11194295.32,9235294,6079634,54.31,null,5482503,4.3700000000000003E-2,5722088,51.116107235234168,3.1938927647658346,0.01,54825,0,0,{"$f":"MIN(H36*parameters!C$22,ROUND(O36+S36-U36,0))","v":5776913},51.605865620489986,null,-357546,302721,0,-2.7041343795100161,null,-5.8810448128949866E-2,-3.1938927647658346,54825.03,null,4.3700000000000003E-2]
[28,"BERLIN",533595700,2031836.6469790344,131271000,1959880.9662193805,3991718,3893599.23704,3212219,3212219,82.5,null,3257823,4.2099999999999999E-2,3394977,87.193796621476025,0,0,0,182758,182758,{"$f":"MIN(H37*parameters!C$22,ROUND(O37+S37-U37,0))","v":3212219},82.499990482893139,null,0,0,0,-9.5171068608124187E-6,null,5.6894626424910631E-2,4.6937966214760252,0,null,4.2099999999999999E-2]
[29,"BERNARDSTON",221233900,842418.9804642261,53824000,803594.3439586194,1646013,2940952,2426285,1646013,55.97,null,1659745,3.8100000000000002E-2,1722981,58.585825270184621,0,0,0,76968,76968,{"$f":"MIN(H38*parameters!C$22,ROUND(O38+S38-U38,0))","v":1646013},55.968713532216782,null,0,0,0,-1.2864677832169491E-3,null,4.6760262525265599E-2,2.6158252701846223,0,null,3.8100000000000002E-2]
[30,"BEVERLY",5684015700,21643711.524032503,1565227000,23368897.967659742,45012609,46657724.692879997,38492623,38492623,82.5,null,37876412,3.5999999999999997E-2,39239963,84.101750049521911,0,0,0,747340,747340,{"$f":"MIN(H39*parameters!C$22,ROUND(O39+S39-U39,0))","v":38492623},82.500000275139868,null,0,0,0,2.7513986822214065E-7,null,1.941514871563832E-2,1.601750049521911,0,null,3.5999999999999997E-2]
[31,"BILLERICA",5566356800,21195687.552206565,1320293000,19712024.137339432,40907712,61175464.584149994,50469758,40907712,66.87,null,41404499,5.050000000000001E-2,43495426,71.099461680703399,0,0,0,2587714,2587714,{"$f":"MIN(H40*parameters!C$22,ROUND(O40+S40-U40,0))","v":40907712},66.869475006159277,null,0,0,0,-5.2499384072746125E-4,null,6.3257363305970274E-2,4.2294616807033947,0,null,5.050000000000001E-2]
[32,"BLACKSTONE",843990300,3213763.5689995806,236886000,3536716.887689163,6750480,13949851.82,11508628,6750480,48.39,null,6987662,3.8199999999999998E-2,7254591,52.004788965564799,0,0,0,504111,504111,{"$f":"MIN(H41*parameters!C$22,ROUND(O41+S41-U41,0))","v":6750480},48.391051654912843,null,0,0,0,1.0516549128425368E-3,null,7.4677800689728735E-2,3.6147889655647987,0,null,3.8199999999999998E-2]
[33,"BLANDFORD",172518200,656918.33916738548,34811000,519729.539007571,1176648,1411095.72,1164154,1164154,82.5,null,1171182,2.9300000000000003E-2,1205498,85.429923917563869,0,0,0,41344,41344,{"$f":"MIN(H42*parameters!C$22,ROUND(O42+S42-U42,0))","v":1164154},82.500002196874362,null,0,0,0,2.1968743624256604E-6,null,3.5514201729324471E-2,2.9299239175638689,0,null,2.9300000000000003E-2]
[34,"BOLTON",933040100,3552849.2232620749,315977000,4717548.4917697068,8270398,9710972.2546900008,8011552,8011552,82.5,null,8234259,4.7E-2,8621269,88.77863898577489,0,0,0,609717,609717,{"$f":"MIN(H43*parameters!C$22,ROUND(O43+S43-U43,0))","v":8011552},82.499998866032698,null,0,0,0,-1.1339673022803254E-6,null,7.6104729770211821E-2,6.2786389857748901,0,null,4.7E-2]
[35,"BOSTON",110810609300,421946910.08532459,25282673000,377471258.60128009,799418169,805600562.75407994,664620464,664620464,82.5,null,627463814,4.7699999999999992E-2,657393838,81.602951685211025,0.89704831478897518,0,0,0,0,{"$f":"MIN(H44*parameters!C$22,ROUND(O44+S44-U44,0))","v":657393838},81.602951685211025,null,-7226626,7226626,0,-0.89704831478897518,null,-1.087331250155427E-2,-0.89704831478897518,0,null,4.7699999999999992E-2]
[36,"BOURNE",4220554100,16071112.437633242,616131000,9198858.998542808,25269971,22704003.859999999,18730803,18730803,82.5,null,19400943,3.9600000000000003E-2,20169220,88.835520485152003,0,0,0,1438417,1438417,{"$f":"MIN(H45*parameters!C$22,ROUND(O45+S45-U45,0))","v":18730803},82.499999187368005,null,0,0,0,-8.1263199547265685E-7,null,7.6794198305326258E-2,6.3355204851520028,0,null,3.9600000000000003E-2]
[37,"BOXBOROUGH",998009700,3800241.798238914,276703000,4131186.1949387239,7931428,7955282,6563108,6563108,82.5,null,7371784,3.4500000000000003E-2,7626111,95.862233419255276,{"$f":"IF(K46>P46,K46-P46,0)","v":0},0,0,1063003,1063003,{"$f":"MIN(H46*parameters!C$22,ROUND(O46+S46-U46,0))","v":6563108},82.500004399592626,null,0,0,0,4.3995926262141438E-6,null,0.16196640372213897,13.362233419255276,0,null,3.4500000000000003E-2]
[38,"BOXFORD",1613407100,6143564.6356898453,720555000,10757913.245227093,16901478,14030470.843759999,11575138,11575138,82.5,null,12127282,4.3200000000000002E-2,12651181,90.169326039593088,0,0,0,1076043,1076043,{"$f":"MIN(H47*parameters!C$22,ROUND(O47+S47-U47,0))","v":11575138},82.49999682047735,null,0,0,0,-3.1795226504982566E-6,null,9.2961569875020064E-2,7.6693260395930878,0,null,4.3200000000000002E-2]
[39,"BOYLSTON",625053300,2380090.7714495836,216600000,3233846.1448691469,5613937,5693286.2999999998,4696961,4696961,82.5,null,4843480,6.1200000000000004E-2,5139901,90.280037383681204,0,0,0,442940,442940,{"$f":"MIN(H48*parameters!C$22,ROUND(O48+S48-U48,0))","v":4696961},82.499996531001784,null,0,0,0,-3.4689982157942723E-6,null,9.4303529452341633E-2,7.7800373836812042,0,null,6.1200000000000004E-2]
[40,"BRAINTREE",5574551500,21226891.498885669,1350544000,20163672.704876073,41390564,57989532.783950001,47841365,41390564,71.38,null,40511743,4.8799999999999996E-2,42488716,73.269629811123039,0,0,0,1098152,1098152,{"$f":"MIN(H49*parameters!C$22,ROUND(O49+S49-U49,0))","v":41390564},71.375922537965053,null,0,0,0,-4.077462034942414E-3,null,2.6531457749645548E-2,1.8896298111230436,0,null,4.8799999999999996E-2]
[41,"BREWSTER",3545641200,13501165.259012995,282238000,4213823.953072845,17714989,11048644.93,9115132,9115132,82.5,null,9790254,3.4799999999999998E-2,10130955,91.694095196160859,0,0,0,1015823,1015823,{"$f":"MIN(H50*parameters!C$22,ROUND(O50+S50-U50,0))","v":9115132},82.499999391328075,null,0,0,0,-6.086719253062256E-7,null,0.11144358633533777,9.194095196160859,0,null,3.4799999999999998E-2]
[42,"BRIDGEWATER",2412842700,9187671.904507177,724184000,10812094.351689374,19999766,33256548.600000001,27436653,19999766,60.14,null,20091762,5.04E-2,21104387,63.45934226018872,0,0,0,1104621,1104621,{"$f":"MIN(H51*parameters!C$22,ROUND(O51+S51-U51,0))","v":19999766},60.137828012615834,null,0,0,0,-2.1719873841661297E-3,null,5.5231696210845664E-2,3.3193422601887193,0,null,5.04E-2]
[43,"BRIMFIELD",395322100,1505315.5978219288,115390000,1722777.039041786,3228093,5753925.4500000002,4746988,3228093,56.1,null,3295884,3.7999999999999999E-2,3421128,59.457287546191615,0,0,0,193035,193035,{"$f":"MIN(H52*parameters!C$22,ROUND(O52+S52-U52,0))","v":3228093},56.102447417006417,null,0,0,0,2.4474170064152645E-3,null,5.9798463055432419E-2,3.3572875461916141,0,null,3.7999999999999999E-2]
[44,"BROCKTON",5739735500,21855882.520917114,1704537000,25448801.506171841,47304684,223279884.44,184205905,47304684,21.19,null,40187958,4.5999999999999999E-2,42036604,18.826865709569159,2.3631342904308426,0,0,0,0,{"$f":"MIN(H53*parameters!C$22,ROUND(O53+S53-U53,0))","v":42036604},18.826865709569159,null,-5268080,5268080,0,-2.3631342904308426,null,-0.11136487033715309,-2.3631342904308426,803759.16,null,4.5999999999999999E-2]
[45,"BROOKFIELD",255456800,972733.64076958236,81687000,1219589.9816986427,2192324,5276118.43,4352798,2192324,41.55,null,2292299,3.2199999999999999E-2,2366111,44.845676445515274,0,0,0,173787,173787,{"$f":"MIN(H54*parameters!C$22,ROUND(O54+S54-U54,0))","v":2192324},41.55183453681498,null,0,0,0,1.8345368149823571E-3,null,7.9270673495341018E-2,3.2956764455152765,0,null,3.2199999999999999E-2]
[46,"BROOKLINE",17051417000,64928735.264398322,4126032000,61601812.9123118,126530548,71400245.83788,58905203,58905203,82.5,null,57398755,3.7100000000000001E-2,59528249,83.372610698237196,0,0,0,623046,623046,{"$f":"MIN(H55*parameters!C$22,ROUND(O55+S55-U55,0))","v":58905203},82.500000257350649,null,0,0,0,2.573506492353772E-7,null,1.0577096220176E-2,0.87261069823719595,0,null,3.7100000000000001E-2]
[47,"BUCKLAND",213003400,811078.71381110093,37235454,555926.72839497903,1367005,1866842,1540145,1367005,73.23,null,1348433,3.7900000000000003E-2,1399539,74.968261909684912,0,0,0,32534,32534,{"$f":"MIN(H56*parameters!C$22,ROUND(O56+S56-U56,0))","v":1367005},73.225532744602916,null,0,0,0,-4.4672553970883655E-3,null,2.3799474032648014E-2,1.7382619096849083,0,null,3.7900000000000003E-2]
[48,"BURLINGTON",5185943200,19747140.846359376,976577000,14580331.332492506,34327472,35894608.273680001,29613052,29613052,82.5,null,32112063,4.6399999999999997E-2,33602063,93.613120789060048,0,0,0,3989011,3989011,{"$f":"MIN(H57*parameters!C$22,ROUND(O57+S57-U57,0))","v":29613052},82.50000048534865,null,0,0,0,4.8534865015881223E-7,null,0.13470448773736662,11.113120789060048,0,null,4.6399999999999997E-2]
[49,"CAMBRIDGE",29733817500,113221039.92046139,5856595000,87439183.577146456,200660223,79533780.825280011,65615369,65615369,82.5,null,67728118,5.2699999999999997E-2,71297390,89.644160330597472,0,0,0,5682021,5682021,{"$f":"MIN(H58*parameters!C$22,ROUND(O58+S58-U58,0))","v":65615369},82.499999772604795,null,0,0,0,-2.2739520488812559E-7,null,8.6595885790111155E-2,7.1441603305974724,0,null,5.2699999999999997E-2]
[50,"CANTON",4083657900,15549836.280437503,1154974000,17243805.250803776,32793642,32791139.389359999,27052690,27052690,82.5,null,26711422,4.5499999999999999E-2,27926792,85.165665237791728,0,0,0,874102,874102,{"$f":"MIN(H59*parameters!C$22,ROUND(O59+S59-U59,0))","v":27052690},82.500000011521408,null,0,0,0,1.1521407827785879E-8,null,3.2311093647249128E-2,2.6656652377917283,0,null,4.5499999999999999E-2]
[51,"CARLISLE",1241047500,4725686.1161769358,537906000,8030956.807026701,12756643,8999985.6237000003,7424988,7424988,82.5,null,7928990,4.0599999999999997E-2,8250907,91.676890886054039,0,0,0,825919,825919,{"$f":"MIN(H60*parameters!C$22,ROUND(O60+S60-U60,0))","v":7424988},82.499998449414193,null,0,0,0,-1.55058580730838E-6,null,0.11123506192871961,9.1768908860540392,0,null,4.0599999999999997E-2]
[52,"CARVER",1134092700,4318421.4358013002,313985000,4687807.8568639848,9006229,17651142.462200001,14562193,9006229,51.02,null,9171160,5.4100000000000002E-2,9667320,54.768806159162828,0,0,0,661091,661091,{"$f":"MIN(H61*parameters!C$22,ROUND(O61+S61-U61,0))","v":9006229},51.023490515058043,null,0,0,0,3.4905150580399891E-3,null,7.3403752003196904E-2,3.7488061591628252,0,null,5.4100000000000002E-2]
[53,"CHARLEMONT",130454200,496746.17751292291,26129000,390106.95253594615,886853,1597153.8,1317652,886853,55.53,null,909624,4.4699999999999997E-2,950284,59.498590555274014,0,0,0,63431,63431,{"$f":"MIN(H62*parameters!C$22,ROUND(O62+S62-U62,0))","v":886853},55.527088249109134,null,0,0,0,-2.9117508908669265E-3,null,7.1523691073943477E-2,3.9685905552740124,0,null,4.4699999999999997E-2]
[54,"CHARLTON",1413260000,5381440.404616436,430889000,6433188.9728371277,11814629,23021295.920000002,18992569,11814629,51.32,null,10465355,0.03,10779316,46.823237221130334,4.496762778869666,0.01,104654,0,0,{"$f":"MIN(H63*parameters!C$22,ROUND(O63+S63-U63,0))","v":10883970},47.277833697209168,null,-1035313,930659,0,-4.0421663027908323,null,-8.7629751217748769E-2,-4.496762778869666,104653.55,null,0.03]
[55,"CHATHAM",6196588000,23595494.837440636,291647000,4354300.67688205,27949796,5180773,4274138,4274138,82.5,null,4378801,3.4099999999999998E-2,4528118,87.402362543195778,0,0,0,253980,253980,{"$f":"MIN(H64*parameters!C$22,ROUND(O64+S64-U64,0))","v":4274138},82.500005308088191,null,0,0,0,5.3080881912137556E-6,null,5.9422508117426248E-2,4.9023625431957782,0,null,3.4099999999999998E-2]
[56,"CHELMSFORD",4733578400,18024616.885908905,1493965000,22304953.627975233,40329571,50099037.625249989,41331706,40329571,80.5,null,41719530,3.8100000000000002E-2,43309044,86.446858169132128,0,0,0,2979473,2979473,{"$f":"MIN(H65*parameters!C$22,ROUND(O65+S65-U65,0))","v":40329571},80.499692033353227,null,0,0,0,-3.0796664677268382E-4,null,7.3878122829523774E-2,5.9468581691321276,0,null,3.8100000000000002E-2]
[57,"CHELSEA",2234376700,8508105.4105497487,555072000,8287245.8325245017,16795351,87760498.850099981,72402412,16795351,19.14,null,13442602,7.1400000000000005E-2,14402404,16.411032513158499,2.7289674868415013,0.01,134426,0,0,{"$f":"MIN(H66*parameters!C$22,ROUND(O66+S66-U66,0))","v":14536830},16.56420620948127,null,-2392947,2258521,0,-2.5757937905187305,null,-0.14247674847640873,-2.7289674868415013,268852.03999999998,null,7.1400000000000005E-2]
[58,"CHESHIRE",297594300,1133185.6772310438,82973000,1238790.0100564531,2371976,4709818.96,3885601,2371976,50.36,null,2109288,3.4599999999999999E-2,2182269,46.334456133744894,4.0255438662551057,0.01,21093,0,0,{"$f":"MIN(H67*parameters!C$22,ROUND(O67+S67-U67,0))","v":2203362},46.782307742886154,null,-189707,168614,0,-3.5776922571138456,null,-7.997846521212694E-2,-4.0255438662551057,21092.880000000001,null,3.4599999999999999E-2]
[59,"CHESTER",122891100,467947.25026375818,28836000,430522.56432800886,898470,1971672.8599999999,1626630,898470,45.57,null,921810,4.2599999999999999E-2,961079,48.744343927318653,0,0,0,62609,62609,{"$f":"MIN(H68*parameters!C$22,ROUND(O68+S68-U68,0))","v":898470},45.568918567961624,null,0,0,0,-1.0814320383758513E-3,null,6.9684018386813137E-2,3.1743439273186524,0,null,4.2599999999999999E-2]
[60,"CHESTERFIELD",151017800,575048.67521636782,22931000,342360.69228067592,917409,1680997.62,1386823,917409,54.58,null,951082,3.8699999999999998E-2,987889,58.768018957694892,0,0,0,70480,70480,{"$f":"MIN(H69*parameters!C$22,ROUND(O69+S69-U69,0))","v":917409},54.575270606272476,null,0,0,0,-4.7293937275227904E-3,null,7.6825058398162657E-2,4.1880189576948936,0,null,3.8699999999999998E-2]
[61,"CHICOPEE",3824974200,14564815.183685541,1021325000,15248420.655163812,29813236,89726607.379999995,74024451,29813236,33.229999999999997,null,29088958,5.2499999999999998E-2,30616128,34.121570952012071,0,0,0,802892,802892,{"$f":"MIN(H70*parameters!C$22,ROUND(O70+S70-U70,0))","v":29813236},33.226750537595109,null,0,0,0,-3.2494624048879928E-3,null,2.6930722984918512E-2,0.89157095201207426,0,null,5.2499999999999998E-2]
[62,"CHILMARK",3238385900,12331192.227898732,52411000,782498.20082519331,13113690,1090783,899896,899896,82.5,null,941536,4.1099999999999998E-2,980233,89.865078571998282,0,0,0,80337,80337,{"$f":"MIN(H71*parameters!C$22,ROUND(O71+S71-U71,0))","v":899896},82.50000229193158,null,0,0,0,2.2919315796343653E-6,null,8.9273649399486163E-2,7.3650785719982821,0,null,4.1099999999999998E-2]
[63,"CLARKSBURG",124331300,473431.27335273585,32380000,483434.61759401188,956866,2548883.85,2102829,956866,37.54,null,803953,3.8100000000000002E-2,834584,32.74311616827891,4.7968838317210896,0.01,8040,0,0,{"$f":"MIN(H72*parameters!C$22,ROUND(O72+S72-U72,0))","v":842624},33.058548352448462,null,-122282,114242,0,-4.4814516475515376,null,-0.12779427840470869,-4.7968838317210896,16079.06,null,3.8100000000000002E-2]
[64,"CLINTON",1076951500,4100838.0028531747,358114000,5346655.4862588625,9447493,21129205.020000003,17431594,9447493,44.71,null,9674943,4.9399999999999993E-2,10152885,48.051429243976351,0,0,0,705392,705392,{"$f":"MIN(H73*parameters!C$22,ROUND(O73+S73-U73,0))","v":9447493},44.712960052483787,null,0,0,0,2.9600524837860576E-3,null,7.4664463895342398E-2,3.34142924397635,0,null,4.9399999999999993E-2]
[65,"COHASSET",2622371300,9985519.2036331091,796681000,11894477.287813928,21879996,14142007.289400002,11667156,11667156,82.5,null,11892049,4.53E-2,12430759,87.899537495765188,0,0,0,763603,{"$f":"MAX(T74*(U$5),0)","v":763603},{"$f":"MIN(H74*parameters!C$22,ROUND(O74+S74-U74,0))","v":11667156},82.499999902736562,null,0,{"$f":"MAX(J74-(O74+S74),0)","v":0},0,-9.7263438192385365E-8,null,{"$f":"(O74-J74)/J74","v":6.5448940598720029E-2},5.3995374957651876,{"$f":"IF(AD74<$AF$5, $AF$6*(M74), IF(AND(AD74<$AF$4, AD74>$AF$5), $AF$7*(M74), 0))","v":0},null,4.53E-2]
[66,"COLRAIN",169419700,{"$f":"D$5*C75","v":645119.80733764148},40330000,602128.41654004017,{"$f":"ROUND(D75+F75,0)","v":1247248},{"$f":"(SUMIF(town1755,A75,found1755)/2)","v":2057382.96},{"$f":"ROUND(H75*maxloc,0)","v":1697341},{"$f":"MIN(G75,I75)","v":1247248},{"$f":"IF(H75>0, ROUND((J75*100/H75), 2), 0)","v":60.62},null,{"$f":"(SUMIF(town1755,A75,pynetmin)/2)","v":1261096},{"$f":"IF($N$5=1,AH75, IF( $N$5=2, AI75, IF($N$5=3, AJ75, IF($N$5=4, AK75, 0))))","v":4.8000000000000001E-2},{"$f":"ROUND(M75*(1+N75),0)","v":1321629},{"$f":"O75*100/H75","v":64.238356479826194},{"$f":"IF(K75>P75,K75-P75,0)","v":0},{"$f":"IF(AND(Q75>$S$4,Q75<=$S$5),$R$4,IF(Q75>$S$5,$R$5,0))","v":0},{"$f":"ROUND(R75*M75,0)","v":0},{"$f":"MAX(O75-J75,0)","v":74381},74381,{"$f":"MIN(H75*parameters!C$22,ROUND(O75+S75-U75,0))","v":1247248},{"$f":"V75*100/H75","v":60.623035392496888},null,{"$f":"IF(P75<K75, O75-J75, 0)","v":0},0,{"$f":"IF(P75>K75, V75-J75,0)","v":0},{"$f":"W75-K75","v":3.0353924968906654E-3},null,5.9636094826369737E-2,{"$f":"P75-K75","v":3.6183564798261969},0,null,4.8000000000000001E-2]
[67,"CONCORD",5540602300,21097619.039052088,2298602000,{"$f":"E76*F$5","v":34318214.294960804},55415833,28791954.786499996,23753363,23753363,82.5,null,24281581,4.5699999999999991E-2,25391249,88.188694335910384,0,0,0,1637886,1637886,{"$f":"MIN(H76*parameters!C$22,ROUND(O76+S76-U76,0))","v":23753363},82.500001045908505,null,0,0,0,1.0459085046932159E-6,null,6.8953857186453971E-2,5.6886943359103839,0,null,4.5699999999999991E-2]
[68,"CONWAY",251195300,956506.61369439948,65463000,977365.05162312544,1933872,2301705.9500000002,1898907,1898907,82.5,null,1906379,4.1200000000000001E-2,1984922,86.236993044224434,0,0,0,86015,86015,{"$f":"MIN(H77*parameters!C$22,ROUND(O77+S77-U77,0))","v":1898907},82.499982241432704,null,0,0,0,-1.7758567295800276E-5,null,4.5297110390345605E-2,3.7369930442244339,0,null,4.1200000000000001E-2]
[69,"CUMMINGTON",129127900,491695.86517928098,23608000,352468.32773809246,844164,874411.64,721390,721390,82.5,null,801158,3.15E-2,826394,94.508577218848544,0,0,0,105004,105004,{"$f":"MIN(H78*parameters!C$22,ROUND(O78+S78-U78,0))","v":721390},82.500045401957365,null,0,0,0,4.5401957365243106E-5,null,0.14555788131246622,12.008577218848544,0,null,3.15E-2]
[70,"DALTON",597077300,2273563.1850468344,185946000,2776180.7721783859,5049744,9857150.6199999992,8132149,5049744,51.23,null,5238246,2.9700000000000001E-2,5393822,54.71989023943717,0,0,0,344078,344078,{"$f":"MIN(H79*parameters!C$22,ROUND(O79+S79-U79,0))","v":5049744},51.229246611633904,null,0,0,0,-7.5338836609262216E-4,null,6.8137711535475862E-2,3.4898902394371731,0,null,2.9700000000000001E-2]
[71,"DANVERS",4163499300,15853858.00037661,981773000,14657907.807879118,30511766,36543728.840000004,30148576,30148576,82.5,null,30157586,4.2799999999999991E-2,31448331,86.056710681306583,0,0,0,1299755,1299755,{"$f":"MIN(H80*parameters!C$22,ROUND(O80+S80-U80,0))","v":30148576},82.499999198220834,null,0,0,0,-8.0177916572665708E-7,null,4.3111654759415502E-2,3.5567106813065834,0,null,4.2799999999999991E-2]
[72,"DARTMOUTH",4985767900,18984909.234747771,1011855000,15107033.199060807,34091942,40275942.260000005,33227652,33227652,82.5,null,33035238,3.9199999999999999E-2,34330219,85.237531572526379,0,0,0,1102567,1102567,{"$f":"MIN(H81*parameters!C$22,ROUND(O81+S81-U81,0))","v":33227652},82.499999094993228,null,0,0,0,-9.0500677174532029E-7,null,3.318221221288823E-2,2.7375315725263789,0,null,3.9199999999999999E-2]
[73,"DEDHAM",4205403500,16013421.672314631,1118682000,16701964.326105757,32715386,28675397.733199999,23657203,23657203,82.5,null,25639543,5.0200000000000002E-2,26926648,93.901567645301327,0,0,0,3269445,3269445,{"$f":"MIN(H82*parameters!C$22,ROUND(O82+S82-U82,0))","v":23657203},82.499999547033312,null,0,0,0,-4.5296668815808516E-7,null,0.13820082619234403,11.401567645301327,0,null,5.0200000000000002E-2]
[74,"DEERFIELD",680644100,2591770.5594892586,178567000,2666012.0247038272,5257783,6113714.8499999996,5043815,5043815,82.5,null,5242305,3.0099999999999998E-2,5400098,88.32760657785667,0,0,0,356283,356283,{"$f":"MIN(H83*parameters!C$22,ROUND(O83+S83-U83,0))","v":5043815},82.500004068721012,null,0,0,0,4.0687210116630013E-6,null,7.0637602687648141E-2,5.8276065778566704,0,null,3.0099999999999998E-2]
[75,"DENNIS",6250958500,23802527.942120027,401886000,6000173.0922293719,29802701,13899532,11467114,11467114,82.5,null,12093633,3.8699999999999998E-2,12561657,90.37467592434048,0,0,0,1094543,1094543,{"$f":"MIN(H84*parameters!C$22,ROUND(O84+S84-U84,0))","v":11467114},82.500000719448678,null,0,0,0,7.1944867841011728E-7,null,9.5450607711757285E-2,7.8746759243404796,0,null,3.8699999999999998E-2]
[76,"DIGHTON",838835300,3194134.2543046214,210166000,3137786.2829296822,6331921,12654219,10439731,6331921,50.04,null,6606281,3.2300000000000002E-2,6819664,53.89241327339127,0,0,0,487743,487743,{"$f":"MIN(H85*parameters!C$22,ROUND(O85+S85-U85,0))","v":6331921},50.038022891811814,null,0,0,0,-1.9771081881856389E-3,null,7.7029230149902372E-2,3.8524132733912708,0,null,3.2300000000000002E-2]
[77,"DOUGLAS",902244800,3435586.248514127,271156000,4048369.2763533629,7483956,14871466.699999997,12268960,7483956,50.32,null,6739185,3.5200000000000002E-2,6976404,46.911337938173922,3.4086620618260781,0.01,67392,0,0,{"$f":"MIN(H86*parameters!C$22,ROUND(O86+S86-U86,0))","v":7043796},47.364501041447383,null,-507552,440160,0,-2.9554989585526172,null,-6.7818677715368716E-2,-3.4086620618260781,67391.850000000006,null,3.5200000000000002E-2]
[78,"DOVER",2310390900,8797553.8398582935,1249842000,18660188.058151174,27457742,10614741.793620002,8757162,8757162,82.5,null,9538319,4.590000000000001E-2,9976128,93.983708638076891,0,0,0,1218966,1218966,{"$f":"MIN(H87*parameters!C$22,ROUND(O87+S87-U87,0))","v":8757162},82.500000190899598,null,0,0,0,1.9089959835127956E-7,null,0.13919646570430008,11.483708638076891,0,null,4.590000000000001E-2]
[79,"DRACUT",2920269000,11119860.173604881,896546000,13385465.493064886,24505326,44865950.119999997,37014409,24505326,54.62,null,23013376,4.4500000000000005E-2,24037471,53.576199625124538,1.0438003748754596,0,0,0,0,{"$f":"MIN(H88*parameters!C$22,ROUND(O88+S88-U88,0))","v":24037471},53.576199625124538,null,-467855,467855,0,-1.0438003748754596,null,-1.9091972088026904E-2,-1.0438003748754596,0,null,4.4500000000000005E-2]
[80,"DUDLEY",885262100,3370919.1752512599,289388000,4320573.7219362548,7691493,19396737.960000001,16002309,7691493,39.65,null,5443918,3.4099999999999998E-2,5629556,29.023210044953352,10.626789955046647,0.02,108878,0,0,{"$f":"MIN(H89*parameters!C$22,ROUND(O89+S89-U89,0))","v":5738434},29.584531233209482,null,-2061937,1953059,0,-10.065468766790516,null,-0.26808020237423347,-10.626789955046647,108878.36,null,3.4099999999999998E-2]
[81,"DUNSTABLE",467427400,1779879.6375647853,163678000,2443718.6948286807,4223598,5562618.96,4589161,4223598,75.930000000000007,null,4263732,3.3300000000000003E-2,4405714,79.202153368419829,0,0,0,182116,182116,{"$f":"MIN(H90*parameters!C$22,ROUND(O90+S90-U90,0))","v":4223598},75.928227879193074,null,0,0,0,-1.7721208069332306E-3,null,4.3118686958370567E-2,3.2721533684198221,0,null,3.3300000000000003E-2]
[82,"DUXBURY",3475390900,13233664.72630392,1185774000,17703650.408984616,30937315,29322453.03464001,24191024,24191024,82.5,null,24862384,2.7300000000000001E-2,25541127,87.104332539392431,0,0,0,1350103,1350103,{"$f":"MIN(H91*parameters!C$22,ROUND(O91+S91-U91,0))","v":24191024},82.50000084038669,null,0,0,0,8.4038669001529342E-7,null,5.5810080631559872E-2,4.6043325393924306,0,null,2.7300000000000001E-2]
[83,"EAST BRIDGEWATER",1506014000,5734630.9875875758,403260000,6020686.9638962708,11755318,22262614.130000003,18366657,11755318,52.8,null,11572695,4.2099999999999999E-2,12059905,54.17110914997474,0,0,0,304587,304587,{"$f":"MIN(H92*parameters!C$22,ROUND(O92+S92-U92,0))","v":11755318},52.802954456993042,null,0,0,0,2.9544569930450848E-3,null,2.591057085822774E-2,1.3711091499747425,0,null,4.2099999999999999E-2]
[84,"EAST BROOKFIELD",207396100,789727.12190246012,60947000,909941.00180674007,1699668,3670217.66,3027930,1699668,46.31,null,1354343,4.1700000000000001E-2,1410819,38.43965482962664,7.870345170373362,0.02,27087,0,0,{"$f":"MIN(H93*parameters!C$22,ROUND(O93+S93-U93,0))","v":1437906},39.177676454207891,null,-288849,261762,0,-7.1323235457921115,null,-0.16994436560551826,-7.870345170373362,27086.86,null,4.1700000000000001E-2]
[85,"EASTHAM",2823221800,10750321.855648601,152870000,2282354.8484124956,13032677,5032546.57,4151851,4151851,82.5,null,4426061,3.0600000000000002E-2,4561498,90.639956065026539,0,0,0,409647,409647,{"$f":"MIN(H94*parameters!C$22,ROUND(O94+S94-U94,0))","v":4151851},82.500001584684782,null,0,0,0,1.5846847816192167E-6,null,9.866611301802497E-2,8.1399560650265386,0,null,3.0600000000000002E-2]
[86,"EASTHAMPTON",1482339500,5644482.7410801444,408288000,6095755.1929655327,11740238,18095294,14928618,11740238,64.88,null,11344349,4.4199999999999996E-2,11845769,65.463258016144977,0,0,0,105531,105531,{"$f":"MIN(H95*parameters!C$22,ROUND(O95+S95-U95,0))","v":11740238},64.880062186334186,null,0,0,0,6.2186334190528214E-5,null,8.9888296983417198E-3,0.58325801614498118,0,null,4.4199999999999996E-2]
[87,"EAST LONGMEADOW",1829457200,6966244.6362286145,604394000,9023625.1471931823,15989870,25486357.480000004,21026245,15989870,62.74,null,15784772,4.0500000000000001E-2,16424055,64.44253563063495,0,0,0,434185,434185,{"$f":"MIN(H96*parameters!C$22,ROUND(O96+S96-U96,0))","v":15989870},62.738937930019169,null,0,0,0,-1.0620699808328027E-3,null,2.7153754220640942E-2,1.7025356306349479,0,null,4.0500000000000001E-2]
[88,"EASTON",3008417200,11455512.696901523,1024285000,15292613.566469502,26748126,35219081.100000001,29055742,26748126,75.95,null,26210908,3.9600000000000003E-2,27248860,77.369593836450207,0,0,0,500734,500734,{"$f":"MIN(H97*parameters!C$22,ROUND(O97+S97-U97,0))","v":26748126},75.947824771612218,null,0,0,0,-2.1752283877845002E-3,null,1.8720339510887606E-2,1.4195938364502041,0,null,3.9600000000000003E-2]
[89,"EDGARTOWN",6954386400,26481055.122394349,192031000,2867030.0509943082,29348085,6080113.6799999997,5016094,5016094,82.5,null,5061960,4.5600000000000002E-2,5292785,87.050757248341455,0,0,0,276691,276691,{"$f":"MIN(H98*parameters!C$22,ROUND(O98+S98-U98,0))","v":5016094},82.50000351967104,null,0,0,0,3.5196710399532094E-6,null,5.5160648903310024E-2,4.5507572483414549,0,null,4.5600000000000002E-2]
[90,"EGREMONT",409767000,1560319.1842113009,31536000,470833.66585684865,2031153,1009781,833069,833069,82.5,null,741589,3.15E-2,764949,75.75395060909247,6.7460493909075296,0.01,7416,0,0,{"$f":"MIN(H99*parameters!C$22,ROUND(O99+S99-U99,0))","v":772365},76.488367279637856,null,-68120,60704,0,-6.0116327203621438,null,-8.1769937424150937E-2,-6.7460493909075296,7415.89,null,3.15E-2]
[91,"ERVING",659098000,2509726.8781412365,31044000,463488.08735603787,2973215,2904979.36,2396608,2396608,82.5,null,2372516,3.95E-2,2466230,84.896644498018048,0,0,0,69622,69622,{"$f":"MIN(H100*parameters!C$22,ROUND(O100+S100-U100,0))","v":2396608},82.500000963862277,null,0,0,0,9.6386227710354433E-7,null,2.9050224317034742E-2,2.3966444980180484,0,null,3.95E-2]
[92,"ESSEX",766992800,2920570.9097900549,185563000,2770462.5677763321,5691033,5441341,4489106,4489106,82.5,null,4545715,5.21E-2,4782547,87.892800690123991,0,0,0,293441,293441,{"$f":"MIN(H101*parameters!C$22,ROUND(O101+S101-U101,0))","v":4489106},82.499994027207634,null,0,0,0,-5.9727923655827908E-6,null,6.536735822232756E-2,5.3928006901239911,0,null,5.21E-2]
[93,"EVERETT",3794616400,14449218.130407825,771145000,11513223.847576724,25962442,89667949.965919986,73976059,25962442,28.95,null,24693137,3.9399999999999998E-2,25666047,28.623434582540217,0.32656541745978274,0,0,0,0,{"$f":"MIN(H102*parameters!C$22,ROUND(O102+S102-U102,0))","v":25666047},28.623434582540217,null,-296395,296395,0,-0.32656541745978274,null,-1.1416298975265885E-2,-0.32656541745978274,0,null,3.9399999999999998E-2]
[94,"FAIRHAVEN",1947395200,7415331.3707570471,409934000,6120330.0348605216,13535661,21093605.16,17402224,13535661,64.17,null,13649889,3.2500000000000001E-2,14093510,66.814135815558231,0,0,0,557849,557849,{"$f":"MIN(H103*parameters!C$22,ROUND(O103+S103-U103,0))","v":13535661},64.169500174715509,null,0,0,0,-4.9982528449277197E-4,null,4.1213280976821157E-2,2.6441358155582293,0,null,3.2500000000000001E-2]
[95,"FALL RIVER",5362788000,20420534.101716716,1328891000,19840392.600652382,40260927,149128230.19999999,123030790,40260927,27,null,27214100,3.5200000000000002E-2,28172036,18.891148887248043,8.1088511127519567,0.02,544282,0,0,{"$f":"MIN(H104*parameters!C$22,ROUND(O104+S104-U104,0))","v":28716318},19.256124719972707,null,-12088891,11544609,0,-7.743875280027293,null,-0.3002636029716852,-8.1088511127519567,544282,null,3.5200000000000002E-2]
[96,"FALMOUTH",11548755700,43975588.743065231,1083324000,16174068.056529196,60149657,37870063.149999999,31242802,31242802,82.5,null,32427928,3.5099999999999999E-2,33566148,88.635046281933654,0,0,0,2323346,2323346,{"$f":"MIN(H105*parameters!C$22,ROUND(O105+S105-U105,0))","v":31242802},82.499999739239939,null,0,0,0,-2.6076006065522961E-7,null,7.4364200752544532E-2,6.1350462819336542,0,null,3.5099999999999999E-2]
[97,"FITCHBURG",2197098300,8366155.954696293,680311000,10157068.811920933,18523225,68658610.040000007,56643353,18523225,26.98,null,17533237,4.6300000000000001E-2,18345026,26.719192231407426,0.26080776859257426,0,0,0,0,{"$f":"MIN(H106*parameters!C$22,ROUND(O106+S106-U106,0))","v":18345026},26.719192231407426,null,-178199,178199,0,-0.26080776859257426,null,-9.6203010005007222E-3,-0.26080776859257426,0,null,4.6300000000000001E-2]
[98,"FLORIDA",121646500,463208.03686524293,11534000,172203.05371616225,635411,1183643.29,976506,635411,53.68,null,619963,2.92E-2,638066,53.906950294121124,0,0,0,2655,2655,{"$f":"MIN(H107*parameters!C$22,ROUND(O107+S107-U107,0))","v":635411},53.682642850955546,null,0,0,0,2.642850955545839E-3,null,4.1783979188273418E-3,0.22695029412112433,0,null,2.92E-2]
[99,"FOXBOROUGH",2702432200,10290376.74017271,750093000,11198916.6959526,21489293,27085822.869379997,22345804,21489293,79.34,null,21059861,4.6500000000000007E-2,22039145,81.367825176597577,0,0,0,549852,549852,{"$f":"MIN(H108*parameters!C$22,ROUND(O108+S108-U108,0))","v":21489293},79.337789010993035,null,0,0,0,-2.2109890069685889E-3,null,2.5587254080439034E-2,2.0278251765975739,0,null,4.6500000000000007E-2]
[100,"FRAMINGHAM",7611237700,28982226.970210627,2145257000,32028767.678686757,61010995,104305999.62819999,86052450,61010995,58.49,null,63372490,3.0200000000000001E-2,65286339,62.59116372280976,0,0,0,4275344,4275344,{"$f":"MIN(H109*parameters!C$22,ROUND(O109+S109-U109,0))","v":61010995},58.492316086777784,null,0,0,0,2.3160867777818339E-3,null,7.0074975830176189E-2,4.1011637228097584,0,null,3.0200000000000001E-2]
[101,"FRANKLIN",4528882700,17245172.402493794,1338908000,19989946.787324376,37235119,60807188.031509995,50165930,37235119,61.23,null,34784044,4.5499999999999999E-2,36366718,59.806610332243842,1.4233896677561546,0,0,0,0,{"$f":"MIN(H110*parameters!C$22,ROUND(O110+S110-U110,0))","v":36366718},59.806610332243842,null,-868401,868401,0,-1.4233896677561546,null,-2.3322095465842341E-2,-1.4233896677561546,0,null,4.5499999999999999E-2]
[102,"FREETOWN",1182600100,4503128.9080872862,280090000,4181754.2323010126,8684883,12677188.92,10458681,8684883,68.510000000000005,null,8809420,4.2299999999999997E-2,9182058,72.429763869133851,0,0,0,497175,497175,{"$f":"MIN(H111*parameters!C$22,ROUND(O111+S111-U111,0))","v":8684883},68.5079559420181,null,0,0,0,-2.0440579819052118E-3,null,5.7246021621707513E-2,3.9197638691338454,0,null,4.2299999999999997E-2]
[103,"GARDNER",1196381700,4555606.767136761,373252000,5572666.3954972243,10128273,29532618.380000003,24364410,10128273,34.299999999999997,null,8268157,5.779999999999999E-2,8746056,29.614902029557189,4.6850979704428077,0.01,82682,0,0,{"$f":"MIN(H112*parameters!C$22,ROUND(O112+S112-U112,0))","v":8828738},29.89487043241304,null,-1382217,1299535,0,-4.4051295675869575,null,-0.13647114369843705,-4.6850979704428077,165363.14000000001,null,5.779999999999999E-2]
[104,"AQUINNAH",786395800,2994454.051017269,5863000,87534.810467995427,3081989,493592,407213,407213,82.5,null,349863,1.5700000000000002E-2,355356,71.993873482552388,10.506126517447612,0.02,6997,0,0,{"$f":"MIN(H113*parameters!C$22,ROUND(O113+S113-U113,0))","v":362353},73.411441028217638,null,-51857,44860,0,-9.0885589717823621,null,-0.12734613089464236,-10.506126517447612,6997.26,null,1.5700000000000002E-2]
[105,"GEORGETOWN",1172756500,4465646.2461801479,346073000,5166882.9034778411,9632529,13416023.809999999,11068220,9632529,71.8,null,9295869,3.9899999999999998E-2,9666774,72.053941889955553,0,0,0,34245,34245,{"$f":"MIN(H114*parameters!C$22,ROUND(O114+S114-U114,0))","v":9632529},71.798687423468436,null,0,0,0,-1.3125765315606941E-3,null,3.5551411264892118E-3,0.25394188995555567,0,null,3.9899999999999998E-2]
[106,"GILL",147440600,561427.33971165249,33466000,499648.63843116746,1061076,1739281,1434907,1061076,61.01,null,1043734,3.5000000000000003E-2,1080265,62.109860338841166,0,0,0,19189,19189,{"$f":"MIN(H115*parameters!C$22,ROUND(O115+S115-U115,0))","v":1061076},61.0065883546132,null,0,0,0,-3.4116453867980567E-3,null,1.8084472742763008E-2,1.0998603388411681,0,null,3.5000000000000003E-2]
[107,"GLOUCESTER",5495341100,20925272.513684198,978138000,14603637.121191217,35528910,36124275.403679989,29802527,29802527,82.5,null,31705954,4.1099999999999998E-2,33009069,91.376418298032789,0,0,0,3206542,3206542,{"$f":"MIN(H116*parameters!C$22,ROUND(O116+S116-U116,0))","v":29802527},82.499999424110271,null,0,0,0,-5.7588972879329958E-7,null,0.1075929567985963,8.8764182980327888,0,null,4.1099999999999998E-2]
[108,"GOSHEN",145887900,555514.9368160438,13618000,203317.25208138523,758832,1126124.6800000002,929053,758832,67.38,null,733322,3.39E-2,758182,67.326648058188354,5.3351941811641268E-2,0,0,0,0,{"$f":"MIN(H117*parameters!C$22,ROUND(O117+S117-U117,0))","v":758182},67.326648058188354,null,-650,650,0,-5.3351941811641268E-2,null,-8.5657958546819324E-4,-5.3351941811641268E-2,0,null,3.39E-2]
[109,"GOSNOLD",231698500,882266.2989039676,1428000,21320.093697475262,903586,31484.75,25975,25975,82.5,null,20662,4.5100000000000001E-2,21594,68.585585084842663,13.914414915157337,0.02,413,0,0,{"$f":"MIN(H118*parameters!C$22,ROUND(O118+S118-U118,0))","v":22007},69.897331247667523,null,-4381,3968,0,-12.602668752332477,null,-0.16866217516843118,-13.914414915157337,413.24,null,4.5100000000000001E-2]
[110,"GRAFTON",2278097900,8674587.8923424222,748670000,11177671.25244314,19852259,30076434.030000001,24813058,19852259,66.010000000000005,null,18568790,4.3799999999999999E-2,19382103,64.442822512360181,1.5671774876398246,0,0,0,0,{"$f":"MIN(H119*parameters!C$22,ROUND(O119+S119-U119,0))","v":19382103},64.442822512360181,null,-470156,470156,0,-1.5671774876398246,null,-2.3682745626077112E-2,-1.5671774876398246,0,null,4.3799999999999999E-2]
[111,"GRANBY",582129300,2216643.8841622085,176567000,2636151.9494972792,4852796,8311603.4699999979,6857073,4852796,58.39,null,4923901,3.78E-2,5110024,61.480603814224082,0,0,0,257228,257228,{"$f":"MIN(H120*parameters!C$22,ROUND(O120+S120-U120,0))","v":4852796},58.385797848943838,null,0,0,0,-4.2021510561625064E-3,null,5.300614326256451E-2,3.0906038142240817,0,null,3.78E-2]
[112,"GRANVILLE",206163900,785035.12547818688,47589000,710505.55950220604,1495541,2168004,1788603,1495541,68.98,null,1434883,3.1199999999999995E-2,1479651,68.249458949337736,0.73054105066226782,0,0,0,0,{"$f":"MIN(H121*parameters!C$22,ROUND(O121+S121-U121,0))","v":1479651},68.249458949337736,null,-15890,15890,0,-0.73054105066226782,null,-1.0624917671932766E-2,-0.73054105066226782,0,null,3.1199999999999995E-2]
[113,"GREAT BARRINGTON",1353030900,5152098.8027359014,252389000,3768177.26065272,8920276,7736366,6382502,6382502,82.5,null,6511186,4.6300000000000001E-2,6812654,88.060130557421928,0,0,0,430152,430152,{"$f":"MIN(H122*parameters!C$22,ROUND(O122+S122-U122,0))","v":6382502},82.500000646298275,null,0,0,0,6.4629827534190554E-7,null,6.7395513546255059E-2,5.5601305574219282,0,null,4.6300000000000001E-2]
[114,"GREENFIELD",1361745600,5185282.8160767667,348046000,5196339.8676690999,10381623,23174368.310000002,19118854,10381623,44.8,null,10643340,3.6999999999999998E-2,11037144,47.626515002945503,0,0,0,655521,655521,{"$f":"MIN(H123*parameters!C$22,ROUND(O123+S123-U123,0))","v":10381623},44.797868322133347,null,0,0,0,-2.1316778666502501E-3,null,6.3142439289116933E-2,2.8265150029455057,0,null,3.6999999999999998E-2]
[115,"GROTON",1533032100,5837511.0627301307,684548000,10220327.381246006,16057838,18594504,15340466,15340466,82.5,null,15235786,4.4400000000000002E-2,15912255,85.575044109807934,0,0,0,571789,571789,{"$f":"MIN(H124*parameters!C$22,ROUND(O124+S124-U124,0))","v":15340466},82.500001075586638,null,0,0,0,1.0755866384215551E-6,null,3.7273248413705294E-2,3.0750441098079335,0,null,4.4400000000000002E-2]
[116,"GROVELAND",800826600,3049403.9471375435,236798000,3535403.0443800753,6584807,10349198.76,8538089,6584807,63.63,null,6544851,4.7500000000000001E-2,6855731,66.244075111376063,0,0,0,270924,270924,{"$f":"MIN(H125*parameters!C$22,ROUND(O125+S125-U125,0))","v":6584807},63.626249265310278,null,0,0,0,-3.750734689724311E-3,null,4.1143802696115464E-2,2.6140751113760601,0,null,4.7500000000000001E-2]
[117,"HADLEY",980443400,3733352.4809302706,141763000,2116526.9207529309,5849879,5986156.3800000008,4938579,4938579,82.5,null,5351851,4.3499999999999997E-2,5584657,93.292868503378443,0,0,0,646078,646078,{"$f":"MIN(H126*parameters!C$22,ROUND(O126+S126-U126,0))","v":4938579},82.499999774479647,null,0,0,0,-2.2552035261469427E-7,null,0.13082265161699347,10.792868503378443,0,null,4.3499999999999997E-2]
[118,"HALIFAX",791420800,3013588.3490467877,219387000,3275456.1596694714,6289045,12135806.43,10012040,6289045,51.82,null,6540082,3.5799999999999998E-2,6774217,55.820081171152957,0,0,0,485172,485172,{"$f":"MIN(H127*parameters!C$22,ROUND(O127+S127-U127,0))","v":6289045},51.822225710961675,null,0,0,0,2.2257109616745652E-3,null,7.7145576156634268E-2,4.0000811711529565,0,null,3.5799999999999998E-2]
[119,"HAMILTON",1312968700,4999549.1361651188,549000000,8196590.6441974221,13196140,11287223,9311959,9311959,82.5,null,9634036,3.7499999999999999E-2,9995312,88.554217454550155,0,0,0,683353,683353,{"$f":"MIN(H128*parameters!C$22,ROUND(O128+S128-U128,0))","v":9311959},82.500000221489373,null,0,0,0,2.2148937262045365E-7,null,7.3384451112810958E-2,6.0542174545501553,0,null,3.7499999999999999E-2]
[120,"HAMPDEN",566450600,2156942.2088357578,200657000,2995816.5553601496,5152759,7107506,5863692,5152759,72.5,null,5113306,3.39E-2,5286647,74.381182372550938,0,0,0,133888,133888,{"$f":"MIN(H129*parameters!C$22,ROUND(O129+S129-U129,0))","v":5152759},72.497427367630777,null,0,0,0,-2.5726323692225606E-3,null,2.5983749676629548E-2,1.8811823725509385,0,null,3.39E-2]
[121,"HANCOCK",309222500,1177463.7756085263,6179000,92252.702350630003,1269716,700017.85,577515,577515,82.5,null,725612,2.6699999999999998E-2,744986,106.42385762020211,0,0,0,167471,167471,{"$f":"MIN(H130*parameters!C$22,ROUND(O130+S130-U130,0))","v":577515},82.50003910614565,null,0,0,0,3.9106145649725477E-5,null,0.28998554150108657,23.923857620202114,0,null,2.6699999999999998E-2]
[122,"HANOVER",2383514700,9075996.1447838489,658795000,9835834.1228488907,18911830,24764913.167499997,20431053,18911830,76.37,null,18367908,4.1599999999999998E-2,19132013,77.254512747929681,0,0,0,220183,220183,{"$f":"MIN(H131*parameters!C$22,ROUND(O131+S131-U131,0))","v":18911830},76.365420189798058,null,0,0,0,-4.5798102019460885E-3,null,1.1642606770471181E-2,0.88451274792967638,0,null,4.1599999999999998E-2]
[123,"HANSON",1153100300,4390798.9648014754,312002000,4658201.5922966925,9049001,17264952.68,14243586,9049001,52.41,null,7276326,4.1799999999999997E-2,7580476,43.906729085804827,8.5032709141951699,0.02,145527,0,0,{"$f":"MIN(H132*parameters!C$22,ROUND(O132+S132-U132,0))","v":7726003},44.749633220541213,null,-1468525,1322998,0,-7.6603667794587835,null,-0.16228587000929715,-8.5032709141951699,145526.51999999999,null,4.1799999999999997E-2]
[124,"HARDWICK",226221100,861409.34287871676,43520000,649755.23649448424,1511165,4285823.96,3535805,1511165,35.26,null,1598203,4.2299999999999997E-2,1665807,38.8678353461816,0,0,0,154642,154642,{"$f":"MIN(H133*parameters!C$22,ROUND(O133+S133-U133,0))","v":1511165},35.259614349629054,null,0,0,0,-3.8565037094429044E-4,null,0.10233296827282262,3.6078353461816022,0,null,4.2299999999999997E-2]
[125,"HARVARD",1122008200,4272405.8289281232,394002000,5882464.6757651595,10154871,9815902.2637600005,8098119,8098119,82.5,null,8636370,3.2599999999999997E-2,8917916,90.851719591021833,0,0,0,819797,819797,{"$f":"MIN(H134*parameters!C$22,ROUND(O134+S134-U134,0))","v":8098119},82.499996255036052,null,0,0,0,-3.7449639478381869E-6,null,0.10123301472848201,8.3517195910218334,0,null,3.2599999999999997E-2]
[126,"HARWICH",4818012600,18346127.16385597,415569000,6204460.7967549702,24550588,14688655,12118140,12118140,82.5,null,12405789,4.0899999999999999E-2,12913186,87.912650954086672,0,0,0,795046,795046,{"$f":"MIN(H135*parameters!C$22,ROUND(O135+S135-U135,0))","v":12118140},82.499997447009278,null,0,0,0,-2.5529907219379311E-6,null,6.5607923328167519E-2,5.4126509540866721,0,null,4.0899999999999999E-2]
[127,"HATFIELD",523102800,1991881.5672190471,96539000,1441330.9001824681,3433212,3617908.4000000004,2984774,2984774,82.5,null,3095381,4.2900000000000001E-2,3228173,89.227604546317409,0,0,0,243399,243399,{"$f":"MIN(H136*parameters!C$22,ROUND(O136+S136-U136,0))","v":2984774},82.499988114679738,null,0,0,0,-1.1885320262194909E-5,null,8.1546877586041691E-2,6.7276045463174086,0,null,4.2900000000000001E-2]
[128,"HAVERHILL",5239268400,19950193.636266578,1552840000,23183959.591867987,43134153,97463418.689999998,80407320,43134153,44.26,null,44157876,3.5499999999999997E-2,45725481,46.915531606210273,0,0,0,2591328,2591328,{"$f":"MIN(H137*parameters!C$22,ROUND(O137+S137-U137,0))","v":43134153},44.256761746882653,null,0,0,0,-3.2382531173453799E-3,null,6.0076014475119052E-2,2.6555316062102747,0,null,3.5499999999999997E-2]
[129,"HAWLEY",48930700,186319.32270506874,5105000,76217.841964713734,262537,461644.79999999999,380857,262537,56.87,null,225939,4.5600000000000002E-2,236242,51.173976182554206,5.6960238174457913,0.01,2259,0,{"$f":"MAX(T138*(U$5),0)","v":0},{"$f":"MIN(H138*parameters!C$22,ROUND(O138+S138-U138,0))","v":238501},51.663313439250267,null,-26295,{"$f":"MAX(J138-(O138+S138),0)","v":24036},0,-5.2066865607497306,null,{"$f":"(O138-J138)/J138","v":-0.10015731115995079},-5.6960238174457913,{"$f":"IF(AD138<$AF$5, $AF$6*(M138), IF(AND(AD138<$AF$4, AD138>$AF$5), $AF$7*(M138), 0))","v":4518.78},null,4.5600000000000002E-2]
[130,"HEATH",87647700,{"$f":"D$5*C139","v":333746.70913469564},8451000,126173.74778526851,{"$f":"ROUND(D139+F139,0)","v":459920},{"$f":"(SUMIF(town1755,A139,found1755)/2)","v":1048164},{"$f":"ROUND(H139*maxloc,0)","v":864735},{"$f":"MIN(G139,I139)","v":459920},{"$f":"IF(H139>0, ROUND((J139*100/H139), 2), 0)","v":43.88},null,{"$f":"(SUMIF(town1755,A139,pynetmin)/2)","v":523409},{"$f":"IF($N$5=1,AH139, IF( $N$5=2, AI139, IF($N$5=3, AJ139, IF($N$5=4, AK139, 0))))","v":5.5199999999999999E-2},{"$f":"ROUND(M139*(1+N139),0)","v":552301},{"$f":"O139*100/H139","v":52.692231368373655},{"$f":"IF(K139>P139,K139-P139,0)","v":0},{"$f":"IF(AND(Q139>$S$4,Q139<=$S$5),$R$4,IF(Q139>$S$5,$R$5,0))","v":0},{"$f":"ROUND(R139*M139,0)","v":0},{"$f":"MAX(O139-J139,0)","v":92381},92381,{"$f":"MIN(H139*parameters!C$22,ROUND(O139+S139-U139,0))","v":459920},{"$f":"V139*100/H139","v":43.878629680088231},null,{"$f":"IF(P139<K139, O139-J139, 0)","v":0},0,{"$f":"IF(P139>K139, V139-J139,0)","v":0},{"$f":"W139-K139","v":-1.3703199117713893E-3},null,0.20086319359888677,{"$f":"P139-K139","v":8.8122313683736522},0,null,5.5199999999999999E-2]
[131,"HINGHAM",5981636700,22776998.870070986,2058715000,{"$f":"E140*F$5","v":30736692.364424221},53513691,39001020.533249997,32175842,32175842,82.5,null,31288570,4.99E-2,32849870,84.228231853559109,0,0,0,674028,674028,{"$f":"MIN(H140*parameters!C$22,ROUND(O140+S140-U140,0))","v":32175842},82.500000154018409,null,0,0,0,1.5401840869344596E-7,null,2.094826298562754E-2,1.7282318535591088,0,null,4.99E-2]
[132,"HINSDALE",305189000,1162104.9316081156,55141000,823257.20348213124,1985362,2516221.86,2075883,1985362,78.900000000000006,null,1855979,4.1000000000000009E-2,1932074,76.78472358554265,2.1152764144573553,0,0,0,0,{"$f":"MIN(H141*parameters!C$22,ROUND(O141+S141-U141,0))","v":1932074},76.78472358554265,null,-53288,53288,0,-2.1152764144573553,null,-2.6840445218554602E-2,-2.1152764144573553,0,null,4.1000000000000009E-2]
[133,"HOLBROOK",1052735700,4008628.5831072605,286368000,4275485.0083743669,8284114,15180473.537840001,12523891,8284114,54.57,null,8548443,4.2500000000000003E-2,8911752,58.705362370850224,0,0,0,627638,627638,{"$f":"MIN(H142*parameters!C$22,ROUND(O142+S142-U142,0))","v":8284114},54.570853665074338,null,0,0,0,8.5366507433803918E-4,null,7.576404670433072E-2,4.1353623708502241,0,null,4.2500000000000003E-2]
[134,"HOLDEN",1988050400,7570139.0748863388,670378000,10008768.748407613,17578908,30025254.960000001,24770835,17578908,58.55,null,17687110,4.4500000000000005E-2,18474186,61.528823067819168,0,0,0,895278,895278,{"$f":"MIN(H143*parameters!C$22,ROUND(O143+S143-U143,0))","v":17578908},58.547073200273665,null,0,0,0,-2.926799726331808E-3,null,5.0929102080743582E-2,2.9788230678191709,0,null,4.4500000000000005E-2]
[135,"HOLLAND",315079700,1199766.9418609634,65387000,976230.36876527662,2175997,3744963.75,3089595,2175997,58.1,null,2251493,3.3599999999999998E-2,2327143,62.140601494473742,0,0,0,151146,151146,{"$f":"MIN(H144*parameters!C$22,ROUND(O144+S144-U144,0))","v":2175997},58.104621172901872,null,0,0,0,4.621172901870807E-3,null,6.9460573704835077E-2,4.0406014944737407,0,null,3.3599999999999998E-2]
[136,"HOLLISTON",2097528000,7987010.1248279177,671540000,10026117.452102618,18013128,25037925.347450003,20656288,18013128,71.94,null,18172998,4.1200000000000001E-2,18921726,75.572259831532293,0,0,0,908598,908598,{"$f":"MIN(H145*parameters!C$22,ROUND(O145+S145-U145,0))","v":18013128},71.943372903436483,null,0,0,0,3.3729034364853305E-3,null,5.0440878452648538E-2,3.6322598315322949,0,null,4.1200000000000001E-2]
[137,"HOLYOKE",2109043500,8030859.0818346683,599539000,8951139.8146292865,16981999,80596955.480000004,66492488,16981999,21.07,null,9692069,1.7500000000000002E-2,9861680,12.235797172818964,8.834202827181036,0.02,193841,0,0,{"$f":"MIN(H146*parameters!C$22,ROUND(O146+S146-U146,0))","v":10055521},12.476303776133653,null,-7120319,6926478,0,-8.5936962238663472,null,-0.41928626894866733,-8.834202827181036,193841.38,null,1.7500000000000002E-2]
[138,"HOPEDALE",643281000,2449498.5812391671,215016000,3210196.9653055612,5659696,10744806.262500001,8864465,5659696,52.67,null,5629910,3.5400000000000001E-2,5829209,54.251410938364508,0,0,0,169513,169513,{"$f":"MIN(H147*parameters!C$22,ROUND(O147+S147-U147,0))","v":5659696},52.673783609786135,null,0,0,0,3.7836097861330131E-3,null,2.9950901956571518E-2,1.5814109383645061,0,null,3.5400000000000001E-2]
[139,"HOPKINTON",3094928200,11784931.056470018,1153327000,17219215.478871185,29004147,33991828.267440006,28043258,28043258,82.5,null,27915396,5.8400000000000001E-2,29545655,86.919876058273417,0,0,0,1502397,1502397,{"$f":"MIN(H148*parameters!C$22,ROUND(O148+S148-U148,0))","v":28043258},82.499999056720327,null,0,0,0,-9.4327967303797777E-7,null,5.3574267298043612E-2,4.4198760582734167,0,null,5.8400000000000001E-2]
[140,"HUBBARDSTON",427290600,1627045.90758445,135825000,2027872.3574646902,3654918,6902557,5694610,3654918,52.95,null,3356755,4.4199999999999996E-2,3505124,50.780080483218029,2.1699195167819738,0,0,0,0,{"$f":"MIN(H149*parameters!C$22,ROUND(O149+S149-U149,0))","v":3505124},50.780080483218029,null,-149794,149794,0,-2.1699195167819738,null,-4.0984230015557122E-2,-2.1699195167819738,0,null,4.4199999999999996E-2]
[141,"HUDSON",2227815100,8483120.015534725,629641000,9400563.8065630402,17883684,31211385.605080001,25749393,17883684,57.3,null,18689313,3.9199999999999999E-2,19421934,62.227080353775975,0,0,0,1538250,1538250,{"$f":"MIN(H150*parameters!C$22,ROUND(O150+S150-U150,0))","v":17883684},57.298590412753832,null,0,0,0,-1.4095872461652448E-3,null,8.6014156814669729E-2,4.9270803537759775,0,null,3.9199999999999999E-2]
[142,"HULL",1905813500,7256995.7209313679,366473000,5471455.6705846302,12728451,10627740.812809998,8767886,8767886,82.5,null,9492718,4.0399999999999998E-2,9876224,92.928724683385511,0,0,0,1108338,1108338,{"$f":"MIN(H151*parameters!C$22,ROUND(O151+S151-U151,0))","v":8767886},82.499998395065788,null,0,0,0,-1.6049342121959853E-6,null,0.12640880595390952,10.428724683385511,0,null,4.0399999999999998E-2]
[143,"HUNTINGTON",200117700,762012.2811506096,62396000,931574.62629388412,1693587,2936800.5,2422860,1693587,57.67,null,1629317,2.6000000000000002E-2,1671679,56.921775925875792,0.74822407412420944,0,0,0,0,{"$f":"MIN(H152*parameters!C$22,ROUND(O152+S152-U152,0))","v":1671679},56.921775925875792,null,-21908,21908,0,-0.74822407412420944,null,-1.2935857443402671E-2,-0.74822407412420944,0,null,2.6000000000000002E-2]
[144,"IPSWICH",2491919100,9488780.6417611931,612091000,9138541.6466255821,18627322,18635054.856480002,15373920,15373920,82.5,null,15946064,3.61E-2,16521717,88.659341908268502,0,0,0,1147797,1147797,{"$f":"MIN(H153*parameters!C$22,ROUND(O153+S153-U153,0))","v":15373920},82.499998623046707,null,0,0,0,-1.376953292719918E-6,null,7.4658707733616408E-2,6.1593419082685017,0,null,3.61E-2]
[145,"KINGSTON",1722383000,6558525.3020848753,450202000,6721532.789069158,13280058,20892890.667000003,17236635,13280058,63.56,null,13237602,4.4400000000000002E-2,13825352,66.172518778538048,0,0,0,545294,545294,{"$f":"MIN(H154*parameters!C$22,ROUND(O154+S154-U154,0))","v":13280058},63.56256877836271,null,0,0,0,2.5687783627077465E-3,null,4.106111584753621E-2,2.6125187785380461,0,null,4.4400000000000002E-2]
[146,"LAKEVILLE",1472871200,5608429.1542079272,368987000,5508989.7851192607,11117419,16976456.899999999,14005577,11117419,65.489999999999995,null,11064753,4.1500000000000002E-2,11523940,67.881891185433403,0,0,0,406521,406521,{"$f":"MIN(H155*parameters!C$22,ROUND(O155+S155-U155,0))","v":11117419},65.487274909524857,null,0,0,0,-2.7250904751383587E-3,null,3.6566131041746289E-2,2.3918911854334084,0,null,4.1500000000000002E-2]
[147,"LANCASTER",848120900,3229492.1523708701,243431000,3634433.9838025915,6863926,9835294.9199999999,8114118,6863926,69.790000000000006,null,6857140,5.8899999999999994E-2,7261026,73.8262152692011,0,0,0,397100,397100,{"$f":"MIN(H156*parameters!C$22,ROUND(O156+S156-U156,0))","v":6863926},69.788715598576076,null,0,0,0,-1.2844014239306034E-3,null,5.7853187811173955E-2,4.0362152692010937,0,null,5.8899999999999994E-2]
[148,"LANESBOROUGH",419083500,1595794.743931104,69997000,1045057.8421163697,2640853,4071208.88,3358747,2640853,64.87,null,2792334,3.49E-2,2889786,70.981030086572218,0,0,0,248933,248933,{"$f":"MIN(H157*parameters!C$22,ROUND(O157+S157-U157,0))","v":2640853},64.866556294208124,null,0,0,0,-3.4437057918808023E-3,null,9.426234629492819E-2,6.1110300865722138,0,null,3.49E-2]
[149,"LAWRENCE",3103026400,11815767.548470546,969477000,14474328.065509262,26290096,204721876.67000002,168895548,26290096,12.84,null,8829210,3.9800000000000002E-2,9180613,4.4844318298227721,8.3555681701772286,0.02,176584,0,0,{"$f":"MIN(H158*parameters!C$22,ROUND(O158+S158-U158,0))","v":9357197},4.5706873892540889,null,-17109483,16932899,0,-8.2693126107459101,null,-0.6507957597416153,-8.3555681701772286,176584.2,null,3.9800000000000002E-2]
[150,"LEE",911530300,3470943.7657983252,145481000,2172036.800561904,5642981,6274000.4799999986,5176050,5176050,82.5,null,5764466,3.2199999999999999E-2,5950082,94.837130136783173,0,0,0,774032,774032,{"$f":"MIN(H159*parameters!C$22,ROUND(O159+S159-U159,0))","v":5176050},82.499993688237666,null,0,0,0,-6.3117623341213402E-6,null,0.14954105930197736,12.337130136783173,0,null,3.2199999999999999E-2]
[151,"LEICESTER",900217100,3427865.1308794096,310533000,4636269.3670574827,8064134,16315414.450000001,13460217,8064134,49.43,null,7906856,4.6899999999999997E-2,8277688,50.735382943336752,0,0,0,213554,213554,{"$f":"MIN(H160*parameters!C$22,ROUND(O160+S160-U160,0))","v":8064134},49.426473502792319,null,0,0,0,-3.5264972076802792E-3,null,2.6481950820757692E-2,1.3053829433367525,0,null,4.6899999999999997E-2]
[152,"LENOX",1205548200,4590511.1537810564,203038000,3031364.9748935453,7621876,5259228.0599999996,4338863,4338863,82.5,null,5040656,4.87E-2,5286136,100.51163288020639,0,0,0,947273,947273,{"$f":"MIN(H161*parameters!C$22,ROUND(O161+S161-U161,0))","v":4338863},82.499997157377507,null,0,0,0,-2.8426224929489763E-6,null,0.21832286476894983,18.011632880206392,0,null,4.87E-2]
[153,"LEOMINSTER",3260316100,12414698.493102103,1034110000,15439301.185921669,27854000,68789894.089999989,56751663,27854000,40.49,null,25511102,3.7999999999999999E-2,26480524,38.494788152100796,1.9952118478992062,0,0,0,0,{"$f":"MIN(H162*parameters!C$22,ROUND(O162+S162-U162,0))","v":26480524},38.494788152100796,null,-1373476,1373476,0,-1.9952118478992062,null,-4.9309829826954837E-2,-1.9952118478992062,0,null,3.7999999999999999E-2]
[154,"LEVERETT",273713900,1042253.4004819655,67932000,1014227.3144656089,2056481,2150045.5300000003,1773788,1773788,82.5,null,1853881,3.5700000000000003E-2,1920065,89.303457680731057,0,0,0,146277,146277,{"$f":"MIN(H163*parameters!C$22,ROUND(O163+S163-U163,0))","v":1773788},82.500020360033943,null,0,0,0,2.0360033943234157E-5,null,8.2465886565925572E-2,6.8034576807310572,0,null,3.5700000000000003E-2]
[155,"LEXINGTON",9270431600,35300139.521724939,3385117000,50539924.101482049,85840064,67825964.197500005,55956420,55956420,82.5,null,56864884,4.6899999999999997E-2,59531847,87.771471742961651,0,0,0,3575427,3575427,{"$f":"MIN(H164*parameters!C$22,ROUND(O164+S164-U164,0))","v":55956420},82.499999317462695,null,0,0,0,-6.8253730489686859E-7,null,6.3896635989221615E-2,5.2714717429616513,0,null,4.6899999999999997E-2]
[156,"LEYDEN",85506200,325592.26152669283,23434000,349870.50119512278,675463,716054,590745,590745,82.5,null,595247,3.2399999999999998E-2,614533,85.822158664011369,0,0,0,23788,23788,{"$f":"MIN(H165*parameters!C$22,ROUND(O165+S165-U165,0))","v":590745},82.500062844422345,null,0,0,0,6.2844422345165185E-5,null,4.0267797442212802E-2,3.3221586640113685,0,null,3.2399999999999998E-2]
[157,"LINCOLN",1904656000,7252588.1686986983,901128000,13453874.925363088,20706463,8460211.0140399989,6979674,6979674,82.5,null,7339337,2.7900000000000001E-2,7544105,89.171593799259966,0,0,0,564431,564431,{"$f":"MIN(H166*parameters!C$22,ROUND(O166+S166-U166,0))","v":6979674},82.499998976585815,null,0,0,0,-1.0234141853970868E-6,null,8.0867817035580741E-2,6.6715937992599663,0,null,2.7900000000000001E-2]
[158,"LITTLETON",1526463100,5812497.4898433825,404887000,6044978.1350767976,11857476,15688330.897499997,12942873,11857476,75.58,null,11979560,5.2900000000000003E-2,12613279,80.399113726049592,0,0,0,755803,755803,{"$f":"MIN(H167*parameters!C$22,ROUND(O167+S167-U167,0))","v":11857476},75.581501164598336,null,0,0,0,1.501164598337823E-3,null,6.3740630805409176E-2,4.8191137260495935,0,null,5.2900000000000003E-2]
[159,"LONGMEADOW",2039169100,7764789.9088528175,1020490000,15235954.073765077,23000744,25612986.450000003,21130714,21130714,82.5,null,21747129,3.3599999999999998E-2,22477833,87.759516227753281,0,0,0,1347119,1347119,{"$f":"MIN(H168*parameters!C$22,ROUND(O168+S168-U168,0))","v":21130714},82.500000697888154,null,0,0,0,6.978881543773241E-7,null,6.3751702853012918E-2,5.2595162277532808,0,null,3.3599999999999998E-2]
[160,"LOWELL",6552635400,24951259.427338198,1977818000,29528897.112432163,54480157,203459553.73000002,167854132,54480157,26.78,null,46815822,4.4799999999999993E-2,48913171,24.040734437523625,2.7392655624763762,0.01,468158,0,0,{"$f":"MIN(H169*parameters!C$22,ROUND(O169+S169-U169,0))","v":49381329},24.270833241643324,null,-5566986,5098828,0,-2.5091667583566775,null,{"$f":"(O169-J169)/J169","v":-0.10218373636478324},-2.7392655624763762,936316.44000000006,null,4.4799999999999993E-2]
[161,"LUDLOW",1947906200,7417277.1670342786,518896000,7747136.7921884619,15164414,27187438.540000007,22429637,15164414,55.78,null,14951306,5.0299999999999991E-2,15703357,57.759604594217855,0,0,0,538943,538943,{"$f":"MIN(H170*parameters!C$22,ROUND(O170+S170-U170,0))","v":15164414},55.777281032521998,null,0,0,0,-2.7189674780032647E-3,null,{"$f":"(O170-J170)/J170","v":3.5539981960397544E-2},{"$f":"P170-K170","v":1.9796045942178537},0,null,5.0299999999999991E-2]
[162,"LUNENBURG",1183701600,4507323.2223717663,365787000,5461213.6647887845,9968537,16533078.750000002,13639790,9968537,60.29,null,10044982,4.7500000000000001E-2,10522119,63.642828774404762,0,0,0,553582,553582,{"$f":"MIN(H171*parameters!C$22,ROUND(O171+S171-U171,0))","v":9968537},60.294498990395233,null,0,0,0,4.4989903952341592E-3,null,5.5532923236378616E-2,3.3528287744047631,0,null,4.7500000000000001E-2]
[163,"LYNN",5644501400,21493248.162315525,1628966000,24320523.634454824,45813772,191949856.55000001,158358632,45813772,23.87,null,43133574,3.3700000000000001E-2,44587175,23.228553436499038,0.64144656350096341,0,0,0,0,{"$f":"MIN(H172*parameters!C$22,ROUND(O172+S172-U172,0))","v":44587175},23.228553436499038,null,-1226597,1226597,0,-0.64144656350096341,null,-2.6773543117122073E-2,-0.64144656350096341,0,null,3.3700000000000001E-2]
[164,"LYNNFIELD",2496773700,9507266.0871769357,768162000,11468687.545406157,20975954,20038178.595660001,16531497,16531497,82.5,null,17337217,4.4799999999999993E-2,18113924,90.397058362995281,0,0,0,1582427,1582427,{"$f":"MIN(H173*parameters!C$22,ROUND(O173+S173-U173,0))","v":16531497},82.499998296155013,null,0,0,0,-1.7038449868778116E-6,null,9.5721942181037814E-2,7.8970583629952813,0,null,4.4799999999999993E-2]
[165,"MALDEN",5218790200,19872216.326434124,1321450000,19729298.190846417,39601515,86870024.637440011,71667770,39601515,45.59,null,35725471,2.0400000000000001E-2,36454271,41.964154093595845,3.6258459064041588,0.01,357255,0,0,{"$f":"MIN(H174*parameters!C$22,ROUND(O174+S174-U174,0))","v":36811526},42.375406423143389,null,-3147244,2789989,0,-3.2145935768566147,null,-7.9472818148497604E-2,-3.6258459064041588,357254.71,null,2.0400000000000001E-2]
[166,"MANCHESTER",2276185500,8667305.8164117467,619344000,9246829.2093621287,17914135,8428000,6953100,6953100,82.5,null,6779323,4.2599999999999999E-2,7068122,83.864760322733744,0,0,0,115022,115022,{"$f":"MIN(H175*parameters!C$22,ROUND(O175+S175-U175,0))","v":6953100},82.5,null,0,0,0,0,null,1.6542549366469633E-2,1.3647603227337441,0,null,4.2599999999999999E-2]
[167,"MANSFIELD",3215394000,12243643.199666912,973560000,14535287.409043429,26778931,42173909.918399997,34793476,26778931,63.5,null,27190618,4.7E-2,28468577,67.502816445243752,0,0,0,1689646,1689646,{"$f":"MIN(H176*parameters!C$22,ROUND(O176+S176-U176,0))","v":26778931},63.496439034969953,null,0,0,0,-3.560965030047214E-3,null,6.3096095956929721E-2,4.0028164452437522,0,null,4.7E-2]
[168,"MARBLEHEAD",5323866200,20272326.873647995,1534358000,22908022.63688428,43180350,30779127.849999998,25392780,25392780,82.5,null,25533722,4.4900000000000002E-2,26680186,86.682722558040254,0,0,0,1287406,1287406,{"$f":"MIN(H177*parameters!C$22,ROUND(O177+S177-U177,0))","v":25392780},82.499998452685205,null,0,0,0,-1.547314795402599E-6,null,5.0699687076405181E-2,4.1827225580402541,0,null,4.4900000000000002E-2]
[169,"MARION",1616615400,6155781.2662108606,248631000,3712070.1793396161,9867851,7542501.5699999994,6222564,6222564,82.5,null,6107968,3.8600000000000002E-2,6343736,84.106525416341412,0,0,0,121172,121172,{"$f":"MIN(H178*parameters!C$22,ROUND(O178+S178-U178,0))","v":6222564},82.500002714616613,null,0,0,0,2.7146166132752114E-6,null,1.9473001804400886E-2,1.6065254163414124,0,null,3.8600000000000002E-2]
[170,"MARLBOROUGH",4660560800,17746578.971520811,1203665000,17970763.711744793,35717343,61469738.919719994,50712535,35717343,58.11,null,36049046,9.1000000000000004E-3,36377092,59.178862053585085,0,0,0,659749,659749,{"$f":"MIN(H179*parameters!C$22,ROUND(O179+S179-U179,0))","v":35717343},58.105571339170901,null,0,0,0,-4.4286608290988738E-3,null,1.847139077506409E-2,1.0688620535850859,0,null,9.1000000000000004E-3]
[171,"MARSHFIELD",4400432600,16756057.478051707,1018536000,15206780.780288281,31962838,40254049.280549996,33209591,31962838,79.400000000000006,null,31137078,3.6200000000000003E-2,32264240,80.151538979680922,0,0,0,301402,301402,{"$f":"MIN(H180*parameters!C$22,ROUND(O180+S180-U180,0))","v":31962838},79.402789461590501,null,0,0,0,2.7894615904955344E-3,null,9.4297634021109147E-3,0.75153897968091599,0,null,3.6200000000000003E-2]
[172,"MASHPEE",4718738000,17968107.306510445,431520000,6442609.8265647935,24410717,17561922.300000004,14488586,14488586,82.5,null,15588655,2.8000000000000004E-2,16025137,91.249333223618663,0,0,0,1536551,1536551,{"$f":"MIN(H181*parameters!C$22,ROUND(O181+S181-U181,0))","v":14488586},82.500000583649069,null,0,0,0,5.836490686306206E-7,null,0.10605251609784419,8.7493332236186632,0,null,2.8000000000000004E-2]
[173,"MATTAPOISETT",1619730500,6167643.0078609614,302243000,4512499.3553263415,10680142,9002583.5500000007,7427131,7427131,82.5,null,7366056,3.3099999999999997E-2,7609872,84.529868095475763,0,0,0,182741,182741,{"$f":"MIN(H182*parameters!C$22,ROUND(O182+S182-U182,0))","v":7427131},82.499995237478245,null,0,0,0,-4.7625217547420107E-6,null,2.4604520911237462E-2,2.0298680954757629,0,null,3.3099999999999997E-2]
[174,"MAYNARD",1184661500,4510978.3492729673,348680000,5205805.5115095759,9716784,14891657.283779997,12285617,9716784,65.25,null,10135428,3.8100000000000002E-2,10521588,70.654244853325494,0,0,0,804804,804804,{"$f":"MIN(H183*parameters!C$22,ROUND(O183+S183-U183,0))","v":9716784},65.249849730180983,null,0,0,0,-1.5026981901655745E-4,null,8.2826169646253334E-2,5.4042448533254941,0,null,3.8100000000000002E-2]
[175,"MEDFIELD",2399518500,9136935.7425559517,1030204000,15380984.459043281,24517920,23584328.4848,19457071,19457071,82.5,null,21031320,4.1700000000000001E-2,21908326,92.893575554291587,0,0,0,2451255,2451255,{"$f":"MIN(H184*parameters!C$22,ROUND(O184+S184-U184,0))","v":19457071},82.500000000169607,null,0,0,0,1.6960655102593591E-10,null,0.12598273398909837,10.393575554291587,0,null,4.1700000000000001E-2]
[176,"MEDFORD",7325080700,27892592.47842297,1775372000,26506370.719799757,54398963,52826959.864799984,43582242,43582242,82.5,null,45014043,3.5200000000000002E-2,46598537,88.20976470964753,0,0,0,3016295,3016295,{"$f":"MIN(H185*parameters!C$22,ROUND(O185+S185-U185,0))","v":43582242},82.500000211142222,null,0,0,0,2.1114222192863963E-7,null,6.9209266471422004E-2,5.7097647096475299,0,null,3.5200000000000002E-2]
[177,"MEDWAY",1725563100,6570634.5520676952,551811000,8238558.979900226,14809194,22923376.335269995,18911785,14809194,64.599999999999994,null,14822903,4.0500000000000001E-2,15423231,67.281672535601828,0,0,0,614037,614037,{"$f":"MIN(H186*parameters!C$22,ROUND(O186+S186-U186,0))","v":14809194},64.603022623742021,null,0,0,0,3.0226237420265534E-3,null,4.1463228856344243E-2,2.6816725356018338,0,null,4.0500000000000001E-2]
[178,"MELROSE",3876434900,14760768.292264178,1112419000,16608457.500596453,31369226,37111384.428580001,30616892,30616892,82.5,null,29080572,2.92E-2,29929725,80.648365618369922,1.8516343816300775,0,0,0,0,{"$f":"MIN(H187*parameters!C$22,ROUND(O187+S187-U187,0))","v":29929725},80.648365618369922,null,-687167,687167,0,-1.8516343816300775,null,-2.2444048207113904E-2,-1.8516343816300775,0,null,2.92E-2]
[179,"MENDON",808861300,3079998.6425361056,273560000,4084261.0867516338,7164260,10921707.483240001,9010409,7164260,65.599999999999994,null,6312626,4.8599999999999997E-2,6619420,60.607922434819713,4.9920775651802813,0.01,63126,0,0,{"$f":"MIN(H188*parameters!C$22,ROUND(O188+S188-U188,0))","v":6682546},61.185908982224234,null,-544840,481714,0,-4.4140910177757604,null,-7.6049724605193006E-2,-4.9920775651802813,63126.26,null,4.8599999999999997E-2]
[180,"MERRIMAC",700874100,2668802.7682727738,195663000,2921255.9475693996,5590059,9435747.8800000008,7784492,5590059,59.24,null,5748107,4.4999999999999998E-2,6006772,63.659733986025067,0,0,0,416713,416713,{"$f":"MIN(H189*parameters!C$22,ROUND(O189+S189-U189,0))","v":5590059},59.243412086589153,null,0,0,0,3.4120865891509311E-3,null,7.4545367052476552E-2,4.4197339860250651,0,null,4.4999999999999998E-2]
[181,"METHUEN",4606562400,17540962.756850727,1277622000,19074944.502770126,36615907,82043539.289999992,67685920,36615907,44.63,null,36595147,4.0500000000000001E-2,38077250,46.411028009662068,0,0,0,1461343,1461343,{"$f":"MIN(H190*parameters!C$22,ROUND(O190+S190-U190,0))","v":36615907},44.62984814754693,null,0,0,0,-1.5185245307236528E-4,null,3.9910058762165856E-2,1.7810280096620659,0,null,4.0500000000000001E-2]
[182,"MIDDLEBOROUGH",2313872400,8810810.766940834,601178000,8975610.1462610532,17786421,36461172.629999995,30080467,17786421,48.78,null,18006652,4.3900000000000008E-2,18797144,51.553865781414402,0,0,0,1010723,1010723,{"$f":"MIN(H191*parameters!C$22,ROUND(O191+S191-U191,0))","v":17786421},48.781812862939738,null,0,0,0,1.8128629397367035E-3,null,5.6825541237329309E-2,2.7738657814144005,0,null,4.3900000000000008E-2]
[183,"MIDDLEFIELD",66509900,253257.76089820606,8625000,128771.57432823819,382029,406840.96,335644,335644,82.5,null,389645,1.43E-2,395217,97.142873716550071,0,0,0,59573,59573,{"$f":"MIN(H192*parameters!C$22,ROUND(O192+S192-U192,0))","v":335644},82.500051125629042,null,0,0,0,5.1125629042303444E-5,null,0.17748864868729963,14.642873716550071,0,null,1.43E-2]
[184,"MIDDLETON",1718243000,6542760.9252008535,402229000,6005294.0951272948,12548055,13710729.984230001,11311352,11311352,82.5,null,11734148,5.28E-2,12353711,90.102503763177921,0,0,0,1042359,1042359,{"$f":"MIN(H193*parameters!C$22,ROUND(O193+S193-U193,0))","v":11311352},82.499998271501582,null,0,0,0,-1.7284984181742402E-6,null,9.2151583648002466E-2,7.6025037631779213,0,null,5.28E-2]
[185,"MILFORD",2908293100,11074258.096038371,857822000,12807314.716915704,23881573,46688442.093200006,38517965,23881573,51.15,null,24738610,3.7900000000000003E-2,25676203,54.9947735431927,0,0,0,1794630,1794630,{"$f":"MIN(H194*parameters!C$22,ROUND(O194+S194-U194,0))","v":23881573},51.150931428226556,null,0,0,0,9.3142822655778446E-4,null,7.514706003662322E-2,3.8447735431927015,0,null,3.7900000000000003E-2]
[186,"MILLBURY",1367184400,5205992.7902305871,384919000,5746855.1442146227,10952848,18265812.16,15069295,10952848,59.96,null,11101706,3.6400000000000002E-2,11505808,62.990946688898831,0,0,0,552960,552960,{"$f":"MIN(H195*parameters!C$22,ROUND(O195+S195-U195,0))","v":10952848},59.963651788697689,null,0,0,0,3.6517886976881186E-3,null,5.04854992966213E-2,3.0309466888988297,0,null,3.6400000000000002E-2]
[187,"MILLIS",1042625800,3970131.8986000703,298100000,4450644.2095359778,8420776,12758965.68949,10526147,8420776,66,null,8600075,3.2199999999999999E-2,8876997,69.57458163957827,0,0,0,456221,456221,{"$f":"MIN(H196*parameters!C$22,ROUND(O196+S196-U196,0))","v":8420776},65.998892111893397,null,0,0,0,-1.1078881066026725E-3,null,5.4178023498071909E-2,3.5745816395782697,0,null,3.2199999999999999E-2]
[188,"MILLVILLE",252391100,961060.00545234943,87514000,1306587.3108129203,2267647,5657809.7599999998,4667693,2267647,40.08,null,2116775,2.8400000000000002E-2,2176891,38.475860665912528,1.6041393340874706,0,0,0,0,{"$f":"MIN(H197*parameters!C$22,ROUND(O197+S197-U197,0))","v":2176891},38.475860665912528,null,-90756,90756,0,-1.6041393340874706,null,-4.0022102205502001E-2,-1.6041393340874706,0,null,2.8400000000000002E-2]
[189,"MILTON",4586795600,17465694.330524381,1721607000,25703657.248059731,43169352,37373194.885839999,30832886,30832886,82.5,null,30414199,4.0099999999999997E-2,31633808,84.643039206651977,0,0,0,800922,800922,{"$f":"MIN(H198*parameters!C$22,ROUND(O198+S198-U198,0))","v":30832886},82.50000058646846,null,0,0,0,5.8646845957355254E-7,null,2.5976225514536655E-2,2.1430392066519772,0,null,4.0099999999999997E-2]
[190,"MONROE",22644600,86226.572170992848,695000,10376.376134275426,96603,119526.78,98610,96603,80.819999999999993,null,80069,1.6000000000000001E-3,80197,67.095424138423212,13.724575861576781,0.02,1601,0,0,{"$f":"MIN(H199*parameters!C$22,ROUND(O199+S199-U199,0))","v":81798},68.434872921365411,null,-16406,14805,0,-12.385127078634582,null,-0.16982909433454449,-13.724575861576781,1601.38,null,1.6000000000000001E-3]
[191,"MONSON",765209100,2913778.9003581638,222600000,3323426.3704887908,6237205,12388400.68,10220431,6237205,50.35,null,6145982,3.6499999999999998E-2,6370310,51.421568970434691,0,0,0,133105,133105,{"$f":"MIN(H200*parameters!C$22,ROUND(O200+S200-U200,0))","v":6237205},50.34713649574983,null,0,0,0,-2.8635042501718999E-3,null,2.1340488247540364E-2,1.07156897043469,0,null,3.6499999999999998E-2]
[192,"MONTAGUE",783599400,2983805.8617615984,175756000,2624043.6890010238,5607850,10844636,8946825,5607850,51.71,null,5376279,3.7699999999999997E-2,5578965,51.444465263748825,0.26553473625117618,0,0,0,0,{"$f":"MIN(H201*parameters!C$22,ROUND(O201+S201-U201,0))","v":5578965},51.444465263748825,null,-28885,28885,0,-0.26553473625117618,null,-5.1508153748762893E-3,-0.26553473625117618,0,null,3.7699999999999997E-2]
[193,"MONTEREY",473570600,1803271.8404811912,22309000,333074.20889143954,2136346,900883,743228,743228,82.5,null,670011,3.6200000000000003E-2,694265,77.064946280482587,5.4350537195174127,0.01,6700,0,{"$f":"MAX(T202*(U$5),0)","v":0},{"$f":"MIN(H202*parameters!C$22,ROUND(O202+S202-U202,0))","v":700965},77.808661058095225,null,-48963,{"$f":"MAX(J202-(O202+S202),0)","v":42263},0,-4.6913389419047746,null,-6.5878842024250969E-2,-5.4350537195174127,{"$f":"IF(AD202<$AF$5, $AF$6*(M202), IF(AND(AD202<$AF$4, AD202>$AF$5), $AF$7*(M202), 0))","v":6700.1100000000006},null,3.6200000000000003E-2]
[194,"MONTGOMERY",107539100,{"$f":"D$5*C203","v":409489.58989576396},29516000,440674.98989823519,{"$f":"ROUND(D203+F203,0)","v":850165},{"$f":"(SUMIF(town1755,A203,found1755)/2)","v":836721.88},{"$f":"ROUND(H203*maxloc,0)","v":690296},{"$f":"MIN(G203,I203)","v":690296},{"$f":"IF(H203>0, ROUND((J203*100/H203), 2), 0)","v":82.5},null,{"$f":"(SUMIF(town1755,A203,pynetmin)/2)","v":780621},{"$f":"IF($N$5=1,AH203, IF( $N$5=2, AI203, IF($N$5=3, AJ203, IF($N$5=4, AK203, 0))))","v":3.5700000000000003E-2},{"$f":"ROUND(M203*(1+N203),0)","v":808489},{"$f":"O203*100/H203","v":96.625774863207837},{"$f":"IF(K203>P203,K203-P203,0)","v":0},{"$f":"IF(AND(Q203>$S$4,Q203<=$S$5),$R$4,IF(Q203>$S$5,$R$5,0))","v":0},{"$f":"ROUND(R203*M203,0)","v":0},{"$f":"MAX(O203-J203,0)","v":118193},118193,{"$f":"MIN(H203*parameters!C$22,ROUND(O203+S203-U203,0))","v":690296},{"$f":"V203*100/H203","v":82.500053661797395},null,{"$f":"IF(P203<K203, O203-J203, 0)","v":0},0,{"$f":"IF(P203>K203, V203-J203,0)","v":0},{"$f":"W203-K203","v":5.3661797394966015E-5},null,0.17122075167754122,14.125774863207837,0,null,3.5700000000000003E-2]
[195,"MOUNT WASHINGTON",84548400,321945.13104854891,2950000,{"$f":"E204*F$5","v":44043.61092965828},365989,89843.44,74121,74121,82.5,null,83664,2.6000000000000002E-2,85839,95.542868794872504,0,0,0,11718,11718,{"$f":"MIN(H204*parameters!C$22,ROUND(O204+S204-U204,0))","v":74121},82.500180313665638,null,0,0,0,1.8031366563775464E-4,null,0.15809284818067754,13.042868794872504,0,null,2.6000000000000002E-2]
[196,"NAHANT",776257000,2955847.320497531,196119000,2928064.0447164923,5883911,2614780.5399999991,2157194,2157194,82.5,null,2445743,3.78E-2,2538192,97.070938121636814,0,0,0,380998,380998,{"$f":"MIN(H205*parameters!C$22,ROUND(O205+S205-U205,0))","v":2157194},82.500002084304967,null,0,0,0,2.0843049668428648E-6,null,0.17661740205099774,14.570938121636814,0,null,3.78E-2]
[197,"NANTUCKET",17816255100,67841101.46334973,496873000,7418332.574051559,75259434,15206451.73,12545323,12545323,82.5,null,11742876,4.1099999999999998E-2,12225508,80.396848765717948,2.103151234282052,0,0,0,0,{"$f":"MIN(H206*parameters!C$22,ROUND(O206+S206-U206,0))","v":12225508},80.396848765717948,null,-319815,319815,0,-2.103151234282052,null,-2.5492767304596303E-2,-2.103151234282052,0,null,4.1099999999999998E-2]
[198,"NATICK",6961523100,26508230.39498087,1694774000,25303039.54905108,51811270,52543091.215100005,43348050,43348050,82.5,null,42003629,4.58E-2,43927395,83.602608800024313,0,0,0,579345,579345,{"$f":"MIN(H207*parameters!C$22,ROUND(O207+S207-U207,0))","v":43348050},82.49999951952293,null,0,0,0,-4.8047706968645798E-7,null,1.3364961053611409E-2,1.1026088000243135,0,null,4.58E-2]
[199,"NEEDHAM",8293426000,31579877.566121217,2801114000,41820737.351057231,73400615,52421701.140780009,43247903,43247903,82.5,null,43620075,5.510000000000001E-2,46023541,87.794825422399853,0,0,0,2775638,2775638,{"$f":"MIN(H208*parameters!C$22,ROUND(O208+S208-U208,0))","v":43247903},82.499999158471596,null,0,0,0,-8.4152840429396747E-7,null,6.4179712944694683E-2,5.2948254223998532,0,null,5.510000000000001E-2]
[200,"NEW ASHFORD",40193100,153048.11027467618,5176000,77277.874634546184,230326,217953.86999999997,179812,179812,82.5,null,209694,3.4599999999999999E-2,216949,99.538952898611086,0,0,0,37137,37137,{"$f":"MIN(H209*parameters!C$22,ROUND(O209+S209-U209,0))","v":179812},82.500026267026144,null,0,0,0,2.6267026143500516E-5,null,0.20653237826174003,17.038952898611086,0,null,3.4599999999999999E-2]
[201,"NEW BEDFORD",5366953500,20436395.578023575,1448141000,21620799.584842805,42057195,176932440.88,145969264,42057195,23.77,null,26827046,5.5E-2,28302534,15.996237806494449,7.7737621935055508,0.02,536541,0,0,{"$f":"MIN(H210*parameters!C$22,ROUND(O210+S210-U210,0))","v":28839075},16.29948406101478,null,-13754661,13218120,0,-7.4705159389852192,null,-0.32704656123643056,-7.7737621935055508,536540.92000000004,null,5.5E-2]
[202,"NEW BRAINTREE",112371800,427891.64404248138,33519000,500439.930424141,928332,1675476.96,1382268,928332,55.41,null,919891,5.9400000000000001E-2,974533,58.164512151811387,0,0,0,46201,46201,{"$f":"MIN(H211*parameters!C$22,ROUND(O211+S211-U211,0))","v":928332},55.407028694682857,null,0,0,0,-2.9713053171391834E-3,null,4.9767755501264631E-2,2.7545121518113902,0,null,5.9400000000000001E-2]
[203,"NEWBURY",1282606400,4883934.9476951379,348487000,5202924.0142521439,10086859,8413947.0203399993,6941506,6941506,82.5,null,7629366,3.5099999999999999E-2,7897157,93.857935887988077,0,0,0,955651,955651,{"$f":"MIN(H212*parameters!C$22,ROUND(O212+S212-U212,0))","v":6941506},82.499996532180447,null,0,0,0,-3.4678195532933387E-6,null,0.13767199797853666,11.357935887988077,0,null,3.5099999999999999E-2]
[204,"NEWBURYPORT",3515476700,13386304.257438583,918141000,13707879.655107588,27094184,23240086.764539998,19173072,19173072,82.5,null,19170004,4.0899999999999999E-2,19954057,85.860509911891285,0,0,0,780985,780985,{"$f":"MIN(H213*parameters!C$22,ROUND(O213+S213-U213,0))","v":19173072},82.50000180401436,null,0,0,0,1.8040143601183445E-6,null,4.0733430719918015E-2,3.3605099118912847,0,null,4.0899999999999999E-2]
[205,"NEW MARLBOROUGH",511887900,1949177.2410556143,29463000,439883.69790526165,2389061,1564171,1290441,1290441,82.5,null,1334861,3.9899999999999998E-2,1388122,88.744900653445185,0,0,0,97681,97681,{"$f":"MIN(H214*parameters!C$22,ROUND(O214+S214-U214,0))","v":1290441},82.499995205127831,null,0,0,0,-4.79487216864527E-6,null,7.5695828015383881E-2,6.2449006534451854,0,null,3.9899999999999998E-2]
[206,"NEW SALEM",109671100,417607.86320898461,23937000,357380.31010956957,774988,1534049,1265590,774988,50.52,null,789983,4.7600000000000003E-2,827586,53.947820441198424,0,0,0,52598,52598,{"$f":"MIN(H215*parameters!C$22,ROUND(O215+S215-U215,0))","v":774988},50.519116403713312,null,0,0,0,-8.835962866911018E-4,null,6.7869437978394509E-2,3.4278204411984206,0,null,4.7600000000000003E-2]
[207,"NEWTON",22317332900,84980397.797528908,9564816000,142803062.54839674,227783460,126316298.67331998,104210946,104210946,82.5,null,103657391,4.1599999999999998E-2,107969538,85.475539684100085,0,0,0,3758592,3758592,{"$f":"MIN(H216*parameters!C$22,ROUND(O216+S216-U216,0))","v":104210946},82.499999678989184,null,0,0,0,-3.2101081615110161E-7,null,3.6067151717440508E-2,2.9755396841000845,0,null,4.1599999999999998E-2]
[208,"NORFOLK",1506629600,5736975.0818894608,507999000,7584444.1724255858,13321419,15125177.045499999,12478271,12478271,82.5,null,12807596,5.5E-2,13512014,89.334584047200011,0,0,0,1033743,1033743,{"$f":"MIN(H217*parameters!C$22,ROUND(O217+S217-U217,0))","v":12478271},82.499999586533775,null,0,0,0,-4.134662248134191E-7,null,8.2843448423263133E-2,6.8345840472000106,0,null,5.5E-2]
[209,"NORTH ADAMS",735349400,2800078.5224731849,199650000,2980782.0074936529,5780861,19180967.390000004,15824298,5780861,30.14,null,5666851,4.1099999999999998E-2,5899759,30.758401701239734,0,0,0,118898,118898,{"$f":"MIN(H218*parameters!C$22,ROUND(O218+S218-U218,0))","v":5780861},30.138526813897048,null,0,0,0,-1.4731861029524396E-3,null,2.0567524456996975E-2,0.61840170123973337,0,null,4.1099999999999998E-2]
[210,"NORTHAMPTON",3351978800,12763733.601557897,843118000,12587783.443997163,25351517,29303843.340000004,24175671,24175671,82.5,null,23924855,3.78E-2,24829215,84.730233887470675,0,0,0,653544,653544,{"$f":"MIN(H219*parameters!C$22,ROUND(O219+S219-U219,0))","v":24175671},82.500000834361529,null,0,0,0,8.3436152920057793E-7,null,2.7033127643075552E-2,2.2302338874706749,0,null,3.78E-2]
[211,"NORTH ANDOVER",4337534000,16516550.899337381,1472835000,21989481.93341805,38506033,45846085.919999987,37823021,37823021,82.5,null,36498377,3.8199999999999998E-2,37892615,82.651799471216478,0,0,0,69594,69594,{"$f":"MIN(H220*parameters!C$22,ROUND(O220+S220-U220,0))","v":37823021},82.500000253020531,null,0,0,0,2.5302053074938158E-7,null,1.8399905179440849E-3,0.15179947121647785,0,null,3.8199999999999998E-2]
[212,"NORTH ATTLEBOROUGH",3505492000,13348284.312058417,1018855000,15211543.462283725,28559828,47698674.110000007,39351406,28559828,59.88,null,26848070,3.73E-2,27849503,58.386325237835834,1.4936747621641686,0,0,0,0,{"$f":"MIN(H221*parameters!C$22,ROUND(O221+S221-U221,0))","v":27849503},58.386325237835834,null,-710325,710325,0,-1.4936747621641686,null,-2.48714733155956E-2,-1.4936747621641686,0,null,3.73E-2]
[213,"NORTHBOROUGH",2670546700,10168962.479511971,683536000,10205218.183191493,20374181,25191766.370000001,20783207,20374181,80.88,null,21102657,5.7200000000000001E-2,22309729,88.559605834420097,0,0,0,1935548,1935548,{"$f":"MIN(H222*parameters!C$22,ROUND(O222+S222-U222,0))","v":20374181},80.876349441946658,null,0,0,0,-3.6505580533372495E-3,null,9.500003951079064E-2,7.6796058344201015,0,null,5.7200000000000001E-2]
[214,"NORTHBRIDGE",1475839800,5619733.0501542818,506503000,7562108.8361710878,13181842,26300796.779999997,21698157,13181842,50.12,null,10743739,4.0399999999999998E-2,11177786,42.499799886290752,7.6202001137092452,0.02,214875,0,0,{"$f":"MIN(H223*parameters!C$22,ROUND(O223+S223-U223,0))","v":11392661},43.316790344022429,null,-2004056,1789181,0,-6.8032096559775681,null,-0.1520315597774575,-7.6202001137092452,214874.78,null,4.0399999999999998E-2]
[215,"NORTH BROOKFIELD",388948300,1481045.311497442,110576000,1650903.8380196251,3131949,7037587.1299999999,5806009,3131949,44.5,null,3198218,3.8399999999999997E-2,3321030,47.189895324251566,0,0,0,189081,189081,{"$f":"MIN(H224*parameters!C$22,ROUND(O224+S224-U224,0))","v":3131949},44.503164822628634,null,0,0,0,3.1648226286336012E-3,null,6.0371672718808639E-2,2.689895324251566,0,null,3.8399999999999997E-2]
[216,"NORTHFIELD",416996200,1587846.6801943847,79543000,1187579.9810772233,2775427,4313823.92,3558905,2775427,64.34,null,2724047,3.6799999999999999E-2,2824292,65.470729737156262,0,0,0,48865,48865,{"$f":"MIN(H225*parameters!C$22,ROUND(O225+S225-U225,0))","v":2775427},64.337976038669652,null,0,0,0,-2.0239613303516535E-3,null,1.7606299859445052E-2,1.1307297371562584,0,null,3.6799999999999999E-2]
[217,"NORTH READING",2680139500,10205490.140036859,741585000,11071891.936023945,21277382,24490510.855640002,20204671,20204671,82.5,null,20201425,3.9300000000000002E-2,20995341,85.728473055370799,0,0,0,790670,790670,{"$f":"MIN(H226*parameters!C$22,ROUND(O226+S226-U226,0))","v":20204671},82.499998138450422,null,0,0,0,-1.8615495775975432E-6,null,3.9133030179011576E-2,3.2284730553707988,0,null,3.9300000000000002E-2]
[218,"NORTON",2041345000,7773075.3454861371,586485000,8756243.1037561484,16529318,26648682.330000006,21985163,16529318,62.03,null,17097712,3.6600000000000001E-2,17723488,66.507933790210771,0,0,0,1194170,1194170,{"$f":"MIN(H227*parameters!C$22,ROUND(O227+S227-U227,0))","v":16529318},62.026774139567735,null,0,0,0,-3.2258604322663587E-3,null,7.2245569962414657E-2,4.4779337902107699,0,null,3.6600000000000001E-2]
[219,"NORWELL",2356322900,8972454.651219856,749922000,11196363.65952244,20168818,20713343.396599997,17088508,17088508,82.5,null,17473625,3.6200000000000003E-2,18106170,87.413073077193545,0,0,0,1017662,1017662,{"$f":"MIN(H228*parameters!C$22,ROUND(O228+S228-U228,0))","v":17088508},82.499998541061231,null,0,0,0,-1.4589387689056821E-6,null,5.955241967291703E-2,4.9130730771935447,0,null,3.6200000000000003E-2]
[220,"NORWOOD",4423209600,16842788.205657348,1055714000,15761849.718302801,32604638,37010441.360470004,30533614,30533614,82.5,null,32526892,3.32E-2,33606785,90.803523991190843,0,0,0,3073171,3073171,{"$f":"MIN(H229*parameters!C$22,ROUND(O229+S229-U229,0))","v":30533614},82.499999669315599,null,0,0,0,-3.3068440075112449E-7,null,0.10064878006252388,8.3035239911908434,0,null,3.32E-2]
[221,"OAK BLUFFS",2643282300,10065144.538179431,84651000,1263842.6131547468,11328987,6789794.25,5601580,5601580,82.5,null,5160467,3.5099999999999999E-2,5341599,78.670999493099515,3.8290005069004849,0.01,51605,0,0,{"$f":"MIN(H230*parameters!C$22,ROUND(O230+S230-U230,0))","v":5393204},79.431037251239246,null,-259981,208376,0,-3.0689627487607538,null,-4.6412083733518045E-2,-3.8290005069004849,0,null,3.5099999999999999E-2]
[222,"OAKHAM",200330800,762823.7276998813,57638000,860537.50737750647,1623361,2770361.96,2285549,1623361,58.6,null,1466561,3.7600000000000001E-2,1521704,54.927984933780998,3.6720150662190036,0.01,14666,0,0,{"$f":"MIN(H231*parameters!C$22,ROUND(O231+S231-U231,0))","v":1536370},55.457374241451106,null,-101657,86991,0,-3.1426257585488955,null,-6.262131466753236E-2,-3.6720150662190036,14665.61,null,3.7600000000000001E-2]
[223,"ORANGE",502261700,1912522.3993259124,131030000,1956282.8271569915,3868805,13645053.139999997,11257169,3868805,28.35,null,3886137,3.9899999999999998E-2,4041194,29.616550104545809,0,0,0,172389,172389,{"$f":"MIN(H232*parameters!C$22,ROUND(O232+S232-U232,0))","v":3868805},28.353169169116192,null,0,0,0,3.1691691161910285E-3,null,4.4558720328370133E-2,1.2665501045458072,0,null,3.9899999999999998E-2]
[224,"ORLEANS",3849037500,14656443.910804689,256868000,3835048.8990777843,18491493,4637915.67,3826280,3826280,82.5,null,4116535,4.1799999999999997E-2,4288606,92.468391086550312,0,0,0,462326,462326,{"$f":"MIN(H233*parameters!C$22,ROUND(O233+S233-U233,0))","v":3826280},82.499990777107001,null,0,0,0,-9.2228929986504227E-6,null,0.12082910816772427,9.9683910865503123,0,null,4.1799999999999997E-2]
[225,"OTIS",656047100,2498109.5985674537,42432000,633511.35558212211,3131621,1618522,1335281,1335281,82.5,null,1282340,4.6500000000000007E-2,1341969,82.913238127130796,0,0,0,6688,6688,{"$f":"MIN(H234*parameters!C$22,ROUND(O234+S234-U234,0))","v":1335281},82.50002162466744,null,0,0,0,2.1624667439823497E-5,null,{"$f":"(O234-J234)/J234","v":5.008683565481723E-3},{"$f":"P234-K234","v":0.41323812713079633},0,null,4.6500000000000007E-2]
[226,"OXFORD",1288985500,4908225.4154682923,356027000,5315496.4977808297,10223722,21592984.559999999,17814212,10223722,47.35,null,10262300,4.0899999999999999E-2,10682028,49.46990060738505,0,0,0,458306,458306,{"$f":"MIN(H235*parameters!C$22,ROUND(O235+S235-U235,0))","v":10223722},47.347424213598387,null,0,0,0,-2.5757864016142662E-3,null,4.4827705604671177E-2,2.1199006073850484,0,null,4.0899999999999999E-2]
[227,"PALMER",896242200,3412729.4251604974,280742000,4191488.6168183475,7604218,18021490.400000002,14867730,7604218,42.2,null,7962447,3.9600000000000003E-2,8277760,45.932715975588785,0,0,0,673542,673542,{"$f":"MIN(H236*parameters!C$22,ROUND(O236+S236-U236,0))","v":7604218},42.195278144142833,null,0,0,0,-4.7218558571699987E-3,null,8.8574788360880757E-2,3.732715975588782,0,null,3.9600000000000003E-2]
[228,"PAXTON",450419600,1715116.9880072833,195918000,2925063.1071582343,4640180,6772667,5587450,4640180,68.510000000000005,null,4465180,3.5200000000000002E-2,4622354,68.250129527998354,0.25987047200165136,0,0,0,0,{"$f":"MIN(H237*parameters!C$22,ROUND(O237+S237-U237,0))","v":4622354},68.250129527998354,null,-17826,17826,0,-0.25987047200165136,null,-3.8416613148627857E-3,-0.25987047200165136,0,null,3.5200000000000002E-2]
[229,"PEABODY",6526419100,24851432.462675259,1472311000,21981658.593713935,46833091,64836973.499999993,53490503,46833091,72.23,null,46489475,3.7999999999999999E-2,48256075,74.42678520458702,0,0,0,1422984,1422984,{"$f":"MIN(H238*parameters!C$22,ROUND(O238+S238-U238,0))","v":46833091},72.232074496814704,null,0,0,0,2.0744968146999554E-3,null,3.0384157219091091E-2,2.196785204587016,0,null,3.7999999999999999E-2]
[230,"PELHAM",180375200,686836.38486249559,43888000,655249.49033248902,1342086,1316742.6499999999,1086313,1086313,82.5,null,1322882,2.8500000000000001E-2,1360584,103.32953064138995,0,0,0,274271,274271,{"$f":"MIN(H239*parameters!C$22,ROUND(O239+S239-U239,0))","v":1086313},82.500023827738858,null,0,0,0,2.3827738857562508E-5,null,0.2524787975472999,20.829530641389951,0,null,2.8500000000000001E-2]
[231,"PEMBROKE",2383250400,9074989.7378248032,631329000,9425765.7100373674,18500755,30953452.00279,25536598,18500755,59.77,null,18171451,4.3900000000000008E-2,18969178,61.282916032403129,0,0,0,468423,468423,{"$f":"MIN(H240*parameters!C$22,ROUND(O240+S240-U240,0))","v":18500755},59.769601782484315,null,0,0,0,-3.9821751568780428E-4,null,2.5319128867984035E-2,1.5129160324031261,0,null,4.3900000000000008E-2]
[232,"PEPPERELL",1138423200,4334911.2024912173,379810000,5670577.5820994955,10005489,18164550,14985754,10005489,55.08,null,9687835,1.8200000000000001E-2,9864154,54.304422625388462,0.77557737461153664,0,0,0,0,{"$f":"MIN(H241*parameters!C$22,ROUND(O241+S241-U241,0))","v":9864154},54.304422625388462,null,-141335,141335,0,-0.77557737461153664,null,-1.4125746377813218E-2,-0.77557737461153664,0,null,1.8200000000000001E-2]
[233,"PERU",89124800,339371.24080024828,15358000,229295.517511082,568667,1116353.68,920992,568667,50.94,null,564090,3.8399999999999997E-2,585751,52.470020074641582,0,0,0,17084,17084,{"$f":"MIN(H242*parameters!C$22,ROUND(O242+S242-U242,0))","v":568667},50.939680693308595,null,0,0,0,-3.1930669140223245E-4,null,3.0042186376209628E-2,1.530020074641584,0,null,3.8399999999999997E-2]
[234,"PETERSHAM",151416500,576566.85325106815,33934000,506635.89602949971,1083203,1420003.31,1171503,1083203,76.28,null,1111982,2.8500000000000001E-2,1143673,80.540164374687265,0,0,0,60470,60470,{"$f":"MIN(H243*parameters!C$22,ROUND(O243+S243-U243,0))","v":1083203},76.281723596827391,null,0,0,0,1.7235968273894287E-3,null,5.5825177736767713E-2,4.2601643746872639,0,null,2.8500000000000001E-2]
[235,"PHILLIPSTON",190957600,727132.26455753611,39414000,588452.50209544122,1315585,2526832,2084636,1315585,52.06,null,1385130,4.4299999999999999E-2,1446491,57.245238306306078,0,0,0,130906,130906,{"$f":"MIN(H244*parameters!C$22,ROUND(O244+S244-U244,0))","v":1315585},52.064601049852143,null,0,0,0,4.6010498521411591E-3,null,9.9504022925162569E-2,5.1852383063060756,0,null,4.4299999999999999E-2]
[236,"PITTSFIELD",3452075400,13144883.487357205,1026115000,15319935.535283493,28464819,68905111.570000008,56846717,28464819,41.31,null,29005679,2.4199999999999999E-2,29707616,43.113805816597996,0,0,0,1242797,1242797,{"$f":"MIN(H245*parameters!C$22,ROUND(O245+S245-U245,0))","v":28464819},41.310170394373252,null,0,0,0,1.7039437324939399E-4,null,4.3660808101397025E-2,1.8038058165979933,0,null,2.4199999999999999E-2]
[237,"PLAINFIELD",87121300,331742.27242171281,12135000,181176.0063157299,512918,605647.88,499660,499660,82.5,null,487069,4.1700000000000001E-2,507380,83.77475043749844,0,0,0,7720,7720,{"$f":"MIN(H246*parameters!C$22,ROUND(O246+S246-U246,0))","v":499660},82.50008239110818,null,0,0,0,8.2391108179535877E-5,null,1.5450506344314134E-2,1.2747504374984402,0,null,4.1700000000000001E-2]
[238,"PLAINVILLE",1227709400,4674897.0255207121,315181000,4705664.1818375001,9380561,13538902.16,11169594,9380561,69.290000000000006,null,8738096,5.0799999999999998E-2,9181991,67.819317190486288,1.4706828095137183,0,0,0,0,{"$f":"MIN(H247*parameters!C$22,ROUND(O247+S247-U247,0))","v":9181991},67.819317190486288,null,-198570,198570,0,-1.4706828095137183,null,-2.1168243562405275E-2,-1.4706828095137183,0,null,5.0799999999999998E-2]
[239,"PLYMOUTH",8960909400,34121534.542311549,1756708000,26227716.49797225,60349251,84831859.535599992,69986284,60349251,71.14,null,61240645,4.3400000000000001E-2,63898489,75.323692478042133,0,0,0,3549238,3549238,{"$f":"MIN(H248*parameters!C$22,ROUND(O248+S248-U248,0))","v":60349251},71.139842189447961,null,0,0,0,-1.5781055203945016E-4,null,5.8811632972876497E-2,4.1836924780421327,0,null,4.3400000000000001E-2]
[240,"PLYMPTON",508346600,1935692.6063069708,91922000,1372398.9165681519,3308092,4349778.8599999994,3588568,3308092,76.05,null,3080504,6.0400000000000002E-2,3266566,75.097288968846584,0.95271103115341305,0,0,0,0,{"$f":"MIN(H249*parameters!C$22,ROUND(O249+S249-U249,0))","v":3266566},75.097288968846584,null,-41526,41526,0,-0.95271103115341305,null,-1.2552855241027155E-2,-0.95271103115341305,0,null,6.0400000000000002E-2]
[241,"PRINCETON",459644500,1750243.7513689762,165478000,2470592.762514574,4220837,4367966,3603572,3603572,82.5,null,3894873,2.9600000000000001E-2,4010161,91.80842982752155,0,0,0,406589,406589,{"$f":"MIN(H250*parameters!C$22,ROUND(O250+S250-U250,0))","v":3603572},82.500001144697549,null,0,0,0,1.1446975491935518E-6,null,0.11282943701416262,9.3084298275215502,0,null,2.9600000000000001E-2]
[242,"PROVINCETOWN",2588786400,9857633.9328089152,120356000,1796919.6057796448,11654554,1347322.27,1111541,1111541,82.5,null,1287747,3.1300000000000001E-2,1328053,98.569809879265193,0,0,0,216512,216512,{"$f":"MIN(H251*parameters!C$22,ROUND(O251+S251-U251,0))","v":1111541},82.50000944465944,null,0,0,0,9.4446594403052586E-6,null,0.19478543751422575,16.069809879265193,0,null,3.1300000000000001E-2]
[243,"QUINCY",11574140000,44072247.601069354,2686819000,40114308.703191027,84186556,110212799.19363996,90925559,84186556,76.39,null,82789984,0.04,86101583,78.123034375274855,0,0,0,1915027,1915027,{"$f":"MIN(H252*parameters!C$22,ROUND(O252+S252-U252,0))","v":84186556},76.385462138646176,null,0,0,0,-4.5378613538247237E-3,null,2.2747420621411333E-2,1.7330343752748547,0,null,0.04]
[244,"RANDOLPH",2778259700,10579114.249393273,822829000,12284867.911064336,22863982,40727434.611719996,33600134,22863982,56.14,null,23593677,3.6900000000000002E-2,24464284,60.068315702261287,0,0,0,1600302,1600302,{"$f":"MIN(H253*parameters!C$22,ROUND(O253+S253-U253,0))","v":22863982},56.13901837416617,null,0,0,0,-9.8162583383043511E-4,null,6.9992269937931201E-2,3.9283157022612869,0,null,3.6900000000000002E-2]
[245,"RAYNHAM",1862199900,7090922.9606248578,450654000,6728281.1660658382,13819204,22683885,18714205,13819204,60.92,null,13773200,3.6700000000000003E-2,14278676,62.946342745080926,0,0,0,459472,459472,{"$f":"MIN(H254*parameters!C$22,ROUND(O254+S254-U254,0))","v":13819204},60.920799060654737,null,0,0,0,7.9906065473522858E-4,null,3.3248803621395269E-2,2.0263427450809246,0,null,3.6700000000000003E-2]
[246,"READING",4027651700,15336574.72376072,1170343000,17473264.998728495,32809840,39919224.190400004,32933360,32809840,82.19,null,30340027,4.58E-2,31729600,79.484510642445073,2.7054893575549244,0.01,303400,0,0,{"$f":"MIN(H255*parameters!C$22,ROUND(O255+S255-U255,0))","v":32033000},80.24454545312399,null,-1080240,776840,0,-1.9454545468760074,null,-3.2924269060745193E-2,-2.7054893575549244,0,null,4.58E-2]
[247,"REHOBOTH",1581077700,6020460.0835076515,436156000,6511825.4808935719,12532286,18181613.920000002,14999831,12532286,68.930000000000007,null,12387866,4.7400000000000005E-2,12975051,71.363582227028161,0,0,0,442765,442765,{"$f":"MIN(H256*parameters!C$22,ROUND(O256+S256-U256,0))","v":12532286},68.928347368625666,null,0,0,0,-1.6526313743412402E-3,null,3.5329946986527437E-2,2.433582227028154,0,null,4.7400000000000005E-2]
[248,"REVERE",4135457600,15747080.240166787,1031104000,15394421.492886228,31141502,87853264.122129992,72478943,31141502,35.450000000000003,null,30336604,3.9600000000000003E-2,31537934,35.898420297915465,0,0,0,396432,396432,{"$f":"MIN(H257*parameters!C$22,ROUND(O257+S257-U257,0))","v":31141502},35.44717696169873,null,0,0,0,-2.8230383012726179E-3,null,1.2730021821041259E-2,0.44842029791546167,0,null,3.9600000000000003E-2]
[249,"RICHMOND",471800300,1796530.8558440455,71037000,1060585.0812237747,2857116,1238912.1900000002,1022103,1022103,82.5,null,1243404,3.3099999999999997E-2,1284561,103.68458800942138,0,0,0,262458,262458,{"$f":"MIN(H258*parameters!C$22,ROUND(O258+S258-U258,0))","v":1022103},82.500035777353986,null,0,0,0,3.5777353986077287E-5,null,0.25678233994029959,21.184588009421375,0,null,3.3099999999999997E-2]
[250,"ROCHESTER",849130600,3233336.9087331397,196673000,2936335.2855487061,6169672,9655932.5599999987,7966144,6169672,63.9,null,6006657,3.2800000000000003E-2,6203675,64.247290061851885,0,0,0,34003,34003,{"$f":"MIN(H259*parameters!C$22,ROUND(O259+S259-U259,0))","v":6169672},63.895143857549904,null,0,0,0,-4.8561424500945805E-3,null,5.5113140536482332E-3,0.34729006185188638,0,null,3.2800000000000003E-2]
[251,"ROCKLAND",1738672800,6620553.9365209453,446182000,6661514.0379039971,13282068,27720716.019840002,22869591,13282068,47.91,null,13784806,4.6699999999999998E-2,14428556,52.049723353730599,0,0,0,1146488,1146488,{"$f":"MIN(H260*parameters!C$22,ROUND(O260+S260-U260,0))","v":13282068},47.913870588674143,null,0,0,0,3.8705886741468021E-3,null,8.6318485946616147E-2,4.1397233537306022,0,null,4.6699999999999998E-2]
[252,"ROCKPORT",1812691400,6902403.4792329324,300398000,4484953.4359483011,11387357,7990845.8438600004,6592448,6592448,82.5,null,7039861,2.92E-2,7245425,90.671565208171714,0,0,0,652977,652977,{"$f":"MIN(H261*parameters!C$22,ROUND(O261+S261-U261,0))","v":6592448},82.500002237754344,null,0,0,0,2.2377543444918047E-6,null,9.9049245439630312E-2,8.1715652081717138,0,null,2.92E-2]
[253,"ROWE",275867200,1050452.7803719083,10382000,155003.65039719059,1205456,676330.15,557972,557972,82.5,null,525865,2.6699999999999998E-2,539906,79.828764102857164,2.6712358971428358,0.01,5259,0,0,{"$f":"MIN(H262*parameters!C$22,ROUND(O262+S262-U262,0))","v":545165},80.606342922905327,null,-18066,12807,0,-1.893657077094673,null,-3.2377968786964223E-2,-2.6712358971428358,0,null,2.6699999999999998E-2]
[254,"ROWLEY",896934500,3415365.5792949921,232867000,3476713.0665616048,6892079,8652688.4351799991,7138468,6892079,79.650000000000006,null,6843307,4.1700000000000001E-2,7128673,82.386798662671424,0,0,0,236594,236594,{"$f":"MIN(H263*parameters!C$22,ROUND(O263+S263-U263,0))","v":6892079},79.652457749180769,null,0,0,0,2.4577491807633578E-3,null,3.4328393507967625E-2,2.7367986626714185,0,null,4.1700000000000001E-2]
[255,"ROYALSTON",121315500,461947.6482786219,27679000,413248.51082102087,875196,1424326,1175069,875196,61.45,null,443700,4.8899999999999999E-2,465397,32.674893247753673,28.77510675224633,0.02,8874,0,0,{"$f":"MIN(H264*parameters!C$22,ROUND(O264+S264-U264,0))","v":474271},33.297924772839927,null,-409799,400925,0,-28.152075227160076,null,-0.46823682923596543,-28.77510675224633,8874,null,4.8899999999999999E-2]
[256,"RUSSELL",144138700,548854.29719151964,39869000,595245.66920493089,1144100,2896728.86,2389801,1144100,39.5,null,1135411,3.6900000000000002E-2,1177308,40.642671678977926,0,0,0,33208,33208,{"$f":"MIN(H265*parameters!C$22,ROUND(O265+S265-U265,0))","v":1144100},39.496275119101071,null,0,0,0,-3.7248808989289728E-3,null,2.9025434839611921E-2,1.1426716789779263,0,null,3.6900000000000002E-2]
[257,"RUTLAND",765014800,2913039.0408343556,261517000,3904458.6438954049,6817498,15685188.960000001,12940281,6817498,43.46,null,6858603,5.6299999999999996E-2,7244742,46.188426664641213,0,0,0,427244,{"$f":"MAX(T266*(U$5),0)","v":427244},{"$f":"MIN(H266*parameters!C$22,ROUND(O266+S266-U266,0))","v":6817498},43.464557662555563,null,0,{"$f":"MAX(J266-(O266+S266),0)","v":0},0,4.5576625555625583E-3,null,6.2668738590022324E-2,2.7284266646412121,{"$f":"IF(AD266<$AF$5, $AF$6*(M266), IF(AND(AD266<$AF$4, AD266>$AF$5), $AF$7*(M266), 0))","v":0},null,5.6299999999999996E-2]
[258,"SALEM",4232985800,{"$f":"D$5*C267","v":16118450.119785197},1104855000,16495526.696165288,{"$f":"ROUND(D267+F267,0)","v":32613977},{"$f":"(SUMIF(town1755,A267,found1755)/2)","v":55182653.829999998},{"$f":"ROUND(H267*maxloc,0)","v":45525689},{"$f":"MIN(G267,I267)","v":32613977},{"$f":"IF(H267>0, ROUND((J267*100/H267), 2), 0)","v":59.1},null,{"$f":"(SUMIF(town1755,A267,pynetmin)/2)","v":33120233},{"$f":"IF($N$5=1,AH267, IF( $N$5=2, AI267, IF($N$5=3, AJ267, IF($N$5=4, AK267, 0))))","v":2.3800000000000002E-2},{"$f":"ROUND(M267*(1+N267),0)","v":33908495},{"$f":"O267*100/H267","v":61.447742445408956},{"$f":"IF(K267>P267,K267-P267,0)","v":0},{"$f":"IF(AND(Q267>$S$4,Q267<=$S$5),$R$4,IF(Q267>$S$5,$R$5,0))","v":0},{"$f":"ROUND(R267*M267,0)","v":0},{"$f":"MAX(O267-J267,0)","v":1294518},1294518,{"$f":"MIN(H267*parameters!C$22,ROUND(O267+S267-U267,0))","v":32613977},{"$f":"V267*100/H267","v":59.101863967023348},null,{"$f":"IF(P267<K267, O267-J267, 0)","v":0},0,{"$f":"IF(P267>K267, V267-J267,0)","v":0},{"$f":"W267-K267","v":1.8639670233469019E-3},null,3.969212341076956E-2,2.3477424454089544,0,null,2.3800000000000002E-2]
[259,"SALISBURY",1438390300,5477132.0762126977,211458000,{"$f":"E268*F$5","v":3157075.891513112},8634208,10105082.76,8336693,8336693,82.5,null,8558978,4.5600000000000002E-2,8949267,88.562035685890805,0,0,0,612574,612574,{"$f":"MIN(H268*parameters!C$22,ROUND(O268+S268-U268,0))","v":8336693},82.499997258805237,null,0,0,0,-2.741194762734267E-6,null,7.3479256103109472E-2,6.0620356858908053,0,null,4.5600000000000002E-2]
[260,"SANDISFIELD",226036300,860705.65764969087,14914000,222666.58081522834,1083372,877512,723947,723947,82.5,null,800023,3.4500000000000003E-2,827624,94.314835580596053,0,0,0,103677,103677,{"$f":"MIN(H269*parameters!C$22,ROUND(O269+S269-U269,0))","v":723947},82.499954416577779,null,0,0,0,-4.5583422220829561E-5,null,0.14321075990369461,11.814835580596053,0,null,3.4500000000000003E-2]
[261,"SANDWICH",3811136400,14512123.325123776,696140000,10393396.377143158,24905520,29932309.329999994,24694155,24694155,82.5,null,26030971,4.0800000000000003E-2,27093035,90.514349231469751,0,0,0,2398880,2398880,{"$f":"MIN(H270*parameters!C$22,ROUND(O270+S270-U270,0))","v":24694155},82.499999341013108,null,0,0,0,-6.5898689172172453E-7,null,9.7143635811794332E-2,8.0143492314697511,0,null,4.0800000000000003E-2]
[262,"SAUGUS",3766040400,14340405.851703044,788288000,11769169.482209649,26109575,31994733.50144,26395655,26109575,81.61,null,26487962,4.3499999999999997E-2,27640188,86.389805368299093,0,0,0,1530613,1530613,{"$f":"MIN(H271*parameters!C$22,ROUND(O271+S271-U271,0))","v":26109575},81.605852409506326,null,0,0,0,-4.1475904936731922E-3,null,5.8622670035801044E-2,4.779805368299094,0,null,4.3499999999999997E-2]
[263,"SAVOY",66024800,251410.58717201313,15331000,228892.40649579361,480303,903501.67,745389,480303,53.16,null,480593,3.7199999999999997E-2,498471,55.171010364596228,0,0,0,18168,18168,{"$f":"MIN(H272*parameters!C$22,ROUND(O272+S272-U272,0))","v":480303},53.16016737412339,null,0,0,0,1.6737412339296043E-4,null,3.7826122260323169E-2,2.0110103645962312,0,null,3.7199999999999997E-2]
[264,"SCITUATE",4103737600,15626296.173799358,936989000,13989281.003854096,29615577,28700917.99712,23678257,23678257,82.5,null,24237174,4.3700000000000003E-2,25296339,88.13773483669884,0,0,0,1618082,1618082,{"$f":"MIN(H273*parameters!C$22,ROUND(O273+S273-U273,0))","v":23678257},82.499998788805286,null,0,0,0,-1.2111947143012003E-6,null,6.8336195523175547E-2,5.63773483669884,0,null,4.3700000000000003E-2]
[265,"SEEKONK",2074658800,7899928.316171864,468667000,6997215.9334136127,14897144,19910158.679999996,16425881,14897144,74.819999999999993,null,15427089,4.07E-2,16054972,80.637087117379039,0,0,0,1157828,1157828,{"$f":"MIN(H274*parameters!C$22,ROUND(O274+S274-U274,0))","v":14897144},74.821824574227875,null,0,0,0,1.8245742278821808E-3,null,7.7721474666553533E-2,5.8170871173790459,0,null,4.07E-2]
[266,"SHARON",2895867400,11026943.260809438,1095222000,16351705.64393295,27378649,32704090.17168,26980874,26980874,82.5,null,25932904,3.8300000000000001E-2,26926134,82.3326191270002,0.16738087299980009,0,0,0,0,{"$f":"MIN(H275*parameters!C$22,ROUND(O275+S275-U275,0))","v":26926134},82.3326191270002,null,-54740,54740,0,-0.16738087299980009,null,-2.0288445807945289E-3,-0.16738087299980009,0,null,3.8300000000000001E-2]
[267,"SHEFFIELD",672027800,2558961.2356859269,83929000,1253063.126005183,3812024,3913728.72,3228826,3228826,82.5,null,3522737,2.4199999999999999E-2,3607987,92.18796851101115,0,0,0,379161,379161,{"$f":"MIN(H276*parameters!C$22,ROUND(O276+S276-U276,0))","v":3228826},82.499995043090266,null,0,0,0,-4.956909734232795E-6,null,0.11742998848497875,9.6879685110111495,0,null,2.4199999999999999E-2]
[268,"SHELBURNE",238955100,909898.12916884432,34258577.340000004,511481.84792087041,1421380,1884966,1555097,1421380,75.41,null,1409478,3.6700000000000003E-2,1461206,77.518957901627928,0,0,0,39826,39826,{"$f":"MIN(H277*parameters!C$22,ROUND(O277+S277-U277,0))","v":1421380},75.406134646460472,null,0,0,0,-3.8653535395241079E-3,null,2.801924889895735E-2,2.1089579016279316,0,null,3.6700000000000003E-2]
[269,"SHERBORN",1153727900,4393188.7529494008,763134000,11393619.316336896,15786808,8750663.0839999989,7219297,7219297,82.5,null,7633627,3.3099999999999997E-2,7886300,90.122313295544089,0,0,0,667003,667003,{"$f":"MIN(H278*parameters!C$22,ROUND(O278+S278-U278,0))","v":7219297},82.499999493752654,null,0,0,0,-5.0624734626580903E-7,null,9.2391683012902778E-2,7.6223132955440889,0,null,3.3099999999999997E-2]
[270,"SHIRLEY",556300200,2118291.3075981801,178601000,2666519.6459823386,4784811,8711871,7187294,4784811,54.92,null,4659445,3.9399999999999998E-2,4843027,55.591123881425702,0,0,0,58216,58216,{"$f":"MIN(H279*parameters!C$22,ROUND(O279+S279-U279,0))","v":4784811},54.922886254858454,null,0,0,0,2.8862548584527303E-3,null,1.2166833757906007E-2,0.67112388142570012,0,null,3.9399999999999998E-2]
[271,"SHREWSBURY",4974698800,18942760.088813733,1692602000,25270611.507376768,44213372,57096131.690000013,47104309,44213372,77.44,null,38578814,4.3900000000000008E-2,40272424,70.534417670634298,6.9055823293656999,0.01,385788,0,0,{"$f":"MIN(H280*parameters!C$22,ROUND(O280+S280-U280,0))","v":40658212},71.210099172306982,null,-3940948,3555160,0,-6.2299008276930152,null,-8.913475316924481E-2,-6.9055823293656999,385788.14,null,4.3900000000000008E-2]
[272,"SHUTESBURY",216229500,823363.1235370771,43286000,646261.60769531806,1469625,2742364.09,2262450,1469625,53.59,null,1449421,3.3799999999999997E-2,1498411,54.639389622404224,0,0,0,28786,28786,{"$f":"MIN(H281*parameters!C$22,ROUND(O281+S281-U281,0))","v":1469625},53.589711350107422,null,0,0,0,-2.8864989258181595E-4,null,1.9587309687845538E-2,1.0493896224042203,0,null,3.3799999999999997E-2]
[273,"SOMERSET",2214243800,8431442.9411371108,549342000,8201696.7170577422,16633140,25330274.259999998,20897476,16633140,65.67,null,17697420,5.5999999999999991E-3,17796526,70.257928585096977,0,0,0,1163386,1163386,{"$f":"MIN(H282*parameters!C$22,ROUND(O282+S282-U282,0))","v":16633140},65.665060825125082,null,0,0,0,-4.939174874920127E-3,null,6.994385906689897E-2,4.5879285850969751,0,null,5.5999999999999991E-3]
[274,"SOMERVILLE",10446575400,39778683.998296209,2332152000,34819117.056550652,74597801,64208758.285060003,52972226,52972226,82.5,null,52703692,4.5100000000000001E-2,55080629,85.783669504189859,0,0,0,2108403,2108403,{"$f":"MIN(H283*parameters!C$22,ROUND(O283+S283-U283,0))","v":52972226},82.500000646057501,null,0,0,0,6.4605750083046587E-7,null,3.9802046453550961E-2,3.2836695041898594,0,null,4.5100000000000001E-2]
[275,"SOUTHAMPTON",676154500,2574674.9685572535,207363000,3095937.3875277052,5670612,8924940.6400000006,7363076,5670612,63.54,null,5446806,4.07E-2,5668491,63.5129266249103,2.7073375089699425E-2,0,0,0,0,{"$f":"MIN(H284*parameters!C$22,ROUND(O284+S284-U284,0))","v":5668491},63.5129266249103,null,-2121,2121,0,-2.7073375089699425E-2,null,-3.7403370218240994E-4,-2.7073375089699425E-2,0,null,4.07E-2]
[276,"SOUTHBOROUGH",2275902400,8666227.8224272374,928490000,13862390.61426387,22528618,18141978.80624,14967133,14967133,82.5,null,16094300,4.7500000000000001E-2,16858779,92.926902737872027,0,0,0,1891646,1891646,{"$f":"MIN(H285*parameters!C$22,ROUND(O285+S285-U285,0))","v":14967133},82.500002672541981,null,0,0,0,2.672541981496579E-6,null,0.12638666336431967,10.426902737872027,0,null,4.7500000000000001E-2]
[277,"SOUTHBRIDGE",953583100,3631073.2798631499,321987000,4807278.0177653832,8438351,30310969.959999993,25006550,8438351,27.84,null,8612847,3.6299999999999999E-2,8925493,29.446411684543804,0,0,0,487142,487142,{"$f":"MIN(H286*parameters!C$22,ROUND(O286+S286-U286,0))","v":8438351},27.839264171142354,null,0,0,0,-7.3582885764622574E-4,null,5.7729525590959653E-2,1.6064116845438043,0,null,3.6299999999999999E-2]
[278,"SOUTH HADLEY",1482316700,5644395.9227726674,475577000,7100382.4932522364,12744778,19296183.16,15919351,12744778,66.05,null,12680992,3.7199999999999997E-2,13152725,68.162314230437687,0,0,0,407947,407947,{"$f":"MIN(H287*parameters!C$22,ROUND(O287+S287-U287,0))","v":12744778},66.048181105677273,null,0,0,0,-1.8188943227244181E-3,null,3.2008953000201339E-2,2.1123142304376898,0,null,3.7199999999999997E-2]
[279,"SOUTHWICK",1006180000,3831352.8340977351,312576000,4666771.4338809717,8498124,13547480,11176671,8498124,62.73,null,8009794,4.1799999999999997E-2,8344603,61.595241329014698,1.134758670985299,0,0,0,0,{"$f":"MIN(H288*parameters!C$22,ROUND(O288+S288-U288,0))","v":8344603},61.595241329014698,null,-153521,153521,0,-1.134758670985299,null,-1.8065281231481208E-2,-1.134758670985299,0,null,4.1799999999999997E-2]
[280,"SPENCER",971709400,3700094.97665369,277733000,4146564.1336700958,7846659,18223331.759999998,15034249,7846659,43.06,null,6452924,4.5400000000000003E-2,6745887,37.017857595103131,6.0421424048968717,0.01,64529,0,0,{"$f":"MIN(H289*parameters!C$22,ROUND(O289+S289-U289,0))","v":6810416},37.371958595127943,null,-1100772,1036243,0,-5.6880414048720596,null,-0.14028543868160959,-6.0421424048968717,129058.48,null,4.5400000000000003E-2]
[281,"SPRINGFIELD",7077664000,26950474.095282666,2084349000,31119408.948346544,58069883,345592031.43000001,285113426,58069883,16.8,null,36066908,-5.9999999999999995E-4,36045268,10.430005533070574,6.3699944669294268,0.01,360669,0,0,{"$f":"MIN(H290*parameters!C$22,ROUND(O290+S290-U290,0))","v":36405937},10.534368182437117,null,-22024615,21663946,0,-6.265631817562884,null,-0.37927775745647707,-6.3699944669294268,721338.16,null,-5.9999999999999995E-4]
[282,"STERLING",990201200,3770508.4318382181,318680000,4757904.3834113562,8528413,11999000,9899175,8528413,71.08,null,8678105,4.4900000000000002E-2,9067752,75.570897574797897,0,0,0,539339,539339,{"$f":"MIN(H291*parameters!C$22,ROUND(O291+S291-U291,0))","v":8528413},71.076031335944663,null,0,0,0,-3.9686640553355801E-3,null,6.3240253491476078E-2,4.4908975747978985,0,null,4.4900000000000002E-2]
[283,"STOCKBRIDGE",827768800,3151995.0087038912,62622000,934948.81479222397,4086944,1521419,1255171,1255171,82.5,null,1359333,3.6999999999999998E-2,1409628,92.652188516115544,0,0,0,154457,154457,{"$f":"MIN(H292*parameters!C$22,ROUND(O292+S292-U292,0))","v":1255171},82.50002136163674,null,0,0,0,2.1361636740380163E-5,null,0.12305653970654197,10.152188516115544,0,null,3.6999999999999998E-2]
[284,"STONEHAM",3164899700,12051369.968822747,803339000,11993881.478176527,24045251,24797725.041999996,20458123,20458123,82.5,null,20765955,3.5400000000000001E-2,21501070,86.705816616578986,0,0,0,1042947,1042947,{"$f":"MIN(H293*parameters!C$22,ROUND(O293+S293-U293,0))","v":20458123},82.499999356190955,null,0,0,0,-6.4380904518657189E-7,null,5.0979603554050387E-2,4.2058166165789856,0,null,3.5400000000000001E-2]
[285,"STOUGHTON",3210961200,12226763.892939499,792521000,11832368.331384309,24059132,40908227.719349995,33749288,24059132,58.81,null,24943678,5.2600000000000001E-2,26255715,64.181990919104976,0,0,0,2196583,2196583,{"$f":"MIN(H294*parameters!C$22,ROUND(O294+S294-U294,0))","v":24059132},58.812452509693529,null,0,0,0,2.4525096935263946E-3,null,9.1299345296413856E-2,5.3719909191049737,0,null,5.2600000000000001E-2]
[286,"STOW",1223186500,4657674.6341659436,394334000,5887421.4482494472,10545096,12483232.815819999,10298667,10298667,82.5,null,10231060,4.2199999999999994E-2,10662811,85.417064291927815,0,0,0,364144,364144,{"$f":"MIN(H295*parameters!C$22,ROUND(O295+S295-U295,0))","v":10298667},82.499999414803042,null,0,0,0,-5.8519695755876455E-7,null,3.5358362397774394E-2,2.9170642919278151,0,null,4.2199999999999994E-2]
[287,"STURBRIDGE",1138346300,4334618.3810945069,361107000,5391341.0888054622,9725959,17202739.079999998,14192260,9725959,56.54,null,10116009,3.6400000000000002E-2,10484232,60.945131767934718,0,0,0,758273,758273,{"$f":"MIN(H296*parameters!C$22,ROUND(O296+S296-U296,0))","v":9725959},56.537269761345478,null,0,0,0,-2.7302386545215995E-3,null,7.7963828554078837E-2,4.4051317679347193,0,null,3.6400000000000002E-2]
[288,"SUDBURY",4154472500,15819485.566256637,1802401000,26909914.70617865,42729400,39720449.494369991,32769371,32769371,82.5,null,34542164,4.1000000000000009E-2,35958393,90.528665857864397,0,0,0,3189022,3189022,{"$f":"MIN(H297*parameters!C$22,ROUND(O297+S297-U297,0))","v":32769371},82.500000420802778,null,0,0,0,4.2080277751210815E-7,null,9.7317156316488351E-2,8.0286658578643966,0,null,4.1000000000000009E-2]
[289,"SUNDERLAND",351627700,1338935.1656187444,89881000,1341926.7098198698,2680862,3303896.4,2725715,2680862,81.14,null,2667178,4.1200000000000001E-2,2777066,84.054269982557571,0,0,0,96204,96204,{"$f":"MIN(H298*parameters!C$22,ROUND(O298+S298-U298,0))","v":2680862},81.142435337863503,null,0,0,0,2.4353378635026957E-3,null,{"$f":"(O298-J298)/J298","v":3.5885472657675034E-2},{"$f":"P298-K298","v":2.9142699825575704},0,null,4.1200000000000001E-2]
[290,"SUTTON",1234142300,4699392.3540369496,401098000,5988408.222597992,10687801,15127052.630000001,12479818,10687801,70.650000000000006,null,10608161,4.0800000000000003E-2,11040974,72.988269890087636,0,0,0,353173,353173,{"$f":"MIN(H299*parameters!C$22,ROUND(O299+S299-U299,0))","v":10687801},70.65355863708659,null,0,0,0,3.5586370865843264E-3,null,3.3044496243895258E-2,2.3382698900876306,0,null,4.0800000000000003E-2]
[291,"SWAMPSCOTT",2380319800,9063830.5390575789,916172000,13678482.411066741,22742313,20466082.009999998,16884518,16884518,82.5,null,17331503,3.6400000000000002E-2,17962370,87.766529965155755,0,0,0,1077852,1077852,{"$f":"MIN(H300*parameters!C$22,ROUND(O300+S300-U300,0))","v":16884518},82.500001669835981,null,0,0,0,1.6698359814881769E-6,null,6.3836705317853903E-2,5.2665299651557547,0,null,3.6400000000000002E-2]
[292,"SWANSEA",1954736100,7443284.2002903596,473342000,7067013.8592089182,14510298,22742540.07,18762596,14510298,63.8,null,14703312,4.6699999999999998E-2,15389957,67.670352355676869,0,0,0,879659,879659,{"$f":"MIN(H301*parameters!C$22,ROUND(O301+S301-U301,0))","v":14510298},63.802451068958369,null,0,0,0,2.4510689583721046E-3,null,6.062308299939808E-2,3.8703523556768715,0,null,4.6699999999999998E-2]
[293,"TAUNTON",4620384400,17593594.45184854,1232738000,18404824.694984775,35998419,96817862.73999998,79874737,35998419,37.18,null,37434149,4.2199999999999994E-2,39013870,40.296148764169679,0,0,0,3015451,3015451,{"$f":"MIN(H302*parameters!C$22,ROUND(O302+S302-U302,0))","v":35998419},37.18158817105077,null,0,0,0,1.5881710507699154E-3,null,8.3766206510347024E-2,3.1161487641696795,0,null,4.2199999999999994E-2]
[294,"TEMPLETON",571482700,2176103.5423908504,182779000,2728897.3430888173,4905001,12446778,10268592,4905001,39.409999999999997,null,4291805,3.6900000000000002E-2,4450173,35.753614308859689,3.6563856911403079,0.01,42918,0,0,{"$f":"MIN(H303*parameters!C$22,ROUND(O303+S303-U303,0))","v":4493091},36.098426436142752,null,-454828,411910,0,-3.3115735638572446,null,-9.2727402094311503E-2,-3.6563856911403079,42918.05,null,3.6900000000000002E-2]
[295,"TEWKSBURY",3979613200,15153652.738508774,1025213000,15306468.64136534,30460121,40254818.521389998,33210225,30460121,75.67,null,30651133,4.1900000000000007E-2,31935415,79.333148609353785,0,0,0,1475294,1475294,{"$f":"MIN(H304*parameters!C$22,ROUND(O304+S304-U304,0))","v":30460121},75.668260642672038,null,0,0,0,-1.7393573279633756E-3,null,4.8433622440304816E-2,3.6631486093537831,0,null,4.1900000000000007E-2]
[296,"TISBURY",2627842800,10006353.693517391,84054722.5,1254940.1676577607,11261294,5625498.9900000002,4641037,4641037,82.5,null,4679381,3.3000000000000002E-2,4833801,85.926617507045364,0,0,0,192764,192764,{"$f":"MIN(H305*parameters!C$22,ROUND(O305+S305-U305,0))","v":4641037},82.500005923918934,null,0,0,0,5.9239189340587473E-6,null,4.1534682873676725E-2,3.4266175070453642,0,null,3.3000000000000002E-2]
[297,"TOLLAND",187789200,715067.56607460533,9865000,147284.82095629795,862352,559813,461846,461846,82.5,null,386537,4.4600000000000001E-2,403777,72.127121020769437,10.372878979230563,0.02,7731,0,0,{"$f":"MIN(H306*parameters!C$22,ROUND(O306+S306-U306,0))","v":411508},73.50811788936663,null,-58069,50338,0,-8.9918821106333695,null,-0.12573238698613823,-10.372878979230563,7730.74,null,4.4600000000000001E-2]
[298,"TOPSFIELD",1227689500,4674821.2498926949,424597000,6339249.176237328,11014070,10200591.062479999,8415488,8415488,82.5,null,9133877,4.6100000000000002E-2,9554949,93.670542633016524,0,0,0,1139461,1139461,{"$f":"MIN(H307*parameters!C$22,ROUND(O307+S307-U307,0))","v":8415488},82.500003661101587,null,0,0,0,3.6611015872267672E-6,null,0.1354004663781827,11.170542633016524,0,null,4.6100000000000002E-2]
[299,"TOWNSEND",784187600,2986045.6217816905,265865000,3969374.4473944404,6955420,14140470,11665888,6955420,49.19,null,7323994,4.3799999999999999E-2,7644785,54.063160559726796,0,0,0,689365,689365,{"$f":"MIN(H308*parameters!C$22,ROUND(O308+S308-U308,0))","v":6955420},49.188039718623216,null,0,0,0,-1.9602813767818361E-3,null,9.9111915599633088E-2,4.8731605597267986,0,null,4.3799999999999999E-2]
[300,"TRURO",2128228900,8103913.6413203459,67589000,1009106.3115676859,9113020,1911080.1199999996,1576641,1576641,82.5,null,1650908,4.1500000000000002E-2,1719421,89.97116248585121,0,0,0,142780,142780,{"$f":"MIN(H309*parameters!C$22,ROUND(O309+S309-U309,0))","v":1576641},82.499994819683451,null,0,0,0,-5.1803165490582614E-6,null,9.0559613761154248E-2,7.4711624858512096,0,null,4.1500000000000002E-2]
[301,"TYNGSBOROUGH",1414054300,5384464.956442276,441797000,6596045.8230136409,11980511,17984016.57,14836814,11980511,66.62,null,12100740,3.0499999999999999E-2,12469813,69.338309111666931,0,0,0,489302,489302,{"$f":"MIN(H310*parameters!C$22,ROUND(O310+S310-U310,0))","v":11980511},66.617548718150445,null,0,0,0,-2.4512818495594502E-3,null,4.08414966607017E-2,2.718309111666926,0,null,3.0499999999999999E-2]
[302,"TYRINGHAM",193652900,737395.48316031462,5830000,87042.119227087387,824438,249733.64,206030,206030,82.5,null,224515,3.6200000000000003E-2,232642,93.156052184239172,0,0,0,26612,26612,{"$f":"MIN(H311*parameters!C$22,ROUND(O311+S311-U311,0))","v":206030},82.499898692062473,null,0,0,0,-1.013079375269399E-4,null,0.12916565548706499,10.656052184239172,0,null,3.6200000000000003E-2]
[303,"UPTON",987457600,3760061.295505126,336430000,5022912.5508694695,8782974,13543323.72776,11173242,8782974,64.849999999999994,null,7627493,4.1099999999999998E-2,7940983,58.633930338113537,6.2160696618864577,0.01,76275,0,0,{"$f":"MIN(H312*parameters!C$22,ROUND(O312+S312-U312,0))","v":8017258},59.197122960052106,null,-841991,765716,0,-5.6528770399478887,null,-9.5866274908704044E-2,-6.2160696618864577,76274.930000000008,null,4.1099999999999998E-2]
[304,"UXBRIDGE",1443118800,5495137.3554629618,440236000,6572740.0343149295,12067877,20856322.940000001,17206466,12067877,57.86,null,12316074,4.3400000000000001E-2,12850592,61.614849544518989,0,0,0,782715,782715,{"$f":"MIN(H313*parameters!C$22,ROUND(O313+S313-U313,0))","v":12067877},57.861958863588633,null,0,0,0,1.9588635886336192E-3,null,6.4859378331416542E-2,3.75484954451899,0,null,4.3400000000000001E-2]
[305,"WAKEFIELD",4105702600,15633778.541088514,1011423000,15100583.422816193,30734362,33658451.418119997,27768222,27768222,82.5,null,28489130,4.7400000000000005E-2,29839515,88.653855845358123,0,0,0,2071293,2071293,{"$f":"MIN(H314*parameters!C$22,ROUND(O314+S314-U314,0))","v":27768222},82.499998752322284,null,0,0,0,-1.2476777158099139E-6,null,7.4592208316398512E-2,6.1538558453581231,0,null,4.7400000000000005E-2]
[306,"WALES",166569500,634266.75733888836,38485000,574582.49716199969,1208849,2766188.6599999997,2282106,1208849,43.7,null,1236469,3.8199999999999998E-2,1283702,46.406885349605915,0,0,0,74853,74853,{"$f":"MIN(H315*parameters!C$22,ROUND(O315+S315-U315,0))","v":1208849},43.700887704456143,null,0,0,0,8.8770445614017035E-4,null,6.1920885073321816E-2,2.706885349605912,0,null,3.8199999999999998E-2]
[307,"WALPOLE",3918309500,14920219.252715299,1097694000,16388612.696888244,31308832,38597936.441239998,31843298,31308832,81.12,null,30910984,4.36E-2,32258703,83.576237421680304,0,0,0,949871,949871,{"$f":"MIN(H316*parameters!C$22,ROUND(O316+S316-U316,0))","v":31308832},81.11530016031648,null,0,0,0,-4.6998396835249423E-3,null,3.0338755530707757E-2,2.4562374216802993,0,null,4.36E-2]
[308,"WALTHAM",9539477600,36324618.396879151,1904528000,28434674.656488214,64759293,62218743.565559998,51330463,51330463,82.5,null,51151815,4.9500000000000002E-2,53683830,86.282407717592775,0,0,0,2353367,2353367,{"$f":"MIN(H317*parameters!C$22,ROUND(O317+S317-U317,0))","v":51330463},82.499999290266928,null,0,0,0,-7.0973307231270155E-7,null,4.5847375271093893E-2,3.7824077175927755,0,null,4.9500000000000002E-2]
[309,"WARE",729348600,2777228.5531964614,214006000,3195117.6273262543,5972346,16124594.989999996,13302791,5972346,37.04,null,6182619,3.2000000000000001E-2,6380463,39.569756660288071,0,0,0,408117,408117,{"$f":"MIN(H318*parameters!C$22,ROUND(O318+S318-U318,0))","v":5972346},37.038734949335932,null,0,0,0,-1.2650506640667913E-3,null,6.8334453496163822E-2,2.5297566602880721,0,null,3.2000000000000001E-2]
[310,"WAREHAM",3242971300,12348652.608034961,482538000,7204310.4850086262,19552963,34300020.950000003,28297517,19552963,57.01,null,20719958,3.61E-2,21467948,62.588731450906003,0,0,0,1914985,1914985,{"$f":"MIN(H319*parameters!C$22,ROUND(O319+S319-U319,0))","v":19552963},57.00568821372687,null,0,0,0,-4.3117862731278933E-3,null,9.7938353384088128E-2,5.5787314509060053,0,null,3.61E-2]
[311,"WARREN",317967900,1210764.6890388452,89891000,1342076.0101959025,2552841,9001865,7426539,2552841,28.36,null,2695028,3.6600000000000001E-2,2793666,31.034302336238103,0,0,0,240825,240825,{"$f":"MIN(H320*parameters!C$22,ROUND(O320+S320-U320,0))","v":2552841},28.359023380155111,null,0,0,0,-9.7661984488794928E-4,null,9.4336074984693527E-2,2.6743023362381031,0,null,3.6600000000000001E-2]
[312,"WARWICK",80977300,308347.02324890433,15362000,229355.23766149508,537702,792237,653596,537702,67.87,null,518312,3.3399999999999999E-2,535624,67.609061429849902,0.26093857015010258,0,0,0,0,{"$f":"MIN(H321*parameters!C$22,ROUND(O321+S321-U321,0))","v":535624},67.609061429849902,null,-2078,2078,0,-0.26093857015010258,null,-3.8645941432243138E-3,-0.26093857015010258,0,null,3.3399999999999999E-2]
[313,"WASHINGTON",80744000,307458.65872546419,12962000,193523.14741363749,500982,611801.96,504737,500982,81.89,null,445988,4.4699999999999997E-2,465924,76.156016237672731,5.73398376232727,0.01,4460,0,0,{"$f":"MIN(H322*parameters!C$22,ROUND(O322+S322-U322,0))","v":470384},76.885010306276243,null,-35058,30598,0,-5.0049896937237577,null,-6.9978562104027683E-2,-5.73398376232727,4459.88,null,4.4699999999999997E-2]
[314,"WATERTOWN",5632812800,21448740.071579639,1266237000,18904966.024656851,40353706,26987815.659180008,22264948,22264948,82.5,null,24409669,4.6899999999999997E-2,25554482,94.688960094877288,0,0,0,3289534,3289534,{"$f":"MIN(H323*parameters!C$22,ROUND(O323+S323-U323,0))","v":22264948},82.500000300789424,null,0,0,0,3.0078942359068606E-7,null,0.14774496666239686,12.188960094877288,0,null,4.6899999999999997E-2]
[315,"WAYLAND",3174625500,12088404.069474587,1937745000,28930605.715556163,41019010,24685878.323630001,20365850,20365850,82.5,null,21902917,4.3799999999999999E-2,22862265,92.61272659727733,0,0,0,2496415,2496415,{"$f":"MIN(H324*parameters!C$22,ROUND(O324+S324-U324,0))","v":20365850},82.500001551515581,null,0,0,0,1.5515155808998315E-6,null,0.1225784830979311,10.11272659727733,0,null,4.3799999999999999E-2]
[316,"WEBSTER",1433490800,5458475.6596563533,385262000,5751976.1471125456,11210452,23845378.859999996,19672438,11210452,47.01,null,11413450,3.78E-2,11844878,49.673683398125732,0,0,0,634426,634426,{"$f":"MIN(H325*parameters!C$22,ROUND(O325+S325-U325,0))","v":11210452},47.013100801703942,null,0,0,0,3.1008017039440006E-3,null,5.6592365767232221E-2,2.663683398125734,0,null,3.78E-2]
[317,"WELLESLEY",10212968600,38889151.23552563,4775204000,71293975.283304393,110183127,48641677.772080004,40129384,40129384,82.5,null,40415173,4.4500000000000005E-2,42213648,86.78493410075248,0,0,0,2084264,2084264,{"$f":"MIN(H326*parameters!C$22,ROUND(O326+S326-U326,0))","v":40129384},82.499999667022166,null,0,0,0,-3.3297783375019208E-7,null,5.1938599406360191E-2,4.2849341007524799,0,null,4.4500000000000005E-2]
[318,"WELLFLEET",2315999400,8818910.0011515375,103842000,1550364.9647991781,10369275,2822887.74,2328882,2328882,82.5,null,2477109,2.7699999999999999E-2,2545725,90.181588305031212,0,0,0,216843,216843,{"$f":"MIN(H327*parameters!C$22,ROUND(O327+S327-U327,0))","v":2328882},82.499986343771496,null,0,0,0,-1.365622850357795E-5,null,9.3110342215706937E-2,7.6815883050312124,0,null,2.7699999999999999E-2]
[319,"WENDELL",94635600,360355.37803031231,16673000,248928.51695938729,609284,1007785,831423,609284,60.46,null,616028,4.2500000000000003E-2,642209,63.724802413213133,0,0,0,32925,32925,{"$f":"MIN(H328*parameters!C$22,ROUND(O328+S328-U328,0))","v":609284},60.457736521182596,null,0,0,0,-2.2634788174045184E-3,null,5.4038839030731152E-2,3.2648024132131326,0,null,4.2500000000000003E-2]
[320,"WENHAM",713636100,2717398.1735369964,354569000,5293728.502955257,8011127,5730927,4728015,4728015,82.5,null,4557636,3.7699999999999997E-2,4729459,82.525200547834586,0,0,0,1444,1444,{"$f":"MIN(H329*parameters!C$22,ROUND(O329+S329-U329,0))","v":4728015},82.500003926066412,null,0,0,0,3.9260664124185496E-6,null,3.054135826557234E-4,2.5200547834586473E-2,0,null,3.7699999999999997E-2]
[321,"WESTBOROUGH",3486951200,13277684.273669222,1009538000,15072440.301934021,28350125,33281472.910000004,27457215,27457215,82.5,null,28458271,3.7499999999999999E-2,29525456,88.714390976153453,0,0,0,2068241,{"$f":"MAX(T330*(U$5),0)","v":2068241},{"$f":"MIN(H330*parameters!C$22,ROUND(O330+S330-U330,0))","v":27457215},82.499999547045277,null,0,{"$f":"MAX(J330-(O330+S330),0)","v":0},0,-4.5295472261841496E-7,null,7.5325957130029389E-2,6.214390976153453,{"$f":"IF(AD330<$AF$5, $AF$6*(M330), IF(AND(AD330<$AF$4, AD330>$AF$5), $AF$7*(M330), 0))","v":0},null,3.7499999999999999E-2]
[322,"WEST BOYLSTON",870068600,{"$f":"D$5*C331","v":3313065.0544330524},225629000,3368649.4543891079,{"$f":"ROUND(D331+F331,0)","v":6681715},{"$f":"(SUMIF(town1755,A331,found1755)/2)","v":8930152.6600000001},{"$f":"ROUND(H331*maxloc,0)","v":7367376},{"$f":"MIN(G331,I331)","v":6681715},{"$f":"IF(H331>0, ROUND((J331*100/H331), 2), 0)","v":74.819999999999993},null,{"$f":"(SUMIF(town1755,A331,pynetmin)/2)","v":6777592},{"$f":"IF($N$5=1,AH331, IF( $N$5=2, AI331, IF($N$5=3, AJ331, IF($N$5=4, AK331, 0))))","v":3.78E-2},{"$f":"ROUND(M331*(1+N331),0)","v":7033785},{"$f":"O331*100/H331","v":78.764442980978103},{"$f":"IF(K331>P331,K331-P331,0)","v":0},{"$f":"IF(AND(Q331>$S$4,Q331<=$S$5),$R$4,IF(Q331>$S$5,$R$5,0))","v":0},{"$f":"ROUND(R331*M331,0)","v":0},{"$f":"MAX(O331-J331,0)","v":352070},352070,{"$f":"MIN(H331*parameters!C$22,ROUND(O331+S331-U331,0))","v":6681715},{"$f":"V331*100/H331","v":74.821957187011847},null,{"$f":"IF(P331<K331, O331-J331, 0)","v":0},0,{"$f":"IF(P331>K331, V331-J331,0)","v":0},{"$f":"W331-K331","v":1.9571870118539891E-3},null,5.2691561971739291E-2,3.9444429809781099,0,null,3.78E-2]
[323,"WEST BRIDGEWATER",996335700,3793867.5067162444,212878000,{"$f":"E332*F$5","v":3178276.5449097613},6972144,10470350.729999999,8638039,6972144,66.59,null,7272374,4.07E-2,7568360,72.28372950597425,0,0,0,596216,596216,{"$f":"MIN(H332*parameters!C$22,ROUND(O332+S332-U332,0))","v":6972144},66.589402588235941,null,0,0,0,-5.9741176406191698E-4,null,8.5514011185081659E-2,5.6937295059742468,0,null,4.07E-2]
[324,"WEST BROOKFIELD",354767800,1350892.1027814294,113168000,1689602.4954873114,3040495,5456474.4199999999,4501591,3040495,55.72,null,2708438,3.4200000000000001E-2,2801067,51.334740794038211,4.3852592059617876,0.01,27084,0,0,{"$f":"MIN(H333*parameters!C$22,ROUND(O333+S333-U333,0))","v":2828151},51.831105257889213,null,-239428,212344,0,-3.8888947421107858,null,-7.8746388334794165E-2,-4.3852592059617876,27084.38,null,3.4200000000000001E-2]
[325,"WESTFIELD",3076262300,11713854.659735851,1007205000,15037608.524205582,26751463,59194723.68,48835647,26751463,45.19,null,27452394,3.4299999999999997E-2,28394011,47.967131586752259,0,0,0,1642548,1642548,{"$f":"MIN(H334*parameters!C$22,ROUND(O334+S334-U334,0))","v":26751463},{"$f":"V334*100/H334","v":45.192309950824999},null,0,0,0,{"$f":"W334-K334","v":2.3099508250012946E-3},null,6.1400305471143765E-2,2.7771315867522617,0,null,3.4299999999999997E-2]
[326,"WESTFORD",4111703000,15656626.987237036,1206896000,18019002.663240969,33675630,45928066.36552,37890655,33675630,73.319999999999993,null,32830461,5.74E-2,34714929,75.585435545490014,0,0,0,1039299,1039299,{"$f":"MIN(H335*parameters!C$22,ROUND(O335+S335-U335,0))","v":33675630},73.322551252193833,null,0,0,0,2.5512521938395594E-3,null,3.0862050687693147E-2,2.2654355454900212,0,null,5.74E-2]
[327,"WESTHAMPTON",219564300,836061.44335177145,49503000,739081.65147487249,1575143,2209669.62,1822977,1575143,71.28,null,1658351,3.61E-2,1718217,77.759000008336088,0,0,0,143074,143074,{"$f":"MIN(H336*parameters!C$22,ROUND(O336+S336-U336,0))","v":1575143},71.284095402461105,null,0,0,0,4.0954024611039586E-3,null,9.0832387916525675E-2,6.4790000083360866,0,null,3.61E-2]
[328,"WESTMINSTER",856074400,3259777.6527445568,248380000,3708322.7399011943,6968100,12724716,10497891,6968100,54.76,null,7086522,3.9199999999999999E-2,7364314,57.874093221412565,0,0,0,396214,396214,{"$f":"MIN(H337*parameters!C$22,ROUND(O337+S337-U337,0))","v":6968100},54.76035771643155,null,0,0,0,3.5771643155158017E-4,null,5.686112426629928E-2,3.1140932214125669,0,null,3.9199999999999999E-2]
[329,"WEST NEWBURY",804289500,3062590.0487587214,245509000,3665458.6019421946,6728049,6377488.96,5261428,5261428,82.5,null,5235435,4.2599999999999999E-2,5458465,85.5895640782105,0,0,0,197037,197037,{"$f":"MIN(H338*parameters!C$22,ROUND(O338+S338-U338,0))","v":5261428},82.49999385338019,null,0,0,0,-6.1466198104653813E-6,null,3.7449338848692788E-2,3.0895640782105005,0,null,4.2599999999999999E-2]
[330,"WESTON",5594429400,21302582.974069942,3630013000,54196230.590373442,75498814,21270619.953260001,17548261,17548261,82.5,null,19415591,4.3299999999999998E-2,20256286,95.231291069611999,0,0,0,2708025,2708025,{"$f":"MIN(H339*parameters!C$22,ROUND(O339+S339-U339,0))","v":17548261},82.499997830625048,null,0,0,0,-2.1693749516771277E-6,null,0.15431870998499508,12.731291069611999,0,null,4.3299999999999998E-2]
[331,"WESTPORT",3052146400,11622025.641258225,518707000,7744315.0150814429,19366341,17252835.330000002,14233589,14233589,82.5,null,14825605,3.85E-2,15396391,89.239772509901997,0,0,0,1162802,1162802,{"$f":"MIN(H340*parameters!C$22,ROUND(O340+S340-U340,0))","v":14233589},82.499999146517084,null,0,0,0,-8.5348291634090856E-7,null,8.169422343163063E-2,6.7397725099019965,0,null,3.85E-2]
[332,"WEST SPRINGFIELD",2654054200,10106161.999859864,704535000,10518734.042822642,20624896,42891023.810000002,35385095,20624896,48.09,null,20188627,4.4000000000000003E-3,20277457,47.27669148170888,0.81330851829112305,0,0,0,0,{"$f":"MIN(H341*parameters!C$22,ROUND(O341+S341-U341,0))","v":20277457},47.27669148170888,null,-347439,347439,0,-0.81330851829112305,null,-1.6845612215450688E-2,-0.81330851829112305,0,null,4.4000000000000003E-3]
[333,"WEST STOCKBRIDGE",380910500,1450438.8118553194,50278000,750652.43061740987,2201091,1620858,1337208,1337208,82.5,null,1454156,3.3300000000000003E-2,1502579,92.702692031010741,0,0,0,165371,165371,{"$f":"MIN(H342*parameters!C$22,ROUND(O342+S342-U342,0))","v":1337208},82.500009254357877,null,0,0,0,9.2543578773529589E-6,null,0.12366886826881084,10.202692031010741,0,null,3.3300000000000003E-2]
[334,"WEST TISBURY",2472763000,9415837.6514162663,83823000,1251480.5420192359,10667318,3642822,3005328,3005328,82.5,null,3092528,3.2599999999999997E-2,3193344,87.661269202832315,0,0,0,188016,188016,{"$f":"MIN(H343*parameters!C$22,ROUND(O343+S343-U343,0))","v":3005328},82.499995882313215,null,0,0,0,-4.1176867853209842E-6,null,6.256089185606363E-2,5.1612692028323153,0,null,3.2599999999999997E-2]
[335,"WESTWOOD",3698071400,14081592.099908346,1471793000,21973924.834235441,36055517,29779338.822689999,24567955,24567955,82.5,null,24963761,4.4999999999999998E-2,26087130,87.601441238592017,0,0,0,1519175,1519175,{"$f":"MIN(H344*parameters!C$22,ROUND(O344+S344-U344,0))","v":24567955},82.500001582576274,null,0,0,0,1.582576274472558E-6,null,6.1835631007953244E-2,5.1014412385920167,0,null,4.4999999999999998E-2]
[336,"WEYMOUTH",6202696700,23618755.670549672,1618152000,24159070.207813021,47777826,70191686.724899977,57908142,47777826,68.069999999999993,null,44064014,3.3300000000000003E-2,45531346,64.867148980832368,3.2028510191676247,0.01,440640,0,0,{"$f":"MIN(H345*parameters!C$22,ROUND(O345+S345-U345,0))","v":45971986},65.494915630360225,null,-2246480,1805840,0,-2.5750843696397681,null,-4.7019301380519074E-2,-3.2028510191676247,0,null,3.3300000000000003E-2]
[337,"WHATELY",260658200,992539.6383358984,35720000,533300.94318894704,1525841,1724782.8399999999,1422946,1422946,82.5,null,1445125,4.4299999999999999E-2,1509144,87.497623758826364,0,0,0,86198,86198,{"$f":"MIN(H346*parameters!C$22,ROUND(O346+S346-U346,0))","v":1422946},82.5000091025952,null,0,0,0,9.1025952002610211E-6,null,6.05771406645087E-2,4.9976237588263643,0,null,4.4299999999999999E-2]
[338,"WHITMAN",1328007600,5056814.5679335026,393827000,5879851.919184587,10936666,24253735.640000001,20009332,10936666,45.09,null,9256883,4.4999999999999998E-2,9673443,39.8843425342126,5.2056574657874037,0.01,92569,0,0,{"$f":"MIN(H347*parameters!C$22,ROUND(O347+S347-U347,0))","v":9766012},40.266011574289593,null,-1263223,1170654,0,-4.8239884257104109,null,-0.11550348159119059,-5.2056574657874037,185137.66,null,4.4999999999999998E-2]
[339,"WILBRAHAM",1658972800,6317070.6424010172,614660000,9176896.9132283926,15493968,22846917,18848707,15493968,67.819999999999993,null,15287635,4.0099999999999997E-2,15900669,69.59656307238302,0,0,0,406701,406701,{"$f":"MIN(H348*parameters!C$22,ROUND(O348+S348-U348,0))","v":15493968},67.816449808085707,null,0,0,0,-3.5501919142859606E-3,null,2.6248989284087847E-2,1.776563072383027,0,null,4.0099999999999997E-2]
[340,"WILLIAMSBURG",324336900,1235016.6978249159,59542848,888976.95964602765,2123994,2676173.0099999998,2207843,2123994,79.37,null,2135042,3.8100000000000002E-2,2216387,82.819271837735187,0,0,0,92393,92393,{"$f":"MIN(H349*parameters!C$22,ROUND(O349+S349-U349,0))","v":2123994},79.366841832098146,null,0,0,0,-3.1581679018586328E-3,null,4.3499652070580236E-2,3.4492718377351821,0,null,3.8100000000000002E-2]
[341,"WILLIAMSTOWN",1044563700,3977511.0739535834,241281000,3602334.4029555526,7579845,6914280.7599999998,5704282,5704282,82.5,null,5832596,2.8400000000000002E-2,5998242,86.751496044253784,0,0,0,293960,293960,{"$f":"MIN(H350*parameters!C$22,ROUND(O350+S350-U350,0))","v":5704282},82.50000539463197,null,0,0,0,5.3946319695796774E-6,null,5.153321662568576E-2,4.2514960442537841,0,null,2.8400000000000002E-2]
[342,"WILMINGTON",3771818200,14362406.677007511,832334000,12426777.918483457,26789185,37643220.813259996,31055657,26789185,71.17,null,27108844,4.7100000000000003E-2,28385671,75.407126135181869,0,0,0,1596486,1596486,{"$f":"MIN(H351*parameters!C$22,ROUND(O351+S351-U351,0))","v":26789185},71.166027829806183,null,0,0,0,-3.9721701938191245E-3,null,5.9594422152073681E-2,4.2371261351818674,0,null,4.7100000000000003E-2]
[343,"WINCHENDON",661966200,2520648.4689090503,202634000,3025333.2397018224,5545982,17191072.460000001,14182635,5545982,32.26,null,5620883,4.2299999999999997E-2,5858646,34.079584119209741,0,0,0,312664,312664,{"$f":"MIN(H352*parameters!C$22,ROUND(O352+S352-U352,0))","v":5545982},32.260826152087546,null,0,0,0,8.2615208754788227E-4,null,5.6376670533730543E-2,1.8195841192097433,0,null,4.2299999999999997E-2]
[344,"WINCHESTER",6044138800,23014995.647955719,2013779000,30065796.1946835,53080792,40898325.511779994,33741119,33741119,82.5,null,32479624,4.07E-2,33801545,82.647747987296199,0,0,0,60426,60426,{"$f":"MIN(H353*parameters!C$22,ROUND(O353+S353-U353,0))","v":33741119},82.500001107090569,null,0,0,0,1.1070905685528487E-6,null,1.7908712511876088E-3,0.14774798729619931,0,null,4.07E-2]
[345,"WINDSOR",114955700,437730.67144118249,21253000,317308.08918238216,755039,932595.88,769392,755039,80.959999999999994,null,787579,3.6799999999999999E-2,816562,87.557967766274075,0,0,0,61523,61523,{"$f":"MIN(H354*parameters!C$22,ROUND(O354+S354-U354,0))","v":755039},80.961005317758861,null,0,0,0,1.0053177588673634E-3,null,8.1483208152161674E-2,6.5979677662740812,0,null,3.6799999999999999E-2]
[346,"WINTHROP",1716742400,6537046.9097534716,524203000,7826370.5017490368,14363417,20625341.633919992,17015907,14363417,69.64,null,14267288,3.3000000000000002E-2,14738109,71.456314574503935,0,0,0,374692,374692,{"$f":"MIN(H355*parameters!C$22,ROUND(O355+S355-U355,0))","v":14363417},69.639656180910166,null,0,0,0,-3.4381908983505127E-4,null,2.608655029649282E-2,1.8163145745039344,0,null,3.3000000000000002E-2]
[347,"WOBURN",6189092800,23566954.46120365,1290418000,19265989.26394162,42832944,51131987.561499998,42183890,42183890,82.5,null,42065103,5.2999999999999999E-2,44294553,86.627872516639144,0,0,0,2110663,2110663,{"$f":"MIN(H356*parameters!C$22,ROUND(O356+S356-U356,0))","v":42183890},82.500000511934928,null,0,0,0,5.119349282267649E-7,null,5.0034811867753305E-2,4.1278725166391439,0,null,5.2999999999999999E-2]
[348,"WORCESTER",11615944200,44231430.490957037,3528203000,52676203.461984113,96907634,329468506.71999997,271811518,96907634,29.41,null,96374700,2.6699999999999998E-2,98947904,30.032583382572358,0,0,0,2040270,2040270,{"$f":"MIN(H357*parameters!C$22,ROUND(O357+S357-U357,0))","v":96907634},29.413322373284469,null,0,0,0,3.322373284468938E-3,null,2.1053759294133629E-2,0.62258338257235835,0,null,2.6699999999999998E-2]
[349,"WORTHINGTON",164406000,626028.53767981101,30928000,461756.20299405808,1087785,1164871.5999999999,961019,961019,82.5,null,902354,3.15E-2,930778,79.903913873426063,2.5960861265739368,0.01,9024,0,0,{"$f":"MIN(H358*parameters!C$22,ROUND(O358+S358-U358,0))","v":939802},80.678591528886116,null,-30241,21217,0,-1.8214084711138838,null,-3.1467640077875669E-2,-2.5960861265739368,0,null,3.15E-2]
[350,"WRENTHAM",1832199200,6976685.6800489016,545171000,8139423.5302144866,15116109,18048344.43011,14889884,14889884,82.5,null,13566927,4.4199999999999996E-2,14166585,78.492434887079881,4.0075651129201191,0.01,135669,0,0,{"$f":"MIN(H359*parameters!C$22,ROUND(O359+S359-U359,0))","v":14302254},79.244132642657192,null,-723299,587630,0,-3.2558673573428081,null,-4.8576536929367614E-2,-4.0075651129201191,0,null,4.4199999999999996E-2]
[351,"YARMOUTH",5463786300,20805117.499263927,620640000,9266178.5380959716,30071296,25355422,20918223,20918223,82.5,null,21466323,2.9499999999999998E-2,22099580,87.159188279335282,0,0,0,1181357,1181357,{"$f":"MIN(H360*parameters!C$22,ROUND(O360+S360-U360,0))","v":20918223},82.499999408410559,null,0,0,0,-5.9158944054615858E-7,null,5.6475017022239414E-2,4.6591882793352823,0,null,2.9499999999999998E-2]
[999,"STATE TOTAL",{"$f":"SUM(C10:C360)","v":977191967900},3720971611.1145201,249227209601.84,3720971611.1145225,7441943229,10090177272.100748,8324396254,5953204595,{"$f":"J361*100/H361","v":59.000000044206942},null,{"$f":"SUM(M10:M360)","v":5817618237},null,{"$f":"SUM(O10:O360)","v":6055936166},null,null,null,{"$f":"SUM(S10:S360)","v":5848739},{"$f":"SUM(T10:T360)","v":235358789},{"$f":"SUM(U10:U360)","v":235358789},{"$f":"SUM(V10:V360)","v":5826426116},57.743545617479064,null,{"$f":"SUM(Y10:Y360)","v":-132627218},{"$f":"SUM(Z10:Z360)*-1","v":-126778479},{"$f":"SUM(AA10:AA360)","v":0},null,null,null,null,null,null,4.0899999999999999E-2]
[999,"STATE TOTAL FY15",975688844600,3470845213.3025312,224782705522,3470845213.3025322,6941690429,9711217584.8007889,8011754510,5729618371,58.999999958476209,null,5582113529,null,5780112868,null,null,null,3853059,234519331,35177899.649999999,5748475142.9800005,59.194175115353687,null,null,180171775]
[null,null,null,null,null,null,null,null,null,null,null,null,null,null,null,null,null,null,null,null,null,null,null,null,null,null,null,null,"min",{"$f":"MIN(AD10:AD360)","v":-0.6507957597416153},{"$f":"MIN(AE10:AE360)","v":-28.77510675224633}]
[null,null,null,null,null,null,null,null,null,{"$f":"H361-J361","v":4136972677.1007481},{"$f":"COUNTIF(K10:K360,\">82.499\")","v":143},"capped at 82.5",null,{"$f":"COUNTIF(N10:N360,\"<0\")","v":1},"negative",null,{"$f":"COUNTIF(Q10:Q360,\">0\")","v":73},{"$f":"COUNTIF(R10:R360,\".01\")","v":30},{"$f":"COUNTIF(S10:S360,\">0\")","v":44},{"$f":"COUNTIF(T10:T360,\">0\")","v":278},null,null,null,null,{"$f":"COUNTIF(Y10:Y360,\"<0\")","v":73},{"$f":"COUNTIF(Z10:Z360,\">0\")","v":73},{"$f":"COUNTIF(AA10:AA360,\">0\")","v":0},null,"median",{"$f":"MEDIAN(AD10:AD360)","v":5.0929102080743582E-2},{"$f":"MEDIAN(AE10:AE360)","v":3.1140932214125669}]
[null,null,null,null,null,null,null,null,null,null,{"$f":"K364/351","v":0.40740740740740738},null,null,null,null,null,null,{"$f":"COUNTIF(R10:R360,\".02\")","v":14},null,null,null,null,null,null,null,null,null,null,"max",{"$f":"MAX(AD10:AD360)","v":0.28998554150108657},{"$f":"MAX(AE10:AE360)","v":23.923857620202114}]

{"sheet":"aid436","index":13,"n_rows":455,"n_cols":45,"rows_kept":455,"cut":false,"hidden":false,"merged":[[3,18,3,20],[4,26,4,29],[4,30,4,31],[4,5,4,8],[4,11,4,12],[4,13,4,15]]}
[null,null,null,"disthist","disthist",null,null,null,null,null,null,null,null,null,null,null,"c70fy15",null,"new 10/30/2011",null,"new 10/30/2012"]
[]
[1,2,3,4,5,6,7,8,9,10,11,12,13,14,15,16,17,18,19,20,21,22,23,24,25,26,27,28,29,30,31,32,33,34,35,36,37,38]
[null,null,"nonop",null,"priorc70","found","prelcont436","foundaid","foundinc",null,null,null,"downaid",null,null,"growthaid",null,"enro","Target Aid Share Floor Calculation",null,null,"prelimc70","prelimc70perc",null,null,null,null,null,"targaid",null,null,"minaid",null,"rednonop","chapter70"]
[null,null,null,null,null,"Foundation Aid Calculation",null,null,null,null,null,"Downpayment Aid Calculation",null,"Growth Aid Calculation",null,null,null,null,{"$f":"parameters!C10","v":"no"},null,null,null,null,null,null,null,"Target Aid Calculation",null,null,null,"Minimum Aid Calculation"]
[null,null,null,null,{"$f":"basecut","v":0},null,null,null,null,null,null,{"$f":"downpct","v":0},null,null,null,{"$f":"parameters!C9","v":"no"},null,null,{"$f":"aidfloor","v":5},null,null,null,null,null,null,null,{"$f":"ceyperc","v":1.4},null,{"$f":"targaidperc","v":0},null,{"$f":"mininc","v":25}]
[null,null,null,"foundation","chapter 70 ","foundation","required",null,null,"district","foundation aid","increase over FY15","down-payment",null,"target share",null,"foundation","foundation","target aid","prelim c70","target aid","prelim","prelim","operating dist",null,null,"CEY","C70","Target Aid","Target Aid",null,null,"c70 prior ",null,null,null,"required","nss "]
[null,null,null,"budget","FY15","budget","contribution","foundation","foundation","target aid","with effort","to reach","on full phase-in ","increase","times","growth","enrollment","enrollment","share","% of foundation","share","FY16","c70 pct of","foundation ",null,null,"% of FB","% of FB","Phase-In","Phase-In","Min Aid ","Addl Aid ","to non-op","non-op ","FY16",null,"nss","percent of",null,null,null,"Aid Comp'd","Distance from",null,"Base Aid"]
["LEA","District","Non-Op","FY15","base","FY16","FY16","aid","aid increase","percentage","fully reduced","full phase-in","of foundation aid","in foundation","increase","aid",15,16,"floor","budget","floor increase","chapter 70","foundation","aid?",null,null,"(Proportional)","Pre-Target Aid","FY15","FY14","Per Pupil","to Reach Min","reduction","reduction","Chapter 70",null,"FY16","foundation",null,"∆ in Foundation Budget","∆ in Aid","to Target","Aid Target",null,"Reduction"]
[1,"ABINGTON                     ",1,{"$f":"VLOOKUP(A10, disthist, 35, FALSE)","v":18287521.510000002},{"$f":"VLOOKUP(A10, disthist, 37, FALSE)*(1-$E$6)","v":7423394},{"$f":"SUMIF(dist1755,A10,found1755)","v":18870910.490000002},{"$f":"SUMIF(dist1755,A10,prelcont1755)","v":12546660},{"$f":"ROUND(MAX(found-prelcont436,0),0)","v":6324250},{"$f":"IF(foundaid>priorc70,foundaid-priorc70,0)","v":0},{"$f":"ROUND(100-'townwide contributions'!K10,2)","v":33.51},{"$f":"ROUND(J10/100*F10,0)","v":6323642},{"$f":"ROUND(IF(K10>priorc70,L$6*(K10-priorc70),0),0)","v":0},{"$f":"IF(L10>I10,L10-I10,0)","v":0},{"$f":"MAX(F10-D10,0)","v":583388.98000000045},{"$f":"(J10/100)*N10","v":195493.64719800014},{"$f":"IF(P$6=\"no\",0,ROUND(MAX(O10-foundinc-downaid,0),0))","v":0},1952,{"$f":"SUMIF(dist1755,A10,enro1755)","v":1955},{"$f":"J10-$S$6","v":28.509999999999998},{"$f":"IF(F10=0, 0, ((priorc70+foundinc+downaid+growthaid+targaid)/found*100))","v":39.337762764196114},{"$f":"IF(AND(T10>0, S10>T10,$S$5= \"yes\"), (((S10/100)*found)-(priorc70+foundinc+downaid+growthaid+minaid)), 0)","v":0},{"$f":"priorc70+foundinc+downaid+growthaid","v":7423394},{"$f":"IF(F10>0,V10*100/F10,0)","v":39.337762764196121},{"$f":"IF(AND(C10=1,I10>0),1,0)","v":0},null,null,{"$f":"IF(found>0, SUMIF(ceylea, A10, ceyproptotal)/found, 0)","v":0.84086360310309538},{"$f":"IF(found>0, prelimc70/found*100, 0)","v":39.337762764196114},{"$f":"IF(AND(nonop=1, J10>AB10, AA10<ceyperc), targaidperc*(((J10/100)*found)-prelimc70), 0)","v":0},0,{"$f":"IF(nonop=1,enro*$AE$6,0)","v":48875},{"$f":"IF(AND(nonop=1,(prelimc70+targaid)-priorc70<AE10),AE10-(prelimc70+targaid-priorc70),0)","v":48875},{"$f":"priorc70+foundinc+downaid+U10+growthaid+targaid+minaid","v":7472269},{"$f":"IF(AND(C10=0,AG10>found),AG10-found,0)","v":0},{"$f":"AG10-rednonop","v":7472269},null,{"$f":"prelcont436+chapter70","v":20018929},{"$f":"IF(found>0,AK10*100/found,0)","v":106.08353534721259},null,{"$f":"F10-D10","v":583388.98000000045},{"$f":"AI10-E10","v":48875},{"$f":"AI10-((J10/100)*F10)","v":1148626.8948010001},{"$f":"IF(C10=1, (AI10/F10*100)-J10, \"\")","v":6.0867592764518434},null,{"$f":"VLOOKUP(A10, disthist, 37, FALSE)*$E$6","v":0}]
[2,"ACTON                        ",0,0,0,0,0,0,0,{"$f":"ROUND(100-'townwide contributions'!K11,2)","v":22.66},0,0,0,0,0,0,0,0,17.66,0,0,0,0,0,null,null,0,0,0,0,0,0,0,0,0,null,0,0,null,0,0,{"$f":"AI11-((J11/100)*F11)","v":0},"",null,0]
[3,"ACUSHNET                     ",1,11538501.129999999,6150152,11701370.220000003,6709873,4991497,0,{"$f":"ROUND(100-'townwide contributions'!K12,2)","v":42.66},4991805,0,0,162869.09000000358,69479.953794001529,0,1251,1244,37.659999999999997,52.559246347817876,0,6150152,52.559246347817876,0,null,null,1.0271030771243728,52.559246347817876,0,0,31100,31100,6181252,0,6181252,null,12891125,110.16765351092359,null,162869.09000000358,31100,1189447.464147999,10.165027187286093,null,0]
[4,"ADAMS                        ",0,0,0,0,0,0,0,{"$f":"ROUND(100-'townwide contributions'!K13,2)","v":66.37},0,0,0,0,0,0,0,0,61.370000000000005,0,0,0,0,0,null,null,0,0,0,0,0,0,0,0,0,null,0,0,null,0,0,0,"",null,0]
[5,"AGAWAM                       ",1,40513463.040000007,18827346.812022001,40806967.850000001,22234809,18572159,0,{"$f":"ROUND(100-'townwide contributions'!K14,2)","v":45.51},18571251,0,0,293504.80999999493,133574.03903099769,0,4051,4013,40.51,46.137578467550853,0,18827346.812022001,46.137578467550853,0,null,null,0.54487775425343199,46.137578467550853,0,0,100325,100325,18927671.812022001,0,18927671.812022001,null,41162480.812022001,100.87120651386991,null,293504.80999999493,100325,356420.74348700047,0.87343108852671492,null,0]
[6,"ALFORD                       ",0,0,0,0,0,0,0,{"$f":"ROUND(100-'townwide contributions'!K15,2)","v":17.5},0,0,0,0,0,0,0,0,12.5,0,0,0,0,0,null,null,0,0,0,0,0,0,0,0,0,null,0,0,null,0,0,0,"",null,0]
[7,"AMESBURY                     ",1,23277123.93,8807407,23284050.52,14202425,9081626,274219,{"$f":"ROUND(100-'townwide contributions'!K16,2)","v":39},9080780,0,0,6926.589999999851,2701.3700999999419,0,2440,2394,34,39.003634664850402,0,9081626,39.003634664850402,1,null,null,0.66327056246267935,39.003634664850402,0,30426.522570000496,59850,0,9081626,0,9081626,null,23284051,100.00000206149699,null,6926.589999999851,274219,846.29719999991357,3.6346648504022028E-3,null,0]
[8,"AMHERST                      ",1,11927369.58,5925198,12222179.260000002,8979352,3242827,0,{"$f":"ROUND(100-'townwide contributions'!K17,2)","v":26.53},3242544,0,0,294809.68000000156,78213.00810400043,0,1205,1192,21.53,48.479063135586827,0,5925198,48.479063135586827,0,null,null,1.9855611514805136,48.479063135586827,0,0,29800,29800,5954998,0,5954998,null,14934350,122.19056587458363,null,294809.68000000156,29800,2712453.8423219989,22.1928821744511,null,0]
[9,"ANDOVER                      ",1,56905481.147259988,9042864.1595289409,57593754.781260006,47514848,10078907,1036042.8404710591,{"$f":"ROUND(100-'townwide contributions'!K18,2)","v":17.5},10078907,0,0,688273.63400001824,120447.88595000318,0,5998,5950,12.5,17.499999849427251,0,10078907,17.499999849427248,1,null,null,1.1216989600516649,17.499999849427251,0,515289.05294918688,148750,0,10078907,0,10078907,null,57593755,100.00000037979811,null,688273.63400001824,1036042.8404710591,-8.6720500141382217E-2,-1.5057274893592876E-7,null,0]
[10,"ARLINGTON                    ",1,47819420.315520003,10234582,50290292.382299997,39574733,10715559,480977,{"$f":"ROUND(100-'townwide contributions'!K19,2)","v":17.5},8800801,0,0,2470872.0667799935,432402.61168649886,0,5141,5318,12.5,21.307410421362778,0,10715559,21.307410421362775,1,null,null,1.1893111982515259,21.307410421362778,0,0,132950,0,10715559,0,10715559,null,50290292,99.999999239813533,null,2470872.0667799935,480977,1914757.8330975007,3.8074104213627784,null,0]
[11,"ASHBURNHAM                   ",0,0,0,0,0,0,0,{"$f":"ROUND(100-'townwide contributions'!K20,2)","v":55.82},0,0,0,0,0,0,0,0,50.82,0,0,0,0,0,null,null,0,0,0,0,0,0,0,0,0,null,0,0,null,0,0,0,"",null,0]
[12,"ASHBY                        ",0,0,0,0,0,0,0,{"$f":"ROUND(100-'townwide contributions'!K21,2)","v":47.77},0,0,0,0,0,0,0,0,42.77,0,0,0,0,0,null,null,0,0,0,0,0,0,0,0,0,null,0,0,null,0,0,0,"",null,0]
[13,"ASHFIELD                     ",0,207026.65000000002,93413,276131.65999999997,226993,49139,0,{"$f":"ROUND(100-'townwide contributions'!K22,2)","v":17.8},49151,0,0,69105.009999999951,12300.691779999992,0,14,19,12.8,33.829152368837391,0,93413,33.829152368837391,0,null,null,94.026933411300575,33.829152368837391,0,0,0,0,93413,0,93413,null,320406,116.03377895892127,null,69105.009999999951,0,44261.56452,"",null,0]
[14,"ASHLAND                      ",1,23394153.285179999,5517159.5103722075,23999962.492609996,18558228,5441734,0,{"$f":"ROUND(100-'townwide contributions'!K23,2)","v":22.67},5440791,0,0,605809.20742999762,137336.94732438048,0,2479,2494,17.670000000000002,22.988200552692682,0,5517159.5103722075,22.988200552692682,0,null,null,0.83531562047983943,22.988200552692682,0,54420.458104931517,62350,62350,5579509.5103722075,0,5579509.5103722075,null,24137737.510372207,100.57406347116014,null,605809.20742999762,62350,138718.01329752058,0.57799262536445184,null,0]
[15,"ATHOL                        ",0,0,0,0,0,0,0,{"$f":"ROUND(100-'townwide contributions'!K24,2)","v":70.02},0,0,0,0,0,0,0,0,65.02,0,0,0,0,0,null,null,0,0,0,0,0,0,0,0,0,null,0,0,null,0,0,0,"",null,0]
[16,"ATTLEBORO                    ",1,66876305.419999994,34235474,68325590.250000015,32304159,36021431,1785957,{"$f":"ROUND(100-'townwide contributions'!K25,2)","v":52.72},36021251,0,0,1449284.8300000206,764062.96237601084,0,6227,6292,47.72,52.720263181334161,0,36021431,52.720263181334161,1,null,null,0.47677714284336026,52.720263181334161,0,0,157300,0,36021431,0,36021431,null,68325590,99.999999634104853,null,1449284.8300000206,1785957,179.82019998878241,2.6318133416225464E-4,null,0]
[17,"AUBURN                       ",1,22469656.549999997,8389817.1613508761,22643826.370000001,13773515,8870311,480493.83864912391,{"$f":"ROUND(100-'townwide contributions'!K26,2)","v":39.17},8869587,0,0,174169.82000000402,68222.318494001578,0,2340,2343,34.17,39.173198270730246,0,8870311,39.173198270730246,1,null,null,0.68870481947801554,39.173198270730246,0,198776.79884637543,58575,0,8870311,0,8870311,null,22643826,99.99999836600054,null,174169.82000000402,480493.83864912391,724.21087099984288,3.1982707302447011E-3,null,0]
[18,"AVON                         ",1,5301350.57,946828.92975868739,5497208.8500000006,4116665,1380544,433715.07024131261,{"$f":"ROUND(100-'townwide contributions'!K27,2)","v":25.11},1380349,0,0,195858.28000000026,49180.014108000061,0,537,531,20.11,25.113544667308751,0,1380544,25.113544667308755,1,null,null,1.4621178472912757,25.113544667308751,0,28738.984090437443,13275,0,1380544,0,1380544,null,5497209,100.00000272865746,null,195858.28000000026,433715.07024131261,194.85776499984786,3.5446673087520253E-3,null,0]
[19,"AYER                         ",0,0,0,0,0,0,0,{"$f":"ROUND(100-'townwide contributions'!K28,2)","v":36.729999999999997},0,0,0,0,0,0,0,0,31.729999999999997,0,0,0,0,0,null,null,0,0,0,0,0,0,0,0,0,null,0,0,null,0,0,0,"",null,0]
[20,"BARNSTABLE                   ",1,53870372.68999999,8440922.3601875007,55521659.879999995,45805369,9716291,1275368.6398124993,{"$f":"ROUND(100-'townwide contributions'!K29,2)","v":17.5},9716290,0,0,1651287.1900000051,288975.25825000089,0,5423,5492,12.5,17.500000938372523,0,9716291,17.500000938372523,1,null,null,1.3028419548178565,17.500000938372523,0,507899.36018749978,137300,0,9716291,0,9716291,null,55521660,100.00000021613188,null,1651287.1900000051,1275368.6398124993,0.52100000157952309,9.3837252279627137E-7,null,0]
[21,"BARRE                        ",0,0,0,0,0,0,0,{"$f":"ROUND(100-'townwide contributions'!K30,2)","v":60.87},0,0,0,0,0,0,0,0,55.87,0,0,0,0,0,null,null,0,0,0,0,0,0,0,0,0,null,0,0,null,0,0,0,"",null,0]
[22,"BECKET                       ",0,246041.35,76563,118799.64000000001,98010,20790,0,{"$f":"ROUND(100-'townwide contributions'!K31,2)","v":17.5},20790,0,0,0,0,0,17,9,12.5,64.447164991409053,0,76563,64.447164991409053,0,null,null,238.75156221041334,64.447164991409053,0,0,0,0,76563,0,76563,null,174573,146.94741499216661,null,-127241.70999999999,0,55773.062999999995,"",null,0]
[23,"BEDFORD                      ",1,25862895.333689999,4145009.3652098598,26053076.229189999,21493787,4559289,414279.6347901402,{"$f":"ROUND(100-'townwide contributions'!K32,2)","v":17.5},4559288,0,0,190180.89550000057,33281.656712500095,0,2608,2585,12.5,17.500002532874596,0,4559289,17.5000025328746,1,null,null,0.88893420860856065,17.500002532874596,0,178047.58101737872,64625,0,4559289,0,4559289,null,26053076,99.999999120295826,null,190180.89550000057,414279.6347901402,0.65989175066351891,2.5328745962838184E-6,null,0]
[24,"BELCHERTOWN                  ",1,23327151.939999998,13481666,22973661.619999997,11198625,11775037,0,{"$f":"ROUND(100-'townwide contributions'!K33,2)","v":51.25},11774002,0,0,0,0,0,2493,2401,46.25,58.683139949547147,0,13481666,58.683139949547154,0,null,null,0.56325976239753106,58.683139949547147,0,0,60025,60025,13541691,0,13541691,null,24740316,107.68991207941367,null,-353490.3200000003,60025,1767689.4197500031,7.6944174115070894,null,0]
[25,"BELLINGHAM                   ",1,22925709.119999997,8245235,23462633.450000003,14932642,8529991,284756,{"$f":"ROUND(100-'townwide contributions'!K34,2)","v":36.36},8531014,0,0,536924.33000000566,195225.68638800204,0,2424,2424,31.36,36.355641911117182,0,8529991,36.355641911117182,1,null,null,0.72670869973319274,36.355641911117182,0,0,60600,0,8529991,0,8529991,null,23462633,99.99999808205672,null,536924.33000000566,284756,-1022.5224200002849,-4.3580888828174125E-3,null,0]
[26,"BELMONT                      ",1,37689370.076880001,6420104,39180121.943280004,32323600,6856522,436418,{"$f":"ROUND(100-'townwide contributions'!K35,2)","v":17.5},6856521,0,0,1490751.8664000034,260881.57662000059,0,4068,4156,12.5,17.500001684338809,0,6856522,17.500001684338809,1,null,null,1.3195747111829628,17.500001684338809,0,140665.42493500002,103900,0,6856522,0,6856522,null,39180122,100.00000014476728,null,1490751.8664000034,436418,0.65992600005120039,1.6843388088716438E-6,null,0]
[27,"BERKLEY                      ",1,6578224.6799999988,3875013,6569709.3200000003,3390355,3179354,0,{"$f":"ROUND(100-'townwide contributions'!K36,2)","v":45.69},3001700,0,0,0,0,0,742,723,40.69,58.983020576015377,0,3875013,58.983020576015377,0,null,null,2.4340599983454942,58.983020576015377,0,0,18075,18075,3893088,0,3893088,null,7283443,110.86400699384367,null,-8515.3599999984726,18075,891387.8116919999,13.568146903826793,null,0]
[28,"BERLIN                       ",1,1474055.7653800002,437180,1394075.23704,1150112,243963,0,{"$f":"ROUND(100-'townwide contributions'!K37,2)","v":17.5},243963,0,0,0,0,0,166,152,12.5,31.359856942029307,0,437180,31.35985694202931,0,null,null,14.872719842956501,31.359856942029307,0,0,3800,3800,440980,0,440980,null,1591092,114.13243401255157,null,-79980.528340000194,3800,197016.833518,14.132439073827907,null,0]
[29,"BERNARDSTON                  ",0,0,0,0,0,0,0,{"$f":"ROUND(100-'townwide contributions'!K38,2)","v":44.03},0,0,0,0,0,0,0,0,39.03,0,0,0,0,0,null,null,0,0,0,0,0,0,0,0,0,null,0,0,null,0,0,0,"",null,0]
[30,"BEVERLY                      ",1,43026226.781149998,7336283.4600120001,44949344.692879997,37083209,7866136,529852.53998799995,{"$f":"ROUND(100-'townwide contributions'!K39,2)","v":17.5},7866135,0,0,1923117.9117299989,336545.63455274981,0,4345,4426,12.5,17.500001510024241,0,7866136,17.500001510024241,1,null,null,0.98923645617703682,17.500001510024241,0,132085.46001200005,110650,0,7866136,0,7866136,null,44949345,100.00000068325802,null,1923117.9117299989,529852.53998799995,0.6787460008636117,1.5100242407584119E-6,null,0]
[31,"BILLERICA                    ",1,50581059.937599994,18486609.0465394,51437518.584149994,34395999,17041520,0,{"$f":"ROUND(100-'townwide contributions'!K40,2)","v":33.130000000000003},17041250,0,0,856458.64654999971,283744.74960201496,0,5385,5359,28.130000000000003,35.939931698485708,0,18486609.0465394,35.939931698485708,0,null,null,0.76175457298265026,35.939931698485708,0,4133.1574795590714,133975,133975,18620584.0465394,0,18620584.0465394,null,53016583.046539396,103.06986904861303,null,856458.64654999971,133975,1579334.1396105066,3.0703933297769197,null,0]
[32,"BLACKSTONE                   ",0,181016.85000000003,91224,223331.82000000004,108073,115259,24035,{"$f":"ROUND(100-'townwide contributions'!K41,2)","v":51.61},115262,0,0,42314.97,21838.756017,0,12,15,46.61,51.608857170464994,0,115259,51.608857170465001,0,null,null,132.97674558395525,51.608857170464994,0,0,0,0,115259,0,115259,null,223332,100.00008059756105,null,42314.97,24035,-2.5523020000255201,"",null,0]
[33,"BLANDFORD                    ",0,181016.85000000003,43655,92399.719999999987,76230,16170,0,{"$f":"ROUND(100-'townwide contributions'!K42,2)","v":17.5},16170,0,0,0,0,0,12,7,12.5,47.245814164804834,0,43655,47.245814164804834,0,null,null,304.97116706636058,47.245814164804834,0,0,0,0,43655,0,43655,null,119885,129.74606416556242,null,-88617.130000000048,0,27485.049000000003,"",null,0]
[34,"BOLTON                       ",0,0,0,13623.25469,11239,2384,2384,{"$f":"ROUND(100-'townwide contributions'!K43,2)","v":17.5},2384,0,0,13623.25469,2384.0695707499999,0,0,1,12.5,17.499489323575144,0,2384,17.499489323575144,0,null,null,2205.1053735743976,17.499489323575144,0,0,0,0,2384,0,2384,null,13623,99.998130476117524,null,13623.25469,2384,-6.9570749999911641E-2,"",null,0]
[35,"BOSTON                       ",1,780383012.88296986,210991435,805600562.75407994,657393838,148206725,0,{"$f":"ROUND(100-'townwide contributions'!K44,2)","v":17.5},140980098,0,0,25217549.871110082,4413071.2274442641,0,63058,64196,12.5,26.190576913041198,0,210991435,26.190576913041195,0,null,null,0.9923257330742864,26.190576913041198,0,0,1604900,1604900,212596335,0,212596335,null,869990173,107.99274643326879,null,25217549.871110082,1604900,71616236.518036008,8.889794748057767,null,0]
[36,"BOURNE                       ",1,19753593.370000005,4877338,19473369.859999999,16065530,3407840,0,{"$f":"ROUND(100-'townwide contributions'!K45,2)","v":17.5},3407840,0,0,0,0,0,2084,2001,12.5,25.046194033516912,0,4877338,25.046194033516908,0,null,null,1.3327517996003646,25.046194033516912,0,0,50025,50025,4927363,0,4927363,null,20992893,107.80308262475533,null,-280223.51000000536,50025,1519523.2745000003,7.8030833154421479,null,0]
[37,"BOXBOROUGH                   ",0,0,0,0,0,0,0,{"$f":"ROUND(100-'townwide contributions'!K46,2)","v":17.5},0,0,0,0,0,0,0,0,12.5,0,0,0,0,0,null,null,0,0,0,0,0,0,0,0,0,null,0,0,null,0,0,0,"",null,0]
[38,"BOXFORD                      ",1,6315613.1311499998,1625748,6380974.8437599996,5264304,1116671,0,{"$f":"ROUND(100-'townwide contributions'!K47,2)","v":17.5},1116671,0,0,65361.712609999813,11438.299706749967,0,730,729,12.5,25.478050608361674,0,1625748,25.478050608361674,0,null,null,3.7739908947635397,25.478050608361674,0,0,18225,18225,1643973,0,1643973,null,6908277,108.263661417748,null,65361.712609999813,18225,527302.40234200004,8.2636652745568,null,0]
[39,"BOYLSTON                     ",1,2701535.6,443237.88018750004,2619960.2999999998,2161467,458493,15255.119812499965,{"$f":"ROUND(100-'townwide contributions'!K48,2)","v":17.5},458493,0,0,0,0,0,299,283,12.5,17.499997996152842,0,458493,17.499997996152842,1,null,null,7.1819432721159382,17.499997996152842,0,23055.880187500006,7075,0,458493,0,458493,null,2619960,99.999988549444822,null,-81575.300000000279,15255.119812499965,-5.2499999932479113E-2,-2.0038471575389849E-6,null,0]
[40,"BRAINTREE                    ",1,53388255.002250001,14627262,55247735.783950001,39433581,15814155,1186893,{"$f":"ROUND(100-'townwide contributions'!K49,2)","v":28.62},15811902,0,0,1859480.7817000002,532183.39972254005,0,5508,5559,23.62,28.624078028902979,0,15814155,28.624078028902975,1,null,null,0.73949417655889194,28.624078028902979,0,200851.58376767626,138975,0,15814155,0,15814155,null,55247736,100.00000039105674,null,1859480.7817000002,1186893,2253.0186335090548,4.0780289029775929E-3,null,0]
[41,"BREWSTER                     ",1,4371530.74,930169,4481450.93,3697197,784254,0,{"$f":"ROUND(100-'townwide contributions'!K50,2)","v":17.5},784254,0,0,109920.18999999948,19236.033249999906,0,473,474,12.5,20.755978689250092,0,930169,20.755978689250092,0,null,null,5.5918146730980851,20.755978689250092,0,0,11850,11850,942019,0,942019,null,4639216,103.52040159457911,null,109920.18999999948,11850,157765.0872500001,3.5204019794990842,null,0]
[42,"BRIDGEWATER                  ",0,78029.39999999998,36107,131999.6,79382,52618,16511,{"$f":"ROUND(100-'townwide contributions'!K51,2)","v":39.86},52615,0,0,53970.200000000026,21512.521720000012,0,6,10,34.86,39.862242006793956,0,52618,39.862242006793956,0,null,null,227.51069531615445,39.862242006793956,0,0,0,0,52618,0,52618,null,132000,100.00030303122131,null,53970.200000000026,16511,2.9594399999987218,"",null,0]
[43,"BRIMFIELD                    ",1,2557047.06,1202422,2535170.4500000002,1422293,1112877,0,{"$f":"ROUND(100-'townwide contributions'!K52,2)","v":43.9},1112940,0,0,0,0,0,285,274,38.9,47.429631408018338,0,1202422,47.429631408018338,0,null,null,7.1964483598171336,47.429631408018338,0,0,6850,6850,1209272,0,1209272,null,2631565,103.80229069015851,null,-21876.60999999987,6850,96332.172449999955,3.7998302027384341,null,0]
[44,"BROCKTON                     ",1,202656340.72,164865060,209479318.44,39438390,170040928,5175868,{"$f":"ROUND(100-'townwide contributions'!K53,2)","v":78.81},165090651,0,0,6822977.7199999988,5377188.7411319995,0,17469,17694,73.81,81.173134067029096,0,170040928,81.173134067029096,1,null,null,0.22073547260028259,81.173134067029096,0,0,442350,0,170040928,0,170040928,null,209479318,99.999999789955396,null,6822977.7199999988,5175868,4950277.1374360025,2.3631340670290939,null,0]
[45,"BROOKFIELD                   ",1,2293424.8199999998,1366889.719122,2475237.4299999997,1028507,1446730,79840.280877999961,{"$f":"ROUND(100-'townwide contributions'!K54,2)","v":58.45},1446776,0,0,181812.60999999987,106269.47054499993,0,232,249,53.45,58.448130367841124,0,1446730,58.448130367841124,1,null,null,6.8648602917727137,58.448130367841124,0,0,6225,0,1446730,0,1446730,null,2475237,99.999982627929157,null,181812.60999999987,79840.280877999961,-46.277834999840707,-1.869632158879142E-3,null,0]
[46,"BROOKLINE                    ",1,68558216.958700001,11159462,71400245.83788,58905203,12495043,1335581,{"$f":"ROUND(100-'townwide contributions'!K55,2)","v":17.5},12495043,0,0,2842028.8791799992,497355.05385649984,0,7142,7343,12.5,17.499999969707385,0,12495043,17.499999969707385,1,null,null,1.7721304249749754,17.499999969707385,0,0,183575,0,12495043,0,12495043,null,71400246,100.00000022705804,null,2842028.8791799992,1335581,-2.1629000082612038E-2,-3.0292614638938176E-8,null,0]
[47,"BUCKLAND                     ",0,0,0,0,0,0,0,{"$f":"ROUND(100-'townwide contributions'!K56,2)","v":26.77},0,0,0,0,0,0,0,0,21.77,0,0,0,0,0,null,null,0,0,0,0,0,0,0,0,0,null,0,0,null,0,0,0,"",null,0]
[48,"BURLINGTON                   ",1,34467698.66996,5684571.2333384063,34239007.273680001,28247181,5991826,307254.76666159369,{"$f":"ROUND(100-'townwide contributions'!K57,2)","v":17.5},5991826,0,0,0,0,0,3553,3469,12.5,17.499999202973388,0,5991826,17.499999202973385,1,null,null,0.99685017419091049,17.499999202973388,0,171390.23794853128,86725,0,5991826,0,5991826,null,34239007,99.999999200677749,null,-228691.39627999812,307254.76666159369,-0.27289399970322847,-7.9702661182068368E-7,null,0]
[49,"CAMBRIDGE                    ",1,75565946.828440011,10513263,79533780.825280011,65615369,13918412,3405149,{"$f":"ROUND(100-'townwide contributions'!K58,2)","v":17.5},13918412,0,0,3967833.9968400002,694370.94944699993,0,6709,6888,12.5,17.500000447075436,0,13918412,17.500000447075436,1,null,null,2.522955917823281,17.500000447075436,0,0,172200,0,13918412,0,13918412,null,79533781,100.00000021968023,null,3967833.9968400002,3405149,0.35557599924504757,4.4707543622735102E-7,null,0]
[50,"CANTON                       ",1,30171279.553439993,4936587.2551948912,31710377.389359999,26161061,5549316,612728.74480510876,{"$f":"ROUND(100-'townwide contributions'!K59,2)","v":17.5},5549316,0,0,1539097.835920006,269342.12128600106,0,3157,3224,12.5,17.499999863962515,0,5549316,17.499999863962515,1,null,null,1.031331664495537,17.499999863962515,0,171041.20231370325,80600,0,5549316,0,5549316,null,31710377,99.999998772136976,null,1539097.835920006,612728.74480510876,-4.3137999251484871E-2,-1.3603748527657444E-7,null,0]
[51,"CARLISLE                     ",1,5130124.3316099988,859890.09694868745,5330419.6237000003,4397596,932824,72933.903051312547,{"$f":"ROUND(100-'townwide contributions'!K60,2)","v":17.5},932823,0,0,200295.29209000152,35051.676115750262,0,596,609,12.5,17.50001061553386,0,932824,17.50001061553386,1,null,null,3.7175966336913406,17.50001061553386,0,24184.096948687511,15225,0,932824,0,932824,null,5330420,100.00000705948173,null,200295.29209000152,72933.903051312547,0.56585250003263354,1.0615533859947845E-5,null,0]
[52,"CARVER                       ",1,16482096.760799997,9731289,16197468.462199999,8264514,7932954,0,{"$f":"ROUND(100-'townwide contributions'!K61,2)","v":48.98},7933520,0,0,0,0,0,1714,1657,43.98,60.079073607767107,0,9731289,60.079073607767107,0,null,null,0.66313199001218426,60.079073607767107,0,0,41425,41425,9772714,0,9772714,null,18037228,111.3583152953404,null,-284628.29859999754,41425,1839193.9472144414,11.354823449766641,null,0]
[53,"CHARLEMONT                   ",0,65024.500000000007,61250.35,65999.8,36648,29352,0,{"$f":"ROUND(100-'townwide contributions'!K62,2)","v":44.47},29350,0,0,975.29999999999563,433.71590999999802,0,5,5,39.47,92.803841829823725,0,61250.35,92.803841829823725,0,null,null,437.35429578796231,92.803841829823725,0,0,0,0,61250.35,0,61250.35,null,97898.35,148.33128282206914,null,975.29999999999563,0,31900.238939999999,"",null,0]
[54,"CHARLTON                     ",0,26009.8,21633,26399.920000000002,12481,13919,0,{"$f":"ROUND(100-'townwide contributions'!K63,2)","v":48.68},12851,0,0,390.12000000000262,189.91041600000128,0,2,2,43.68,81.943430131606448,0,21633,81.943430131606448,0,null,null,1138.2746602917225,81.943430131606448,0,0,0,0,21633,0,21633,null,34114,129.22008854572286,null,390.12000000000262,0,8781.5189439999995,"",null,0]
[55,"CHATHAM                      ",0,0,0,0,0,0,0,{"$f":"ROUND(100-'townwide contributions'!K64,2)","v":17.5},0,0,0,0,0,0,0,0,12.5,0,0,0,0,0,null,null,0,0,0,0,0,0,0,0,0,null,0,0,null,0,0,0,"",null,0]
[56,"CHELMSFORD                   ",1,47335965.470179997,10346618,47241970.625249989,38029641,9212330,0,{"$f":"ROUND(100-'townwide contributions'!K65,2)","v":19.5},9212184,0,0,0,0,0,5122,5056,14.5,21.901326009609594,0,10346618,21.901326009609594,0,null,null,0.84129763555556503,21.901326009609594,0,0,126400,126400,10473018,0,10473018,null,48502659,102.66857702603158,null,-93994.844930008054,126400,1260833.7280762512,2.6688847044038404,null,0]
[57,"CHELSEA                      ",1,77392158.150499985,64490888,84321341.850099981,13967161,70354181,5863293,{"$f":"ROUND(100-'townwide contributions'!K66,2)","v":80.86},68182237,0,0,6929183.6995999962,5602937.9394965572,0,6557,6924,75.86,83.435793900280046,0,70354181,83.435793900280046,1,null,null,0.20535262054154935,83.435793900280046,0,0,173100,0,70354181,0,70354181,null,84321342,100.00000017777234,null,6929183.6995999962,5863293,2171943.9800091535,2.575793900280047,null,0]
[58,"CHESHIRE                     ",0,13004.9,13004.9,13199.960000000001,6175,7025,0,{"$f":"ROUND(100-'townwide contributions'!K67,2)","v":49.64},6552,0,0,195.06000000000131,96.827784000000648,0,1,1,44.64,98.522268249297724,0,13004.9,98.522268249297724,0,null,null,2272.254202571462,98.522268249297724,0,0,0,0,13004.9,0,13004.9,null,19179.900000000001,145.30271303852436,null,195.06000000000131,0,6452.4398559999991,"",null,0]
[59,"CHESTER                      ",0,220031.55,126262,210131.86,95755,114377,0,{"$f":"ROUND(100-'townwide contributions'!K68,2)","v":54.43},114375,0,0,0,0,0,15,14,49.43,60.087032970630915,0,126262,60.087032970630922,0,null,null,128.31081333014177,60.087032970630915,0,0,0,0,126262,0,126262,null,222017,105.65603902235483,null,-9899.6900000000023,0,11887.228602000003,"",null,0]
[60,"CHESTERFIELD                 ",0,259046.25,133114,289331.62,157904,131428,0,{"$f":"ROUND(100-'townwide contributions'!K69,2)","v":45.42},131414,0,0,30285.369999999995,13755.615053999998,0,18,20,40.42,46.007415297367082,0,133114,46.007415297367082,0,null,null,86.590460751312136,46.007415297367082,0,0,0,0,133114,0,133114,null,291018,100.58285368187549,null,30285.369999999995,0,1699.5781960000168,"",null,0]
[61,"CHICOPEE                     ",1,86339875.140000001,57250917,89726607.379999995,29813236,59913371,2662454,{"$f":"ROUND(100-'townwide contributions'!K70,2)","v":66.77},59910456,0,0,3386732.2399999946,2261321.1166479965,0,7757,7852,61.769999999999996,66.773249038896182,0,59913371,66.773249038896182,1,null,null,0.33226750537595107,66.773249038896182,0,0,196300,0,59913371,0,59913371,null,89726607,99.999999576491291,null,3386732.2399999946,2662454,2915.2523740082979,3.2490388961861072E-3,null,0]
[62,"CHILMARK                     ",0,0,0,0,0,0,0,{"$f":"ROUND(100-'townwide contributions'!K71,2)","v":17.5},0,0,0,0,0,0,0,0,12.5,0,0,0,0,0,null,null,0,0,0,0,0,0,0,0,0,null,0,0,null,0,0,0,"",null,0]
[63,"CLARKSBURG                   ",1,1905986.03,1769100,1772262.85,585884,1186379,0,{"$f":"ROUND(100-'townwide contributions'!K72,2)","v":62.46},1106955,0,0,0,0,0,200,180,57.46,99.821536066165351,0,1769100,99.821536066165351,0,null,null,5.5453172316955071,99.821536066165351,0,0,4500,4500,1773600,0,1773600,null,2359484,133.13397614806402,null,-133723.17999999993,4500,666644.62388999993,37.615448740574784,null,0]
[64,"CLINTON                      ",1,20886485.84,11251678.80557175,21129205.020000003,9447493,11681712,430033.19442825019,{"$f":"ROUND(100-'townwide contributions'!K73,2)","v":55.29},11682337,0,0,242719.18000000343,134199.43462200189,0,1991,1979,50.29,55.287039852860488,0,11681712,55.287039852860488,1,null,null,0.44712960052483786,55.287039852860488,0,76540.805571750272,49475,0,11681712,0,11681712,null,21129205,99.999999905344268,null,242719.18000000343,430033.19442825019,-625.45555800013244,-2.9601471395110934E-3,null,0]
[65,"COHASSET                     ",1,{"$f":"VLOOKUP(A74, disthist, 35, FALSE)","v":14009300.662070001},{"$f":"VLOOKUP(A74, disthist, 37, FALSE)*(1-$E$6)","v":2265937.0686455625},{"$f":"SUMIF(dist1755,A74,found1755)","v":14047813.289400002},{"$f":"SUMIF(dist1755,A74,prelcont1755)","v":11589446},{"$f":"ROUND(MAX(found-prelcont436,0),0)","v":2458367},{"$f":"IF(foundaid>priorc70,foundaid-priorc70,0)","v":192429.93135443749},{"$f":"ROUND(100-'townwide contributions'!K74,2)","v":17.5},{"$f":"ROUND(J74/100*F74,0)","v":2458367},{"$f":"ROUND(IF(K74>priorc70,L$6*(K74-priorc70),0),0)","v":0},{"$f":"IF(L74>I74,L74-I74,0)","v":0},{"$f":"MAX(F74-D74,0)","v":38512.627330001444},{"$f":"(J74/100)*N74","v":6739.7097827502521},{"$f":"IF(P$6=\"no\",0,ROUND(MAX(O74-foundinc-downaid,0),0))","v":0},1573,{"$f":"SUMIF(dist1755,A74,enro1755)","v":1553},{"$f":"J74-$S$6","v":12.5},{"$f":"IF(F74=0, 0, ((priorc70+foundinc+downaid+growthaid+targaid)/found*100))","v":17.499997681881204},{"$f":"IF(AND(T74>0, S74>T74,$S$5= \"yes\"), (((S74/100)*found)-(priorc70+foundinc+downaid+growthaid+minaid)), 0)","v":0},{"$f":"priorc70+foundinc+downaid+growthaid","v":2458367},{"$f":"IF(F74>0,V74*100/F74,0)","v":17.499997681881204},{"$f":"IF(AND(C74=1,I74>0),1,0)","v":1},null,null,{"$f":"IF(found>0, SUMIF(ceylea, A74, ceyproptotal)/found, 0)","v":1.5614212955374027},{"$f":"IF(found>0, prelimc70/found*100, 0)","v":17.499997681881204},{"$f":"IF(AND(nonop=1, J74>AB74, AA74<ceyperc), targaidperc*(((J74/100)*found)-prelimc70), 0)","v":0},68911.068645562511,{"$f":"IF(nonop=1,enro*$AE$6,0)","v":38825},{"$f":"IF(AND(nonop=1,(prelimc70+targaid)-priorc70<AE74),AE74-(prelimc70+targaid-priorc70),0)","v":0},{"$f":"priorc70+foundinc+downaid+U74+growthaid+targaid+minaid","v":2458367},{"$f":"IF(AND(C74=0,AG74>found),AG74-found,0)","v":0},{"$f":"AG74-rednonop","v":2458367},null,{"$f":"prelcont436+chapter70","v":14047813},{"$f":"IF(found>0,AK74*100/found,0)","v":99.999997939892879},null,{"$f":"F74-D74","v":38512.627330001444},{"$f":"AI74-E74","v":192429.93135443749},-0.32564500020816922,{"$f":"IF(C74=1, (AI74/F74*100)-J74, \"\")","v":-2.3181187955856331E-6},null,{"$f":"VLOOKUP(A74, disthist, 37, FALSE)*$E$6","v":0}]
[66,"COLRAIN                      ",0,13004.9,5145,13199.960000000001,8002,5198,53,{"$f":"ROUND(100-'townwide contributions'!K75,2)","v":39.380000000000003},5198,0,0,195.06000000000131,76.814628000000525,0,1,1,34.380000000000003,39.378907208809721,0,5198,39.378907208809721,0,null,null,2264.1253334959501,39.378907208809721,0,0,0,0,5198,0,5198,null,13200,100.00030303122129,null,195.06000000000131,53,{"$f":"AI75-((J75/100)*F75)","v":-0.14424800000051619},"",null,0]
[67,"CONCORD                      ",1,18417417.455640003,2573232,18462886.786499996,15231882,3231005,657773,{"$f":"ROUND(100-'townwide contributions'!K76,2)","v":17.5},3231005,0,0,45469.330859992653,7957.1329004987138,0,2088,2040,12.5,17.499998983704437,0,3231005,17.499998983704437,1,null,null,2.5090074583206823,17.499998983704437,0,0,51000,0,3231005,0,3231005,null,18462887,100.0000011563739,null,45469.330859992653,657773,-0.18763749906793237,-1.0162955632608828E-6,null,0]
[68,"CONWAY                       ",1,1306815.92,606379,1311758.95,1082201,229558,0,{"$f":"ROUND(100-'townwide contributions'!K77,2)","v":17.5},229558,0,0,4943.0300000000279,865.0302500000048,0,147,145,12.5,46.226404630210453,0,606379,46.226404630210453,0,null,null,10.699811543867863,46.226404630210453,0,0,3625,3625,610004,0,610004,null,1692205,129.00274093803591,null,4943.0300000000279,3625,380446.18375000003,29.002751134268991,null,0]
[69,"CUMMINGTON                   ",0,168011.94999999998,73684,118799.64000000001,98010,20790,0,{"$f":"ROUND(100-'townwide contributions'!K78,2)","v":17.5},20790,0,0,0,0,0,11,9,12.5,62.02375697434772,0,73684,62.023756974347727,0,null,null,219.70124239017443,62.02375697434772,0,0,0,0,73684,0,73684,null,171694,144.52400697510529,null,-49212.309999999969,0,52894.062999999995,"",null,0]
[70,"DALTON                       ",0,350080.55,272926,289331.62,148222,141110,0,{"$f":"ROUND(100-'townwide contributions'!K79,2)","v":48.77},141107,0,0,0,0,0,25,20,43.77,94.329821261844799,0,272926,94.329821261844799,0,null,null,101.39524983122664,94.329821261844799,0,0,0,0,272926,0,272926,null,421148,145.55892646645395,null,-60748.929999999993,0,131818.968926,"",null,0]
[71,"DANVERS                      ",1,34741461.949999996,6334657.4445563704,34881940.840000004,28777601,6104340,0,{"$f":"ROUND(100-'townwide contributions'!K80,2)","v":17.5},6104340,0,0,140478.89000000805,24583.805750001407,0,3717,3660,12.5,18.160278046490632,0,6334657.4445563704,18.160278046490628,0,null,null,0.87414104121863512,18.160278046490632,0,292201.84163187491,91500,91500,6426157.4445563704,0,6426157.4445563704,null,35203758.44455637,100.92259087885193,null,140478.89000000805,91500,321817.7975563705,0.92259143214683803,null,0]
[72,"DARTMOUTH                    ",1,35239525.229999997,9326041,36075718.260000005,29762467,6313251,0,{"$f":"ROUND(100-'townwide contributions'!K81,2)","v":17.5},6313251,0,0,836193.03000000864,146333.7802500015,0,3719,3721,12.5,25.851296799655177,0,9326041,25.851296799655177,0,null,null,0.93338804680860676,25.851296799655177,0,0,93025,93025,9419066,0,9419066,null,39181533,108.60915565870702,null,836193.03000000864,93025,3105815.3044999996,8.6091572234714526,null,0]
[73,"DEDHAM                       ",1,27117828.372749999,4312267.8425356252,26929202.733199999,22216592,4712611,400343.15746437479,{"$f":"ROUND(100-'townwide contributions'!K82,2)","v":17.5},4712610,0,0,0,0,0,2731,2681,12.5,17.500001937264926,0,4712611,17.50000193726493,1,null,null,1.2088873869878769,17.500001937264926,0,188276.85637562536,67025,0,4712611,0,4712611,null,26929203,100.000000990746,null,-188625.63955000043,400343.15746437479,0.52169000077992678,1.9372649262550112E-6,null,0]
[74,"DEERFIELD                    ",1,3182088.0800000005,1059343,3228031.8499999992,2663126,564906,0,{"$f":"ROUND(100-'townwide contributions'!K83,2)","v":17.5},564906,0,0,45943.769999998622,8040.1597499997579,0,350,345,12.5,32.816993425885812,0,1059343,32.816993425885819,0,null,null,5.2570113463510442,32.816993425885812,0,0,8625,8625,1067968,0,1067968,null,3731094,115.58417554027544,null,45943.769999998622,8625,503062.42625000014,15.584184098121597,null,0]
[75,"DENNIS                       ",0,0,0,0,0,0,0,{"$f":"ROUND(100-'townwide contributions'!K84,2)","v":17.5},0,0,0,0,0,0,0,0,12.5,0,0,0,0,0,null,null,0,0,0,0,0,0,0,0,0,null,0,0,null,0,0,0,"",null,0]
[76,"DIGHTON                      ",0,0,0,0,0,0,0,{"$f":"ROUND(100-'townwide contributions'!K85,2)","v":49.96},0,0,0,0,0,0,0,0,44.96,0,0,0,0,0,null,null,0,0,0,0,0,0,0,0,0,null,0,0,null,0,0,0,"",null,0]
[77,"DOUGLAS                      ",1,13898746.319999997,8530840,13645814.699999997,6463272,7182543,0,{"$f":"ROUND(100-'townwide contributions'!K86,2)","v":49.68},6779241,0,0,0,0,0,1508,1452,44.68,62.516164754897353,0,8530840,62.516164754897353,0,null,null,0.68486362430835845,62.516164754897353,0,0,36300,36300,8567140,0,8567140,null,15030412,110.14668109189554,null,-252931.61999999918,36300,1787899.2570400015,13.102180385316252,null,0]
[78,"DOVER                        ",1,4528034.3919200003,690567,4322776.7936200006,3566291,756486,65919,{"$f":"ROUND(100-'townwide contributions'!K87,2)","v":17.5},756486,0,0,0,0,0,517,480,12.5,17.500001413825022,0,756486,17.500001413825022,1,null,null,6.710257417501305,17.500001413825022,0,0,12000,0,756486,0,756486,null,4322777,100.00000477424602,null,-205257.59829999972,65919,6.1116499942727387E-2,1.4138250215012249E-6,null,0]
[79,"DRACUT                       ",1,37334953.579999998,18761667,37644250.119999997,20168359,17475891,0,{"$f":"ROUND(100-'townwide contributions'!K88,2)","v":45.38},17082961,0,0,309296.53999999911,140358.76985199962,0,3957,3873,40.380000000000003,49.839396296094954,0,18761667,49.839396296094954,0,null,null,0.67477062131863608,49.839396296094954,0,0,96825,96825,18858492,0,18858492,null,39026851,103.67280760167259,null,309296.53999999911,96825,1775531.2955439985,4.7166068918468937,null,0]
[80,"DUDLEY                       ",0,13004.9,9262,13199.960000000001,3905,9295,33,{"$f":"ROUND(100-'townwide contributions'!K89,2)","v":60.35},7966,0,0,195.06000000000131,117.7187100000008,0,1,1,55.35,70.416880051151665,0,9295,70.416880051151665,0,null,null,2276.9815961902937,70.416880051151665,0,0,0,0,9295,0,9295,null,13200,100.00030303122129,null,195.06000000000131,33,1328.8241399999988,"",null,0]
[81,"DUNSTABLE                    ",0,0,0,13199.960000000001,10022,3178,3178,{"$f":"ROUND(100-'townwide contributions'!K90,2)","v":24.07},3177,0,0,13199.960000000001,3177.230372,0,0,1,19.07,24.075830532819793,0,3178,24.075830532819793,0,null,null,2273.4887104946806,24.075830532819793,0,0,0,0,3178,0,3178,null,13200,100.00030303122129,null,13199.960000000001,3178,0.76962800000001153,"",null,0]
[82,"DUXBURY                      ",1,28945039.577839997,4782129.23820375,29322453.03464001,24191024,5131429,349299.76179625001,{"$f":"ROUND(100-'townwide contributions'!K91,2)","v":17.5},5131429,0,0,377413.45680001378,66047.354940002406,0,3165,3134,12.5,17.499999041478549,0,5131429,17.499999041478549,1,null,null,1.0550725399219594,17.499999041478549,0,115999.23820374999,78350,0,5131429,0,5131429,null,29322453,99.999999881865236,null,377413.45680001378,349299.76179625001,-0.28106200136244297,-9.5852145065578043E-7,null,0]
[83,"EAST BRIDGEWATER             ",1,20492729.260000002,10306507,20764631.130000003,10964339,9800292,0,{"$f":"ROUND(100-'townwide contributions'!K92,2)","v":47.2},9800906,0,0,271901.87000000104,128337.68264000049,0,2210,2185,42.2,49.634914944910932,0,10306507,49.634914944910939,0,null,null,0.62547434059055396,49.634914944910932,0,0,54625,54625,10361132,0,10361132,null,21325471,102.70093827570919,null,271901.87000000104,54625,560226.10663999803,2.6979824641845127,null,0]
[84,"EAST BROOKFIELD              ",0,285056.05,186016,276131.65999999997,108182,167950,0,{"$f":"ROUND(100-'townwide contributions'!K93,2)","v":53.69},148255,0,0,0,0,0,20,19,48.69,67.364966407691171,0,186016,67.364966407691185,0,null,null,101.17179122901858,67.364966407691171,0,0,0,0,186016,0,186016,null,294198,106.54265432656292,null,-8924.390000000014,0,37760.911746000027,"",null,0]
[85,"EASTHAM                      ",1,1871143.94,334856,1830657.57,1510293,320365,0,{"$f":"ROUND(100-'townwide contributions'!K94,2)","v":17.5},320365,0,0,0,0,0,202,184,12.5,18.291569405850161,0,334856,18.291569405850161,0,null,null,13.040814375463048,18.291569405850161,0,0,4600,4600,339456,0,339456,null,1849749,101.04287280772012,null,-40486.369999999879,4600,19090.925250000029,1.0428452356603231,null,0]
[86,"EASTHAMPTON                  ",1,17813516.280000001,7731667,18095294,11740238,6355056,0,{"$f":"ROUND(100-'townwide contributions'!K95,2)","v":35.119999999999997},6355067,0,0,281777.71999999881,98960.335263999572,0,1782,1774,30.119999999999997,42.727501415561413,0,7731667,42.727501415561413,0,null,null,0.64880062186334198,42.727501415561413,0,0,44350,44350,7776017,0,7776017,null,19516255,107.85265494995549,null,281777.71999999881,44350,1420949.747200001,7.8525927636213027,null,0]
[87,"EAST LONGMEADOW              ",1,25028520.540000003,9901624.2199039999,25486357.480000004,15989870,9496487,0,{"$f":"ROUND(100-'townwide contributions'!K96,2)","v":37.26},9496217,0,0,457836.94000000134,170590.04384400049,0,2680,2646,32.26,38.850684048021122,0,9901624.2199039999,38.850684048021122,0,null,null,0.62738937930019167,38.850684048021122,0,36555.997418000363,66150,66150,9967774.2199039999,0,9967774.2199039999,null,25957644.219903998,101.84917260253384,null,457836.94000000134,66150,471557.42285599932,1.8502346725146808,null,0]
[88,"EASTON                       ",1,34368780.379999988,9531741,34281775.100000001,26036262,8245513,0,{"$f":"ROUND(100-'townwide contributions'!K97,2)","v":24.05},8244767,0,0,0,0,0,3767,3691,19.05,27.804105744804332,0,9531741,27.804105744804328,0,null,null,0.78282315860781104,27.804105744804332,0,0,92275,92275,9624016,0,9624016,null,35660278,104.0210954537182,null,-87005.279999986291,92275,1379249.0884499988,4.0232720867770908,null,0]
[89,"EDGARTOWN                    ",1,3756339.3899999997,535881,3949969.68,3258725,691245,155364,{"$f":"ROUND(100-'townwide contributions'!K98,2)","v":17.5},691245,0,0,193630.2900000005,33885.300750000089,0,405,406,12.5,17.500007746894909,0,691245,17.500007746894909,1,null,null,7.4940978128235169,17.500007746894909,0,0,10150,0,691245,0,691245,null,3949970,100.00000810132801,null,193630.2900000005,155364,0.30599999998230487,7.7468949086778593E-6,null,0]
[90,"EGREMONT                     ",0,0,0,0,0,0,0,{"$f":"ROUND(100-'townwide contributions'!K99,2)","v":17.5},0,0,0,0,0,0,0,0,12.5,0,0,0,0,0,null,null,0,0,0,0,0,0,0,0,0,null,0,0,null,0,0,0,"",null,0]
[91,"ERVING                       ",1,2387006.7599999998,431895,2412269.36,1990122,422147,0,{"$f":"ROUND(100-'townwide contributions'!K100,2)","v":17.5},422147,0,0,25262.600000000093,4420.9550000000163,0,257,255,12.5,17.904095088286493,0,431895,17.904095088286493,0,null,null,3.1378284432050543,17.904095088286493,0,3705.6731250000012,6375,6375,438270,0,438270,null,2428392,100.66835985513659,null,25262.600000000093,6375,16122.862000000023,0.66836905808893832,null,0]
[92,"ESSEX                        ",0,0,0,0,0,0,0,{"$f":"ROUND(100-'townwide contributions'!K101,2)","v":17.5},0,0,0,0,0,0,0,0,12.5,0,0,0,0,0,null,null,0,0,0,0,0,0,0,0,0,null,0,0,null,0,0,0,"",null,0]
[93,"EVERETT                      ",1,85328324.66643998,60635188,89667949.965919986,25666047,64001903,3366715,{"$f":"ROUND(100-'townwide contributions'!K102,2)","v":71.05},63709078,0,0,4339625.2994800061,3083303.7752805445,0,7295,7490,66.05,71.37656545546669,0,64001903,71.37656545546669,1,null,null,0.28953981896393888,71.37656545546669,0,336062.30214338936,187250,0,64001903,0,64001903,null,89667950,100.0000000380069,null,4339625.2994800061,3366715,292824.54921384901,0.32656545546669236,null,0]
[94,"FAIRHAVEN                    ",1,17736701.940000001,7383635,17707799.16,11363006,6344793,0,{"$f":"ROUND(100-'townwide contributions'!K103,2)","v":35.83},6344704,0,0,0,0,0,1803,1785,30.83,41.697078972291663,0,7383635,41.697078972291663,0,null,null,0.91427803236734739,41.697078972291663,0,0,44625,44625,7428260,0,7428260,null,18791266,106.11858554646042,null,-28902.780000001192,44625,1083555.5609719995,6.1190865741217237,null,0]
[95,"FALL RIVER                   ",1,126851512.44000001,102929032,130963260.19999999,25218449,105744811,2815779,{"$f":"ROUND(100-'townwide contributions'!K104,2)","v":73},95603180,0,0,4111747.7599999756,3001575.8647999819,0,11142,11317,68,80.743874914622822,0,105744811,80.743874914622822,1,null,null,0.29794425704375688,80.743874914622822,0,0,282925,0,105744811,0,105744811,null,130963260,99.999999847285423,null,4111747.7599999756,2815779,10141631.054000005,7.7438749146228218,null,0]
[96,"FALMOUTH                     ",1,34334682.75,5403420,35910247.149999999,29625954,6284293,880873,{"$f":"ROUND(100-'townwide contributions'!K105,2)","v":17.5},6284293,0,0,1575564.3999999985,275723.76999999973,0,3576,3575,12.5,17.499999300338985,0,6284293,17.499999300338985,1,null,null,1.6316532052586177,17.499999300338985,0,0,89375,0,6284293,0,6284293,null,35910247,99.999999582291935,null,1575564.3999999985,880873,-0.25124999973922968,-6.9966101534646441E-7,null,0]
[97,"FITCHBURG                    ",1,61364752.100000001,45409881,62363310.040000007,16662973,45700337,290456,{"$f":"ROUND(100-'townwide contributions'!K106,2)","v":73.02},45537689,0,0,998557.94000000507,729147.00778800366,0,5482,5491,68.02,73.280807209700185,0,45700337,73.280807209700185,1,null,null,0.31399979057409444,73.280807209700185,0,0,137275,0,45700337,0,45700337,null,62363310,99.999999935859705,null,998557.94000000507,290456,162648.00879199803,0.26080720970018945,null,0]
[98,"FLORIDA                      ",1,924504.84,537067,872994.29,468646,404348,0,{"$f":"ROUND(100-'townwide contributions'!K107,2)","v":46.32},404371,0,0,0,0,0,89,85,41.32,61.520104558759478,0,537067,61.520104558759485,0,null,null,9.5772725424054759,61.520104558759478,0,0,2125,2125,539192,0,539192,null,1007838,115.44611591903997,null,-51510.54999999993,2125,134821.044872,15.443519667465402,null,0]
[99,"FOXBOROUGH                   ",1,26242664.986009996,8597390,26484573.869379997,21012275,5472299,0,{"$f":"ROUND(100-'townwide contributions'!K108,2)","v":20.66},5471713,0,0,241908.88337000087,49978.375304242181,0,2729,2690,15.66,32.461877779879359,0,8597390,32.461877779879359,0,null,null,0.8185820072240223,32.461877779879359,0,0,67250,67250,8664640,0,8664640,null,29676915,112.05358691578124,null,241908.88337000087,67250,3192927.0385860922,12.055799177035578,null,0]
[100,"FRAMINGHAM                   ",1,91598610.68881999,33596454.666226074,95619668.628199995,55930159,39689510,6093055.3337739259,{"$f":"ROUND(100-'townwide contributions'!K109,2)","v":41.51},39691724,0,0,4021057.939380005,1669141.1506366399,0,8572,8641,36.51,41.507684108721996,0,39689510,41.507684108721996,1,null,null,0.61111294966764773,41.507684108721996,0,1313452.6662260741,216025,0,39689510,0,39689510,null,95619669,100.00000038883215,null,4021057.939380005,6093055.3337739259,-2214.4475658163428,-2.3158912780019136E-3,null,0]
[101,"FRANKLIN                     ",1,57559562.145959996,27423796,57388919.031509995,34322367,23066552,0,{"$f":"ROUND(100-'townwide contributions'!K110,2)","v":38.770000000000003},22249684,0,0,0,0,0,6194,6086,33.770000000000003,47.785873061910564,0,27423796,47.785873061910564,0,null,null,0.64180343775729554,47.785873061910564,0,0,152150,152150,27575946,0,27575946,null,61898313,107.85760394966505,null,-170643.11445000023,152150,5326262.0914835706,9.2809939294363275,null,0]
[102,"FREETOWN                     ",0,1283278.0999999999,388787,1342125.9200000004,919463,422663,33876,{"$f":"ROUND(100-'townwide contributions'!K111,2)","v":31.49},422635,0,0,58847.820000000531,18531.178518000164,0,91,94,26.49,31.492052548988838,0,422663,31.492052548988838,0,null,null,20.718719202887602,31.492052548988838,0,0,0,0,422663,0,422663,null,1342126,100.00000596069255,null,58847.820000000531,33876,27.547791999939363,"",null,0]
[103,"GARDNER                      ",1,26236297.479999997,19023155,27133681.380000003,8111579,19022102,0,{"$f":"ROUND(100-'townwide contributions'!K112,2)","v":65.7},17826829,0,0,897383.90000000596,589581.22230000398,0,2470,2505,60.7,70.109008555034478,0,19023155,70.109008555034478,0,null,null,0.43297649959556689,70.109008555034478,0,0,62625,62625,19085780,0,19085780,null,27197359,100.23468109287572,null,897383.90000000596,62625,1258951.3333399966,4.6398102627826887,null,0]
[104,"AQUINNAH",0,0,0,0,0,0,0,{"$f":"ROUND(100-'townwide contributions'!K113,2)","v":17.5},0,0,0,0,0,0,0,0,12.5,0,0,0,0,0,null,null,0,0,0,0,0,0,0,0,0,null,0,0,null,0,0,0,"",null,0]
[105,"GEORGETOWN                   ",1,13311710.359999999,5297543,12726852.809999999,9137713,3589140,0,{"$f":"ROUND(100-'townwide contributions'!K114,2)","v":28.2},3588972,0,0,0,0,0,1490,1389,23.2,41.624925494836461,0,5297543,41.624925494836461,0,null,null,0.8393632870308485,41.624925494836461,0,0,34725,34725,5332268,0,5332268,null,14469981,113.69645910126623,null,-584857.55000000075,34725,1743295.5075800009,13.697773782770735,null,0]
[106,"GILL                         ",0,0,0,0,0,0,0,{"$f":"ROUND(100-'townwide contributions'!K115,2)","v":38.99},0,0,0,0,0,0,0,0,33.99,0,0,0,0,0,null,null,0,0,0,0,0,0,0,0,0,null,0,0,null,0,0,0,"",null,0]
[107,"GLOUCESTER                   ",1,35333205.213599995,6157967.4910011301,34881817.403679989,28777499,6104318,0,{"$f":"ROUND(100-'townwide contributions'!K116,2)","v":17.5},6104318,0,0,0,0,0,3348,3237,12.5,17.653803469401431,0,6157967.4910011301,17.653803469401431,0,null,null,1.0131697114481424,17.653803469401431,0,87620.491001124959,80925,80925,6238892.4910011301,0,6238892.4910011301,null,35016391.491001129,100.38580010256845,null,-451387.8099200055,80925,134574.4453571327,0.38580112899431285,null,0]
[108,"GOSHEN                       ",0,168011.94999999998,96111,105599.68000000001,71097,34503,0,{"$f":"ROUND(100-'townwide contributions'!K117,2)","v":32.619999999999997},34447,0,0,0,0,0,11,8,27.619999999999997,91.014480346910133,0,96111,91.014480346910133,0,null,null,258.73742207808726,91.014480346910133,0,0,0,0,96111,0,96111,null,167208,158.34138891329974,null,-62412.269999999975,0,61664.384383999997,"",null,0]
[109,"GOSNOLD                      ",0,22957.61,16414,31484.75,22007,9478,0,{"$f":"ROUND(100-'townwide contributions'!K118,2)","v":17.5},5510,0,0,8527.14,1492.2494999999999,0,3,4,12.5,52.133175585005439,0,16414,52.133175585005439,0,null,null,28.699163880926481,52.133175585005439,0,0,0,0,16414,0,16414,null,38421,122.03050683267296,null,8527.14,0,10904.168750000001,"",null,0]
[110,"GRAFTON                      ",1,28066998.630000003,10571515,29002097.030000001,18689770,10312327,0,{"$f":"ROUND(100-'townwide contributions'!K119,2)","v":33.99},9857813,0,0,935098.39999999851,317839.94615999953,0,3103,3159,28.990000000000002,36.450864187733529,0,10571515,36.450864187733529,0,null,null,0.6970973610340494,36.450864187733529,0,0,78975,78975,10650490,0,10650490,null,29340260,101.16599489219763,null,935098.39999999851,78975,792677.21950299852,2.7331720829809214,null,0]
[111,"GRANBY                       ",1,8273052.5900000017,4537515,7978374.4699999979,4658238,3320136,0,{"$f":"ROUND(100-'townwide contributions'!K120,2)","v":41.61},3319802,0,0,0,0,0,852,812,36.61,56.872675218013434,0,4537515,56.872675218013441,0,null,null,0.73496884756437675,56.872675218013434,0,0,20300,20300,4557815,0,4557815,null,9216053,115.5129160038035,null,-294678.12000000384,20300,1238013.3830330013,15.517113012031906,null,0]
[112,"GRANVILLE                    ",0,0,0,0,0,0,0,{"$f":"ROUND(100-'townwide contributions'!K121,2)","v":31.02},0,0,0,0,0,0,0,0,26.02,0,0,0,0,0,null,null,0,0,0,0,0,0,0,0,0,null,0,0,null,0,0,0,"",null,0]
[113,"GREAT BARRINGTON             ",0,0,0,0,0,0,0,{"$f":"ROUND(100-'townwide contributions'!K122,2)","v":17.5},0,0,0,0,0,0,0,0,12.5,0,0,0,0,0,null,null,0,0,0,0,0,0,0,0,0,null,0,0,null,0,0,0,"",null,0]
[114,"GREENFIELD                   ",1,21246903.91,11983812.357180249,21378359.310000002,9577049,11801310,0,{"$f":"ROUND(100-'townwide contributions'!K123,2)","v":55.2},11800854,0,0,131455.40000000224,72563.380800001236,0,2065,2048,50.2,56.055809444528634,0,11983812.357180249,56.055809444528641,0,null,null,0.55699170474618065,56.055809444528634,0,76169.357180249877,51200,51200,12035012.357180249,0,12035012.357180249,null,21612061.357180249,101.09317110724642,null,131455.40000000224,51200,234158.01806024648,1.0953039691437709,null,0]
[115,"GROTON                       ",0,0,0,0,0,0,0,{"$f":"ROUND(100-'townwide contributions'!K124,2)","v":17.5},0,0,0,0,0,0,0,0,12.5,0,0,0,0,0,null,null,0,0,0,0,0,0,0,0,0,null,0,0,null,0,0,0,"",null,0]
[116,"GROVELAND                    ",0,65024.500000000007,42110,79199.760000000009,50392,28808,0,{"$f":"ROUND(100-'townwide contributions'!K125,2)","v":36.369999999999997},28805,0,0,14175.260000000002,5155.5420620000004,0,5,6,31.369999999999997,53.169353038443546,0,42110,53.169353038443546,0,null,null,377.41982970659154,53.169353038443546,0,0,0,0,42110,0,42110,null,92502,116.79580847214687,null,14175.260000000002,0,13305.047287999998,"",null,0]
[117,"HADLEY                       ",1,5981187.5199999996,938253.99517187499,5986156.3800000008,4938579,1047577,109323.00482812501,{"$f":"ROUND(100-'townwide contributions'!K126,2)","v":17.5},1047577,0,0,4968.8600000012666,869.55050000022163,0,627,611,12.5,17.499993877540497,0,1047577,17.499993877540497,1,null,null,0.97723457735663088,17.499993877540497,0,64207.717359375034,15275,0,1047577,0,1047577,null,5986156,99.999993652020152,null,4968.8600000012666,109323.00482812501,-0.36650000012014061,-6.1224595029329976E-6,null,0]
[118,"HALIFAX                      ",1,5366429.71,2699817,5540979.4299999988,2871459,2669520,0,{"$f":"ROUND(100-'townwide contributions'!K127,2)","v":48.18},2669644,0,0,174549.71999999881,84098.055095999429,0,594,592,43.18,48.724544714651657,0,2699817,48.724544714651657,0,null,null,3.4673961060767291,48.724544714651657,0,0,14800,14800,2714617,0,2714617,null,5586076,100.81387362233903,null,174549.71999999881,14800,44973.110626000445,0.81164550769683785,null,0]
[119,"HAMILTON                     ",0,39912.938879999994,16844,0,0,0,0,{"$f":"ROUND(100-'townwide contributions'!K128,2)","v":17.5},0,0,0,0,0,0,3,0,12.5,0,0,16844,0,0,null,null,0,0,0,0,0,0,16844,16844,0,null,0,0,null,-39912.938879999994,-16844,0,"",null,0]
[120,"HAMPDEN                      ",0,0,0,0,0,0,0,{"$f":"ROUND(100-'townwide contributions'!K129,2)","v":27.5},0,0,0,0,0,0,0,0,22.5,0,0,0,0,0,null,null,0,0,0,0,0,0,0,0,0,null,0,0,null,0,0,0,"",null,0]
[121,"HANCOCK                      ",1,806235.6399999999,199115,700017.85,577515,122503,0,{"$f":"ROUND(100-'townwide contributions'!K130,2)","v":17.5},122503,0,0,0,0,0,90,75,12.5,28.444274670995888,0,199115,28.444274670995892,0,null,null,1.8138337472394455,28.444274670995888,0,0,1875,1875,200990,0,200990,null,778505,111.21216408981572,null,-106217.78999999992,1875,78486.876250000016,11.212124983670062,null,0]
[122,"HANOVER                      ",1,23675035.831840001,6590763.713344737,24041587.167499997,18359459,5682128,0,{"$f":"ROUND(100-'townwide contributions'!K131,2)","v":23.63},5681027,0,0,366551.33565999568,86616.080616456966,0,2586,2566,18.63,27.41401250851812,0,6590763.713344737,27.414012508518123,0,null,null,0.80018728096097391,27.41401250851812,0,24836.261202132329,64150,64150,6654913.713344737,0,6654913.713344737,null,25014372.713344738,104.04626175080394,null,366551.33565999568,64150,973886.66566448845,4.0508418137260591,null,0]
[123,"HANSON                       ",0,91034.3,52462,105599.68000000001,47255,58345,5883,{"$f":"ROUND(100-'townwide contributions'!K132,2)","v":47.59},50255,0,0,14565.380000000005,6931.6643420000028,0,7,8,42.59,55.25111439731635,0,58345,55.25111439731635,0,null,null,283.54929523505047,55.25111439731635,0,0,0,0,58345,0,58345,null,105600,100.00030303122129,null,14565.380000000005,5883,8090.1122879999893,"",null,0]
[124,"HARDWICK                     ",0,13004.9,7892,13199.960000000001,4654,8546,654,{"$f":"ROUND(100-'townwide contributions'!K133,2)","v":64.739999999999995},8546,0,0,195.06000000000131,126.28184400000085,0,1,1,59.739999999999995,64.742620432183116,0,8546,64.742620432183116,0,null,null,2271.4715282550096,64.742620432183116,0,0,0,0,8546,0,8546,null,13200,100.00030303122129,null,195.06000000000131,654,0.34589599999890197,"",null,0]
[125,"HARVARD                      ",1,9617698.6389000006,1816706,9693663.2637600005,7997272,1696391,0,{"$f":"ROUND(100-'townwide contributions'!K134,2)","v":17.5},1696391,0,0,75964.624859999865,13293.809350499976,0,1036,1019,12.5,18.741170913082986,0,1816706,18.741170913082986,0,null,null,1.073164307567082,18.741170913082986,0,0,25475,25475,1842181,0,1842181,null,9839453,101.50396947235663,null,75964.624859999865,25475,145789.92884199996,1.5039714592422371,null,0]
[126,"HARWICH                      ",0,0,0,0,0,0,0,{"$f":"ROUND(100-'townwide contributions'!K135,2)","v":17.5},0,0,0,0,0,0,0,0,12.5,0,0,0,0,0,null,null,0,0,0,0,0,0,0,0,0,null,0,0,null,0,0,0,"",null,0]
[127,"HATFIELD                     ",1,3505759.1100000003,786221,3617908.4000000004,2984774,633134,0,{"$f":"ROUND(100-'townwide contributions'!K136,2)","v":17.5},633134,0,0,112149.29000000004,19626.125750000007,0,375,381,12.5,21.731368323200222,0,786221,21.731368323200222,0,null,null,0.94894939849776172,21.731368323200222,0,0,9525,9525,795746,0,795746,null,3780520,104.49463010174607,null,112149.29000000004,9525,162612.03000000003,4.4946419870663377,null,0]
[128,"HAVERHILL                    ",1,83661746.030000001,45091781.071740001,85387258.689999998,37789636,47597623,2505841.9282599986,{"$f":"ROUND(100-'townwide contributions'!K137,2)","v":55.74},47594858,0,0,1725512.6599999964,961800.75668399804,0,7951,8105,50.74,55.743238195295675,0,47597623,55.743238195295667,1,null,null,0.48620375401723648,55.743238195295675,0,321193.07174000144,202625,0,47597623,0,47597623,null,85387259,100.00000036305183,null,1725512.6599999964,2505841.9282599986,2765.0061940029263,3.2381952956725968E-3,null,0]
[129,"HAWLEY                       ",0,{"$f":"VLOOKUP(A138, disthist, 35, FALSE)","v":39014.69999999999},{"$f":"VLOOKUP(A138, disthist, 37, FALSE)*(1-$E$6)","v":35202},{"$f":"SUMIF(dist1755,A138,found1755)","v":65999.8},{"$f":"SUMIF(dist1755,A138,prelcont1755)","v":34098},{"$f":"ROUND(MAX(found-prelcont436,0),0)","v":31902},{"$f":"IF(foundaid>priorc70,foundaid-priorc70,0)","v":0},{"$f":"ROUND(100-'townwide contributions'!K138,2)","v":43.13},{"$f":"ROUND(J138/100*F138,0)","v":28466},{"$f":"ROUND(IF(K138>priorc70,L$6*(K138-priorc70),0),0)","v":0},{"$f":"IF(L138>I138,L138-I138,0)","v":0},{"$f":"MAX(F138-D138,0)","v":26985.100000000013},{"$f":"(J138/100)*N138","v":11638.673630000007},{"$f":"IF(P$6=\"no\",0,ROUND(MAX(O138-foundinc-downaid,0),0))","v":0},3,{"$f":"SUMIF(dist1755,A138,enro1755)","v":5},{"$f":"J138-$S$6","v":38.130000000000003},{"$f":"IF(F138=0, 0, ((priorc70+foundinc+downaid+growthaid+targaid)/found*100))","v":53.336525262197767},{"$f":"IF(AND(T138>0, S138>T138,$S$5= \"yes\"), (((S138/100)*found)-(priorc70+foundinc+downaid+growthaid+minaid)), 0)","v":0},{"$f":"priorc70+foundinc+downaid+growthaid","v":35202},{"$f":"IF(F138>0,V138*100/F138,0)","v":53.33652526219776},{"$f":"IF(AND(C138=1,I138>0),1,0)","v":0},null,null,{"$f":"IF(found>0, SUMIF(ceylea, A138, ceyproptotal)/found, 0)","v":391.05631026261892},{"$f":"IF(found>0, prelimc70/found*100, 0)","v":53.336525262197767},{"$f":"IF(AND(nonop=1, J138>AB138, AA138<ceyperc), targaidperc*(((J138/100)*found)-prelimc70), 0)","v":0},0,{"$f":"IF(nonop=1,enro*$AE$6,0)","v":0},{"$f":"IF(AND(nonop=1,(prelimc70+targaid)-priorc70<AE138),AE138-(prelimc70+targaid-priorc70),0)","v":0},{"$f":"priorc70+foundinc+downaid+U138+growthaid+targaid+minaid","v":35202},{"$f":"IF(AND(C138=0,AG138>found),AG138-found,0)","v":0},{"$f":"AG138-rednonop","v":35202},null,{"$f":"prelcont436+chapter70","v":69300},{"$f":"IF(found>0,AK138*100/found,0)","v":105.00031818278237},null,{"$f":"F138-D138","v":26985.100000000013},{"$f":"AI138-E138","v":0},6736.2862599999971,{"$f":"IF(C138=1, (AI138/F138*100)-J138, \"\")","v":""},null,{"$f":"VLOOKUP(A138, disthist, 37, FALSE)*$E$6","v":0}]
[130,"HEATH                        ",0,0,0,0,0,0,0,{"$f":"ROUND(100-'townwide contributions'!K139,2)","v":56.12},0,0,0,0,0,0,0,0,51.12,0,0,0,0,0,null,null,0,0,0,0,0,0,0,0,0,null,0,0,null,0,0,{"$f":"AI139-((J139/100)*F139)","v":0},"",null,0]
[131,"HINGHAM                      ",1,37371415.691150002,6499060.2338675,39001020.533249997,32175842,6825179,326118.76613250002,{"$f":"ROUND(100-'townwide contributions'!K140,2)","v":17.5},6825179,0,0,1629604.8420999944,285180.84736749902,0,4119,4189,12.5,17.500001042745151,0,6825179,17.500001042745151,1,null,null,1.372110018361631,17.500001042745151,0,28455.233867499745,104725,0,6825179,0,6825179,null,39001021,100.00000119676356,null,1629604.8420999944,326118.76613250002,0.40668125078082085,1.0427451506700436E-6,null,0]
[132,"HINSDALE                     ",0,259046.25,104683,210131.86,161349,48783,0,{"$f":"ROUND(100-'townwide contributions'!K141,2)","v":21.1},44338,0,0,0,0,0,18,14,16.100000000000001,49.817766806042648,0,104683,49.817766806042648,0,null,null,131.9448435979688,49.817766806042648,0,0,0,0,104683,0,104683,null,266032,126.60241050547975,null,-48914.390000000014,0,60345.177539999997,"",null,0]
[133,"HOLBROOK                     ",1,12460674.085960001,5309934,12443297.537840001,6790414,5652884,342950,{"$f":"ROUND(100-'townwide contributions'!K142,2)","v":45.43},5652990,0,0,0,0,0,1208,1168,40.43,45.429147561646019,0,5652884,45.429147561646019,1,null,null,0.98145519365756706,45.429147561646019,0,94453.863775481936,29200,0,5652884,0,5652884,null,12443298,100.000003714128,null,-17376.548119999468,342950,-106.07144071254879,-8.5243835398074452E-4,null,0]
[134,"HOLDEN                       ",0,0,0,13199.960000000001,7728,5472,5472,{"$f":"ROUND(100-'townwide contributions'!K143,2)","v":41.45},5471,0,0,13199.960000000001,5471.383420000001,0,0,1,36.450000000000003,41.454671074760832,0,5472,41.454671074760832,0,null,null,2277.7193256105984,41.454671074760832,0,0,0,0,5472,0,5472,null,13200,100.00030303122129,null,13199.960000000001,5472,0.61657999999897584,"",null,0]
[135,"HOLLAND                      ",1,1736861.59,907048,1599126.75,929167,669960,0,{"$f":"ROUND(100-'townwide contributions'!K144,2)","v":41.9},670034,0,0,0,0,0,185,163,36.9,56.721457507980531,0,907048,56.721457507980524,0,null,null,11.356073248631789,56.721457507980531,0,0,4075,4075,911123,0,911123,null,1840290,115.08093401601843,null,-137734.84000000008,4075,241088.89175000007,15.076284087549659,null,0]
[136,"HOLLISTON                    ",1,24025115.2018,7155224.6612902638,24361946.347450003,17526806,6835140,0,{"$f":"ROUND(100-'townwide contributions'!K145,2)","v":28.06},6835962,0,0,336831.14565000311,94514.819469390859,0,2568,2565,23.06,29.370496754415566,0,7155224.6612902638,29.370496754415562,0,null,null,0.75275910266568558,29.370496754415566,0,61631.030664218357,64125,64125,7219349.6612902638,0,7219349.6612902638,null,24746155.661290266,101.57708792376712,null,336831.14565000311,64125,383387.51619579364,1.5737146397415103,null,0]
[137,"HOLYOKE                      ",1,78698902.669999987,69785403,80596955.480000004,10055521,70541434,756031,{"$f":"ROUND(100-'townwide contributions'!K146,2)","v":78.930000000000007},63615177,0,0,1898052.8100000173,1498133.0829330138,0,6552,6639,73.930000000000007,87.52369562831035,0,70541434,87.52369562831035,1,null,null,0.21070273559171915,87.52369562831035,0,0,165975,0,70541434,0,70541434,null,80596955,99.999999404443997,null,1898052.8100000173,756031,6926257.0396359861,8.5936956283103427,null,0]
[138,"HOPEDALE                     ",1,10475107.010799998,5914920,10396781.262500001,5476378,4920403,0,{"$f":"ROUND(100-'townwide contributions'!K147,2)","v":47.33},4920797,0,0,0,0,0,1104,1077,42.33,56.891838451333385,0,5914920,56.891838451333385,0,null,null,0.62042176406879479,56.891838451333385,0,0,26925,26925,5941845,0,5941845,null,11418223,109.82459582163398,null,-78325.7482999973,26925,1021048.4284587493,9.8208128331174365,null,0]
[139,"HOPKINTON                    ",1,32526014.474999998,5873878.4027372804,33687637.267440006,27792300,5895337,21458.597262719646,{"$f":"ROUND(100-'townwide contributions'!K148,2)","v":17.5},5895337,0,0,1161622.7924400084,203283.98867700144,0,3387,3489,12.5,17.500001419505899,0,5895337,17.500001419505899,1,null,null,0.86125650865101244,17.500001419505899,0,0,87225,65766.402737280354,5961103.4027372804,0,5961103.4027372804,null,33753403.402737282,100.19522335382317,null,1161622.7924400084,87225,65766.880935279652,0.1952255672108052,null,0]
[140,"HUBBARDSTON                  ",0,0,0,0,0,0,0,{"$f":"ROUND(100-'townwide contributions'!K149,2)","v":47.05},0,0,0,0,0,0,0,0,42.05,0,0,0,0,0,null,null,0,0,0,0,0,0,0,0,0,null,0,0,null,0,0,0,"",null,0]
[141,"HUDSON                       ",1,27792860.269480001,10859646.737085393,28189612.605080001,16152251,12037362,1177715.2629146073,{"$f":"ROUND(100-'townwide contributions'!K150,2)","v":42.7},12036965,0,0,396752.33559999987,169413.24730119997,0,2771,2759,37.700000000000003,42.701409801675553,0,12037362,42.70140980167556,1,null,null,0.67626485676263715,42.701409801675553,0,247043.20646538818,68975,0,12037362,0,12037362,null,28189613,100.00000140094156,null,396752.33559999987,1177715.2629146073,397.41763083823025,1.4098016755497156E-3,null,0]
[142,"HULL                         ",1,10591221.700679999,3708196,10627740.812809998,8767886,1859855,0,{"$f":"ROUND(100-'townwide contributions'!K151,2)","v":17.5},1859855,0,0,36519.112129999325,6390.8446227498816,0,1054,1042,12.5,34.891667620745679,0,3708196,34.891667620745679,0,null,null,1.1976629110730608,34.891667620745679,0,0,26050,26050,3734246,0,3734246,null,12502132,117.63677925726915,null,36519.112129999325,26050,1874391.3577582506,17.636780862203366,null,0]
[143,"HUNTINGTON                   ",0,466072.9,257686,328931.5,187234,141698,0,{"$f":"ROUND(100-'townwide contributions'!K152,2)","v":42.33},139237,0,0,0,0,0,32,23,37.33,78.340323137188136,0,257686,78.340323137188136,0,null,null,81.758352336032971,78.340323137188136,0,0,0,0,257686,0,257686,null,444920,135.26220504877156,null,-137141.40000000002,0,118449.29605,"",null,0]
[144,"IPSWICH                      ",1,18277939.337160002,3032974.52940783,18118176.856480002,14947496,3170681,137706.47059217002,{"$f":"ROUND(100-'townwide contributions'!K153,2)","v":17.5},3170681,0,0,0,0,0,1921,1865,12.5,17.500000276606194,0,3170681,17.500000276606194,1,null,null,1.045620765900694,17.500000276606194,0,111882.55029139074,46625,0,3170681,0,3170681,null,18118177,100.00000079213267,null,-159762.48068000004,137706.47059217002,5.0115999765694141E-2,2.7660619394964669E-7,null,0]
[145,"KINGSTON                     ",1,10520096.445809999,4188864.5356259407,10093730.667000001,6415834,3677897,0,{"$f":"ROUND(100-'townwide contributions'!K154,2)","v":36.44},3678155,0,0,0,0,0,1160,1092,31.439999999999998,41.499666216781769,0,4188864.5356259407,41.499666216781769,0,null,null,2.1755234131597301,41.499666216781769,0,0,27300,27300,4216164.5356259402,0,4216164.5356259402,null,10631998.53562594,105.33269498051625,null,-426365.77880999818,27299.999999999534,538009.0805711397,5.3301311310998543,null,0]
[146,"LAKEVILLE                    ",0,130049.00000000001,73946,196931.90000000002,128965,67967,0,{"$f":"ROUND(100-'townwide contributions'!K155,2)","v":34.51},67961,0,0,66882.900000000009,23081.288789999999,0,10,13,29.509999999999998,37.549020752859228,0,73946,37.549020752859235,0,null,null,151.5824782294994,37.549020752859228,0,0,0,0,73946,0,73946,null,202911,103.03612568608742,null,66882.900000000009,0,5984.8013099999953,"",null,0]
[147,"LANCASTER                    ",0,13004.9,3597,26399.920000000002,18424,7976,4379,{"$f":"ROUND(100-'townwide contributions'!K156,2)","v":30.21},7975,0,0,13395.020000000002,4046.6355420000014,0,1,2,25.21,30.212212764281105,0,7976,30.212212764281102,0,null,null,1136.7080933202751,30.212212764281105,0,0,0,0,7976,0,7976,null,26400,100.00030303122129,null,13395.020000000002,4379,0.584167999998499,"",null,0]
[148,"LANESBOROUGH                 ",1,1841661.51,747323,1924866.88,1248595,676272,0,{"$f":"ROUND(100-'townwide contributions'!K157,2)","v":35.130000000000003},676206,0,0,83205.369999999879,29230.046480999958,0,198,200,30.130000000000003,38.824658877189471,0,747323,38.824658877189471,0,null,null,8.8848674672314907,38.824658877189471,0,0,5000,5000,752323,0,752323,null,2000918,103.95098075561465,null,83205.369999999879,5000,76117.265056000091,3.9544171000542079,null,0]
[149,"LAWRENCE                     ",1,177176380.49999997,169171876,186136094.67000002,8507699,177628396,8456520,{"$f":"ROUND(100-'townwide contributions'!K158,2)","v":87.16},162236220,0,0,8959714.1700000465,7809286.8705720399,0,14714,15186,82.16,95.429312791222316,0,177628396,95.429312791222316,1,null,null,0.1430854894366895,95.429312791222316,0,0,379650,0,177628396,0,177628396,null,186136095,100.00000017728962,null,8959714.1700000465,8456520,15392175.885627985,8.269312791222319,null,0]
[150,"LEE                          ",1,6714728.879999999,1980674,6274000.4799999986,5176050,1097950,0,{"$f":"ROUND(100-'townwide contributions'!K159,2)","v":17.5},1097950,0,0,0,0,0,661,601,12.5,31.569554486231095,0,1980674,31.569554486231095,0,null,null,0.899423106196511,31.569554486231095,0,0,15025,15025,1995699,0,1995699,null,7171749,114.30902855142915,null,-440728.40000000037,15025,897748.9160000002,14.309034863191478,null,0]
[151,"LEICESTER                    ",1,16135346.720000001,9534162,16315414.450000001,8064134,8251280,0,{"$f":"ROUND(100-'townwide contributions'!K160,2)","v":50.57},8250705,0,0,180067.73000000045,91060.251061000235,0,1629,1598,45.57,58.436529634097035,0,9534162,58.436529634097035,0,null,null,0.49426473502792323,58.436529634097035,0,0,39950,39950,9574112,0,9574112,null,17638246,108.10786360379585,null,180067.73000000045,39950,1323406.9126349986,8.1113901010035292,null,0]
[152,"LENOX                        ",1,5600729.1799999997,1185105,5259228.0599999996,4338863,920365,0,{"$f":"ROUND(100-'townwide contributions'!K161,2)","v":17.5},920365,0,0,0,0,0,577,521,12.5,22.533820296053108,0,1185105,22.533820296053108,0,null,null,1.4492385409124093,22.533820296053108,0,0,13025,13025,1198130,0,1198130,null,5536993,105.28147737331628,null,-341501.12000000011,13025,277765.08950000012,5.2814802159387639,null,0]
[153,"LEOMINSTER                   ",1,68009798.659999996,43390737,68789894.089999989,26480524,42309370,0,{"$f":"ROUND(100-'townwide contributions'!K162,2)","v":59.51},40936866,0,0,780095.42999999225,464234.79039299535,0,6335,6274,54.51,63.077196983659448,0,43390737,63.077196983659448,0,null,null,0.40491412828107765,63.077196983659448,0,0,156850,156850,43547587,0,43547587,null,70028111,101.79999827936938,null,780095.42999999225,156850,2610721.0270410106,3.7952101272685752,null,0]
[154,"LEVERETT                     ",1,934315.57,277216,982131.53,810259,171873,0,{"$f":"ROUND(100-'townwide contributions'!K163,2)","v":17.5},171873,0,0,47815.960000000079,8367.7930000000142,0,100,104,12.5,28.225954623409759,0,277216,28.225954623409759,0,null,null,17.588529379762047,28.225954623409759,0,0,2600,2600,279816,0,279816,null,1090075,110.99073461168689,null,47815.960000000079,2600,107942.98225,10.990684949295947,null,0]
[155,"LEXINGTON                    ",1,64514813.130400017,9584428.3342046905,67063773.197500005,55327612,11736161,2151732.6657953095,{"$f":"ROUND(100-'townwide contributions'!K164,2)","v":17.5},11736160,0,0,2548960.0670999885,446068.01174249797,0,6695,6849,12.5,17.500001029523791,0,11736161,17.500001029523791,1,null,null,1.2706318344115242,17.500001029523791,0,780772.81753593683,171225,0,11736161,0,11736161,null,67063773,99.99999970550418,null,2548960.0670999885,2151732.6657953095,0.69043749943375587,1.0295237906632337E-6,null,0]
[156,"LEYDEN                       ",0,0,0,0,0,0,0,{"$f":"ROUND(100-'townwide contributions'!K165,2)","v":17.5},0,0,0,0,0,0,0,0,12.5,0,0,0,0,0,null,null,0,0,0,0,0,0,0,0,0,null,0,0,null,0,0,0,"",null,0]
[157,"LINCOLN                      ",1,5682114.4160699993,841588,5601678.0140399989,4621384,980294,138706,{"$f":"ROUND(100-'townwide contributions'!K166,2)","v":17.5},980294,0,0,0,0,0,623,618,12.5,17.500006204265926,0,980294,17.500006204265922,1,null,null,4.2613390640429216,17.500006204265926,0,0,15450,0,980294,0,980294,null,5601678,99.999999749360839,null,-80436.402030000463,138706,0.34754300024360418,6.2042659259020638E-6,null,0]
[158,"LITTLETON                    ",1,14701467.741599999,3770462.508446292,15178691.897499997,11472283,3706409,0,{"$f":"ROUND(100-'townwide contributions'!K167,2)","v":24.42},3706637,0,0,477224.1558999978,116538.13887077948,0,1542,1558,19.420000000000002,24.840497019820958,0,3770462.508446292,24.840497019820958,0,null,null,0.82017318569905817,24.840497019820958,0,0,38950,38950,3809412.508446292,0,3809412.508446292,null,15281695.508446291,100.67860663910872,null,477224.1558999978,38950,102775.94707679236,0.67710674787278791,null,0]
[159,"LONGMEADOW                   ",1,24849640.570000004,4363911,25612986.450000003,21130714,4482272,118361,{"$f":"ROUND(100-'townwide contributions'!K168,2)","v":17.5},4482273,0,0,763345.87999999896,133585.52899999981,0,2758,2811,12.5,17.499997545190592,0,4482272,17.499997545190595,1,null,null,0.89801101659506,17.499997545190592,0,35851.856562500121,70275,0,4482272,0,4482272,null,25612986,99.99999824307875,null,763345.87999999896,118361,-0.62875000014901161,-2.4548094081922045E-6,null,0]
[160,"LOWELL                       ",1,176078571.80969998,135128765,177537953.73000002,43089941,134448013,0,{"$f":"ROUND(100-'townwide contributions'!K169,2)","v":73.22},129993290,0,0,1459381.9203000367,1068559.4420436868,0,15093,15300,68.22,76.112607000925564,0,135128765,76.112607000925578,0,null,null,0.28934864187122206,76.112607000925564,0,0,382500,382500,135511265,0,135511265,null,178601206,100.59888730700196,null,1459381.9203000367,382500,5517975.2788939923,3.1080538909926361,null,0]
[161,"LUDLOW                       ",1,27236633.910000004,13351728,27187438.540000007,15164414,12023025,0,{"$f":"ROUND(100-'townwide contributions'!K170,2)","v":44.22},12022285,0,0,0,0,0,2761,2680,39.22,49.109915155692327,0,13351728,49.109915155692327,0,null,null,0.55777281032521997,49.109915155692327,0,0,67000,67000,13418728,0,13418728,null,28583142,105.1336335269192,null,-49195.369999997318,67000,1396442.6776119974,5.1363524943972081,null,0]
[162,"LUNENBURG                    ",1,14945462.859999999,5605871.9110325621,15341249.750000002,9249930,6091320,485448.08896743786,{"$f":"ROUND(100-'townwide contributions'!K171,2)","v":39.71},6092010,0,0,395786.89000000246,157166.97401900098,0,1627,1647,34.71,39.70550052481871,0,6091320,39.70550052481871,1,null,null,0.74424806708154645,39.70550052481871,0,134759.22253781278,41175,0,6091320,0,6091320,null,15341250,100.00000162959343,null,395786.89000000246,485448.08896743786,-690.27572500053793,-4.4994751812907907E-3,null,0]
[163,"LYNN                         ",1,181764114.65000001,138630541,191949856.55000001,44587175,147362682,8732141,{"$f":"ROUND(100-'townwide contributions'!K172,2)","v":76.13},146131426,0,0,10185741.900000006,7754405.3084700042,0,15431,16036,71.13,76.771446797937188,0,147362682,76.771446797937188,1,null,null,0.23867572929426081,76.771446797937188,0,0,400900,0,147362682,0,147362682,null,191949857,100.00000023443621,null,10185741.900000006,8732141,1231256.2084850073,0.64144679793719206,null,0]
[164,"LYNNFIELD                    ",1,19490234.623029999,4036801,19743094.595660001,16288053,3455042,0,{"$f":"ROUND(100-'townwide contributions'!K173,2)","v":17.5},3455042,0,0,252859.9726300016,44250.495210250279,0,2117,2104,12.5,20.44664771493008,0,4036801,20.44664771493008,0,null,null,1.0692291784786123,20.44664771493008,0,0,52600,52600,4089401,0,4089401,null,20377454,103.21306977113632,null,252859.9726300016,52600,634359.44575949991,3.2130699809286583,null,0]
[165,"MALDEN                       ",1,80737953.747600004,47246321,84059175.637440011,35620417,48438759,1192438,{"$f":"ROUND(100-'townwide contributions'!K174,2)","v":54.41},45736597,0,0,3321221.8898400068,1807076.8302619474,0,7309,7395,49.41,57.62459437970665,0,48438759,57.62459437970665,1,null,null,0.46744624708905785,57.62459437970665,0,0,184875,0,48438759,0,48438759,null,84059176,100.00000043131519,null,3321221.8898400068,1192438,2702161.5356688946,3.2145943797066536,null,0]
[166,"MANCHESTER                   ",0,0,0,0,0,0,0,{"$f":"ROUND(100-'townwide contributions'!K175,2)","v":17.5},0,0,0,0,0,0,0,0,12.5,0,0,0,0,0,null,null,0,0,0,0,0,0,0,0,0,null,0,0,null,0,0,0,"",null,0]
[167,"MANSFIELD                    ",1,41985292.046640001,18283964,40931631.918399997,25990129,14941503,0,{"$f":"ROUND(100-'townwide contributions'!K176,2)","v":36.5},14940046,0,0,0,0,0,4357,4171,31.5,44.66952120660698,0,18283964,44.669521206606987,0,null,null,0.65660492636539114,44.66952120660698,0,98824.354787355289,104275,104275,18388239,0,18388239,null,44378368,108.42071503152209,null,-1053660.1282400042,104275,3448193.3497840017,8.4242752809323846,null,0]
[168,"MARBLEHEAD                   ",1,30687140.549999997,5381364,30592758.849999998,25239026,5353733,0,{"$f":"ROUND(100-'townwide contributions'!K177,2)","v":17.5},5353733,0,0,0,0,0,3366,3308,12.5,17.590319416386993,0,5381364,17.590319416386993,0,null,null,1.408861956557677,17.590319416386993,0,0,82700,82700,5464064,0,5464064,null,30703090,100.36064465627624,null,-94381.699999999255,82700,110331.20125000086,0.36064482379953944,null,0]
[169,"MARION                       ",1,3955020.5,595842,4014302.5699999994,3311800,702503,106661,{"$f":"ROUND(100-'townwide contributions'!K178,2)","v":17.5},702503,0,0,59282.069999999367,10374.362249999889,0,448,439,12.5,17.500001251774105,0,702503,17.500001251774105,1,null,null,4.812425426311707,17.500001251774105,0,0,10975,0,702503,0,702503,null,4014303,100.00001071169881,null,59282.069999999367,106661,5.0250000203959644E-2,1.251774104815695E-6,null,0]
[170,"MARLBOROUGH                  ",1,52135804.352599993,19543643,55409404.919719994,32195951,23213454,3669811,{"$f":"ROUND(100-'townwide contributions'!K179,2)","v":41.89},23211000,0,0,3273600.5671200007,1371311.2775665682,0,4798,4976,36.89,41.894429354787057,0,23213454,41.894429354787064,1,null,null,0.63456188164410365,41.894429354787057,0,331825.96020032093,124400,0,23213454,0,23213454,null,55409405,100.00000014488516,null,3273600.5671200007,3669811,2454.2791292965412,4.4293547870566385E-3,null,0]
[171,"MARSHFIELD                   ",1,40490934.449160002,13963368,40254049.280549996,31962838,8291211,0,{"$f":"ROUND(100-'townwide contributions'!K180,2)","v":20.6},8292334,0,0,0,0,0,4299,4193,15.600000000000001,34.68810777937523,0,13963368,34.688107779375223,0,null,null,0.79402789461590506,34.68810777937523,0,0,104825,104825,14068193,0,14068193,null,46031031,114.35130582562618,null,-236885.16861000657,104825,5775858.8482066998,14.348516364035675,null,0]
[172,"MASHPEE                      ",1,16847491.769999996,4359861,16578175.300000003,13676995,2901180,0,{"$f":"ROUND(100-'townwide contributions'!K181,2)","v":17.5},2901181,0,0,0,0,0,1734,1688,12.5,26.298798999911643,0,4359861,26.298798999911646,0,null,null,1.4915875250034398,26.298798999911643,0,0,42200,42200,4402061,0,4402061,null,18079056,109.05335281380452,null,-269316.46999999322,42200,1500880.3224999998,9.053350536714369,null,0]
[173,"MATTAPOISETT                 ",1,4564402.3699999992,661547.15474999999,4686148.55,3866072,820077,158529.84525000001,{"$f":"ROUND(100-'townwide contributions'!K182,2)","v":17.5},820076,0,0,121746.18000000063,21305.581500000109,0,511,510,12.5,17.50002141950878,0,820077,17.50002141950878,1,null,null,4.2631055614607725,17.50002141950878,0,41422.154750000016,12750,0,820077,0,820077,null,4686149,100.00000960276857,null,121746.18000000063,158529.84525000001,1.0037500000325963,2.1419508779985108E-5,null,0]
[174,"MAYNARD                      ",1,13617361.215549998,4180312.5528999842,13850824.283779997,9037642,4813182,632869.44710001582,{"$f":"ROUND(100-'townwide contributions'!K183,2)","v":34.75},4813161,0,0,233463.06822999939,81128.416209924777,0,1393,1384,29.75,34.750148448828959,0,4813182,34.750148448828959,1,null,null,0.80424355191127384,34.750148448828959,0,0,34600,0,4813182,0,4813182,null,13850824,99.999997951168893,null,233463.06822999939,632869.44710001582,20.561386451125145,1.4844882895914679E-4,null,0]
[175,"MEDFIELD                     ",1,23366471.620039996,5862409,23395043.4848,19300911,4094132,0,{"$f":"ROUND(100-'townwide contributions'!K184,2)","v":17.5},4094133,0,0,28571.864760003984,5000.0763330006966,0,2578,2538,12.5,25.058337693660913,0,5862409,25.058337693660913,0,null,null,1.0499014779610703,25.058337693660913,0,0,63450,63450,5925859,0,5925859,null,25226770,107.82954952141932,null,28571.864760003984,63450,1831726.3901600004,7.8295489869471382,null,0]
[176,"MEDFORD                      ",1,52268719.305079997,11332041,52826959.864799984,43582242,9244718,0,{"$f":"ROUND(100-'townwide contributions'!K185,2)","v":17.5},9244718,0,0,558240.55971998721,97692.097950997762,0,4990,4896,12.5,21.451245782460486,0,11332041,21.451245782460486,0,null,null,1.0297575923207249,21.451245782460486,0,0,122400,122400,11454441,0,11454441,null,55036683,104.18294586865373,null,558240.55971998721,122400,2209723.0236600041,4.1829456575115174,null,0]
[177,"MEDWAY                       ",1,21554025.020479999,10117244,21958660.335269995,14185958,7772702,0,{"$f":"ROUND(100-'townwide contributions'!K186,2)","v":35.4},7773366,0,0,404635.31478999555,143240.90143565842,0,2351,2331,30.4,46.074049352408288,0,10117244,46.074049352408288,0,null,null,0.70366269210429622,46.074049352408288,0,0,58275,58275,10175519,0,10175519,null,24361477,110.94245563273549,null,404635.31478999555,58275,2402153.2413144223,10.939434394620534,null,0]
[178,"MELROSE                      ",1,35264711.847039998,7867296,36086251.428580001,29102972,6983279,0,{"$f":"ROUND(100-'townwide contributions'!K187,2)","v":17.5},6315094,0,0,821539.58154000342,143769.4267695006,0,3727,3732,12.5,21.801366693823923,0,7867296,21.801366693823923,0,null,null,0.86829115955095137,21.801366693823923,0,0,93300,93300,7960596,0,7960596,null,37063568,102.70827956002648,null,821539.58154000342,93300,1645501.9999985006,4.5599139141819443,null,0]
[179,"MENDON                       ",0,26544.465999999997,12050,26877.483239999998,16445,10432,0,{"$f":"ROUND(100-'townwide contributions'!K188,2)","v":34.4},9246,0,0,333.01724000000104,114.55793056000034,0,2,2,29.4,44.833066743640543,0,12050,44.833066743640543,0,null,null,1116.731178876973,44.833066743640543,0,0,0,0,12050,0,12050,null,28495,106.01811094274169,null,333.01724000000104,0,2804.1457654400019,"",null,0]
[180,"MERRIMAC                     ",0,39014.69999999999,39014.69999999999,39599.880000000005,23460,16140,0,{"$f":"ROUND(100-'townwide contributions'!K189,2)","v":40.76},16141,0,0,585.18000000001484,238.51936800000604,0,3,3,35.76,98.522268249297682,0,39014.69999999999,98.522268249297696,0,null,null,756.78394271952595,98.522268249297682,0,0,0,0,39014.69999999999,0,39014.69999999999,null,62474.69999999999,157.76487201476363,null,585.18000000001484,0,22873.788911999989,"",null,0]
[181,"METHUEN                      ",1,73674473.939999998,40839452.117845498,75476679.289999992,33685127,41791552,952099.88215450197,{"$f":"ROUND(100-'townwide contributions'!K190,2)","v":55.37},41791437,0,0,1802205.349999994,997881.10229499661,0,7098,7112,50.37,55.370151937165332,0,41791552,55.370151937165339,1,null,null,0.47818835019948452,55.370151937165332,0,77720.117845499888,177800,0,41791552,0,41791552,null,75476679,99.999999615775366,null,1802205.349999994,952099.88215450197,114.67712700366974,1.5193716533445922E-4,null,0]
[182,"MIDDLEBOROUGH                ",1,32073963.209999997,17459284,32000342.629999999,15610347,16389996,0,{"$f":"ROUND(100-'townwide contributions'!K191,2)","v":51.22},16390575,0,0,0,0,0,3299,3217,46.22,54.559678319294299,0,17459284,54.559678319294299,0,null,null,0.60278760624560523,54.559678319294299,0,0,80425,80425,17539709,0,17539709,null,33150056,103.59281581229745,null,-73620.579999998212,80425,1149133.5049140006,3.5910037533057562,null,0]
[183,"MIDDLEFIELD                  ",0,52019.6,18050,13199.960000000001,10890,2310,0,{"$f":"ROUND(100-'townwide contributions'!K192,2)","v":17.5},2310,0,0,0,0,0,4,1,12.5,136.74283861466245,0,18050,136.74283861466245,0,null,null,2205.1602704444799,136.74283861466245,0,0,0,0,18050,4850.0399999999991,13199.960000000001,null,24089.96,182.50025000075757,null,-38819.64,-4850.0399999999991,10889.967000000001,"",null,0]
[184,"MIDDLETON                    ",1,6500381.7589600012,1550526,6509297.9842300005,5370171,1139127,0,{"$f":"ROUND(100-'townwide contributions'!K193,2)","v":17.5},1139127,0,0,8916.2252699993551,1560.3394222498871,0,743,729,12.5,23.820172371220998,0,1550526,23.820172371220998,0,null,null,3.3416771845554281,23.820172371220998,0,0,18225,18225,1568751,0,1568751,null,6938922,106.60015898505253,null,8916.2252699993551,18225,429623.85275975009,6.6001564807847863,null,0]
[185,"MILFORD                      ",1,43366941.909150004,20022624.302150823,44418717.093200006,22720588,21698129,1675504.6978491768,{"$f":"ROUND(100-'townwide contributions'!K194,2)","v":48.85},21698543,0,0,1051775.1840500012,513792.1774084256,0,4207,4221,43.85,48.849067285020112,0,21698129,48.849067285020112,1,null,null,0.54442098984408316,48.849067285020112,0,502085.30215082131,105525,0,21698129,0,21698129,null,44418717,99.999999790178535,null,1051775.1840500012,1675504.6978491768,-414.30002820119262,-9.3271497988922647E-4,null,0]
[186,"MILLBURY                     ",1,17048501.060000002,6879057.8450512495,17130949.16,10272343,6858606,0,{"$f":"ROUND(100-'townwide contributions'!K195,2)","v":40.04},6859232,0,0,82448.099999997765,33012.219239999104,0,1781,1757,35.04,40.15573089851636,0,6879057.8450512495,40.15573089851636,0,null,null,0.70869894767688801,40.15573089851636,0,107071.84505124995,43925,43925,6922982.8450512495,0,6922982.8450512495,null,17195325.845051251,100.37579169986428,null,82448.099999997765,43925,63750.801387249492,0.37213817396705906,null,0]
[187,"MILLIS                       ",1,12356473.845559999,4625471.5320735266,12205625.68949,8055578,4150048,0,{"$f":"ROUND(100-'townwide contributions'!K196,2)","v":34},4149913,0,0,0,0,0,1308,1277,29,37.89622629552224,0,4625471.5320735266,37.896226295522233,0,null,null,0.7668374862597509,37.89622629552224,0,58360.69271213375,31925,31925,4657396.5320735266,0,4657396.5320735266,null,12712974.532073528,104.15668033323678,null,-150848.15606999956,31925,507483.79764692625,4.1577860124279411,null,0]
[188,"MILLVILLE                    ",0,26009.8,26009.8,79199.760000000009,30473,48727,22717.200000000001,{"$f":"ROUND(100-'townwide contributions'!K197,2)","v":59.92},47456,0,0,53189.960000000006,31871.424032000006,0,2,6,54.92,61.52417633588788,0,48727,61.52417633588788,0,null,null,374.77502426260457,61.52417633588788,0,0,0,0,48727,0,48727,null,79200,100.00030303122129,null,53189.960000000006,22717.200000000001,1270.5038079999867,"",null,0]
[189,"MILTON                       ",1,35082060.980719998,5964021.6424181247,36501504.885839999,30113742,6387763,423741.35758187529,{"$f":"ROUND(100-'townwide contributions'!K198,2)","v":17.5},6387763,0,0,1419443.9051200002,248402.68339600004,0,3762,3860,12.5,17.49999902737709,0,6387763,17.499999027377086,1,null,null,1.174303742165268,17.49999902737709,0,103681.12462062459,96500,0,6387763,0,6387763,null,36501505,100.00000031275424,null,1419443.9051200002,423741.35758187529,-0.35502199921756983,-9.7262291021138481E-7,null,0]
[190,"MONROE                       ",0,49377.140000000007,49377.140000000007,57396.78,39279,18118,0,{"$f":"ROUND(100-'townwide contributions'!K199,2)","v":19.18},11009,0,0,8019.6399999999921,1538.1669519999984,0,7,8,14.18,86.02771793121498,0,49377.140000000007,86.02771793121498,0,null,null,273.14151324602398,86.02771793121498,0,0,0,0,49377.140000000007,0,49377.140000000007,null,88656.140000000014,154.46187050911223,null,8019.6399999999921,0,38368.437596000003,"",null,0]
[191,"MONSON                       ",1,11227559.509999998,7372025,10642912.68,5358402,5284511,0,{"$f":"ROUND(100-'townwide contributions'!K200,2)","v":49.65},5284206,0,0,0,0,0,1172,1096,44.65,69.266987540482205,0,7372025,69.266987540482205,0,null,null,0.90157236691155862,69.266987540482205,0,0,27400,27400,7399425,0,7399425,null,12757827,119.87157447955309,null,-584646.82999999821,27400,2115218.8543800004,19.874435861480741,null,0]
[192,"MONTAGUE                     ",0,0,0,0,0,0,0,{"$f":"ROUND(100-'townwide contributions'!K201,2)","v":48.29},0,0,0,0,0,0,0,0,43.29,0,0,0,0,0,null,null,0,0,0,0,0,0,0,0,0,null,0,0,null,0,0,0,"",null,0]
[193,"MONTEREY                     ",0,{"$f":"VLOOKUP(A202, disthist, 35, FALSE)","v":0},{"$f":"VLOOKUP(A202, disthist, 37, FALSE)*(1-$E$6)","v":0},{"$f":"SUMIF(dist1755,A202,found1755)","v":0},{"$f":"SUMIF(dist1755,A202,prelcont1755)","v":0},{"$f":"ROUND(MAX(found-prelcont436,0),0)","v":0},{"$f":"IF(foundaid>priorc70,foundaid-priorc70,0)","v":0},{"$f":"ROUND(100-'townwide contributions'!K202,2)","v":17.5},{"$f":"ROUND(J202/100*F202,0)","v":0},{"$f":"ROUND(IF(K202>priorc70,L$6*(K202-priorc70),0),0)","v":0},{"$f":"IF(L202>I202,L202-I202,0)","v":0},{"$f":"MAX(F202-D202,0)","v":0},{"$f":"(J202/100)*N202","v":0},{"$f":"IF(P$6=\"no\",0,ROUND(MAX(O202-foundinc-downaid,0),0))","v":0},0,{"$f":"SUMIF(dist1755,A202,enro1755)","v":0},{"$f":"J202-$S$6","v":12.5},{"$f":"IF(F202=0, 0, ((priorc70+foundinc+downaid+growthaid+targaid)/found*100))","v":0},{"$f":"IF(AND(T202>0, S202>T202,$S$5= \"yes\"), (((S202/100)*found)-(priorc70+foundinc+downaid+growthaid+minaid)), 0)","v":0},{"$f":"priorc70+foundinc+downaid+growthaid","v":0},{"$f":"IF(F202>0,V202*100/F202,0)","v":0},{"$f":"IF(AND(C202=1,I202>0),1,0)","v":0},null,null,{"$f":"IF(found>0, SUMIF(ceylea, A202, ceyproptotal)/found, 0)","v":0},{"$f":"IF(found>0, prelimc70/found*100, 0)","v":0},{"$f":"IF(AND(nonop=1, J202>AB202, AA202<ceyperc), targaidperc*(((J202/100)*found)-prelimc70), 0)","v":0},0,{"$f":"IF(nonop=1,enro*$AE$6,0)","v":0},{"$f":"IF(AND(nonop=1,(prelimc70+targaid)-priorc70<AE202),AE202-(prelimc70+targaid-priorc70),0)","v":0},{"$f":"priorc70+foundinc+downaid+U202+growthaid+targaid+minaid","v":0},{"$f":"IF(AND(C202=0,AG202>found),AG202-found,0)","v":0},{"$f":"AG202-rednonop","v":0},null,{"$f":"prelcont436+chapter70","v":0},{"$f":"IF(found>0,AK202*100/found,0)","v":0},null,{"$f":"F202-D202","v":0},{"$f":"AI202-E202","v":0},0,{"$f":"IF(C202=1, (AI202/F202*100)-J202, \"\")","v":""},null,{"$f":"VLOOKUP(A202, disthist, 37, FALSE)*$E$6","v":0}]
[194,"MONTGOMERY                   ",0,26009.8,21042,39599.880000000005,32670,6930,0,{"$f":"ROUND(100-'townwide contributions'!K203,2)","v":17.5},6930,0,0,13590.080000000005,2378.2640000000006,0,2,3,12.5,53.136524656135322,0,21042,53.136524656135315,0,null,null,724.45511284416602,53.136524656135322,0,0,0,0,21042,0,21042,null,53712,135.6367746568929,null,13590.080000000005,0,{"$f":"AI203-((J203/100)*F203)","v":14112.021000000001},"",null,0]
[195,"MOUNT WASHINGTON             ",0,92960.28,32776,89843.44,74121,15722,0,{"$f":"ROUND(100-'townwide contributions'!K204,2)","v":17.5},15723,0,0,0,0,0,12,11,12.5,36.481238919613936,0,32776,36.481238919613943,0,null,null,4.0736307514494099,36.481238919613936,0,0,0,0,32776,0,32776,null,106897,118.98141923327958,null,-3116.8399999999965,0,17053.398000000001,"",null,0]
[196,"NAHANT                       ",1,2670798.36,477893,2552657.5399999991,2105943,446715,0,{"$f":"ROUND(100-'townwide contributions'!K205,2)","v":17.5},446715,0,0,0,0,0,298,282,12.5,18.721391040961969,0,477893,18.721391040961969,0,null,null,2.5301335757926582,18.721391040961969,0,0,7050,7050,484943,0,484943,null,2590886,101.49759454219624,null,-118140.82000000076,7050,38227.930500000191,1.4975737991082099,null,0]
[197,"NANTUCKET                    ",1,13869821.479999997,2126945,15206451.73,12225508,2980944,853999,{"$f":"ROUND(100-'townwide contributions'!K206,2)","v":17.5},2661129,0,0,1336630.2500000037,233910.29375000062,0,1480,1552,12.5,19.603153009844196,0,2980944,19.603153009844196,1,null,null,4.9491778447910146,19.603153009844196,0,0,38800,0,2980944,0,2980944,null,15206452,100.00000177556214,null,1336630.2500000037,853999,319814.9472500002,2.1031530098441955,null,0]
[198,"NATICK                       ",1,49956678.079499997,8681240,51546022.215100005,42525468,9020554,339314,{"$f":"ROUND(100-'townwide contributions'!K207,2)","v":17.5},9020554,0,0,1589344.1356000081,278135.22373000137,0,5333,5417,12.5,17.500000217975114,0,9020554,17.50000021797511,1,null,null,0.99714246354454894,17.500000217975114,0,15322.000215999782,135425,0,9020554,0,9020554,null,51546022,99.999999582702998,null,1589344.1356000081,339314,0.11235749907791615,2.1797511351451249E-7,null,0]
[199,"NEEDHAM                      ",1,50670510.318260007,8239739.7644304372,51969545.140780009,42874874,9094671,854931.23556956276,{"$f":"ROUND(100-'townwide contributions'!K208,2)","v":17.5},9094670,0,0,1299034.8225200027,227331.09394100046,0,5327,5362,12.5,17.500001155221767,0,9094671,17.500001155221767,1,null,null,1.4051861309107421,17.500001155221767,0,267811.76443043724,134050,0,9094671,0,9094671,null,51969545,99.999999729110556,null,1299034.8225200027,854931.23556956276,0.60036349855363369,1.1552217671351173E-6,null,0]
[200,"NEW ASHFORD                  ",0,266775.95,179597,217953.86999999997,179812,38142,0,{"$f":"ROUND(100-'townwide contributions'!K209,2)","v":17.5},38142,0,0,0,0,0,32,26,12.5,82.401381540047907,0,179597,82.401381540047907,0,null,null,1.0567649016739187,82.401381540047907,0,0,0,0,179597,0,179597,null,359409,164.90140780707407,null,-48822.080000000045,0,141455.07274999999,"",null,0]
[201,"NEW BEDFORD                  ",1,146174509.68000001,123501948,149495329.88,24366967,125128363,1626415,{"$f":"ROUND(100-'townwide contributions'!K210,2)","v":76.23},113960290,0,0,3320820.1999999881,2531461.2384599913,0,13193,13211,71.23,83.700516330804859,0,125128363,83.700516330804859,1,null,null,0.26889487653159821,83.700516330804859,0,0,330275,0,125128363,0,125128363,null,149495330,100.00000008027007,null,3320820.1999999881,1626415,11168073.032475993,7.4705163308048554,null,0]
[202,"NEW BRAINTREE                ",0,13004.9,5595,13199.960000000001,7314,5886,291,{"$f":"ROUND(100-'townwide contributions'!K211,2)","v":44.59},5886,0,0,195.06000000000131,86.977254000000585,0,1,1,39.590000000000003,44.5910442152855,0,5886,44.5910442152855,0,null,null,2260.741556743917,44.5910442152855,0,0,0,0,5886,0,5886,null,13200,100.00030303122129,null,195.06000000000131,291,0.13783599999896978,"",null,0]
[203,"NEWBURY                      ",0,39848.778960000003,16844,26986.020340000003,22263,4723,0,{"$f":"ROUND(100-'townwide contributions'!K212,2)","v":17.5},4723,0,0,0,0,0,3,2,12.5,62.417502795078676,0,16844,62.417502795078668,0,null,null,1111.953508261101,62.417502795078676,0,0,0,0,16844,0,16844,null,39107,144.9157730828272,null,-12862.758620000001,0,12121.4464405,"",null,0]
[204,"NEWBURYPORT                  ",1,22313844.746979997,3658991.6660889401,22958152.764539998,18940476,4017677,358685.33391105989,{"$f":"ROUND(100-'townwide contributions'!K213,2)","v":17.5},4017677,0,0,644308.01756000146,112753.90307300026,0,2420,2445,12.5,17.50000115952491,0,4017677,17.50000115952491,1,null,null,1.1817283696013408,17.50000115952491,0,126253.66608893732,61125,0,4017677,0,4017677,null,22958153,100.00000102560517,null,644308.01756000146,358685.33391105989,0.26620550081133842,1.1595249098661498E-6,null,0]
[205,"NEW MARLBOROUGH              ",0,0,0,0,0,0,0,{"$f":"ROUND(100-'townwide contributions'!K214,2)","v":17.5},0,0,0,0,0,0,0,0,12.5,0,0,0,0,0,null,null,0,0,0,0,0,0,0,0,0,null,0,0,null,0,0,0,"",null,0]
[206,"NEW SALEM                    ",0,0,0,0,0,0,0,{"$f":"ROUND(100-'townwide contributions'!K215,2)","v":49.48},0,0,0,0,0,0,0,0,44.48,0,0,0,0,0,null,null,0,0,0,0,0,0,0,0,0,null,0,0,null,0,0,0,"",null,0]
[207,"NEWTON                       ",1,123275321.48661001,19617930,126316298.67331998,104210946,22105353,2487423,{"$f":"ROUND(100-'townwide contributions'!K216,2)","v":17.5},22105352,0,0,3040977.1867099702,532171.00767424481,0,12650,12711,12.5,17.500000579631457,0,22105353,17.500000579631457,1,null,null,1.8032784556891985,17.500000579631457,0,0,317775,0,22105353,0,22105353,null,126316299,100.00000025862064,null,3040977.1867099702,2487423,0.7321690060198307,5.7963145749795331E-7,null,0]
[208,"NORFOLK                      ",1,7315213.0608799998,3312405,7167206.0455,5912945,1254261,0,{"$f":"ROUND(100-'townwide contributions'!K217,2)","v":17.5},1254261,0,0,0,0,0,835,803,12.5,46.216126325539726,0,3312405,46.216126325539726,0,null,null,3.0882620933781681,46.216126325539726,0,0,20075,20075,3332480,0,3332480,null,9245425,128.99622169792133,null,-148007.01537999976,20075,2078218.9420375,28.996221524039058,null,0]
[209,"NORTH ADAMS                  ",1,16417451.109999998,13556793,16664714.390000004,5022499,11642215,0,{"$f":"ROUND(100-'townwide contributions'!K218,2)","v":69.86},11641969,0,0,247263.28000000678,172738.12740800474,0,1554,1545,64.86,81.350287096039438,0,13556793,81.350287096039438,0,null,null,0.53810696725041118,81.350287096039438,0,0,38625,38625,13595418,0,13595418,null,18617917,111.72058856989504,null,247263.28000000678,38625,1953448.5271459967,11.722064245626697,null,0]
[210,"NORTHAMPTON                  ",1,27395100.530000001,7093554,27323757.340000004,22542100,4781657,0,{"$f":"ROUND(100-'townwide contributions'!K219,2)","v":17.5},4781658,0,0,0,0,0,2805,2767,12.5,25.961122080437853,0,7093554,25.961122080437853,0,null,null,0.93949145512446985,25.961122080437853,0,0,69175,69175,7162729,0,7162729,null,29704829,108.71429075573835,null,-71343.189999997616,69175,2381071.4654999999,8.7142900439035991,null,0]
[211,"NORTH ANDOVER                ",1,43286349.479999997,7262285.6748125004,45462873.919999987,37506871,7956003,693717.32518749963,{"$f":"ROUND(100-'townwide contributions'!K220,2)","v":17.5},7956003,0,0,2176524.4399999902,380891.77699999826,0,4687,4834,12.5,17.500000140774212,0,7956003,17.500000140774212,1,null,null,0.84542675283264235,17.500000140774212,0,113660.6748124999,120850,0,7956003,0,7956003,null,45462874,100.00000017596778,null,2176524.4399999902,693717.32518749963,6.4000003039836884E-2,1.4077421184310879E-7,null,0]
[212,"NORTH ATTLEBOROUGH           ",1,42114635.469999991,19941736,42858323.110000007,25023400,17834923,0,{"$f":"ROUND(100-'townwide contributions'!K221,2)","v":40.119999999999997},17194759,0,0,743687.6400000155,298367.4811680062,0,4586,4558,35.119999999999997,46.529435948339874,0,19941736,46.529435948339874,0,null,null,0.66995640961183878,46.529435948339874,0,0,113950,113950,20055686,0,20055686,null,45079086,105.18163737834584,null,743687.6400000155,113950,2860926.7682679966,6.675311959651701,null,0]
[213,"NORTHBOROUGH                 ",1,15486011.710000001,3712560.0384160001,15526446.370000001,12557223,2969223,0,{"$f":"ROUND(100-'townwide contributions'!K222,2)","v":19.12},2968657,0,0,40434.660000000149,7731.1069920000291,0,1779,1755,14.120000000000001,23.911202537557859,0,3712560.0384160001,23.911202537557855,0,null,null,1.5518471266369449,23.911202537557859,0,0,43875,43875,3756435.0384160001,0,3756435.0384160001,null,16313658.038416,105.07013420622145,null,40434.660000000149,43875,787778.49247199995,5.0737849067262104,null,0]
[214,"NORTHBRIDGE                  ",1,24874347.920000002,15214206,24091597.779999997,10435707,13655891,0,{"$f":"ROUND(100-'townwide contributions'!K223,2)","v":49.88},12016889,0,0,0,0,0,2566,2435,44.88,63.1515026065656,0,15214206,63.151502606565607,0,null,null,0.60604168504561795,63.1515026065656,0,0,60875,60875,15275081,0,15275081,null,25710788,106.72097481780224,null,-782750.14000000432,60875,3258192.0273360014,13.524184062382268,null,0]
[215,"NORTH BROOKFIELD             ",1,6138607.5700000012,4187213,6330664.1299999999,2817346,3513318,0,{"$f":"ROUND(100-'townwide contributions'!K224,2)","v":55.5},3513519,0,0,192056.55999999866,106591.39079999927,0,639,635,50.5,66.141765129466762,0,4187213,66.141765129466762,0,null,null,0.92217755191447115,66.141765129466762,0,0,15875,15875,4203088,0,4203088,null,7020434,110.89569523569085,null,192056.55999999866,15875,689569.40784999961,10.892528709306205,null,0]
[216,"NORTHFIELD                   ",0,0,0,26399.920000000002,16985,9415,9415,{"$f":"ROUND(100-'townwide contributions'!K225,2)","v":35.659999999999997},9414,0,0,26399.920000000002,9414.211471999999,0,0,2,30.659999999999997,35.662986857535927,0,9415,35.662986857535927,0,null,null,1132.7401598023284,35.662986857535927,0,0,0,0,9415,0,9415,null,26400,100.00030303122129,null,26399.920000000002,9415,0.78852800000095158,"",null,0]
[217,"NORTH READING                ",1,23706840.709970001,6739782,23928340.855640002,19740881,4187460,0,{"$f":"ROUND(100-'townwide contributions'!K226,2)","v":17.5},4187460,0,0,221500.14567000046,38762.525492250075,0,2545,2501,12.5,28.166524543683135,0,6739782,28.166524543683135,0,null,null,0.89764864813666168,28.166524543683135,0,0,62525,62525,6802307,0,6802307,null,26543188,110.92782470851367,null,221500.14567000046,62525,2614847.350263,10.927825569012111,null,0]
[218,"NORTON                       ",1,24839826.120000001,12395800,24716889.330000006,15331089,9385800,0,{"$f":"ROUND(100-'townwide contributions'!K227,2)","v":37.97},9385003,0,0,0,0,0,2685,2611,32.97,50.151132832700981,0,12395800,50.151132832700988,0,null,null,0.70846258222583525,50.151132832700981,0,0,65275,65275,12461075,0,12461075,null,27792164,112.4419971661539,null,-122936.78999999538,65275,3076072.1213989984,12.445223508224515,null,0]
[219,"NORWELL                      ",1,20295768.49016,3362602.9436770314,20603272.396599997,16997699,3605573,242970.05632296856,{"$f":"ROUND(100-'townwide contributions'!K228,2)","v":17.5},3605573,0,0,307503.90643999726,53813.183626999518,0,2210,2202,12.5,17.500001604575203,0,3605573,17.500001604575207,1,null,null,0.98146738629710428,17.500001604575203,0,111792.57682765624,55050,0,3605573,0,3605573,null,20603272,99.999998075063075,null,307503.90643999726,242970.05632296856,0.33059500064700842,1.6045752033733152E-6,null,0]
[220,"NORWOOD                      ",1,35458013.178439997,5663726.3884928748,36030240.360470004,29724948,6305292,641565.6115071252,{"$f":"ROUND(100-'townwide contributions'!K229,2)","v":17.5},6305292,0,0,572227.18203000724,100139.75685525127,0,3491,3492,12.5,17.499999824918596,0,6305292,17.499999824918596,1,null,null,0.90306208111616049,17.499999824918596,0,260438.02436037478,87300,0,6305292,0,6305292,null,36030240,99.999998999534839,null,572227.18203000724,641565.6115071252,-6.3082250766456127E-2,-1.7508140359723257E-7,null,0]
[221,"OAK BLUFFS                   ",1,3839529.9800000004,650652,4306524.25,3420717,885807,235155,{"$f":"ROUND(100-'townwide contributions'!K230,2)","v":17.5},753642,0,0,466994.26999999955,81723.997249999913,0,409,434,12.5,20.568954186197839,0,885807,20.568954186197836,1,null,null,4.2223651892190066,20.568954186197839,0,0,10850,0,885807,0,885807,null,4306524,99.999994194854466,null,466994.26999999955,235155,132165.25625000009,3.0689541861978391,null,0]
[222,"OAKHAM                       ",0,0,0,13199.960000000001,7320,5880,5880,{"$f":"ROUND(100-'townwide contributions'!K231,2)","v":41.4},5465,0,0,13199.960000000001,5464.7834400000002,0,0,1,36.4,44.545589532089487,0,5880,44.545589532089487,0,null,null,2267.8667174760903,44.545589532089487,0,0,0,0,5880,0,5880,null,13200,100.00030303122129,null,13199.960000000001,5880,415.21655999999984,"",null,0]
[223,"ORANGE                       ",1,6225638.2200000016,5173729,6497667.1399999978,1842295,4655372,0,{"$f":"ROUND(100-'townwide contributions'!K232,2)","v":71.650000000000006},4655579,0,0,272028.9199999962,194908.72117999729,0,621,626,66.650000000000006,79.624408091794024,0,5173729,79.624408091794024,0,null,null,2.7077218939293153,79.624408091794024,0,0,15650,15650,5189379,0,5189379,null,7031674,108.21843976452143,null,272028.9199999962,15650,533800.49419000186,8.2152637660352781,null,0]
[224,"ORLEANS                      ",1,1909216.98,279616,2072439.67,1709763,362677,83061,{"$f":"ROUND(100-'townwide contributions'!K233,2)","v":17.5},362677,0,0,163222.68999999994,28563.970749999989,0,212,223,12.5,17.500002786570864,0,362677,17.500002786570864,1,null,null,12.013325992482839,17.500002786570864,0,0,5575,0,362677,0,362677,null,2072440,100.00001592326208,null,163222.68999999994,83061,5.775000003632158E-2,2.7865708638330489E-6,null,0]
[225,"OTIS                         ",0,0,0,0,0,0,0,{"$f":"ROUND(100-'townwide contributions'!K234,2)","v":17.5},0,0,0,0,0,0,0,0,12.5,0,0,0,0,0,null,null,0,0,0,0,0,0,0,0,0,null,0,0,null,0,0,0,"",null,0]
[226,"OXFORD                       ",1,18717632.59,10258149,19226330.559999999,9103172,10123159,0,{"$f":"ROUND(100-'townwide contributions'!K235,2)","v":52.65},10122663,0,0,508697.96999999881,267829.48120499938,0,1942,1934,47.65,53.3546896428686,0,10258149,53.3546896428686,0,null,null,0.64490069387951976,53.3546896428686,0,0,48350,48350,10306499,0,10306499,null,19409671,100.9535903870364,null,508697.96999999881,48350,183835.96016000211,0.95616768673720998,null,0]
[227,"PALMER                       ",1,15478309.109999996,10664455,15466730.400000002,6526230,8940500,0,{"$f":"ROUND(100-'townwide contributions'!K236,2)","v":57.8},8939770,0,0,0,0,0,1533,1501,52.8,68.950933547015197,0,10664455,68.950933547015197,0,null,null,0.69757424408178947,68.950933547015197,0,0,37525,37525,10701980,0,10701980,null,17228210,111.3888297943048,null,-11578.709999993443,37525,1762209.8288000003,11.393551081746395,null,0]
[228,"PAXTON                       ",0,0,0,0,0,0,0,{"$f":"ROUND(100-'townwide contributions'!K237,2)","v":31.49},0,0,0,0,0,0,0,0,26.49,0,0,0,0,0,null,null,0,0,0,0,0,0,0,0,0,null,0,0,null,0,0,0,"",null,0]
[229,"PEABODY                      ",1,61102630.279999994,18597967,62367587.499999993,45049402,17318186,0,{"$f":"ROUND(100-'townwide contributions'!K238,2)","v":27.77},17319479,0,0,1264957.2199999988,351278.61999399966,0,5990,5970,22.77,29.819923690330334,0,18597967,29.819923690330338,0,null,null,0.74068441361415394,29.819923690330334,0,0,149250,149250,18747217,0,18747217,null,63796619,102.29130475826086,null,1264957.2199999988,149250,1427737.9512500018,2.2892306861316456,null,0]
[230,"PELHAM                       ",1,689081.27,222256,696611.65,574705,121907,0,{"$f":"ROUND(100-'townwide contributions'!K239,2)","v":17.5},121907,0,0,7530.3800000000047,1317.8165000000008,0,70,73,12.5,31.905294721958782,0,222256,31.905294721958782,0,null,null,21.349554691705251,31.905294721958782,0,0,1825,1825,224081,0,224081,null,798786,114.66733293937877,null,7530.3800000000047,1825,102173.96125000001,14.667277133536309,null,0]
[231,"PEMBROKE                     ",1,30579313.617779996,13095032.304039083,30953452.00279,18500755,12452697,0,{"$f":"ROUND(100-'townwide contributions'!K240,2)","v":40.229999999999997},12452574,0,0,374138.38501000404,150515.87228952462,0,3252,3179,35.229999999999997,42.305563537335864,0,13095032.304039083,42.305563537335857,0,null,null,0.59769601782484316,42.305563537335864,0,87982.304039082956,79475,79475,13174507.304039083,0,13174507.304039083,null,31675262.304039083,102.33192181984749,null,374138.38501000404,79475,721933.56331666745,2.3323200373631892,null,0]
[232,"PEPPERELL                    ",0,0,0,0,0,0,0,{"$f":"ROUND(100-'townwide contributions'!K241,2)","v":44.92},0,0,0,0,0,0,0,0,39.92,0,0,0,0,0,null,null,0,0,0,0,0,0,0,0,0,null,0,0,null,0,0,0,"",null,0]
[233,"PERU                         ",0,117044.1,73500.42,105599.68000000001,53792,51808,0,{"$f":"ROUND(100-'townwide contributions'!K242,2)","v":49.06},51807,0,0,0,0,0,9,8,44.06,69.60288137236779,0,73500.42,69.60288137236779,0,null,null,258.33925143852213,69.60288137236779,0,0,0,0,73500.42,0,73500.42,null,127292.42,120.54242967402931,null,-11444.419999999998,0,21693.216991999994,"",null,0]
[234,"PETERSHAM                    ",1,566086.55000000005,424308,611232.30999999994,466259,144973,0,{"$f":"ROUND(100-'townwide contributions'!K243,2)","v":23.72},144984,0,0,45145.759999999893,10708.574271999974,0,57,58,18.72,69.418450736022123,0,424308,69.418450736022123,0,null,null,28.783715678076526,69.418450736022123,0,0,1450,1450,425758,0,425758,null,892017,145.93747506574056,null,45145.759999999893,1450,280773.69606800005,45.93567641540416,null,0]
[235,"PHILLIPSTON                  ",0,0,0,0,0,0,0,{"$f":"ROUND(100-'townwide contributions'!K244,2)","v":47.94},0,0,0,0,0,0,0,0,42.94,0,0,0,0,0,null,null,0,0,0,0,0,0,0,0,0,null,0,0,null,0,0,0,"",null,0]
[236,"PITTSFIELD                   ",1,67481752.38000001,39447162.62740925,68905111.570000008,28464819,40440293,993130.37259075046,{"$f":"ROUND(100-'townwide contributions'!K245,2)","v":58.69},40440410,0,0,1423359.1899999976,835369.50861099851,0,6269,6192,53.69,58.689830229673333,0,40440293,58.689830229673333,1,null,null,0.41310170394373252,58.689830229673333,0,252220.62740925141,154800,0,40440293,0,40440293,null,68905112,100.00000062404658,null,1423359.1899999976,993130.37259075046,-116.9804330021143,-1.6977032666432024E-4,null,0]
[237,"PLAINFIELD                   ",0,78029.39999999998,51024,39599.880000000005,32670,6930,0,{"$f":"ROUND(100-'townwide contributions'!K246,2)","v":17.5},6930,0,0,0,0,0,6,3,12.5,128.84887529962211,0,51024,128.84887529962211,0,null,null,710.57390325560289,128.84887529962211,0,0,0,0,51024,11424.119999999995,39599.880000000005,null,72269.88,182.50025000075755,null,-38429.519999999975,-11424.119999999995,32669.901000000005,"",null,0]
[238,"PLAINVILLE                   ",1,6579213.379999999,2806755.59601,6450343.1600000001,4374579,2075764,0,{"$f":"ROUND(100-'townwide contributions'!K247,2)","v":30.71},1980900,0,0,0,0,0,740,713,25.71,43.51327559462743,0,2806755.59601,43.513275594627437,0,null,null,3.1337252148612795,43.51327559462743,0,0,17825,17825,2824580.59601,0,2824580.59601,null,7199159.5960099995,111.6089395158629,null,-128870.21999999881,17825,843680.21157400007,13.079617481529461,null,0]
[239,"PLYMOUTH                     ",1,83619257.170059979,23670916.509499453,84831859.535599992,60349251,24482609,811692.49050054699,{"$f":"ROUND(100-'townwide contributions'!K248,2)","v":28.86},24482475,0,0,1212602.3655400127,349957.04269484762,0,8126,8064,23.86,28.860158357987881,0,24482609,28.860158357987881,1,null,null,0.71139842189447966,28.860158357987881,0,637655.50949945487,201600,0,24482609,0,24482609,null,84831860,100.00000054743585,null,1212602.3655400127,811692.49050054699,134.33802584558725,1.5835798788188526E-4,null,0]
[240,"PLYMPTON                     ",1,2194273.0299999998,702595.25887999998,2074615.8599999996,1557980,516636,0,{"$f":"ROUND(100-'townwide contributions'!K249,2)","v":23.95},496870,0,0,0,0,0,249,227,18.95,33.866282063417756,0,702595.25887999998,33.866282063417756,0,null,null,8.3421007694049631,33.866282063417756,0,41695.258880000009,5675,5675,708270.25887999998,0,708270.25887999998,null,2266250.2588800001,109.23710276079738,null,-119657.17000000016,5675,211399.7604100001,10.189826680010061,null,0]
[241,"PRINCETON                    ",0,0,0,0,0,0,0,{"$f":"ROUND(100-'townwide contributions'!K250,2)","v":17.5},0,0,0,0,0,0,0,0,12.5,0,0,0,0,0,null,null,0,0,0,0,0,0,0,0,0,null,0,0,null,0,0,0,"",null,0]
[242,"PROVINCETOWN                 ",1,1414247.5399999998,269641,1284862.27,1060011,224851,0,{"$f":"ROUND(100-'townwide contributions'!K251,2)","v":17.5},224851,0,0,0,0,0,147,129,12.5,20.985984746832049,0,269641,20.985984746832049,0,null,null,9.735151401508725,20.985984746832049,0,0,3225,3225,272866,0,272866,null,1332877,103.73695540145326,null,-129385.26999999979,3225,48015.10275000002,3.7369844123448352,null,0]
[243,"QUINCY                       ",1,108294787.80678003,26024786.287227817,109837246.19363996,83899688,25937558,0,{"$f":"ROUND(100-'townwide contributions'!K252,2)","v":23.61},25932574,0,0,1542458.3868599385,364174.42513763148,0,9356,9295,18.61,23.693953726176687,0,26024786.287227817,23.693953726176687,0,null,null,0.76478753560557367,23.693953726176687,0,485449.28722781874,232375,232375,26257161.287227817,0,26257161.287227817,null,110156849.28722781,100.29097879331788,null,1542458.3868599385,232375,324587.46090942249,0.29551675060860916,null,0]
[244,"RANDOLPH                     ",1,35955443.988719992,14990690,36417465.611719996,20444408,15973058,982368,{"$f":"ROUND(100-'townwide contributions'!K253,2)","v":43.86},15972700,0,0,462021.6230000034,202642.6838478015,0,3333,3295,38.86,43.860981898914716,0,15973058,43.860981898914723,1,null,null,0.64877370033034409,43.860981898914716,0,351993.13735971879,82375,0,15973058,0,15973058,null,36417466,100.00000106619173,null,462021.6230000034,982368,357.58269960992038,9.8189891471633928E-4,null,0]
[245,"RAYNHAM                      ",0,26009.8,9443,0,0,0,0,{"$f":"ROUND(100-'townwide contributions'!K254,2)","v":39.08},0,0,0,0,0,0,2,0,34.08,0,0,9443,0,0,null,null,0,0,0,0,0,0,9443,9443,0,null,0,0,null,-26009.8,-9443,0,"",null,0]
[246,"READING                      ",1,38963364.685199998,10126574,39638139.190400004,31807445,7830694,0,{"$f":"ROUND(100-'townwide contributions'!K255,2)","v":17.809999999999999},7059553,0,0,674774.50520000607,120177.33937612106,0,4269,4245,12.809999999999999,25.54755144119521,0,10126574,25.54755144119521,0,null,null,0.82724763671233148,25.54755144119521,0,0,106125,106125,10232699,0,10232699,null,42040144,106.05983242064436,null,674774.50520000607,106125,3173146.4101897599,8.0052860073670331,null,0]
[247,"REHOBOTH                     ",0,91034.3,34157,26399.920000000002,18197,8203,0,{"$f":"ROUND(100-'townwide contributions'!K256,2)","v":31.07},8202,0,0,0,0,0,7,2,26.07,129.38296782717521,0,34157,129.38296782717524,0,null,null,1138.1030377571917,129.38296782717521,0,0,0,0,34157,7757.0799999999981,26399.920000000002,null,44596.92,168.92823917648235,null,-64634.380000000005,-7757.0799999999981,18197.464856000002,"",null,0]
[248,"REVERE                       ",1,79960501.103390008,50950075,84281832.122129992,29875530,54406302,3456227,{"$f":"ROUND(100-'townwide contributions'!K257,2)","v":64.55},54403923,0,0,4321331.0187399834,2789419.172596659,0,6923,7135,59.55,64.552823105650631,0,54406302,64.552823105650631,1,null,null,0.36897626624331065,64.552823105650631,0,139242.20551750809,178375,0,54406302,0,54406302,null,84281832,99.999999855093336,null,4321331.0187399834,3456227,2379.365165092051,2.8231056506342611E-3,null,0]
[249,"RICHMOND                     ",1,1381559.82,344169,1238912.1900000002,1022103,216809,0,{"$f":"ROUND(100-'townwide contributions'!K258,2)","v":17.5},216810,0,0,0,0,0,146,123,12.5,27.779934912094127,0,344169,27.779934912094131,0,null,null,2.3061489127813002,27.779934912094127,0,0,3075,3075,347244,0,347244,null,1369347,110.52817229928134,null,-142647.62999999989,3075,130434.36674999999,10.528136521927351,null,0]
[250,"ROCHESTER                    ",1,4252932.9000000004,1750422,4382165.5599999996,2799991,1582175,0,{"$f":"ROUND(100-'townwide contributions'!K259,2)","v":36.1},1581962,0,0,129232.65999999922,46652.990259999715,0,486,476,31.1,39.944223376170207,0,1750422,39.944223376170207,0,null,null,4.3868694230659306,39.944223376170207,0,0,11900,11900,1762322,0,1762322,null,4562313,104.11092272835079,null,129232.65999999922,11900,180360.23284000019,4.1157786115228419,null,0]
[251,"ROCKLAND                     ",1,23580543.138319999,11055738,25189073.019840002,12069060,13120013,2064275,{"$f":"ROUND(100-'townwide contributions'!K260,2)","v":52.09},13120988,0,0,1608529.8815200031,837883.21528376965,0,2253,2326,47.09,52.086128733939951,0,13120013,52.086128733939958,1,null,null,0.58816668942427808,52.086128733939951,0,61153.478381224442,58150,0,13120013,0,13120013,null,25189073,99.999999921235684,null,1608529.8815200031,2064275,-975.13603465817869,-3.8712660600523918E-3,null,0]
[252,"ROCKPORT                     ",1,7619731.0979199996,1377981,7726823.8438600004,6374630,1352194,0,{"$f":"ROUND(100-'townwide contributions'!K261,2)","v":17.5},1352194,0,0,107092.74594000075,18741.230539500131,0,805,777,12.5,17.83373126973758,0,1377981,17.83373126973758,0,null,null,1.5536376912107834,17.83373126973758,0,0,19425,19425,1397406,0,1397406,null,7772036,100.58513248203434,null,107092.74594000075,19425,45211.827324500075,0.58512822652773266,null,0]
[253,"ROWE                         ",1,618393.5,103362,676330.15,545165,131165,27803,{"$f":"ROUND(100-'townwide contributions'!K262,2)","v":17.5},118358,0,0,57936.650000000023,10138.913750000003,0,63,70,12.5,19.393634898577268,0,131165,19.393634898577268,1,null,null,1.7823484580718454,19.393634898577268,0,0,1750,0,131165,0,131165,null,676330,99.999977821482602,null,57936.650000000023,27803,12807.223750000005,1.8936348985772682,null,0]
[254,"ROWLEY                       ",0,66468.098199999993,25266,27029.435180000004,21530,5499,0,{"$f":"ROUND(100-'townwide contributions'!K263,2)","v":20.350000000000001},5500,0,0,0,0,0,5,2,15.350000000000001,93.475871144711036,0,25266,93.47587114471105,0,null,null,1109.8599772681025,93.475871144711036,0,0,0,0,25266,0,25266,null,46796,173.12977384975454,null,-39438.663019999993,0,19765.509940869997,"",null,0]
[255,"ROYALSTON                    ",0,0,0,0,0,0,0,{"$f":"ROUND(100-'townwide contributions'!K264,2)","v":38.549999999999997},0,0,0,0,0,0,0,0,33.549999999999997,0,0,0,0,0,null,null,0,0,0,0,0,0,0,0,0,null,0,0,null,0,0,0,"",null,0]
[256,"RUSSELL                      ",0,220031.55,168465,210131.86,82994,127138,0,{"$f":"ROUND(100-'townwide contributions'!K265,2)","v":60.5},127130,0,0,0,0,0,15,14,55.5,80.171088763027186,0,168465,80.171088763027186,0,null,null,133.12063083047576,80.171088763027186,0,0,0,0,168465,0,168465,null,251459,119.66724132171105,null,-9899.6900000000023,0,41335.224700000006,"",null,0]
[257,"RUTLAND                      ",0,{"$f":"VLOOKUP(A266, disthist, 35, FALSE)","v":0},{"$f":"VLOOKUP(A266, disthist, 37, FALSE)*(1-$E$6)","v":0},{"$f":"SUMIF(dist1755,A266,found1755)","v":13199.960000000001},{"$f":"SUMIF(dist1755,A266,prelcont1755)","v":5737},{"$f":"ROUND(MAX(found-prelcont436,0),0)","v":7463},{"$f":"IF(foundaid>priorc70,foundaid-priorc70,0)","v":7463},{"$f":"ROUND(100-'townwide contributions'!K266,2)","v":56.54},{"$f":"ROUND(J266/100*F266,0)","v":7463},{"$f":"ROUND(IF(K266>priorc70,L$6*(K266-priorc70),0),0)","v":0},{"$f":"IF(L266>I266,L266-I266,0)","v":0},{"$f":"MAX(F266-D266,0)","v":13199.960000000001},{"$f":"(J266/100)*N266","v":7463.2573840000005},{"$f":"IF(P$6=\"no\",0,ROUND(MAX(O266-foundinc-downaid,0),0))","v":0},0,{"$f":"SUMIF(dist1755,A266,enro1755)","v":1},{"$f":"J266-$S$6","v":51.54},{"$f":"IF(F266=0, 0, ((priorc70+foundinc+downaid+growthaid+targaid)/found*100))","v":56.538050115303371},{"$f":"IF(AND(T266>0, S266>T266,$S$5= \"yes\"), (((S266/100)*found)-(priorc70+foundinc+downaid+growthaid+minaid)), 0)","v":0},{"$f":"priorc70+foundinc+downaid+growthaid","v":7463},{"$f":"IF(F266>0,V266*100/F266,0)","v":56.538050115303378},{"$f":"IF(AND(C266=1,I266>0),1,0)","v":0},null,null,{"$f":"IF(found>0, SUMIF(ceylea, A266, ceyproptotal)/found, 0)","v":2276.652856069692},{"$f":"IF(found>0, prelimc70/found*100, 0)","v":56.538050115303371},{"$f":"IF(AND(nonop=1, J266>AB266, AA266<ceyperc), targaidperc*(((J266/100)*found)-prelimc70), 0)","v":0},0,{"$f":"IF(nonop=1,enro*$AE$6,0)","v":0},{"$f":"IF(AND(nonop=1,(prelimc70+targaid)-priorc70<AE266),AE266-(prelimc70+targaid-priorc70),0)","v":0},{"$f":"priorc70+foundinc+downaid+U266+growthaid+targaid+minaid","v":7463},{"$f":"IF(AND(C266=0,AG266>found),AG266-found,0)","v":0},{"$f":"AG266-rednonop","v":7463},null,{"$f":"prelcont436+chapter70","v":13200},{"$f":"IF(found>0,AK266*100/found,0)","v":100.00030303122129},null,{"$f":"F266-D266","v":13199.960000000001},{"$f":"AI266-E266","v":7463},-0.25738400000045658,{"$f":"IF(C266=1, (AI266/F266*100)-J266, \"\")","v":""},null,{"$f":"VLOOKUP(A266, disthist, 37, FALSE)*$E$6","v":0}]
[258,"SALEM                        ",1,52070759.630000003,21231627.191162799,52542429.829999998,31053555,21488875,257247.80883720145,{"$f":"ROUND(100-'townwide contributions'!K267,2)","v":40.9},21489854,0,0,471670.19999999553,192913.11179999815,0,4784,4671,35.9,40.898137123705233,0,21488875,40.898137123705233,1,null,null,0.61840158658913025,40.898137123705233,0,110399.77771181334,116775,0,21488875,0,21488875,null,52542430,100.00000032354804,null,471670.19999999553,257247.80883720145,{"$f":"AI267-((J267/100)*F267)","v":-978.80046999827027},-1.8628762947656696E-3,null,0]
[259,"SALISBURY                    ",0,52019.6,33688,79199.760000000009,65340,13860,0,{"$f":"ROUND(100-'townwide contributions'!K268,2)","v":17.5},13860,0,0,27180.160000000011,4756.5280000000012,0,4,6,12.5,42.535482430754833,0,33688,42.535482430754833,0,null,null,377.56781501024932,42.535482430754833,0,0,0,0,33688,0,33688,null,99028,125.0357324315124,null,27180.160000000011,0,19828.042000000001,"",null,0]
[260,"SANDISFIELD                  ",0,0,0,0,0,0,0,{"$f":"ROUND(100-'townwide contributions'!K269,2)","v":17.5},0,0,0,0,0,0,0,0,12.5,0,0,0,0,0,null,null,0,0,0,0,0,0,0,0,0,null,0,0,null,0,0,0,"",null,0]
[261,"SANDWICH                     ",1,28304004.249999989,6665593,27987804.329999994,23089938,4897866,0,{"$f":"ROUND(100-'townwide contributions'!K270,2)","v":17.5},4897866,0,0,0,0,0,3093,2977,12.5,23.816062601435235,0,6665593,23.816062601435235,0,null,null,0.90186090151234188,23.816062601435235,0,0,74425,74425,6740018,0,6740018,null,29829956,106.58197995198006,null,-316199.91999999434,74425,1842152.2422500011,6.5819819966206019,null,0]
[262,"SAUGUS                       ",1,28469688.994549997,5266627.0180176003,28704386.50144,23424459,5279928,13300.98198239971,{"$f":"ROUND(100-'townwide contributions'!K271,2)","v":18.39},5278737,0,0,234697.50689000264,43160.871517071486,0,2882,2855,13.39,18.394150314744138,0,5279928,18.394150314744138,1,null,null,0.92379607040298906,18.394150314744138,0,380168.01801760099,71375,58074.01801760029,5338002.0180176003,0,5338002.0180176003,null,28762461.018017601,100.20231930954068,null,234697.50689000264,71375,59265.340402783826,0.20646788740742039,null,0]
[263,"SAVOY                        ",1,600300.83000000007,505329,592852.67000000004,315161,277692,0,{"$f":"ROUND(100-'townwide contributions'!K272,2)","v":46.84},277692,0,0,0,0,0,65,62,41.84,85.236859943634897,0,505329,85.236859943634897,0,null,null,17.971597060768595,85.236859943634897,0,0,1550,1550,506879,0,506879,null,822040,138.65839551671411,null,-7448.1600000000326,1550,229186.80937199993,38.658307699280499,null,0]
[264,"SCITUATE                     ",1,27783603.550999999,5110701,28197733.99712,23263130,4934604,0,{"$f":"ROUND(100-'townwide contributions'!K273,2)","v":17.5},4934603,0,0,414130.44612000138,72472.828071000229,0,3035,3008,12.5,18.124509581237934,0,5110701,18.12450958123793,0,null,null,1.0505655050396827,18.124509581237934,0,0,75200,75200,5185901,0,5185901,null,28449031,100.89119573546465,null,414130.44612000138,75200,251297.55050399993,0.89119767754978696,null,0]
[265,"SEEKONK                      ",1,18854298.620000001,4931239.9737716876,18460114.679999996,13812195,4647920,0,{"$f":"ROUND(100-'townwide contributions'!K274,2)","v":25.18},4648257,0,0,0,0,0,2011,1931,20.18,26.71294333352261,0,4931239.9737716876,26.71294333352261,0,null,null,0.86685635322909416,26.71294333352261,0,192173.81721743732,48275,48275,4979514.9737716876,0,4979514.9737716876,null,18791709.973771688,101.79627970638204,null,-394183.94000000507,48275,331258.09734768793,1.7944530848802351,null,0]
[266,"SHARON                       ",1,31433647.07305,6865177,32275546.17168,26573303,5702243,0,{"$f":"ROUND(100-'townwide contributions'!K275,2)","v":17.5},5648221,0,0,841899.09862999991,147332.34226024998,0,3381,3414,12.5,21.270521538141505,0,6865177,21.270521538141505,0,null,null,0.84937160921754085,21.270521538141505,0,0,85350,85350,6950527,0,6950527,null,33523830,103.86758390293423,null,841899.09862999991,85350,1302306.4199560005,4.0349632289064132,null,0]
[267,"SHEFFIELD                    ",0,78029.39999999998,13886,92399.719999999987,76230,16170,2284,{"$f":"ROUND(100-'townwide contributions'!K276,2)","v":17.5},16170,0,0,14370.320000000007,2514.8060000000009,0,6,7,12.5,17.500053030463729,0,16170,17.500053030463732,0,null,null,318.73838472290981,17.500053030463729,0,0,0,0,16170,0,16170,null,92400,100.00030303122132,null,14370.320000000007,2284,4.9000000002706656E-2,"",null,0]
[268,"SHELBURNE                    ",0,13004.9,4663,0,0,0,0,{"$f":"ROUND(100-'townwide contributions'!K277,2)","v":24.59},0,0,0,0,0,0,1,0,19.59,0,0,4663,0,0,null,null,0,0,0,0,0,0,4663,4663,0,null,0,0,null,-13004.9,-4663,0,"",null,0]
[269,"SHERBORN                     ",1,3327431.3505500001,545223,3380505.0839999993,2788917,591588,46365,{"$f":"ROUND(100-'townwide contributions'!K278,2)","v":17.5},591588,0,0,53073.733449999243,9287.9033537498672,0,379,378,12.5,17.499988472136849,0,591588,17.499988472136849,1,null,null,7.2631146429044326,17.499988472136849,0,0,9450,0,591588,0,591588,null,3380505,99.999997515164239,null,53073.733449999243,46365,-0.38969999982509762,-1.1527863151172824E-5,null,0]
[270,"SHIRLEY                      ",0,0,0,0,0,0,0,{"$f":"ROUND(100-'townwide contributions'!K279,2)","v":45.08},0,0,0,0,0,0,0,0,40.08,0,0,0,0,0,null,null,0,0,0,0,0,0,0,0,0,null,0,0,null,0,0,0,"",null,0]
[271,"SHREWSBURY                   ",1,55423621.549999997,19045813,57096131.690000013,40658212,16437920,0,{"$f":"ROUND(100-'townwide contributions'!K280,2)","v":22.56},12880887,0,0,1672510.1400000155,377318.28758400347,0,5943,5993,17.559999999999999,33.35744898342341,0,19045813,33.35744898342341,0,null,null,0.77436720652204294,33.35744898342341,0,0,149825,149825,19195638,0,19195638,null,59853850,104.8299564758132,null,1672510.1400000155,149825,6314750.6907359976,11.059857303506224,null,0]
[272,"SHUTESBURY                   ",1,1268845.75,593590.46020800003,1336733.0899999999,716351,620382,26791.539791999967,{"$f":"ROUND(100-'townwide contributions'!K281,2)","v":46.41},620378,0,0,67887.339999999851,31506.514493999926,0,141,146,41.41,46.410312173838683,0,620382,46.41031217383869,1,null,null,12.066543663271791,46.410312173838683,0,0,3650,0,620382,0,620382,null,1336733,99.999993267167511,null,67887.339999999851,26791.539791999967,4.1729310001246631,3.1217383868664683E-4,null,0]
[273,"SOMERSET                     ",1,16069095.370000001,5217678.062146375,16337259.259999998,10727871,5609388,391709.93785362504,{"$f":"ROUND(100-'townwide contributions'!K282,2)","v":34.33},5608581,0,0,268163.88999999687,92060.663436998919,0,1808,1802,29.33,34.334938992698589,0,5609388,34.334938992698589,1,null,null,1.310139741597083,34.334938992698589,0,87166.063181875274,45050,0,5609388,0,5609388,null,16337259,99.999998408545807,null,268163.88999999687,391709.93785362504,806.89604200050235,4.9389926985909938E-3,null,0]
[274,"SOMERVILLE                   ",1,62767269.546019986,19582488,64208758.285060003,52972226,11236532,0,{"$f":"ROUND(100-'townwide contributions'!K283,2)","v":17.5},11236533,0,0,1441488.7390400171,252260.52933200297,0,5351,5396,12.5,30.498157140902727,0,19582488,30.49815714090273,0,null,null,1.1618010220477555,30.498157140902727,0,0,134900,134900,19717388,0,19717388,null,72689614,113.20825373586661,null,1441488.7390400171,134900,8480855.3001144994,13.208253089809105,null,0]
[275,"SOUTHAMPTON                  ",1,4598039.57,2468676,4683286.6400000006,2974492,1708795,0,{"$f":"ROUND(100-'townwide contributions'!K284,2)","v":36.46},1707526,0,0,85247.070000000298,31081.081722000112,0,496,490,31.46,52.712468609437913,0,2468676,52.712468609437913,0,null,null,3.6869929334613341,52.712468609437913,0,0,12250,12250,2480926,0,2480926,null,5455418,116.48695498168354,null,85247.070000000298,12250,773399.6910559996,16.514037053602159,null,0]
[276,"SOUTHBOROUGH                 ",1,11801364.191059999,2777761,11574099.806239998,9548633,2025467,0,{"$f":"ROUND(100-'townwide contributions'!K285,2)","v":17.5},2025467,0,0,0,0,0,1323,1274,12.5,23.999801682221651,0,2777761,23.999801682221651,0,null,null,2.1823959127537149,23.999801682221651,0,0,31850,31850,2809611,0,2809611,null,12358244,106.77499077152629,null,-227264.3848200012,31850,784143.53390800045,6.7749850704176708,null,0]
[277,"SOUTHBRIDGE                  ",1,26907889.430000003,19119369,27590853.959999993,7681091,19909763,790394,{"$f":"ROUND(100-'townwide contributions'!K286,2)","v":72.16},19909560,0,0,682964.52999999002,492827.20484799281,0,2432,2437,67.16,72.160734962623124,0,19909763,72.16073496262311,1,null,null,0.3762006902474595,72.160734962623124,0,88713.759480000474,60925,0,19909763,0,19909763,null,27590854,100.0000001449756,null,682964.52999999002,790394,202.78246400505304,7.349626231274442E-4,null,0]
[278,"SOUTH HADLEY                 ",1,19070528.080000002,7724754,19296183.16,12744778,6551405,0,{"$f":"ROUND(100-'townwide contributions'!K287,2)","v":33.950000000000003},6551054,0,0,225655.07999999821,76609.899659999399,0,1934,1921,28.950000000000003,40.03254911060867,0,7724754,40.03254911060867,0,null,null,0.66048181105677273,40.03254911060867,0,0,48025,48025,7772779,0,7772779,null,20517557,106.32961363329017,null,225655.07999999821,48025,1221724.8171799993,6.3314325276128827,null,0]
[279,"SOUTHWICK                    ",0,0,0,0,0,0,0,{"$f":"ROUND(100-'townwide contributions'!K288,2)","v":37.270000000000003},0,0,0,0,0,0,0,0,32.270000000000003,0,0,0,0,0,null,null,0,0,0,0,0,0,0,0,0,null,0,0,null,0,0,0,"",null,0]
[280,"SPENCER                      ",0,52019.6,33717,79199.760000000009,29599,49601,15884,{"$f":"ROUND(100-'townwide contributions'!K289,2)","v":56.94},45096,0,0,27180.160000000011,15476.383104000006,0,4,6,51.94,62.627715033479895,0,49601,62.627715033479895,0,null,null,378.46966092684721,62.627715033479895,0,0,0,0,49601,0,49601,null,79200,100.00030303122129,null,27180.160000000011,15884,4504.6566559999919,"",null,0]
[281,"SPRINGFIELD                  ",1,337653427.27999997,301586519,345592031.43000001,36405937,309186094,7599575,{"$f":"ROUND(100-'townwide contributions'!K290,2)","v":83.2},287532570,0,0,7938604.1500000358,6604918.6528000301,0,28755,28970,78.2,89.465631693138718,0,309186094,89.465631693138718,1,null,null,0.16803015613443653,89.465631693138718,0,0,724250,0,309186094,0,309186094,null,345592031,99.999999875575838,null,7938604.1500000358,7599575,21653523.850239992,6.2656316931387153,null,0]
[282,"STERLING                     ",0,0,0,0,0,0,0,{"$f":"ROUND(100-'townwide contributions'!K291,2)","v":28.92},0,0,0,0,0,0,0,0,23.92,0,0,0,0,0,null,null,0,0,0,0,0,0,0,0,0,null,0,0,null,0,0,0,"",null,0]
[283,"STOCKBRIDGE                  ",0,0,0,0,0,0,0,{"$f":"ROUND(100-'townwide contributions'!K292,2)","v":17.5},0,0,0,0,0,0,0,0,12.5,0,0,0,0,0,null,null,0,0,0,0,0,0,0,0,0,null,0,0,null,0,0,0,"",null,0]
[284,"STONEHAM                     ",1,22756236.458160002,3779409.3832463399,23623782.041999996,19489620,4134162,354752.61675366014,{"$f":"ROUND(100-'townwide contributions'!K293,2)","v":17.5},4134162,0,0,867545.58383999392,151820.47717199894,0,2339,2378,12.5,17.500000603840657,0,4134162,17.500000603840657,1,null,null,1.0299167368901812,17.500000603840657,0,102183.15721721866,59450,0,4134162,0,4134162,null,23623782,99.99999982221307,null,867545.58383999392,354752.61675366014,0.14265000121667981,6.038406574759847E-7,null,0]
[285,"STOUGHTON                    ",1,37491590.603239998,14600824.148446621,38474628.719349995,22627873,15846756,1245931.8515533786,{"$f":"ROUND(100-'townwide contributions'!K294,2)","v":41.19},15847700,0,0,983038.11610999703,404913.40002570779,0,3696,3724,36.19,41.187547553981233,0,15846756,41.187547553981233,1,null,null,0.63462057528478499,41.187547553981233,0,284995.48642306635,93100,0,15846756,0,15846756,null,38474629,100.00000072944175,null,983038.11610999703,1245931.8515533786,-943.56950026191771,-2.4524460187649311E-3,null,0]
[286,"STOW                         ",0,0,0,13655.815820000002,11266,2390,2390,{"$f":"ROUND(100-'townwide contributions'!K295,2)","v":17.5},2390,0,0,13655.815820000002,2389.7677685000003,0,0,1,12.5,17.501700605097938,0,2390,17.501700605097938,0,null,null,2200.5229162866949,17.501700605097938,0,0,0,0,2390,0,2390,null,13656,100.00134872937967,null,13655.815820000002,2390,0.23223149999967063,"",null,0]
[287,"STURBRIDGE                   ",1,8029576.1899999995,3069295,8483866.0799999982,4796546,3687320,618025,{"$f":"ROUND(100-'townwide contributions'!K296,2)","v":43.46},3687088,0,0,454289.88999999873,197434.38619399944,0,911,934,38.46,43.462732264156635,0,3687320,43.462732264156635,1,null,null,2.3618473363060231,43.462732264156635,0,67851.14226699993,23350,0,3687320,0,3687320,null,8483866,99.999999057033705,null,454289.88999999873,618025,231.80163200106472,2.7322641566343009E-3,null,0]
[288,"SUDBURY                      ",1,24443508.479559995,4466220,24450575.494369991,20171725,4278850,0,{"$f":"ROUND(100-'townwide contributions'!K297,2)","v":17.5},4278851,0,0,7067.0148099958897,1236.7275917492807,0,2766,2727,12.5,18.266318520921505,0,4466220,18.266318520921502,0,null,null,1.5485606857254426,18.266318520921505,0,10685.787334062392,68175,68175,4534395,0,4534395,null,24706120,101.0451472019088,null,7067.0148099958897,68175,255544.28848525137,1.0451463138120971,null,0]
[289,"SUNDERLAND                   ",1,1659835.8300000003,841288,1744222.4,1415305,328917,0,{"$f":"ROUND(100-'townwide contributions'!K298,2)","v":18.86},328960,0,0,84386.5699999996,15915.307101999924,0,173,175,13.86,48.232840032326159,0,841288,48.232840032326159,0,null,null,8.9501741537722044,48.232840032326159,0,0,4375,4375,845663,0,845663,null,2260968,129.62613024577601,null,84386.5699999996,4375,516702.65536000003,29.623668137732899,null,0]
[290,"SUTTON                       ",1,13581958.960000001,5239230,13719822.630000001,9693543,4026280,0,{"$f":"ROUND(100-'townwide contributions'!K299,2)","v":29.35},4026768,0,0,137863.66999999993,40462.987144999985,0,1511,1490,24.35,38.187301259593617,0,5239230,38.187301259593617,0,null,null,0.91043426712138953,38.187301259593617,0,0,37250,37250,5276480,0,5276480,null,14970023,109.11236539797744,null,137863.66999999993,37250,1249712.0580949993,9.1088062272930372,null,0]
[291,"SWAMPSCOTT                   ",1,19890269.34,3140515.2075,20062283.009999998,16551384,3510899,370383.79249999998,{"$f":"ROUND(100-'townwide contributions'!K300,2)","v":17.5},3510900,0,0,172013.66999999806,30102.392249999659,0,2143,2120,12.5,17.499997374426432,0,3510899,17.499997374426432,1,null,null,1.1407931475101871,17.499997374426432,0,166984.08824999991,53000,0,3510899,0,3510899,null,20062283,99.999999950155228,null,172013.66999999806,370383.79249999998,-0.52674999926239252,-2.6255735683378134E-6,null,0]
[292,"SWANSEA                      ",1,19734625.710000001,6481461,20558168.07,13116615,7441553,960092,{"$f":"ROUND(100-'townwide contributions'!K301,2)","v":36.200000000000003},7442057,0,0,823542.3599999994,298122.33431999985,0,2060,2076,31.200000000000003,36.19754919145381,0,7441553,36.19754919145381,1,null,null,0.77851773049005546,36.19754919145381,0,277652.54953700001,51900,0,7441553,0,7441553,null,20558168,99.999999659502734,null,823542.3599999994,960092,-503.84134000074118,-2.4508085461931728E-3,null,0]
[293,"TAUNTON                      ",1,83736224.63000001,50373614,86795145.73999998,32271814,54523332,4149718,{"$f":"ROUND(100-'townwide contributions'!K302,2)","v":62.82},54524711,0,0,3058921.1099999696,1921614.2413019808,0,7851,7916,57.82,62.818411715475285,0,54523332,62.818411715475293,1,null,null,0.40768219067599393,62.818411715475285,0,120295.19865000062,197900,0,54523332,0,54523332,null,86795146,100.00000029955595,null,3058921.1099999696,4149718,-1378.5538679882884,-1.5882845247148225E-3,null,0]
[294,"TEMPLETON                    ",0,0,0,0,0,0,0,{"$f":"ROUND(100-'townwide contributions'!K303,2)","v":60.59},0,0,0,0,0,0,0,0,55.59,0,0,0,0,0,null,null,0,0,0,0,0,0,0,0,0,null,0,0,null,0,0,0,"",null,0]
[295,"TEWKSBURY                    ",1,35271376.15231999,12727415,34761232.521389998,26303220,8458013,0,{"$f":"ROUND(100-'townwide contributions'!K304,2)","v":24.33},8457408,0,0,0,0,0,3737,3635,19.329999999999998,36.613819697469893,0,12727415,36.613819697469886,0,null,null,0.87474050087541988,36.613819697469893,0,0,90875,90875,12818290,0,12818290,null,39121510,112.54350655123332,null,-510143.6309299916,90875,4360882.1275458131,12.545245985919479,null,0]
[296,"TISBURY                      ",1,3448541.2399999993,474255,3757350.99,3099815,657536,183281,{"$f":"ROUND(100-'townwide contributions'!K305,2)","v":17.5},657536,0,0,308809.75000000093,54041.706250000163,0,364,378,12.5,17.499988735414892,0,657536,17.499988735414892,1,null,null,4.6596199016297835,17.499988735414892,0,0,9450,0,657536,0,657536,null,3757351,100.00000026614495,null,308809.75000000093,183281,-0.42324999999254942,-1.1264585108250458E-5,null,0]
[297,"TOLLAND                      ",0,0,0,0,0,0,0,{"$f":"ROUND(100-'townwide contributions'!K306,2)","v":17.5},0,0,0,0,0,0,0,0,12.5,0,0,0,0,0,null,null,0,0,0,0,0,0,0,0,0,null,0,0,null,0,0,0,"",null,0]
[298,"TOPSFIELD                    ",1,4950981.2964300001,1093858,4876256.0624799998,4022911,853345,0,{"$f":"ROUND(100-'townwide contributions'!K307,2)","v":17.5},853345,0,0,0,0,0,572,558,12.5,22.432333043717932,0,1093858,22.432333043717932,0,null,null,4.2986348231947256,22.432333043717932,0,0,13950,13950,1107808,0,1107808,null,5130719,105.21840802163666,null,-74725.233950000256,13950,254463.18906600005,5.2184131802254754,null,0]
[299,"TOWNSEND                     ",0,0,0,0,0,0,0,{"$f":"ROUND(100-'townwide contributions'!K308,2)","v":50.81},0,0,0,0,0,0,0,0,45.81,0,0,0,0,0,null,null,0,0,0,0,0,0,0,0,0,null,0,0,null,0,0,0,"",null,0]
[300,"TRURO                        ",1,1788414.01,277556,1879850.1199999996,1550876,328974,51418,{"$f":"ROUND(100-'townwide contributions'!K309,2)","v":17.5},328974,0,0,91436.109999999637,16001.319249999935,0,194,197,12.5,17.500012181822242,0,328974,17.500012181822242,1,null,null,5.0299279130084118,17.500012181822242,0,0,4925,0,328974,0,328974,null,1879850,99.999993616512384,null,91436.109999999637,51418,0.22900000010849908,1.218182224249631E-5,null,0]
[301,"TYNGSBOROUGH                 ",1,16424708.550000001,7125624,16310112.57,10865397,5444716,0,{"$f":"ROUND(100-'townwide contributions'!K310,2)","v":33.380000000000003},5444316,0,0,0,0,0,1802,1750,28.380000000000003,43.688380257451527,0,7125624,43.688380257451527,0,null,null,0.83778408397202708,43.688380257451527,0,0,43750,43750,7169374,0,7169374,null,18034771,110.57416631919665,null,-114595.98000000045,43750,1725058.4241339993,10.576618749443732,null,0]
[302,"TYRINGHAM                    ",0,249461.65000000002,38498,249733.64,206030,43704,5206,{"$f":"ROUND(100-'townwide contributions'!K311,2)","v":17.5},43703,0,0,271.98999999999069,47.598249999998366,0,29,28,12.5,17.500245461524525,0,43704,17.500245461524525,0,null,null,3.3012693043676453,17.500245461524525,0,0,0,0,43704,0,43704,null,249734,100.00014415358699,null,271.98999999999069,5206,0.61299999999755528,"",null,0]
[303,"UPTON                        ",0,40041.258719999991,19248,27007.727760000002,15988,11020,0,{"$f":"ROUND(100-'townwide contributions'!K312,2)","v":35.15},9493,0,0,0,0,0,3,2,30.15,71.268490896547746,0,19248,71.268490896547746,0,null,null,1111.8611559705696,71.268490896547746,0,0,0,0,19248,0,19248,null,35236,130.46636249120721,null,-13033.530959999989,0,9754.7836923600007,"",null,0]
[304,"UXBRIDGE                     ",1,18066543.430000003,9122764,18526071.940000001,10719548,7806524,0,{"$f":"ROUND(100-'townwide contributions'!K313,2)","v":42.14},7806887,0,0,459528.50999999791,193645.31411399911,0,1934,1934,37.14,49.24284019594495,0,9122764,49.242840195944957,0,null,null,0.75997635330877078,49.24284019594495,0,0,48350,48350,9171114,0,9171114,null,19890662,107.36578193380372,null,459528.50999999791,48350,1364227.2844839999,7.363823744732791,null,0]
[305,"WAKEFIELD                    ",1,31933215.629270006,5317017.2860360602,32600249.418120001,26895205,5705044,388026.71396393981,{"$f":"ROUND(100-'townwide contributions'!K314,2)","v":17.5},5705044,0,0,667033.78884999454,116730.91304874903,0,3380,3374,12.5,17.500001079221803,0,5705044,17.500001079221803,1,null,null,0.94212517209219315,17.500001079221803,0,149670.53898381209,84350,0,5705044,0,5705044,null,32600249,99.99999871743313,null,667033.78884999454,388026.71396393981,0.35182899981737137,1.0792218034794132E-6,null,0]
[306,"WALES                        ",1,1356194.98,737534,1467392.6599999997,641264,826129,88595,{"$f":"ROUND(100-'townwide contributions'!K315,2)","v":56.3},826142,0,0,111197.6799999997,62604.293839999824,0,141,151,51.3,56.29910946944495,0,826129,56.29910946944495,1,null,null,10.058999935812208,56.29910946944495,0,0,3775,0,826129,0,826129,null,1467393,100.00002317034898,null,111197.6799999997,88595,-13.067579999798909,-8.9053055504706435E-4,null,0]
[307,"WALPOLE                      ",1,36833859.746200003,7542980.7103260532,37317617.441239998,30270297,7047320,0,{"$f":"ROUND(100-'townwide contributions'!K316,2)","v":18.88},7045566,0,0,483757.69503999501,91333.452823551052,0,3869,3834,13.879999999999999,20.212921476573808,0,7542980.7103260532,20.212921476573808,0,null,null,0.83788259430512868,20.212921476573808,0,121247.70980036515,95850,95850,7638830.7103260532,0,7638830.7103260532,null,37909127.710326053,101.58506975965827,null,483757.69503999501,95850,593264.53741994221,1.5897706715979147,null,0]
[308,"WALTHAM                      ",1,58974377.85684,9012826.3317359835,62218743.565559998,51330463,10888281,1875454.6682640165,{"$f":"ROUND(100-'townwide contributions'!K317,2)","v":17.5},10888280,0,0,3244365.7087199986,567763.99902599968,0,5195,5298,12.5,17.500001407979251,0,10888281,17.500001407979251,1,null,null,1.0408325415919564,17.500001407979251,0,606688.07839967171,132450,0,10888281,0,10888281,null,62218744,100.00000069824618,null,3244365.7087199986,1875454.6682640165,0.87602700106799603,1.4079792514110068E-6,null,0]
[309,"WARE                         ",1,14311776.950000001,8736718,14379106.989999996,5325839,9053268,316550,{"$f":"ROUND(100-'townwide contributions'!K318,2)","v":62.96},9053086,0,0,67330.039999995381,42390.993183997096,0,1394,1375,57.96,62.961267388135646,0,9053268,62.961267388135639,1,null,null,0.59677268057995092,62.961267388135646,0,0,34375,0,9053268,0,9053268,null,14379107,100.00000006954538,null,67330.039999995381,316550,182.2390960007906,1.2673881356448646E-3,null,0]
[310,"WAREHAM                      ",1,29801464.629999995,12488232.138633749,30579432.949999999,17432016,13147417,659184.86136625148,{"$f":"ROUND(100-'townwide contributions'!K319,2)","v":42.99},13146098,0,0,777968.32000000402,334448.58076800173,0,2859,2815,37.99,42.994312620175648,0,13147417,42.994312620175648,1,null,null,0.6767262971647513,42.994312620175648,0,0,70375,0,13147417,0,13147417,null,30579433,100.00000016350859,null,777968.32000000402,659184.86136625148,1318.77479499951,4.3126201756464866E-3,null,0]
[311,"WARREN                       ",0,0,0,0,0,0,0,{"$f":"ROUND(100-'townwide contributions'!K320,2)","v":71.64},0,0,0,0,0,0,0,0,66.64,0,0,0,0,0,null,null,0,0,0,0,0,0,0,0,0,null,0,0,null,0,0,0,"",null,0]
[312,"WARWICK                      ",0,0,0,0,0,0,0,{"$f":"ROUND(100-'townwide contributions'!K321,2)","v":32.130000000000003},0,0,0,0,0,0,0,0,27.130000000000003,0,0,0,0,0,null,null,0,0,0,0,0,0,0,0,0,null,0,0,null,0,0,0,"",null,0]
[313,"WASHINGTON                   ",0,13004.9,2761,13199.960000000001,10149,3051,290,{"$f":"ROUND(100-'townwide contributions'!K322,2)","v":18.11},2391,0,0,195.06000000000131,35.325366000000237,0,1,1,13.11,23.113706405170923,0,3051,23.113706405170923,0,null,null,2229.8022413994968,23.113706405170923,0,0,0,0,3051,0,3051,null,13200,100.00030303122129,null,195.06000000000131,290,660.48724399999992,"",null,0]
[314,"WATERTOWN                    ",1,28744449.526519999,4334781,26987815.659180008,22264948,4722868,388087,{"$f":"ROUND(100-'townwide contributions'!K323,2)","v":17.5},4722868,0,0,0,0,0,2776,2590,12.5,17.500000962076744,0,4722868,17.500000962076747,1,null,null,1.4952564709057339,17.500000962076744,0,326283.91367243743,64750,0,4722868,0,4722868,null,26987816,100.00000126286616,null,-1756633.867339991,388087,0.25964349880814552,9.6207674360471174E-7,null,0]
[315,"WAYLAND                      ",1,24309849.451349992,3644813,24601190.323630001,20295982,4305208,660395,{"$f":"ROUND(100-'townwide contributions'!K324,2)","v":17.5},4305208,0,0,291340.87228000909,50984.652649001589,0,2644,2620,12.5,17.499998753575554,0,4305208,17.499998753575554,1,null,null,1.6658320981910983,17.499998753575554,0,0,65500,0,4305208,0,4305208,null,24601190,99.999998684494543,null,291340.87228000909,660395,-0.30663525033742189,-1.2464244463217256E-6,null,0]
[316,"WEBSTER                      ",1,20776506.130000003,10515224,21401884.859999996,10061690,11340195,824971,{"$f":"ROUND(100-'townwide contributions'!K325,2)","v":52.99},11340859,0,0,625378.729999993,331388.18902699632,0,1980,1990,47.99,52.986898463297329,0,11340195,52.986898463297322,1,null,null,0.61411266666017172,52.986898463297329,0,0,49750,0,11340195,0,11340195,null,21401885,100.00000065414801,null,625378.729999993,824971,-663.78731399774551,-3.1015367026725471E-3,null,0]
[317,"WELLESLEY                    ",1,47297420.926149994,7789132,48641677.772080004,40129384,8512294,723162,{"$f":"ROUND(100-'townwide contributions'!K326,2)","v":17.5},8512294,0,0,1344256.8459300101,235244.94803775175,0,5050,5081,12.5,17.500000801547184,0,8512294,17.500000801547184,1,null,null,2.2651999693819027,17.500000801547184,0,0,127025,0,8512294,0,8512294,null,48641678,100.00000046856935,null,1344256.8459300101,723162,0.38988599926233292,8.0154718418157245E-7,null,0]
[318,"WELLFLEET                    ",1,1240792.6900000002,176624,1150249.74,948956,201294,24670,{"$f":"ROUND(100-'townwide contributions'!K327,2)","v":17.5},201294,0,0,0,0,0,132,124,12.5,17.500025690073183,0,201294,17.500025690073183,1,null,null,19.1638904028121,17.500025690073183,0,0,3100,0,201294,0,201294,null,1150250,100.0000226037869,null,-90542.950000000186,24670,0.29550000000745058,2.5690073183426421E-5,null,0]
[319,"WENDELL                      ",0,0,0,0,0,0,0,{"$f":"ROUND(100-'townwide contributions'!K328,2)","v":39.54},0,0,0,0,0,0,0,0,34.54,0,0,0,0,0,null,null,0,0,0,0,0,0,0,0,0,null,0,0,null,0,0,0,"",null,0]
[320,"WENHAM                       ",0,13282.92632,8422,0,0,0,0,{"$f":"ROUND(100-'townwide contributions'!K329,2)","v":17.5},0,0,0,0,0,0,1,0,12.5,0,0,8422,0,0,null,null,0,0,0,0,0,0,8422,8422,0,null,0,0,null,-13282.92632,-8422,0,"",null,0]
[321,"WESTBOROUGH                  ",1,{"$f":"VLOOKUP(A330, disthist, 35, FALSE)","v":31788292.559999999},{"$f":"VLOOKUP(A330, disthist, 37, FALSE)*(1-$E$6)","v":5025628.3124719998},{"$f":"SUMIF(dist1755,A330,found1755)","v":32643542.910000004},{"$f":"SUMIF(dist1755,A330,prelcont1755)","v":26930923},{"$f":"ROUND(MAX(found-prelcont436,0),0)","v":5712620},{"$f":"IF(foundaid>priorc70,foundaid-priorc70,0)","v":686991.68752800021},{"$f":"ROUND(100-'townwide contributions'!K330,2)","v":17.5},{"$f":"ROUND(J330/100*F330,0)","v":5712620},{"$f":"ROUND(IF(K330>priorc70,L$6*(K330-priorc70),0),0)","v":0},{"$f":"IF(L330>I330,L330-I330,0)","v":0},{"$f":"MAX(F330-D330,0)","v":855250.35000000522},{"$f":"(J330/100)*N330","v":149668.8112500009},{"$f":"IF(P$6=\"no\",0,ROUND(MAX(O330-foundinc-downaid,0),0))","v":0},3465,{"$f":"SUMIF(dist1755,A330,enro1755)","v":3498},{"$f":"J330-$S$6","v":12.5},{"$f":"IF(F330=0, 0, ((priorc70+foundinc+downaid+growthaid+targaid)/found*100))","v":17.499999971663613},{"$f":"IF(AND(T330>0, S330>T330,$S$5= \"yes\"), (((S330/100)*found)-(priorc70+foundinc+downaid+growthaid+minaid)), 0)","v":0},{"$f":"priorc70+foundinc+downaid+growthaid","v":5712620},{"$f":"IF(F330>0,V330*100/F330,0)","v":17.499999971663613},{"$f":"IF(AND(C330=1,I330>0),1,0)","v":1},null,null,{"$f":"IF(found>0, SUMIF(ceylea, A330, ceyproptotal)/found, 0)","v":0.86948637911137927},{"$f":"IF(found>0, prelimc70/found*100, 0)","v":17.499999971663613},{"$f":"IF(AND(nonop=1, J330>AB330, AA330<ceyperc), targaidperc*(((J330/100)*found)-prelimc70), 0)","v":0},260844.81425100006,{"$f":"IF(nonop=1,enro*$AE$6,0)","v":87450},{"$f":"IF(AND(nonop=1,(prelimc70+targaid)-priorc70<AE330),AE330-(prelimc70+targaid-priorc70),0)","v":0},{"$f":"priorc70+foundinc+downaid+U330+growthaid+targaid+minaid","v":5712620},{"$f":"IF(AND(C330=0,AG330>found),AG330-found,0)","v":0},{"$f":"AG330-rednonop","v":5712620},null,{"$f":"prelcont436+chapter70","v":32643543},{"$f":"IF(found>0,AK330*100/found,0)","v":100.00000027570536},null,{"$f":"F330-D330","v":855250.35000000522},{"$f":"AI330-E330","v":686991.68752800021},-9.2500001192092896E-3,{"$f":"IF(C330=1, (AI330/F330*100)-J330, \"\")","v":-2.8336387458693935E-8},null,{"$f":"VLOOKUP(A330, disthist, 37, FALSE)*$E$6","v":0}]
[322,"WEST BOYLSTON                ",1,8413020.9400000013,2886885,8930152.6600000001,6681715,2248438,0,{"$f":"ROUND(100-'townwide contributions'!K331,2)","v":25.18},2248612,0,0,517131.71999999881,130213.7670959997,0,893,896,20.18,32.327386887023273,0,2886885,32.327386887023273,0,null,null,0.74821957187011845,32.327386887023273,0,0,22400,22400,2909285,0,2909285,null,9591000,107.40017965157608,null,517131.71999999881,22400,{"$f":"AI331-((J331/100)*F331)","v":660672.56021199981},7.3982224645642276,null,0]
[323,"WEST BRIDGEWATER             ",1,9789063.1500000022,3006077.2266937499,9864782.7299999986,6568900,3295883,289805.77330625011,{"$f":"ROUND(100-'townwide contributions'!K332,2)","v":33.409999999999997},3295824,0,0,75719.579999996349,25297.911677998778,0,1052,1024,28.409999999999997,33.410598998565078,0,3295883,33.410598998565078,1,null,null,0.84219970792525756,33.410598998565078,0,178814.22669374989,25600,0,3295883,0,3295883,null,9864783,100.0000027370091,null,75719.579999996349,289805.77330625011,59.089907000772655,5.9899856508138782E-4,null,0]
[324,"WEST BROOKFIELD              ",0,233036.45,201348,355331.41999999993,184172,171159,0,{"$f":"ROUND(100-'townwide contributions'!K333,2)","v":44.28},157341,0,0,122294.96999999991,54152.212715999965,0,16,25,39.28,56.664845456109688,0,201348,56.664845456109688,0,null,null,79.67497351545039,56.664845456109688,0,0,0,0,201348,0,201348,null,385520,108.49589377713912,null,122294.96999999991,0,44007.247224000021,"",null,0]
[325,"WESTFIELD                    ",1,59091820.839999996,33214624.488096002,59194723.68,26751463,32443261,0,{"$f":"ROUND(100-'townwide contributions'!K334,2)","v":54.81},32444628,0,0,102902.84000000358,56401.04660400196,0,5685,5574,49.81,56.11078559577458,0,33214624.488096002,56.11078559577458,0,null,null,0.45192309950824994,56.11078559577458,0,48596.62474849727,139350,139350,33353974.488096002,0,33353974.488096002,null,60105437.488095999,101.53850504146149,null,102902.84000000358,139350,909346.43908800185,1.5361950906364967,null,0]
[326,"WESTFORD                     ",1,45600413.679659985,16313850,45124999.36552,33086801,12038198,0,{"$f":"ROUND(100-'townwide contributions'!K335,2)","v":26.68},12039350,0,0,0,0,0,4959,4911,21.68,36.152576685608572,0,16313850,36.152576685608572,0,null,null,0.74487772929238882,36.152576685608572,0,0,122775,122775,16436625,0,16436625,null,49523426,109.7472059752334,null,-475414.31413998455,122775,4397275.1692792643,9.7446542517609913,null,0]
[327,"WESTHAMPTON                  ",1,1314694.2799999998,454345,1294416.6200000001,922713,371704,0,{"$f":"ROUND(100-'townwide contributions'!K336,2)","v":28.72},371756,0,0,0,0,0,138,137,23.72,35.100368226112543,0,454345,35.100368226112543,0,null,null,10.335428729225461,35.100368226112543,0,0,3425,3425,457770,0,457770,null,1380483,106.64904781584154,null,-20277.659999999683,3425,86013.546735999931,6.6449661883976745,null,0]
[328,"WESTMINSTER                  ",0,0,0,0,0,0,0,{"$f":"ROUND(100-'townwide contributions'!K337,2)","v":45.24},0,0,0,0,0,0,0,0,40.24,0,0,0,0,0,null,null,0,0,0,0,0,0,0,0,0,null,0,0,null,0,0,0,"",null,0]
[329,"WEST NEWBURY                 ",0,13004.9,13004.900000000001,13199.960000000001,10890,2310,0,{"$f":"ROUND(100-'townwide contributions'!K338,2)","v":17.5},2310,0,0,195.06000000000131,34.135500000000228,0,1,1,12.5,98.522268249297724,0,13004.900000000001,98.522268249297738,0,null,null,2274.4751315412336,98.522268249297724,0,0,0,0,13004.900000000001,0,13004.900000000001,null,23894.9,181.0225182500553,null,195.06000000000131,0,10694.907000000001,"",null,0]
[330,"WESTON                       ",1,21506483.175400004,2988929,21219806.953260001,17506340,3713467,724538,{"$f":"ROUND(100-'townwide contributions'!K339,2)","v":17.5},3713466,0,0,0,0,0,2322,2249,12.5,17.500003690794649,0,3713467,17.500003690794649,1,null,null,3.5528265261050036,17.500003690794649,0,0,56225,0,3713467,0,3713467,null,21219807,100.0000002202659,null,-286676.222140003,724538,0.78317950014024973,3.6907946494579846E-6,null,0]
[331,"WESTPORT                     ",1,15286780.110000001,4303047,14995933.330000002,12371645,2624288,0,{"$f":"ROUND(100-'townwide contributions'!K340,2)","v":17.5},2624288,0,0,0,0,0,1604,1549,12.5,28.69475947450081,0,4303047,28.694759474500806,0,null,null,1.3848216094927142,28.69475947450081,0,0,38725,38725,4341772,0,4341772,null,16713417,111.45299617039574,null,-290846.77999999933,38725,1717483.6672499999,11.452996152057441,null,0]
[332,"WEST SPRINGFIELD             ",1,41551686.519999996,21363060,42891023.810000002,20277457,22613567,1250507,{"$f":"ROUND(100-'townwide contributions'!K341,2)","v":51.91},22264730,0,0,1339337.2900000066,695249.98723900341,0,3871,3938,46.91,52.723308961274242,0,22613567,52.723308961274242,1,null,null,0.48086742091689882,52.723308961274242,0,104426.06326799933,98450,0,22613567,0,22613567,null,42891024,100.00000044298312,null,1339337.2900000066,1250507,348836.54022900015,0.81330896127424523,null,0]
[333,"WEST STOCKBRIDGE             ",0,0,0,0,0,0,0,{"$f":"ROUND(100-'townwide contributions'!K342,2)","v":17.5},0,0,0,0,0,0,0,0,12.5,0,0,0,0,0,null,null,0,0,0,0,0,0,0,0,0,null,0,0,null,0,0,0,"",null,0]
[334,"WEST TISBURY                 ",0,0,0,0,0,0,0,{"$f":"ROUND(100-'townwide contributions'!K343,2)","v":17.5},0,0,0,0,0,0,0,0,12.5,0,0,0,0,0,null,null,0,0,0,0,0,0,0,0,0,null,0,0,null,0,0,0,"",null,0]
[335,"WESTWOOD                     ",1,29096356.715499997,4725912.9092836883,29539997.822689999,24370499,5169499,443586.09071631171,{"$f":"ROUND(100-'townwide contributions'!K344,2)","v":17.5},5169500,0,0,443641.10719000176,77637.193758250301,0,3110,3100,12.5,17.499997904635087,0,5169499,17.499997904635087,1,null,null,1.2189378325934845,17.499997904635087,0,146857.61947743734,77500,0,5169499,0,5169499,null,29539998,100.00000060023702,null,443641.10719000176,443586.09071631171,-0.61897074989974499,-2.0953649126909113E-6,null,0]
[336,"WEYMOUTH                     ",1,68999976.990219995,27366185,69769188.724899977,45695271,24073918,0,{"$f":"ROUND(100-'townwide contributions'!K345,2)","v":31.93},22277302,0,0,769211.73467998207,245609.30688331826,0,6623,6556,26.93,39.223883063776057,0,27366185,39.223883063776064,0,null,null,0.68327076286246025,39.223883063776057,0,0,163900,163900,27530085,0,27530085,null,73225356,104.9537157279092,null,769211.73467998207,163900,5252783.0401394404,7.5288005151545718,null,0]
[337,"WHATELY                      ",1,973888.2100000002,250115.0875275,877253.83999999985,723734,153520,0,{"$f":"ROUND(100-'townwide contributions'!K346,2)","v":17.5},153519,0,0,0,0,0,99,89,12.5,28.511141943533701,0,250115.0875275,28.511141943533705,0,null,null,17.728725898241819,28.511141943533701,0,6187.0875274999999,2225,2225,252340.0875275,0,252340.0875275,null,976074.0875275,111.26472669843201,null,-96634.370000000345,2225,98820.665527500038,11.264774347126259,null,0]
[338,"WHITMAN                      ",0,78029.39999999998,78029.39999999998,118799.64000000001,47836,70964,0,{"$f":"ROUND(100-'townwide contributions'!K347,2)","v":54.91},65233,0,0,40770.240000000034,22386.938784000016,0,6,9,49.91,65.681512166198459,0,78029.39999999998,65.681512166198459,0,null,null,252.33721888025869,65.681512166198459,0,0,0,0,78029.39999999998,0,78029.39999999998,null,125865.39999999998,105.94762745072289,null,40770.240000000034,0,12796.517675999981,"",null,0]
[339,"WILBRAHAM                    ",0,0,0,0,0,0,0,{"$f":"ROUND(100-'townwide contributions'!K348,2)","v":32.18},0,0,0,0,0,0,0,0,27.18,0,0,0,0,0,null,null,0,0,0,0,0,0,0,0,0,null,0,0,null,0,0,0,"",null,0]
[340,"WILLIAMSBURG                 ",1,1740594.9700000002,514620.14508649998,1731396.01,1374154,357242,0,{"$f":"ROUND(100-'townwide contributions'!K349,2)","v":20.63},357187,0,0,0,0,0,188,185,15.629999999999999,29.722844578260286,0,514620.14508649998,29.72284457826029,0,null,null,6.9252266750139642,29.722844578260286,0,14956.145086500008,4625,4625,519245.14508649998,0,519245.14508649998,null,1893399.1450864999,109.35679267774792,null,-9198.9600000001956,4625,162058.1482235,9.3599700638965864,null,0]
[341,"WILLIAMSTOWN                 ",1,3344865.7700000005,928776,3691422.7599999993,3045424,645999,0,{"$f":"ROUND(100-'townwide contributions'!K350,2)","v":17.5},645999,0,0,346556.98999999883,60647.473249999792,0,376,397,12.5,25.160380167347729,0,928776,25.160380167347729,0,null,null,4.8933636045155398,25.160380167347729,0,0,9925,9925,938701,0,938701,null,3984125,107.92925273072761,null,346556.98999999883,9925,292702.01700000011,7.9292466896964164,null,0]
[342,"WILMINGTON                   ",1,33711949.045720004,10891329.755806601,33895541.813259996,24122111,9773431,0,{"$f":"ROUND(100-'townwide contributions'!K351,2)","v":28.83},9772085,0,0,183592.76753999293,52929.794881779962,0,3571,3496,23.83,32.132042071520722,0,10891329.755806601,32.132042071520722,0,null,null,0.79998558924821195,32.132042071520722,0,10866.754071213771,87400,87400,10978729.755806601,0,10978729.755806601,null,35100840.755806603,103.55592174683896,null,183592.76753999293,87400,1206645.0510437433,3.5598930906356046,null,0]
[343,"WINCHENDON                   ",1,14667673.109999999,11251885,14868534.459999999,4796712,10071822,0,{"$f":"ROUND(100-'townwide contributions'!K352,2)","v":67.739999999999995},10071945,0,0,200861.34999999963,136063.47848999975,0,1472,1458,62.739999999999995,75.675817480669181,0,11251885,75.675817480669181,0,null,null,0.59584798637930891,75.675817480669181,0,0,36450,36450,11288335,0,11288335,null,16085047,108.1817918455428,null,200861.34999999963,36450,1216389.7567960005,8.180966053301276,null,0]
[344,"WINCHESTER                   ",1,39564443.627320006,7572048,40749515.511779994,33618351,7131165,0,{"$f":"ROUND(100-'townwide contributions'!K353,2)","v":17.5},7131165,0,0,1185071.8844599873,207387.57978049776,0,4302,4340,12.5,18.581933809276947,0,7572048,18.581933809276947,0,null,null,1.3005570856875328,18.581933809276947,0,0,108500,108500,7680548,0,7680548,null,41298899,101.34819636827631,null,1185071.8844599873,108500,549382.78543850128,1.3481946436386067,null,0]
[345,"WINDSOR                      ",0,91034.3,47361,39599.880000000005,32060,7540,0,{"$f":"ROUND(100-'townwide contributions'!K354,2)","v":19.04},7540,0,0,0,0,0,7,3,14.04,119.59884726923413,0,47361,119.59884726923414,0,null,null,727.9433496248389,119.59884726923413,0,0,0,0,47361,7761.1199999999953,39599.880000000005,null,71659.88,180.95984129244835,null,-51434.42,-7761.1199999999953,32060.062848000005,"",null,0]
[346,"WINTHROP                     ",1,19874501.94588,6298325,19501001.633919992,13580430,5920572,0,{"$f":"ROUND(100-'townwide contributions'!K355,2)","v":30.36},5920504,0,0,0,0,0,1985,1946,25.36,32.297443578717058,0,6298325,32.297443578717051,0,null,null,0.78045701703726522,32.297443578717058,0,43595.596063009929,48650,48650,6346975,0,6346975,null,19927405,102.1865716135233,null,-373500.311960008,48650,426470.90394189116,2.1869179437434028,null,0]
[347,"WOBURN",1,48695159.223999999,8202269.03757165,49230530.561499998,40615188,8615343,413073.96242835,{"$f":"ROUND(100-'townwide contributions'!K356,2)","v":17.5},8615343,0,0,535371.33749999851,93689.98406249973,0,4860,4789,12.5,17.50000030821829,0,8615343,17.500000308218294,1,null,null,0.86040863612446927,17.50000030821829,0,504474.95087115071,119725,0,8615343,0,8615343,null,49230531,100.00000089070744,null,535371.33749999851,413073.96242835,0.15173749998211861,3.0821829000160506E-7,null,0]
[348,"WORCESTER                    ",1,314854112.86000001,220569583,329468506.71999997,96907634,232560873,11991290,{"$f":"ROUND(100-'townwide contributions'!K357,2)","v":70.59},232571819,0,0,14614393.859999955,10316300.62577397,0,26874,27452,65.59,70.586677711700901,0,232560873,70.586677711700901,1,null,null,0.29413322373284473,70.586677711700901,0,0,686300,0,232560873,0,232560873,null,329468507,100.00000008498537,null,14614393.859999955,11991290,-10945.893647998571,-3.3222882991026381E-3,null,0]
[349,"WORTHINGTON                  ",1,181016.85000000003,193899.28,1164871.5999999999,939802,225070,31170.720000000001,{"$f":"ROUND(100-'townwide contributions'!K358,2)","v":17.5},203853,0,0,983854.74999999977,172174.58124999996,0,12,115,12.5,19.321442809662457,0,225070,19.321442809662457,1,null,null,0.933823951068942,19.321442809662457,0,0,2875,0,225070,0,225070,null,1164872,100.00003433854857,null,983854.74999999977,31170.720000000001,21217.47000000003,1.8214428096624573,null,0]
[350,"WRENTHAM                     ",1,9069999.5540800001,3632823,8534196.4301100001,6762850,1771346,0,{"$f":"ROUND(100-'townwide contributions'!K359,2)","v":17.5},1493484,0,0,0,0,0,1038,958,12.5,42.567839043202987,0,3632823,42.567839043202987,0,null,null,2.664455209461988,42.567839043202987,0,0,23950,23950,3656773,0,3656773,null,10419623,122.09260807775546,null,-535803.12397000007,23950,2163288.62473075,25.348474721044902,null,0]
[351,"YARMOUTH                     ",0,0,0,0,0,0,0,{"$f":"ROUND(100-'townwide contributions'!K360,2)","v":17.5},0,0,0,0,0,0,0,0,12.5,0,0,0,0,0,null,null,0,0,0,0,0,0,0,0,0,null,0,0,null,0,0,0,"",null,0]
[406,"NORTHAMPTON SMITH            ",1,1764814,895485,1980086,1633571,346515,0,{"$f":"ROUND(100-SUMIF(fraclea,A361,memeffpct),2)","v":17.5},346515,0,0,215272,37672.6,0,91,97,12.5,45.224550852841745,0,895485,45.224550852841745,0,null,null,0,45.224550852841745,0,0,2425,2425,897910,0,897910,null,2531481,127.84702280608013,null,215272,2425,551394.94999999995,27.847020280937294,null,0]
[600,"ACTON BOXBOROUGH             ",1,52422543,14254475.561999999,52599957,40790108,11809849,0,21.89,11514131,0,0,177414,38835.924599999998,0,5649,5544,16.89,27.09978557967262,0,14254475.561999999,27.09978557967262,0,null,null,0,27.09978557967262,0,0,138600,138600,14393075.561999999,0,14393075.561999999,null,55183183.561999999,104.91108112883057,null,177414,138600,2878944.9746999983,5.4732838939393034,null,0]
[603,"ADAMS CHESHIRE               ",1,14419594,10121468,14523439,5160616,9362823,0,61.86,8984199,0,0,103845,64238.517000000007,0,1424,1398,56.86,69.690573974938033,0,10121468,69.690573974938033,0,null,null,0,69.690573974938033,0,0,34950,34950,10156418,0,10156418,null,15317034,105.46423612203694,null,103845,34950,1172218.6345999986,8.0712194584216519,null,0]
[605,"AMHERST PELHAM               ",1,15504219,9311217,15834018,11514977,4319041,0,27.27,4317937,0,0,329799,89936.187300000005,0,1529,1532,22.27,58.805143457586063,0,9311217,58.805143457586063,0,null,null,0,58.805143457586063,0,0,38300,38300,9349517,0,9349517,null,20864494,131.77005356442061,null,329799,38300,5031580.2914000005,31.777027734842793,null,0]
[610,"ASHBURNHAM WESTMINSTER       ",1,20944478,10138704,21651624,10777792,10873832,735128,50.22,10873446,0,0,707146,355128.72119999997,0,2224,2253,45.22,50.221784749264074,0,10873832,50.221784749264074,1,null,null,0,50.221784749264074,0,21868.029799999669,56325,0,10873832,0,10873832,null,21651624,100,null,707146,735128,386.42720000073314,1.7847492640754581E-3,null,0]
[615,"ATHOL ROYALSTON              ",1,17539155,17129715,17879139,2687482,15191657,0,68.05,12166754,0,0,339984,231359.11199999999,0,1719,1717,63.05,95.808388759660062,0,17129715,95.808388759660076,0,null,null,0,95.808388759660062,0,0,42925,42925,17172640,0,17172640,null,19860122,111.07985680965957,null,339984,42925,5005885.9104999993,27.998473027700044,null,0]
[616,"AYER SHIRLEY",1,18020997,8003886,17776166,10628966,7147200,0,40.21,7147796,0,0,0,0,0,1771,1739,35.21,45.025940914368149,0,8003886,45.025940914368149,0,null,null,0,45.025940914368149,0,0,43475,43475,8047361,0,8047361,null,18676327,105.06386472763587,null,-244831,43475,899564.65139999986,5.0605099626094798,null,0]
[618,"BERKSHIRE HILLS              ",1,10662018,2753513,10878643,8974881,1903762,0,17.5,1903763,0,0,216625,37909.375,0,1067,1086,12.5,25.31118081547487,0,2753513,25.31118081547487,0,null,null,0,25.31118081547487,0,0,27150,27150,2780663,0,2780663,null,11755544,108.06075721025131,null,216625,27150,876900.47500000009,8.0607523842817557,null,0]
[620,"BERLIN BOYLSTON              ",1,4817370,1049323,5052434,4168258,884176,0,17.5,884176,0,0,235064,41136.199999999997,0,517,533,12.5,20.768663182933217,0,1049323,20.768663182933217,0,null,null,0,20.768663182933217,0,0,13325,13325,1062648,0,1062648,null,5230906,103.53239646475342,null,235064,13325,178472.05000000005,3.5323974543754559,null,0]
[622,"BLACKSTONE MILLVILLE         ",1,17804636,10684594,17580139,8008096,9572043,0,53.99,9491517,0,0,0,0,0,1879,1800,48.99,60.776504668137157,0,10684594,60.77650466813715,0,null,null,0,60.776504668137157,0,0,45000,45000,10729594,0,10729594,null,18737690,106.58442461689296,null,-224497,45000,1238076.9539000001,7.0424753404964449,null,0]
[625,"BRIDGEWATER RAYNHAM          ",1,49690981,20536596,51489038,31121472,20367566,0,39.549999999999997,20363915,0,0,1798057,711131.54349999991,0,5317,5407,34.549999999999997,39.885375213263842,0,20536596,39.885375213263842,0,null,null,0,39.885375213263842,0,0,135175,135175,20671771,0,20671771,null,51793243,100.59081507795892,null,1798057,135175,307856.47100000083,0.59790682241917636,null,0]
[632,"CHESTERFIELD GOSHEN",1,1269753,730880,1290268,781591,508677,0,39.39,508237,0,0,20515,8080.8585000000003,0,146,136,34.39,56.645596108715402,0,730880,56.645596108715395,0,null,null,0,56.645596108715402,0,0,3400,3400,734280,0,734280,null,1515871,117.48497211432044,null,20515,3400,226043.43479999999,17.519107255236904,null,0]
[635,"CENTRAL BERKSHIRE            ",1,16974405,8498034,16927679,10475256,6452423,0,37.65,6373271,0,0,0,0,0,1732,1701,32.65,50.202003476081977,0,8498034,50.202003476081984,0,null,null,0,50.202003476081977,0,0,42525,42525,8540559,0,8540559,null,19015815,112.33563089186651,null,-46726,42525,2167287.8564999998,12.803219251144824,null,0]
[640,"CONCORD CARLISLE             ",1,13172186,2020931,13659882,11269403,2390479,369548,17.5,2390479,0,0,487696,85346.799999999988,0,1283,1301,12.5,17.499997437752391,0,2390479,17.499997437752391,1,null,null,0,17.499997437752391,0,0,32525,0,2390479,0,2390479,null,13659882,100,null,487696,369548,-0.34999999962747097,-2.5622476087505675E-6,null,0]
[645,"DENNIS YARMOUTH              ",1,34668834,6718014,35460503,29254915,6205588,0,17.5,6205588,0,0,791669,138542.07499999998,0,3469,3409,12.5,18.945061213598692,0,6718014,18.945061213598692,0,null,null,0,18.945061213598692,0,0,85225,85225,6803239,0,6803239,null,36058154,101.68539910446279,null,791669,85225,597650.97500000056,1.685399033961815,null,0]
[650,"DIGHTON REHOBOTH             ",1,28150365,12463021,28723483,17596516,11126967,0,38.729999999999997,11124605,0,0,573118,221968.60139999999,0,2914,2929,33.729999999999997,43.389657862871296,0,12463021,43.389657862871296,0,null,null,0,43.389657862871296,0,0,73225,73225,12536246,0,12536246,null,30132762,104.90636529003116,null,573118,73225,1411641.0340999998,4.9145886454647609,null,0]
[655,"DOVER SHERBORN               ",1,11333898,1629376,11580014,9553511,2026503,397127,17.5,2026502,0,0,246116,43070.299999999996,0,1203,1208,12.5,17.500004749562478,0,2026503,17.500004749562478,1,null,null,0,17.500004749562478,0,0,30200,0,2026503,0,2026503,null,11580014,100,null,246116,397127,0.55000000004656613,4.7495624784232859E-6,null,0]
[658,"DUDLEY CHARLTON              ",1,36713400,23842023,37460711,14629068,22831643,0,54.11,20269991,0,0,747311,404369.98210000002,0,3895,3870,49.11,63.645409720066446,0,23842023,63.645409720066446,0,null,null,0,63.645409720066446,0,0,96750,96750,23938773,0,23938773,null,38567841,102.95544310410979,null,747311,96750,3668782.2778999992,9.7936803118873001,null,0]
[660,"NAUSET                       ",1,12650853,3321529,12867301,10615523,2251778,0,17.5,2251778,0,0,216448,37878.399999999994,0,1301,1273,12.5,25.813719598228097,0,3321529,25.813719598228097,0,null,null,0,25.813719598228097,0,0,31825,31825,3353354,0,3353354,null,13968877,108.56104943841758,null,216448,31825,1101576.3250000002,8.5610519641997946,null,0]
[662,"FARMINGTON RIVER",1,2333265,407070,2496034,2059228,436806,29736,17.5,436806,0,0,162769,28484.574999999997,0,243,254,12.5,17.50000200317784,0,436806,17.50000200317784,1,null,null,0,17.50000200317784,0,0,6350,0,436806,0,436806,null,2496034,100,null,162769,29736,5.0000000046566129E-2,2.0031778404927536E-6,null,0]
[665,"FREETOWN LAKEVILLE           ",1,26295108,10623488,25836232,17254031,8582201,0,33.22,8582796,0,0,0,0,0,2854,2760,28.22,41.118565586498832,0,10623488,41.118565586498839,0,null,null,0,41.118565586498832,0,0,69000,69000,10692488,0,10692488,null,27946519,108.16793640806446,null,-458876,69000,2109691.7295999993,8.1656323940735618,null,0]
[670,"FRONTIER                     ",1,5716411,2758445,5662972,4652935,1010037,0,17.850000000000001,1010841,0,0,0,0,0,576,566,12.850000000000001,48.710200227018603,0,2758445,48.710200227018603,0,null,null,0,48.710200227018603,0,0,14150,14150,2772595,0,2772595,null,7425530,131.12425772191705,null,-53439,14150,1761754.4979999999,31.110069023827059,null,0]
[672,"GATEWAY                      ",1,10475106,5507624,9565466,5418570,4146896,0,43.16,4128455,0,0,0,0,0,1066,950,38.159999999999997,57.578208944551157,0,5507624,57.578208944551157,0,null,null,0,57.578208944551157,0,0,23750,23750,5531374,0,5531374,null,10949944,114.47371199688546,null,-909640,23750,1402918.8744000001,14.666497945839751,null,0]
[673,"GROTON DUNSTABLE             ",1,23421974,10513273,23366261,18923995,4442266,0,19.010000000000002,4441926,0,0,0,0,0,2552,2496,14.010000000000002,44.993390256147528,0,10513273,44.993390256147528,0,null,null,0,44.993390256147528,0,0,62400,62400,10575673,0,10575673,null,29499668,126.24898780339738,null,-55713,62400,6133746.7838999992,26.250441968015334,null,0]
[674,"GILL MONTAGUE                ",1,11383341,6065444,11391876,6019203,5372673,0,46.93,5346207,0,0,8535,4005.4755,0,1098,1089,41.93,53.243592187976759,0,6065444,53.243592187976766,0,null,null,0,53.243592187976759,0,0,27225,27225,6092669,0,6092669,null,12111872,106.32025840168906,null,8535,27225,746461.5932,6.5525782864911761,null,0]
[675,"HAMILTON WENHAM              ",1,15726746,3413341,16707535,13783717,2923818,0,17.5,2923819,0,0,980789,171638.07499999998,0,1717,1785,12.5,20.429949720290875,0,3413341,20.429949720290875,0,null,null,0,20.429949720290875,0,0,44625,44625,3457966,0,3457966,null,17241683,103.19704851733066,null,980789,44625,534147.375,3.1970447765035388,null,0]
[680,"HAMPDEN WILBRAHAM            ",1,30372595,11405264,29954423,20646727,9307696,0,31.07,9306839,0,0,0,0,0,3252,3142,26.07,38.075392071481396,0,11405264,38.075392071481396,0,null,null,0,38.075392071481396,0,0,78550,78550,11483814,0,11483814,null,32130541,107.26476353759176,null,-418172,78550,2176974.7739000004,7.2676237959916676,null,0]
[683,"HAMPSHIRE                    ",1,7159547,3151983,7223607,4761268,2462339,0,34.07,2461083,0,0,64060,21825.241999999998,0,750,734,29.07,43.634475131329822,0,3151983,43.634475131329822,0,null,null,0,43.634475131329822,0,0,18350,18350,3170333,0,3170333,null,7931601,109.80111459551993,null,64060,18350,709250.09510000004,9.8185033474274022,null,0]
[685,"HAWLEMONT                    ",1,933646,612202,950854,518351,432503,0,44.12,419517,0,0,17208,7592.1695999999993,0,95,93,39.119999999999997,64.384437568753981,0,612202,64.384437568753981,0,null,null,0,64.384437568753981,0,0,2325,2325,614527,0,614527,null,1132878,119.14321231230031,null,17208,2325,195010.21520000004,20.508954602914862,null,0]
[690,"KING PHILIP                  ",1,20668060,7224100,20796265,16095776,4700489,0,20.92,4350579,0,0,128205,26820.486000000004,0,2195,2174,15.920000000000002,34.737487717145363,0,7224100,34.737487717145363,0,null,null,0,34.737487717145363,0,0,54350,54350,7278450,0,7278450,null,23374226,112.39626923392254,null,128205,54350,2927871.3619999997,14.078832723087537,null,0]
[695,"LINCOLN SUDBURY              ",1,17538177,2820121.1578124999,17586404,14508783,3077621,257499.84218750009,17.5,3077621,0,0,48227,8439.7250000000004,0,1701,1676,12.5,17.500001705863234,0,3077621,17.500001705863234,1,null,null,0,17.500001705863234,0,76517.4140625,41900,0,3077621,0,3077621,null,17586404,100,null,48227,257499.84218750009,0.30000000027939677,1.7058632337807467E-6,null,0]
[698,"MANCHESTER ESSEX",1,13572189,2813718,13636380,11250014,2386366,0,17.5,2386367,0,0,64191,11233.424999999999,0,1481,1458,12.5,20.633907239311313,0,2813718,20.633907239311313,0,null,null,0,20.633907239311313,0,0,36450,36450,2850168,0,2850168,null,14100182,103.40121058521396,null,64191,36450,463801.5,3.4012069185516971,null,0]
[700,"MARTHAS VINEYARD             ",1,8168795,2756975,8315537,6768578,1546959,0,{"$f":"ROUND(100-SUMIF(fraclea,A393,memeffpct),2)","v":17.5},1455219,0,0,146742,25679.85,0,734,730,12.5,33.154503431347848,0,2756975,33.154503431347848,0,null,null,0,33.154503431347848,0,0,18250,18250,2775225,0,2775225,null,9543803,114.77073579252909,null,146742,18250,1320006.0250000001,15.873972119900372,null,0]
[705,"MASCONOMET                   ",1,{"$f":"VLOOKUP(A394, disthist, 35, FALSE)","v":19907859},{"$f":"VLOOKUP(A394, disthist, 37, FALSE)*(1-$E$6)","v":4875399},{"$f":"SUMIF(dist1755,A394,found1755)","v":19398726},{"$f":"SUMIF(dist1755,A394,prelcont1755)","v":16003949},{"$f":"ROUND(MAX(found-prelcont436,0),0)","v":3394777},{"$f":"IF(foundaid>priorc70,foundaid-priorc70,0)","v":0},17.489999999999998,{"$f":"ROUND(J394/100*F394,0)","v":3392837},{"$f":"ROUND(IF(K394>priorc70,L$6*(K394-priorc70),0),0)","v":0},{"$f":"IF(L394>I394,L394-I394,0)","v":0},{"$f":"MAX(F394-D394,0)","v":0},{"$f":"(J394/100)*N394","v":0},{"$f":"IF(P$6=\"no\",0,ROUND(MAX(O394-foundinc-downaid,0),0))","v":0},2092,{"$f":"SUMIF(dist1755,A394,enro1755)","v":2013},{"$f":"J394-$S$6","v":12.489999999999998},{"$f":"IF(F394=0, 0, ((priorc70+foundinc+downaid+growthaid+targaid)/found*100))","v":25.132573139081398},{"$f":"IF(AND(T394>0, S394>T394,$S$5= \"yes\"), (((S394/100)*found)-(priorc70+foundinc+downaid+growthaid+minaid)), 0)","v":0},{"$f":"priorc70+foundinc+downaid+growthaid","v":4875399},{"$f":"IF(F394>0,V394*100/F394,0)","v":25.132573139081401},{"$f":"IF(AND(C394=1,I394>0),1,0)","v":0},null,null,{"$f":"IF(found>0, SUMIF(ceylea, A394, ceyproptotal)/found, 0)","v":0},{"$f":"IF(found>0, prelimc70/found*100, 0)","v":25.132573139081398},{"$f":"IF(AND(nonop=1, J394>AB394, AA394<ceyperc), targaidperc*(((J394/100)*found)-prelimc70), 0)","v":0},0,{"$f":"IF(nonop=1,enro*$AE$6,0)","v":50325},{"$f":"IF(AND(nonop=1,(prelimc70+targaid)-priorc70<AE394),AE394-(prelimc70+targaid-priorc70),0)","v":50325},{"$f":"priorc70+foundinc+downaid+U394+growthaid+targaid+minaid","v":4925724},{"$f":"IF(AND(C394=0,AG394>found),AG394-found,0)","v":0},{"$f":"AG394-rednonop","v":4925724},null,{"$f":"prelcont436+chapter70","v":20929673},{"$f":"IF(found>0,AK394*100/found,0)","v":107.89199764974256},null,{"$f":"F394-D394","v":-509133},{"$f":"AI394-E394","v":50325},1532886.8226000005,{"$f":"IF(C394=1, (AI394/F394*100)-J394, \"\")","v":7.9019973919936817},null,{"$f":"VLOOKUP(A394, disthist, 37, FALSE)*$E$6","v":0}]
[710,"MENDON UPTON                 ",1,21900366,12074206,21475634,12907063,8568571,0,34.81,7475668,0,0,0,0,0,2375,2295,29.810000000000002,56.222815121546589,0,12074206,56.222815121546589,0,null,null,0,56.222815121546589,0,0,57375,57375,12131581,0,12131581,null,25038644,116.59094208813579,null,-424732,57375,{"$f":"AI395-((J395/100)*F395)","v":4655912.8045999995},21.679978363386148,null,0]
[712,"MONOMOY",1,17618966,2708296,18464076,15232863,3231213,522917,17.5,3231213,0,0,845110,147894.25,0,1863,1874,12.5,17.499998375223324,0,3231213,17.499998375223324,1,null,null,0,17.499998375223324,0,0,46850,0,3231213,0,3231213,null,18464076,100,null,845110,522917,-0.29999999981373549,-1.6247766758681337E-6,null,0]
[715,"MOUNT GREYLOCK               ",1,5049227,1693808,4887694,3703174,1184520,0,24.23,1184288,0,0,0,0,0,516,487,19.23,34.65454261252853,0,1693808,34.654542612528523,0,null,null,0,34.65454261252853,0,0,12175,12175,1705983,0,1705983,null,5409157,110.66889621158771,null,-161533,12175,521694.74379999982,10.673637584513269,null,0]
[717,"MOHAWK TRAIL                 ",1,9300413,5897844,9310511,6391878,2918633,0,31.26,2910466,0,0,10098,3156.6347999999998,0,944,938,26.26,63.346082723064292,0,5897844,63.346082723064285,0,null,null,0,63.346082723064292,0,0,23450,23450,5921294,0,5921294,null,12313172,132.25022772649106,null,10098,23450,3010828.2614000002,32.33794859809521,null,0]
[720,"NARRAGANSETT                 ",1,12841231,9731269,13170587,5111461,8059126,0,58.44,7696891,0,0,329356,192475.6464,0,1309,1311,53.44,73.886372718239514,0,9731269,73.886372718239514,0,null,null,0,73.886372718239514,0,0,32775,32775,9764044,0,9764044,null,14875505,112.94489000376369,null,329356,32775,2067152.9572000001,15.695222674585423,null,0]
[725,"NASHOBA                      ",1,29833754,6492305.0653249994,30925691,24340060,6585631,93325.934675000608,21.29,6584080,0,0,1091937,232473.38729999997,0,3225,3277,16.29,21.295016496155252,0,6585631,21.295016496155252,1,null,null,0,21.295016496155252,0,0,81925,0,6585631,0,6585631,null,30925691,100,null,1091937,93325.934675000608,1551.3861000007018,5.0164961552532361E-3,null,0]
[728,"NEW SALEM WENDELL            ",1,1217420,631982,1255062,690657,564405,0,44.97,564401,0,0,37642,16927.607400000001,0,119,121,39.97,50.354643834328506,0,631982,50.354643834328506,0,null,null,0,50.354643834328506,0,0,3025,3025,635007,0,635007,null,1325664,105.62537946332532,null,37642,3025,70605.618600000045,5.6256677837429621,null,0]
[730,"NORTHBORO SOUTHBORO          ",1,14903362,2914613.6458749999,15041278,12267933,2773345,0,18.43,2772108,0,0,137916,25417.918799999999,0,1508,1492,13.43,19.377433525761571,0,2914613.6458749999,19.377433525761571,0,null,null,0,19.377433525761571,0,25838.355706249946,37300,37300,2951913.6458749999,0,2951913.6458749999,null,15219846.645874999,101.18719064879326,null,137916,37300,179806.11047499999,1.1954177728448343,null,0]
[735,"NORTH MIDDLESEX              ",1,32881223,19840443,32371795,16847833,15523962,0,47.58,15402500,0,0,0,0,0,3551,3422,42.58,61.289289024596869,0,19840443,61.289289024596876,0,null,null,0,61.289289024596869,0,0,85550,85550,19925993,0,19925993,null,36773826,113.59835313426395,null,-509428,85550,4523492.9389999993,13.973562290876984,null,0]
[740,"OLD ROCHESTER                ",1,10659228,2382613.4918999998,11419777,8630880,2788897,406283.50810000021,24.42,2788710,0,0,760549,185726.06580000001,0,1132,1180,19.420000000000002,24.421641508411241,0,2788897,24.421641508411241,1,null,null,0,24.421641508411241,0,113273.87670000002,29500,0,2788897,0,2788897,null,11419777,100,null,760549,406283.50810000021,187.45659999968484,1.6415084112395562E-3,null,0]
[745,"PENTUCKET                    ",1,24290785,12770527,23602673,15804866,7797807,0,33.04,7798323,0,0,0,0,0,2674,2573,28.04,54.106274319014638,0,12770527,54.106274319014631,0,null,null,0,54.106274319014638,0,0,64325,64325,12834852,0,12834852,null,28639718,121.34099387810863,null,-688112,64325,5036528.8408000004,21.338807010544947,null,0]
[750,"PIONEER                      ",1,7816227,4048786,7481050,4712640,2768410,0,36.979999999999997,2766492,0,0,0,0,0,802,751,31.979999999999997,54.120557943069493,0,4048786,54.120557943069485,0,null,null,0,54.120557943069493,0,0,18775,18775,4067561,0,4067561,null,8780201,117.36589115164315,null,-335177,18775,1301068.7100000004,17.391525387479028,null,0]
[753,"QUABBIN                      ",1,21722178,16286563,22051647,9830630,12221017,0,54.46,12009327,0,0,329469,179428.8174,0,2266,2219,49.46,73.85644709440524,0,16286563,73.85644709440524,0,null,null,0,73.85644709440524,0,0,55475,55475,16342038,0,16342038,null,26172668,118.68804175942051,null,329469,55475,4332711.0438000001,19.648015605364982,null,0]
[755,"RALPH C MAHAR                ",1,7705540,5322215,7640717,2772067,4868650,0,63.72,4868665,0,0,0,0,0,721,699,58.72,69.655962915522196,0,5322215,69.655962915522196,0,null,null,0,69.655962915522196,0,0,17475,17475,5339690,0,5339690,null,8111757,106.16486646475717,null,-64823,17475,471025.12760000024,6.1646718181029456,null,0]
[760,"SILVER LAKE                  ",1,18899966,7617506.5369499996,19669150,11990396,7678754,61247.46305000037,38.93,7657200,0,0,769184,299443.33119999996,0,1826,1858,33.93,39.039582290032868,0,7678754,39.039582290032868,1,null,null,0,39.039582290032868,0,111993.5369500001,46450,0,7678754,0,7678754,null,19669150,100,null,769184,61247.46305000037,21553.905000000261,0.10958229003286846,null,0]
[763,"SOMERSET BERKLEY",1,10050573,3820117.8262999998,9594365,5901343,3693022,0,37.69,3616116,0,0,0,0,0,979,922,32.69,39.816265342208681,0,3820117.8262999998,39.816265342208681,0,null,null,0,39.816265342208681,0,13386.015075000003,23050,23050,3843167.8262999998,0,3843167.8262999998,null,9744510.8262999989,101.56493760973237,null,-456208,23050,227051.65780000016,2.3665105277941763,null,0]
[765,"SOUTHERN BERKSHIRE           ",1,7132076,1869396,7553559,6128718,1424841,0,17.5,1321873,0,0,421483,73759.524999999994,0,772,754,12.5,24.748545685550347,0,1869396,24.748545685550347,0,null,null,0,24.748545685550347,0,0,18850,18850,1888246,0,1888246,null,8016964,106.1349226238916,null,421483,18850,566373.17500000005,7.4980969235826436,null,0]
[766,"SOUTHWICK TOLLAND GRANVILLE",1,16539210,9588623,16275297,10235762,6039535,0,35.75,5818419,0,0,0,0,0,1672,1611,30.75,58.915195218864511,0,9588623,58.915195218864518,0,null,null,0,58.915195218864511,0,0,40275,40275,9628898,0,9628898,null,19864660,122.05405529619522,null,-263913,40275,3810479.3225000007,23.412656140775802,null,0]
[767,"SPENCER EAST BROOKFIELD      ",1,19886690,13412164,19202300,7237563,11964737,0,56.36,10822416,0,0,0,0,0,1931,1819,51.36,69.846653786265193,0,13412164,69.846653786265193,0,null,null,0,69.846653786265193,0,0,45475,45475,13457639,0,13457639,null,20695202,107.77459991771819,null,-684390,45475,2635222.7200000007,13.723474375465443,null,0]
[770,"TANTASQUA                    ",1,17582598,7701145.309475,18183142,9713445,8469697,768551.69052499998,46.58,8469708,0,0,600544,279733.39519999997,0,1599,1610,41.58,46.579942014421931,0,8469697,46.579942014421931,1,null,null,0,46.579942014421931,0,55506.309475000016,40250,0,8469697,0,8469697,null,18183142,100,null,600544,768551.69052499998,-10.543600000441074,-5.7985578067132337E-5,null,0]
[773,"TRITON                       ",1,25789437,8362546,25722812,20982390,4740422,0,18.440000000000001,4743287,0,0,0,0,0,2678,2627,13.440000000000001,32.510232551557735,0,8362546,32.510232551557735,0,null,null,0,32.510232551557735,0,0,65675,65675,8428221,0,8428221,null,29410611,114.33668682879616,null,-66625,65675,3684934.4671999998,14.32555067152067,null,0]
[774,"UPISLAND",1,3060576,812797,3393222,2770077,623145,0,17.5,593814,0,0,332646,58213.049999999996,0,349,365,12.5,23.953546216545806,0,812797,23.953546216545806,0,null,null,0,23.953546216545806,0,0,9125,9125,821922,0,821922,null,3591999,105.85806056898134,null,332646,9125,228108.15000000002,6.7224646663259868,null,0]
[775,"WACHUSETT                    ",1,63713837,24988919.504425,65656785,39146180,26510605,1521685.4955749996,40.35,26492513,0,0,1942948,783979.51800000004,0,7064,7052,35.35,40.37755580021166,0,26510605,40.37755580021166,1,null,null,0,40.37755580021166,0,430762.24942500051,176300,0,26510605,0,26510605,null,65656785,100,null,1942948,1521685.4955749996,18092.252499997616,2.7555800211658266E-2,null,0]
[778,"QUABOAG",1,13203478,8512186,13357209,4985319,8371890,0,61.19,8173276,0,0,153731,94067.998900000006,0,1296,1277,56.19,63.727280152612721,0,8512186,63.727280152612721,0,null,null,0,63.727280152612721,0,0,31925,31925,8544111,0,8544111,null,13529430,101.28934869552464,null,153731,31925,370834.81290000025,2.7762896642554651,null,0]
[780,"WHITMAN HANSON               ",1,38173063,24120485,38322360,16147370,22174990,0,51.86,19873976,0,0,149297,77425.424199999994,0,4067,3964,46.86,62.941021899486358,0,24120485,62.941021899486358,0,null,null,0,62.941021899486358,0,0,99100,99100,24219585,0,24219585,null,40366955,105.33525336122305,null,149297,99100,4345609.1040000021,11.339617664465344,null,0]
[801,"ASSABET VALLEY               ",1,11767240,3884226.0669062501,12473207,7855127,4618080,733853.93309374992,37.04,4620076,0,0,705967,261490.17680000002,0,715,743,32.04,37.023998719816007,0,4618080,37.023998719815999,1,null,null,0,37.023998719816007,0,85151.117031250149,18575,0,4618080,0,4618080,null,12473207,100,null,705967,733853.93309374992,-1995.8728000000119,-1.6001280183992606E-2,null,0]
[805,"BLACKSTONE VALLEY            ",1,17695720,8056069,18218330,10130170,8088160,32091,42.39,7722750,0,0,522610,221534.37899999999,0,1186,1204,37.39,44.395726721384456,0,8088160,44.395726721384449,1,null,null,0,44.395726721384456,0,0,30100,0,8088160,0,8088160,null,18218330,100,null,522610,32091,365409.91299999971,2.0057267213844554,null,0]
[806,"BLUE HILLS                   ",1,13656513,4130304.1981125004,14060446,9479299,4581147,450842.80188749963,32.590000000000003,4582299,0,0,403933,131641.7647,0,859,870,27.590000000000003,32.581804304073998,0,4581147,32.581804304073998,1,null,null,0,32.581804304073998,0,75964.597562500159,21750,0,4581147,0,4581147,null,14060446,100,null,403933,450842.80188749963,-1152.3514000000432,-8.1956959260054418E-3,null,0]
[810,"BRISTOL PLYMOUTH             ",1,19738678,10595527.050000001,20776046,9722828,11053218,457690.94999999925,52.99,11009227,0,0,1037368,549701.30320000008,0,1309,1346,47.99,53.201740119366313,0,11053218,53.201740119366313,1,null,null,0,53.201740119366313,0,28349.049999999814,33650,0,11053218,0,11053218,null,20776046,100,null,1037368,457690.94999999925,43991.224599998444,0.21174011936631132,null,0]
[815,"CAPE COD                     ",1,10012278,2080187,10180996,8399322,1781674,0,17.5,1781674,0,0,168718,29525.649999999998,0,654,652,12.5,20.432057924391682,0,2080187,20.432057924391682,0,null,null,0,20.432057924391682,0,0,16300,16300,2096487,0,2096487,null,10495809,103.09216308502626,null,168718,16300,314812.70000000019,3.0921601383597448,null,0]
[817,"ESSEX NORTH SHORE",1,10537063,3060544.19536875,12253746,9238021,3015725,0,{"$f":"ROUND(100-SUMIF(fraclea,A425,memeffpct),2)","v":24.61},3015647,0,0,1716683,422475.6863,0,677,789,19.61,24.97639656778221,0,3060544.19536875,24.976396567782214,0,null,null,0,24.97639656778221,0,54799.838843750011,19725,19725,3080269.19536875,0,3080269.19536875,null,12318290.19536875,100.52673031878375,null,1716683,19725,64622.304768749978,0.5273677516144879,null,0]
[818,"FRANKLIN COUNTY              ",1,7425790,3437610.8843999999,7597275,4112775,3484500,46889.115600000136,45.82,3481071,0,0,171485,78574.426999999996,0,476,478,40.82,45.865129273324975,0,3484500,45.865129273324975,1,null,null,0,45.865129273324975,0,17911.884399999981,11950,0,3484500,0,3484500,null,7597275,100,null,171485,46889.115600000136,3428.5950000002049,4.5129273324974406E-2,null,0]
[821,"GREATER FALL RIVER           ",1,22550978,15181818,23275199,7434143,15841056,659238,62.23,14484156,0,0,724221,450682.72829999996,0,1469,1474,57.23,68.059809069731259,0,15841056,68.059809069731259,1,null,null,0,68.059809069731259,0,0,36850,0,15841056,0,15841056,null,23275199,100,null,724221,659238,1356899.6623,5.8298090697312617,null,0]
[823,"GREATER LAWRENCE             ",1,25639135,21192544,25953903,4441318,21512585,320041,76.97,19976719,0,0,314768,242276.92959999997,0,1486,1490,71.97,82.887668186168369,0,21512585,82.887668186168383,1,null,null,0,82.887668186168369,0,0,37250,0,21512585,0,21512585,null,25953903,100,null,314768,320041,1535865.8608999997,5.9176681861683704,null,0]
[825,"GREATER NEW BEDFORD          ",1,33725633,24138401,34323634,9757574,24566060,427659,65.66,22536898,0,0,598001,392647.45659999998,0,2149,2143,60.66,71.571850463153169,0,24566060,71.571850463153169,1,null,null,0,71.571850463153169,0,0,53575,0,24566060,0,24566060,null,34323634,100,null,598001,427659,2029161.9156000018,5.9118504631531721,null,0]
[828,"GREATER LOWELL               ",1,34545660,23685627,34992565,11408762,23583803,0,65.319999999999993,22857143,0,0,446905,291918.34599999996,0,2190,2195,60.319999999999993,67.68759877991225,0,23685627,67.68759877991225,0,null,null,0,67.68759877991225,0,0,54875,54875,23740502,0,23740502,null,35149264,100.44780655547828,null,446905,54875,883358.54200000316,2.5244178070398817,null,0]
[829,"SOUTH MIDDLESEX              ",1,11573926,3818290.5708499998,11914131,7607708,4306423,488132.42915000021,36.15,4306958,0,0,340205,122984.1075,0,696,705,31.15,36.145506541769599,0,4306423,36.145506541769599,1,null,null,0,36.145506541769599,0,132805.57085000002,17625,0,4306423,0,4306423,null,11914131,100,null,340205,488132.42915000021,-535.35649999976158,-4.493458230399483E-3,null,0]
[830,"MINUTEMAN                    ",1,7154168,2166677,7012158,5582320,1429838,0,18.88,1323895,0,0,0,0,0,431,414,13.879999999999999,30.898861662843309,0,2166677,30.898861662843306,0,null,null,0,30.898861662843309,0,0,10350,10350,2177027,0,2177027,null,7759347,110.65562127949769,null,-142010,10350,853131.56960000005,12.166462444229012,null,0]
[832,"MONTACHUSETT                 ",1,22098279,13800675,22705864,8787263,13918601,117926,59.07,13412354,0,0,607585,358900.4595,0,1467,1486,54.07,61.299587630754772,0,13918601,61.299587630754772,1,null,null,0,61.299587630754772,0,0,37150,0,13918601,0,13918601,null,22705864,100,null,607585,117926,506247.13519999944,2.2295876307547715,null,0]
[851,"NORTHERN BERKSHIRE           ",1,7193835,4629241,7377904,2773291,4604613,0,60.8,4485766,0,0,184069,111913.95199999999,0,472,475,55.8,62.744662982874267,0,4629241,62.744662982874267,0,null,null,0,62.744662982874267,0,0,11875,11875,4641116,0,4641116,null,7414407,100.49476111372553,null,184069,11875,155350.36799999978,2.1056165545119612,null,0]
[852,"NASHOBA VALLEY               ",1,10305011,3602853.8408499998,10872297,7096274,3776023,173169.1591500002,34.56,3757466,0,0,567286,196054.0416,0,667,704,29.560000000000002,34.73068294583932,0,3776023,34.73068294583932,1,null,null,0,34.73068294583932,0,0,17600,0,3776023,0,3776023,null,10872297,100,null,567286,173169.1591500002,18557.156799999997,0.17068294583931731,null,0]
[853,"NORTHEAST METROPOLITAN       ",1,20104161,8609863,20386925,11543941,8842984,233121,42.39,8642018,0,0,282764,119863.6596,0,1232,1233,37.39,43.375761670776733,0,8842984,43.375761670776733,1,null,null,0,43.375761670776733,0,20536.316074999981,30825,0,8842984,0,8842984,null,20386925,100,null,282764,233121,200966.4924999997,0.98576167077673205,null,0]
[855,"OLD COLONY                   ",1,7268292,3203704,7329579,4462136,2867443,0,39.119999999999997,2867331,0,0,61287,23975.474399999999,0,489,479,34.119999999999997,43.709249876425375,0,3203704,43.709249876425375,0,null,null,0,43.709249876425375,0,0,11975,11975,3215679,0,3215679,null,7677815,104.75110507711288,null,61287,11975,348347.69519999996,4.7526289736422811,null,0]
[860,"PATHFINDER                   ",1,8740342,5376309.7480999995,9330426,4057557,5272869,0,56.42,5264226,0,0,590084,332925.39280000003,0,566,588,51.42,57.621267754548391,0,5376309.7480999995,57.621267754548391,0,null,null,0,57.621267754548391,0,8539.748099999968,14700,14700,5391009.7480999995,0,5391009.7480999995,null,9448566.7480999995,101.26618814725072,null,590084,14700,126783.39889999945,1.3588168310857327,null,0]
[871,"SHAWSHEEN VALLEY             ",1,20894661,6241110.7275124993,20905729,14925066,5980663,0,28.61,5981129,0,0,11068,3166.5548000000003,0,1397,1389,23.61,29.853590503887713,0,6241110.7275124993,29.853590503887709,0,null,null,0,29.853590503887713,0,46659.932962499792,34725,34725,6275835.7275124993,0,6275835.7275124993,null,21200901.727512501,101.41192267206993,null,11068,34725,294706.66061249934,1.4096932980069674,null,0]
[872,"SOUTHEASTERN                 ",1,21227292,13500708,22565360,8125468,14439892,939184,62.54,14112376,0,0,1338068,836827.72719999996,0,1356,1416,57.54,63.991409842342421,0,14439892,63.991409842342421,1,null,null,0,63.991409842342421,0,0,35400,0,14439892,0,14439892,null,22565360,100,null,1338068,939184,327515.85600000061,1.4514098423424215,null,0]
[873,"SOUTH SHORE                  ",1,8975128,3866773,9246000,5130511,4115489,248716,42.61,3939721,0,0,270872,115418.55919999999,0,594,588,37.61,44.51102098204629,0,4115489,44.51102098204629,1,null,null,0,44.51102098204629,0,0,14700,0,4115489,0,4115489,null,9246000,100,null,270872,248716,175768.40000000037,1.9010209820462904,null,0]
[876,"SOUTHERN WORCESTER           ",1,17132815,9852087,17642332,7421624,10220708,368621,55.39,9772088,0,0,509517,282221.46630000003,0,1131,1148,50.39,57.932862843755572,0,10220708,57.932862843755579,1,null,null,0,57.932862843755572,0,0,28700,0,10220708,0,10220708,null,17642332,100,null,509517,368621,448620.30519999936,2.5428628437555716,null,0]
[878,"TRI COUNTY                   ",1,15102844,5553893,15108183,9985261,5122922,0,32.74,4946419,0,0,5339,1747.9886000000001,0,975,954,27.740000000000002,36.760826897582589,0,5553893,36.760826897582589,0,null,null,0,36.760826897582589,0,0,23850,23850,5577743,0,5577743,null,15563004,103.01042818980946,null,5339,23850,631323.88579999935,4.178688369077868,null,0]
[879,"UPPER CAPE COD               ",1,10314759,2909460,11054587,8171496,2883091,0,26.07,2881931,0,0,739828,192873.15959999998,0,703,722,21.07,26.319029376674134,0,2909460,26.319029376674134,0,null,null,0,26.319029376674134,0,0,18050,18050,2927510,0,2927510,null,11099006,100.40181510173107,null,739828,18050,45579.169100000057,0.41231001302898207,null,0]
[885,"WHITTIER                     ",1,17494788,8010858.9927000003,18310028,9735239,8574789,563930.00729999971,46.84,8576417,0,0,815240,381858.41600000003,0,1135,1169,41.84,46.831108068212671,0,8574789,46.831108068212679,1,null,null,0,46.831108068212671,0,66705.992700000061,29225,0,8574789,0,8574789,null,18310028,100,null,815240,563930.00729999971,-1628.1151999998838,-8.8919317873319415E-3,null,0]
[910,"BRISTOL COUNTY               ",1,5797631,2983352,5839373,3090017,2749356,0,45.7,2668593,0,0,41742,19076.094000000001,0,387,384,40.700000000000003,51.090279726950136,0,2983352,51.090279726950136,0,null,null,0,51.090279726950136,0,0,9600,9600,2992952,0,2992952,null,6082969,104.1716122604259,null,41742,9600,324358.53899999987,5.5546809392035783,null,0]
[915,"NORFOLK COUNTY               ",1,3937649,1119500.7805750002,4240624,3047333,1193291,73790.219424999785,27.64,1172108,0,0,302975,83742.289999999994,0,258,271,22.64,28.139514373356374,0,1193291,28.139514373356374,1,null,null,0,28.139514373356374,0,12531.760074999998,6775,0,1193291,0,1193291,null,4240624,100,null,302975,73790.219424999785,21182.52640000009,0.49951437335637294,null,0]
[999,"State Total",1,9866011313.0677662,{"$f":"VLOOKUP(A448, disthist, 37, FALSE)","v":4400335961.8829308},{"$f":"SUM(F10:F447)","v":10090177272.100754},5826426115,{"$f":"SUM(H10:H447)","v":4263751167},{"$f":"SUM(I10:I447)","v":145377081.95481998},null,{"$f":"SUM(K10:K447)","v":4136936886},0,0,247480591.81664005,110860443.03101288,0,940831,{"$f":"SUM(R10:R447)","v":942120},null,null,{"$f":"SUM(U10:U447)","v":0},4545713043.8377504,45.050873946552002,{"$f":"SUM(X10:X447)","v":134},null,null,null,null,{"$f":"SUM(AC10:AC447)","v":0},{"$f":"SUM(AD10:AD447)","v":16967131.562045749},null,{"$f":"SUM(AF10:AF447)","v":11008840.42075488},{"$f":"SUM(AG10:AG447)","v":4557221884.2585058},{"$f":"SUM(AH10:AH447)","v":71164.359999999986},{"$f":"SUM(AI10:AI447)","v":4557150719.8985062},null,{"$f":"SUM(AK10:AK447)","v":10383576834.898504},102.9077741142269,null,null,null,null,null,null,{"$f":"SUM(AS10:AS447)","v":0}]
[null,"State Total FY15",1,9711217584.8007889,4300854366.3566036,9866011313.0677662,5817618237,4048393088,73483128.805447862,null,4045081245,34003994,14542205.309161477,191870968.9234398,87802924.451959014,0,937604,940831,null,null,0,4388879700.4712124,44.484843582715506,59,null,null,null,null,0,16967131.562045749,null,11605151,4400486311.2629309,150349.38000000006,4400335961.8829308,null,10217954198.882931,103.56722564618397,null,null,null,{"$f":"SUMIF(AP10:AP447, \">0\")","v":420240805.35207939}]
[null,null,null,null,null,null,null,null,null,null,null,null,null,null,null,null,null,null,null,null,null,null,null,null,null,null,null,null,null,null,null,null,null,null,null,null,null,null,null,null,null,{"$f":"SUMIF(AP10:AP447, \"<0\")","v":-26970.104151635293}]
[null,null,null,null,null,null,null,null,null,null,null,null,null,null,null,null,null,null,null,null,null,null,null,null,null,null,null,null,{"$f":"COUNTIF(AC10:AC447, \">0\")","v":0},null,null,{"$f":"COUNTIF(AF10:AF447, \">0\")","v":190}]
[]
[]
[null,null,null,null,null,null,null,null,null,null,null,null,null,null,null,null,null,null,null,null,null,{"$f":"V448-V449","v":156833343.36653805}]
[null,null,null,null,null,null,null,null,{"$f":"COUNTIF(I10:I447,\">0\")","v":155}]

{"sheet":"Chart Base","index":14,"n_rows":339,"n_cols":48,"rows_kept":339,"cut":false,"hidden":false,"merged":[]}
[null,null,null,"disthist","disthist",null,null,null,null,null,null,null,null,null,null,null,"c70fy15",null,"new 10/30/2011",null,"new 10/30/2012"]
[]
[1,2,3,4,5,6,7,8,9,10,11,12,13,14,15,16,17,18,19,20,21,22,23,24,25,26,27,28,29,30,31,32,33,34,35,36,37,38]
[null,null,"nonop",null,"priorc70","found","prelcont436","foundaid","foundinc",null,null,null,"downaid",null,null,"growthaid",null,"enro","Target Aid Share Floor Calculation",null,null,"prelimc70","prelimc70perc",null,null,null,null,null,"targaid",null,null,"minaid",null,"rednonop","chapter70"]
[null,null,null,null,null,"Foundation Aid Calculation",null,null,null,null,null,"Downpayment Aid Calculation",null,"Growth Aid Calculation",null,null,null,null,"no",null,null,null,null,null,null,null,"Target Aid Calculation",null,null,null,"Minimum Aid Calculation"]
[null,null,null,null,0,null,null,null,null,null,null,0,null,null,null,"no",null,null,5,null,null,null,null,null,null,null,1.4,null,0,null,25]
[null,null,null,"foundation","chapter 70 ","foundation","required",null,null,"district","foundation aid","increase over FY15","down-payment",null,"target share",null,"foundation","foundation","target aid","prelim c70","target aid","prelim","prelim","operating dist",null,null,"CEY","C70","Target Aid","Target Aid",null,null,"c70 prior ",null,null,null,"required","nss "]
[null,null,null,"budget","FY15","budget","contribution","foundation","foundation","target aid","with effort","to reach","on full phase-in ","increase","times","growth","enrollment","enrollment","share","% of foundation","share","FY16","c70 pct of","foundation ",null,null,"% of FB","% of FB","Phase-In","Phase-In","Min Aid ","Addl Aid ","to non-op","non-op ","FY16",null,"nss","percent of",null,null,null,"Aid Comp'd","Distance from",null,"Base Aid",null,"Aid as % of ","Same"]
["LEA","District","Non-Op","FY15","base","FY16","FY16","aid","aid increase","percentage","fully reduced","full phase-in","of foundation aid","in foundation","increase","aid",15,16,"floor","budget","floor increase","chapter 70","foundation","aid?",null,null,"(Proportional)","Pre-Target Aid","FY15","FY14","Per Pupil","to Reach Min","reduction","reduction","Chapter 70",null,"FY16","foundation",null,"∆ in Foundation Budget","∆ in Aid","to Target","Aid Target",null,"Reduction",null,"Foundation","recomputed"]
[149,"LAWRENCE                     ",1,177176380.49999997,169171876,186136094.67000002,8507699,177628396,8456520,87.16,162236220,0,0,8959714.1700000465,7809286.8705720399,0,14714,15186,82.16,95.429312791222316,0,177628396,95.429312791222316,1,null,null,0.1430854894366895,95.429312791222316,0,0,379650,0,177628396,0,177628396,null,186136095,100.00000017728962,null,8959714.1700000465,8456520,15392175.885627985,8.269312791222319,null,0,null,{"$f":"ROUND(AI10/F10*100,2)","v":95.43},{"$f":"ROUND(AQ10+J10,2)","v":95.43}]
[281,"SPRINGFIELD                  ",1,337653427.27999997,301586519,345592031.43000001,36405937,309186094,7599575,83.2,287532570,0,0,7938604.1500000358,6604918.6528000301,0,28755,28970,78.2,89.465631693138718,0,309186094,89.465631693138718,1,null,null,0.16803015613443653,89.465631693138718,0,0,724250,0,309186094,0,309186094,null,345592031,99.999999875575838,null,7938604.1500000358,7599575,21653523.850239992,6.2656316931387153,null,0,null,{"$f":"ROUND(AI11/F11*100,2)","v":89.47},{"$f":"ROUND(AQ11+J11,2)","v":89.47}]
[57,"CHELSEA                      ",1,77392158.150499985,64490888,84321341.850099981,13967161,70354181,5863293,80.86,68182237,0,0,6929183.6995999962,5602937.9394965572,0,6557,6924,75.86,83.435793900280046,0,70354181,83.435793900280046,1,null,null,0.20535262054154935,83.435793900280046,0,0,173100,0,70354181,0,70354181,null,84321342,100.00000017777234,null,6929183.6995999962,5863293,2171943.9800091535,2.575793900280047,null,0,null,{"$f":"ROUND(AI12/F12*100,2)","v":83.44},{"$f":"ROUND(AQ12+J12,2)","v":83.44}]
[137,"HOLYOKE                      ",1,78698902.669999987,69785403,80596955.480000004,10055521,70541434,756031,78.930000000000007,63615177,0,0,1898052.8100000173,1498133.0829330138,0,6552,6639,73.930000000000007,87.52369562831035,0,70541434,87.52369562831035,1,null,null,0.21070273559171915,87.52369562831035,0,0,165975,0,70541434,0,70541434,null,80596955,99.999999404443997,null,1898052.8100000173,756031,6926257.0396359861,8.5936956283103427,null,0,null,{"$f":"ROUND(AI13/F13*100,2)","v":87.52},{"$f":"ROUND(AQ13+J13,2)","v":87.52}]
[44,"BROCKTON                     ",1,202656340.72,164865060,209479318.44,39438390,170040928,5175868,78.81,165090651,0,0,6822977.7199999988,5377188.7411319995,0,17469,17694,73.81,81.173134067029096,0,170040928,81.173134067029096,1,null,null,0.22073547260028259,81.173134067029096,0,0,442350,0,170040928,0,170040928,null,209479318,99.999999789955396,null,6822977.7199999988,5175868,4950277.1374360025,2.3631340670290939,null,0,null,{"$f":"ROUND(AI14/F14*100,2)","v":81.17},{"$f":"ROUND(AQ14+J14,2)","v":81.17}]
[823,"GREATER LAWRENCE             ",1,25639135,21192544,25953903,4514175,21439728,247184,76.97,19976719,0,0,314768,242276.92959999997,0,1486,1490,71.97,82.606951255077121,0,21439728,82.606951255077121,1,null,null,0,82.606951255077121,0,0,37250,0,21439728,0,21439728,null,25953903,100,null,314768,247184,1463008.8608999997,5.6369512550771219,null,0,null,{"$f":"ROUND(AI15/F15*100,2)","v":82.61},{"$f":"ROUND(AQ15+J15,2)","v":82.61}]
[201,"NEW BEDFORD                  ",1,146174509.68000001,123501948,149495329.88,24366967,125128363,1626415,76.23,113960290,0,0,3320820.1999999881,2531461.2384599913,0,13193,13211,71.23,83.700516330804859,0,125128363,83.700516330804859,1,null,null,0.26889487653159821,83.700516330804859,0,0,330275,0,125128363,0,125128363,null,149495330,100.00000008027007,null,3320820.1999999881,1626415,11168073.032475993,7.4705163308048554,null,0,null,{"$f":"ROUND(AI16/F16*100,2)","v":83.7},{"$f":"ROUND(AQ16+J16,2)","v":83.7}]
[163,"LYNN                         ",1,181764114.65000001,138630541,191949856.55000001,44587175,147362682,8732141,76.13,146131426,0,0,10185741.900000006,7754405.3084700042,0,15431,16036,71.13,76.771446797937188,0,147362682,76.771446797937188,1,null,null,0.23867572929426081,76.771446797937188,0,0,400900,0,147362682,0,147362682,null,191949857,100.00000023443621,null,10185741.900000006,8732141,1231256.2084850073,0.64144679793719206,null,0,null,{"$f":"ROUND(AI17/F17*100,2)","v":76.77},{"$f":"ROUND(AQ17+J17,2)","v":76.77}]
[160,"LOWELL                       ",1,176078571.80969998,135128765,177537953.73000002,43089941,134448013,0,73.22,129993290,0,0,1459381.9203000367,1068559.4420436868,0,15093,15300,68.22,76.112607000925564,0,135128765,76.112607000925578,0,null,null,0.28934864187122206,76.112607000925564,0,0,382500,382500,135511265,0,135511265,null,178601206,100.59888730700196,null,1459381.9203000367,382500,5517975.2788939923,3.1080538909926361,null,0,null,{"$f":"ROUND(AI18/F18*100,2)","v":76.33},{"$f":"ROUND(AQ18+J18,2)","v":76.33}]
[97,"FITCHBURG                    ",1,61364752.100000001,45409881,62363310.040000007,16662973,45700337,290456,73.02,45537689,0,0,998557.94000000507,729147.00778800366,0,5482,5491,68.02,73.280807209700185,0,45700337,73.280807209700185,1,null,null,0.31399979057409444,73.280807209700185,0,0,137275,0,45700337,0,45700337,null,62363310,99.999999935859705,null,998557.94000000507,290456,162648.00879199803,0.26080720970018945,null,0,null,{"$f":"ROUND(AI19/F19*100,2)","v":73.28},{"$f":"ROUND(AQ19+J19,2)","v":73.28}]
[95,"FALL RIVER                   ",1,126851512.44000001,102929032,130963260.19999999,25218449,105744811,2815779,73,95603180,0,0,4111747.7599999756,3001575.8647999819,0,11142,11317,68,80.743874914622822,0,105744811,80.743874914622822,1,null,null,0.29794425704375688,80.743874914622822,0,0,282925,0,105744811,0,105744811,null,130963260,99.999999847285423,null,4111747.7599999756,2815779,10141631.054000005,7.7438749146228218,null,0,null,{"$f":"ROUND(AI20/F20*100,2)","v":80.739999999999995},{"$f":"ROUND(AQ20+J20,2)","v":80.739999999999995}]
[277,"SOUTHBRIDGE                  ",1,26907889.430000003,19119369,27590853.959999993,7902804,19688050,568681,72.16,19909560,0,0,682964.52999999002,492827.20484799281,0,2432,2437,67.16,71.357160704568514,0,19688050,71.357160704568514,1,null,null,0.3762006902474595,71.357160704568514,0,88713.759480000474,60925,0,19688050,0,19688050,null,27590854,100.0000001449756,null,682964.52999999002,568681,-221510.21753599495,-0.80283929543148247,null,0,null,{"$f":"ROUND(AI21/F21*100,2)","v":71.36},{"$f":"ROUND(AQ21+J21,2)","v":71.36}]
[223,"ORANGE                       ",1,6225638.2200000016,5173729,6497667.1399999978,1883340,4614327,0,71.650000000000006,4655579,0,0,272028.9199999962,194908.72117999729,0,621,626,66.650000000000006,79.624408091794024,0,5173729,79.624408091794024,0,null,null,2.7077218939293153,79.624408091794024,0,0,15650,15650,5189379,0,5189379,null,7072719,108.85012801686857,null,272028.9199999962,15650,533800.49419000186,8.2152637660352781,null,0,null,{"$f":"ROUND(AI22/F22*100,2)","v":79.87},{"$f":"ROUND(AQ22+J22,2)","v":79.87}]
[93,"EVERETT                      ",1,85328324.66643998,60635188,89667949.965919986,25666047,64001903,3366715,71.05,63709078,0,0,4339625.2994800061,3083303.7752805445,0,7295,7490,66.05,71.37656545546669,0,64001903,71.37656545546669,1,null,null,0.28953981896393888,71.37656545546669,0,336062.30214338936,187250,0,64001903,0,64001903,null,89667950,100.0000000380069,null,4339625.2994800061,3366715,292824.54921384901,0.32656545546669236,null,0,null,{"$f":"ROUND(AI23/F23*100,2)","v":71.38},{"$f":"ROUND(AQ23+J23,2)","v":71.38}]
[348,"WORCESTER                    ",1,314854112.86000001,220569583,329468506.71999997,97927769,231540738,10971155,70.59,232571819,0,0,14614393.859999955,10316300.62577397,0,26874,27452,65.59,70.277047207056953,0,231540738,70.277047207056953,1,null,null,0.29413322373284473,70.277047207056953,0,0,686300,0,231540738,0,231540738,null,329468507,100.00000008498537,null,14614393.859999955,10971155,-1031080.8936479986,-0.31295279294305089,null,0,null,{"$f":"ROUND(AI24/F24*100,2)","v":70.28},{"$f":"ROUND(AQ24+J24,2)","v":70.28}]
[209,"NORTH ADAMS                  ",1,16417451.109999998,13556793,16664714.390000004,5074150,11590564,0,69.86,11641969,0,0,247263.28000000678,172738.12740800474,0,1554,1545,64.86,81.350287096039438,0,13556793,81.350287096039438,0,null,null,0.53810696725041118,81.350287096039438,0,0,38625,38625,13595418,0,13595418,null,18669568,112.03053087548292,null,247263.28000000678,38625,1953448.5271459967,11.722064245626697,null,0,null,{"$f":"ROUND(AI25/F25*100,2)","v":81.58},{"$f":"ROUND(AQ25+J25,2)","v":81.58}]
[615,"ATHOL ROYALSTON              ",1,17539155,17129715,17879139,2687482,15191657,0,68.05,12166754,0,0,339984,231359.11199999999,0,1719,1717,63.05,95.808388759660062,0,17129715,95.808388759660076,0,null,null,0,95.808388759660062,0,0,42925,42925,17172640,0,17172640,null,19860122,111.07985680965957,null,339984,42925,5005885.9104999993,27.998473027700044,null,0,null,{"$f":"ROUND(AI26/F26*100,2)","v":96.05},{"$f":"ROUND(AQ26+J26,2)","v":96.05}]
[343,"WINCHENDON                   ",1,14667673.109999999,11251885,14868534.459999999,4931923,9936611,0,67.739999999999995,10071945,0,0,200861.34999999963,136063.47848999975,0,1472,1458,62.739999999999995,75.675817480669181,0,11251885,75.675817480669181,0,null,null,0.59584798637930891,75.675817480669181,0,0,36450,36450,11288335,0,11288335,null,16220258,109.09116862617812,null,200861.34999999963,36450,1216389.7567960005,8.180966053301276,null,0,null,{"$f":"ROUND(AI27/F27*100,2)","v":75.92},{"$f":"ROUND(AQ27+J27,2)","v":75.92}]
[61,"CHICOPEE                     ",1,86339875.140000001,57250917,89726607.379999995,30214682,59511925,2261008,66.77,59910456,0,0,3386732.2399999946,2261321.1166479965,0,7757,7852,61.769999999999996,66.325838831687705,0,59511925,66.325838831687705,1,null,null,0.33226750537595107,66.325838831687705,0,0,196300,0,59511925,0,59511925,null,89726607,99.999999576491291,null,3386732.2399999946,2261008,-398530.7476259917,-0.44416116831229147,null,0,null,{"$f":"ROUND(AI28/F28*100,2)","v":66.33},{"$f":"ROUND(AQ28+J28,2)","v":66.33}]
[103,"GARDNER                      ",1,26236297.479999997,19023155,27133681.380000003,8111579,19022102,0,65.7,17826829,0,0,897383.90000000596,589581.22230000398,0,2470,2505,60.7,70.109008555034478,0,19023155,70.109008555034478,0,null,null,0.43297649959556689,70.109008555034478,0,0,62625,62625,19085780,0,19085780,null,27197359,100.23468109287572,null,897383.90000000596,62625,1258951.3333399966,4.6398102627826887,null,0,null,{"$f":"ROUND(AI29/F29*100,2)","v":70.34},{"$f":"ROUND(AQ29+J29,2)","v":70.34}]
[825,"GREATER NEW BEDFORD          ",1,33725633,24138401,34323634,9854302,24469332,330931,65.66,22536898,0,0,598001,392647.45659999998,0,2149,2143,60.66,71.290038811158524,0,24469332,71.29003881115851,1,null,null,0,71.290038811158524,0,0,53575,0,24469332,0,24469332,null,34323634,100,null,598001,330931,1932433.9156000018,5.6300388111585278,null,0,null,{"$f":"ROUND(AI30/F30*100,2)","v":71.290000000000006},{"$f":"ROUND(AQ30+J30,2)","v":71.290000000000006}]
[828,"GREATER LOWELL               ",1,34545660,23685627,34992565,11434404,23558161,0,65.319999999999993,22857143,0,0,446905,291918.34599999996,0,2190,2195,60.319999999999993,67.68759877991225,0,23685627,67.68759877991225,0,null,null,0,67.68759877991225,0,0,54875,54875,23740502,0,23740502,null,35174906,100.52108497905198,null,446905,54875,883358.54200000316,2.5244178070398817,null,0,null,{"$f":"ROUND(AI31/F31*100,2)","v":67.84},{"$f":"ROUND(AQ31+J31,2)","v":67.84}]
[248,"REVERE                       ",1,79960501.103390008,50950075,84281832.122129992,30065688,54216144,3266069,64.55,54403923,0,0,4321331.0187399834,2789419.172596659,0,6923,7135,59.55,64.327201527177522,0,54216144,64.327201527177522,1,null,null,0.36897626624331065,64.327201527177522,0,139242.20551750809,178375,0,54216144,0,54216144,null,84281832,99.999999855093336,null,4321331.0187399834,3266069,-187778.63483490795,-0.22279847282247545,null,0,null,{"$f":"ROUND(AI32/F32*100,2)","v":64.33},{"$f":"ROUND(AQ32+J32,2)","v":64.33}]
[755,"RALPH C MAHAR                ",1,7705540,5322215,7640717,2842068,4798649,0,63.72,4868665,0,0,0,0,0,721,699,58.72,69.655962915522196,0,5322215,69.655962915522196,0,null,null,0,69.655962915522196,0,0,17475,17475,5339690,0,5339690,null,8181758,107.08102394055427,null,-64823,17475,471025.12760000024,6.1646718181029456,null,0,null,{"$f":"ROUND(AI33/F33*100,2)","v":69.88},{"$f":"ROUND(AQ33+J33,2)","v":69.88}]
[309,"WARE                         ",1,14311776.950000001,8736718,14379106.989999996,5507809,8871298,134580,62.96,9053086,0,0,67330.039999995381,42390.993183997096,0,1394,1375,57.96,61.695750690008623,0,8871298,61.695750690008616,1,null,null,0.59677268057995092,61.695750690008623,0,0,34375,0,8871298,0,8871298,null,14379107,100.00000006954538,null,67330.039999995381,134580,-181787.76090399921,-1.2642493099913779,null,0,null,{"$f":"ROUND(AI34/F34*100,2)","v":61.7},{"$f":"ROUND(AQ34+J34,2)","v":61.7}]
[293,"TAUNTON                      ",1,83736224.63000001,50373614,86795145.73999998,33623458,53171688,2798074,62.82,54524711,0,0,3058921.1099999696,1921614.2413019808,0,7851,7916,57.82,61.261131076706697,0,53171688,61.261131076706704,1,null,null,0.40768219067599393,61.261131076706697,0,120295.19865000062,197900,0,53171688,0,53171688,null,86795146,100.00000029955595,null,3058921.1099999696,2798074,-1353022.5538679883,-1.5588689232933035,null,0,null,{"$f":"ROUND(AI35/F35*100,2)","v":61.26},{"$f":"ROUND(AQ35+J35,2)","v":61.26}]
[872,"SOUTHEASTERN                 ",1,21227292,13500708,22565360,8283596,14281764,781056,62.54,14112376,0,0,1338068,836827.72719999996,0,1356,1416,57.54,63.290654348080423,0,14281764,63.290654348080423,1,null,null,0,63.290654348080423,0,0,35400,0,14281764,0,14281764,null,22565360,100,null,1338068,781056,169387.85600000061,0.75065434808042397,null,0,null,{"$f":"ROUND(AI36/F36*100,2)","v":63.29},{"$f":"ROUND(AQ36+J36,2)","v":63.29}]
[63,"CLARKSBURG                   ",1,1905986.03,1769100,1772262.85,585884,1186379,0,62.46,1106955,0,0,0,0,0,200,180,57.46,99.821536066165351,0,1769100,99.821536066165351,0,null,null,5.5453172316955071,99.821536066165351,0,0,4500,4500,1773600,0,1773600,null,2359484,133.13397614806402,null,-133723.17999999993,4500,666644.62388999993,37.615448740574784,null,0,null,{"$f":"ROUND(AI37/F37*100,2)","v":100.08},{"$f":"ROUND(AQ37+J37,2)","v":100.08}]
[821,"GREATER FALL RIVER           ",1,22550978,15181818,23275199,7579429,15695770,513952,62.23,14484156,0,0,724221,450682.72829999996,0,1469,1474,57.23,67.435599583917622,0,15695770,67.435599583917622,1,null,null,0,67.435599583917622,0,0,36850,0,15695770,0,15695770,null,23275199,100,null,724221,513952,1211613.6623,5.2055995839176248,null,0,null,{"$f":"ROUND(AI38/F38*100,2)","v":67.44},{"$f":"ROUND(AQ38+J38,2)","v":67.44}]
[603,"ADAMS CHESHIRE               ",1,14419594,10121468,14523439,5160616,9362823,0,61.86,8984199,0,0,103845,64238.517000000007,0,1424,1398,56.86,69.690573974938033,0,10121468,69.690573974938033,0,null,null,0,69.690573974938033,0,0,34950,34950,10156418,0,10156418,null,15317034,105.46423612203694,null,103845,34950,1172218.6345999986,8.0712194584216519,null,0,null,{"$f":"ROUND(AI39/F39*100,2)","v":69.930000000000007},{"$f":"ROUND(AQ39+J39,2)","v":69.930000000000007}]
[778,"QUABOAG",1,13203478,8512186,13357209,5095756,8261453,0,61.19,8173276,0,0,153731,94067.998900000006,0,1296,1277,56.19,63.727280152612721,0,8512186,63.727280152612721,0,null,null,0,63.727280152612721,0,0,31925,31925,8544111,0,8544111,null,13639867,102.11614567085086,null,153731,31925,370834.81290000025,2.7762896642554651,null,0,null,{"$f":"ROUND(AI40/F40*100,2)","v":63.97},{"$f":"ROUND(AQ40+J40,2)","v":63.97}]
[851,"NORTHERN BERKSHIRE           ",1,7193835,4629241,7377904,2797399,4580505,0,60.8,4485766,0,0,184069,111913.95199999999,0,472,475,55.8,62.744662982874267,0,4629241,62.744662982874267,0,null,null,0,62.744662982874267,0,0,11875,11875,4641116,0,4641116,null,7438515,100.82152058362375,null,184069,11875,155350.36799999978,2.1056165545119612,null,0,null,{"$f":"ROUND(AI41/F41*100,2)","v":62.91},{"$f":"ROUND(AQ41+J41,2)","v":62.91}]
[153,"LEOMINSTER                   ",1,68009798.659999996,43390737,68789894.089999989,26480524,42309370,0,59.51,40936866,0,0,780095.42999999225,464234.79039299535,0,6335,6274,54.51,63.077196983659448,0,43390737,63.077196983659448,0,null,null,0.40491412828107765,63.077196983659448,0,0,156850,156850,43547587,0,43547587,null,70028111,101.79999827936938,null,780095.42999999225,156850,2610721.0270410106,3.7952101272685752,null,0,null,{"$f":"ROUND(AI42/F42*100,2)","v":63.31},{"$f":"ROUND(AQ42+J42,2)","v":63.31}]
[832,"MONTACHUSETT                 ",1,22098279,13800675,22705864,8952868,13752996,0,59.07,13412354,0,0,607585,358900.4595,0,1467,1486,54.07,60.78022399852302,0,13800675,60.780223998523027,0,null,null,0,60.78022399852302,0,0,37150,37150,13837825,0,13837825,null,22790693,100.37359952477475,null,607585,37150,425471.13519999944,1.8738381204080099,null,0,null,{"$f":"ROUND(AI43/F43*100,2)","v":60.94},{"$f":"ROUND(AQ43+J43,2)","v":60.94}]
[236,"PITTSFIELD                   ",1,67481752.38000001,39447162.62740925,68905111.570000008,29086218,39818894,371731.37259075046,58.69,40440410,0,0,1423359.1899999976,835369.50861099851,0,6269,6192,53.69,57.788011792925388,0,39818894,57.788011792925388,1,null,null,0.41310170394373252,57.788011792925388,0,252220.62740925141,154800,0,39818894,0,39818894,null,68905112,100.00000062404658,null,1423359.1899999976,371731.37259075046,-621515.98043300211,-0.90198820707460925,null,0,null,{"$f":"ROUND(AI44/F44*100,2)","v":57.79},{"$f":"ROUND(AQ44+J44,2)","v":57.79}]
[45,"BROOKFIELD                   ",1,2293424.8199999998,1366889.719122,2475237.4299999997,1069272,1405965,39075.280877999961,58.45,1446776,0,0,181812.60999999987,106269.47054499993,0,232,249,53.45,56.80121765126993,0,1405965,56.80121765126993,1,null,null,6.8648602917727137,56.80121765126993,0,0,6225,0,1405965,0,1405965,null,2475237,99.999982627929157,null,181812.60999999987,39075.280877999961,-40811.277834999841,-1.648782348730073,null,0,null,{"$f":"ROUND(AI45/F45*100,2)","v":56.8},{"$f":"ROUND(AQ45+J45,2)","v":56.8}]
[720,"NARRAGANSETT                 ",1,12841231,9731269,13170587,5169393,8001194,0,58.44,7696891,0,0,329356,192475.6464,0,1309,1311,53.44,73.886372718239514,0,9731269,73.886372718239514,0,null,null,0,73.886372718239514,0,0,32775,32775,9764044,0,9764044,null,14933437,113.38474891058387,null,329356,32775,2067152.9572000001,15.695222674585423,null,0,null,{"$f":"ROUND(AI46/F46*100,2)","v":74.14},{"$f":"ROUND(AQ46+J46,2)","v":74.14}]
[227,"PALMER                       ",1,15478309.109999996,10664455,15466730.400000002,6815260,8651470,0,57.8,8939770,0,0,0,0,0,1533,1501,52.8,68.950933547015197,0,10664455,68.950933547015197,0,null,null,0.69757424408178947,68.950933547015197,0,0,37525,37525,10701980,0,10701980,null,17517240,113.25755054216241,null,-11578.709999993443,37525,1762209.8288000003,11.393551081746395,null,0,null,{"$f":"ROUND(AI47/F47*100,2)","v":69.19},{"$f":"ROUND(AQ47+J47,2)","v":69.19}]
[860,"PATHFINDER                   ",1,8740342,5376309.7480999995,9330426,4172839,5157587,0,56.42,5264226,0,0,590084,332925.39280000003,0,566,588,51.42,57.621267754548391,0,5376309.7480999995,57.621267754548391,0,null,null,0,57.621267754548391,0,8539.748099999968,14700,14700,5391009.7480999995,0,5391009.7480999995,null,9563848.7480999995,102.50173730652811,null,590084,14700,126783.39889999945,1.3588168310857327,null,0,null,{"$f":"ROUND(AI48/F48*100,2)","v":57.78},{"$f":"ROUND(AQ48+J48,2)","v":57.78}]
[767,"SPENCER EAST BROOKFIELD      ",1,19886690,13412164,19202300,7237563,11964737,0,56.36,10822416,0,0,0,0,0,1931,1819,51.36,69.846653786265193,0,13412164,69.846653786265193,0,null,null,0,69.846653786265193,0,0,45475,45475,13457639,0,13457639,null,20695202,107.77459991771819,null,-684390,45475,2635222.7200000007,13.723474375465443,null,0,null,{"$f":"ROUND(AI49/F49*100,2)","v":70.08},{"$f":"ROUND(AQ49+J49,2)","v":70.08}]
[306,"WALES                        ",1,1356194.98,737534,1467392.6599999997,661118,806275,68741,56.3,826142,0,0,111197.6799999997,62604.293839999824,0,141,151,51.3,54.946097386094337,0,806275,54.946097386094337,1,null,null,10.058999935812208,54.946097386094337,0,0,3775,0,806275,0,806275,null,1467393,100.00002317034898,null,111197.6799999997,68741,-19867.067579999799,-1.3539026139056602,null,0,null,{"$f":"ROUND(AI50/F50*100,2)","v":54.95},{"$f":"ROUND(AQ50+J50,2)","v":54.95}]
[128,"HAVERHILL                    ",1,83661746.030000001,45091781.071740001,85387258.689999998,38924761,46462498,1370716.9282599986,55.74,47594858,0,0,1725512.6599999964,961800.75668399804,0,7951,8105,50.74,54.413853674214963,0,46462498,54.413853674214963,1,null,null,0.48620375401723648,54.413853674214963,0,321193.07174000144,202625,0,46462498,0,46462498,null,85387259,100.00000036305183,null,1725512.6599999964,1370716.9282599986,-1132359.9938059971,-1.3261463257850394,null,0,null,{"$f":"ROUND(AI51/F51*100,2)","v":54.41},{"$f":"ROUND(AQ51+J51,2)","v":54.41}]
[215,"NORTH BROOKFIELD             ",1,6138607.5700000012,4187213,6330664.1299999999,2902390,3428274,0,55.5,3513519,0,0,192056.55999999866,106591.39079999927,0,639,635,50.5,66.141765129466762,0,4187213,66.141765129466762,0,null,null,0.92217755191447115,66.141765129466762,0,0,15875,15875,4203088,0,4203088,null,7105478,112.23906140160369,null,192056.55999999866,15875,689569.40784999961,10.892528709306205,null,0,null,{"$f":"ROUND(AI52/F52*100,2)","v":66.39},{"$f":"ROUND(AQ52+J52,2)","v":66.39}]
[876,"SOUTHERN WORCESTER           ",1,17132815,9852087,17642332,7557770,10084562,232475,55.39,9772088,0,0,509517,282221.46630000003,0,1131,1148,50.39,57.161162141150044,0,10084562,57.161162141150051,1,null,null,0,57.161162141150044,0,0,28700,0,10084562,0,10084562,null,17642332,100,null,509517,232475,312474.30519999936,1.7711621411500431,null,0,null,{"$f":"ROUND(AI53/F53*100,2)","v":57.16},{"$f":"ROUND(AQ53+J53,2)","v":57.16}]
[181,"METHUEN                      ",1,73674473.939999998,40839452.117845498,75476679.289999992,34357316,41119363,279910.88215450197,55.37,41791437,0,0,1802205.349999994,997881.10229499661,0,7098,7112,50.37,54.479560291741613,0,41119363,54.479560291741613,1,null,null,0.47818835019948452,54.479560291741613,0,77720.117845499888,177800,0,41119363,0,41119363,null,75476679,99.999999615775366,null,1802205.349999994,279910.88215450197,-672074.32287299633,-0.89043970825838414,null,0,null,{"$f":"ROUND(AI54/F54*100,2)","v":54.48},{"$f":"ROUND(AQ54+J54,2)","v":54.48}]
[64,"CLINTON                      ",1,20886485.84,11251678.80557175,21129205.020000003,9800189,11329016,77337.194428250194,55.29,11682337,0,0,242719.18000000343,134199.43462200189,0,1991,1979,50.29,53.617805257114206,0,11329016,53.617805257114206,1,null,null,0.44712960052483786,53.617805257114206,0,76540.805571750272,49475,0,11329016,0,11329016,null,21129205,99.999999905344268,null,242719.18000000343,77337.194428250194,-353321.45555800013,-1.6721947428857931,null,0,null,{"$f":"ROUND(AI55/F55*100,2)","v":53.62},{"$f":"ROUND(AQ55+J55,2)","v":53.62}]
[114,"GREENFIELD                   ",1,21246903.91,11983812.357180249,21378359.310000002,9879409,11498950,0,55.2,11800854,0,0,131455.40000000224,72563.380800001236,0,2065,2048,50.2,56.055809444528634,0,11983812.357180249,56.055809444528641,0,null,null,0.55699170474618065,56.055809444528634,0,76169.357180249877,51200,51200,12035012.357180249,0,12035012.357180249,null,21914421.357180249,102.50749853815721,null,131455.40000000224,51200,234158.01806024648,1.0953039691437709,null,0,null,{"$f":"ROUND(AI56/F56*100,2)","v":56.3},{"$f":"ROUND(AQ56+J56,2)","v":56.3}]
[325,"WESTFIELD                    ",1,59091820.839999996,33214624.488096002,59194723.68,27572737,31621987,0,54.81,32444628,0,0,102902.84000000358,56401.04660400196,0,5685,5574,49.81,56.11078559577458,0,33214624.488096002,56.11078559577458,0,null,null,0.45192309950824994,56.11078559577458,0,48596.62474849727,139350,139350,33353974.488096002,0,33353974.488096002,null,60926711.488095999,102.92591585942512,null,102902.84000000358,139350,909346.43908800185,1.5361950906364967,null,0,null,{"$f":"ROUND(AI57/F57*100,2)","v":56.35},{"$f":"ROUND(AQ57+J57,2)","v":56.35}]
[753,"QUABBIN                      ",1,21722178,16286563,22051647,10090036,11961611,0,54.46,12009327,0,0,329469,179428.8174,0,2266,2219,49.46,73.85644709440524,0,16286563,73.85644709440524,0,null,null,0,73.85644709440524,0,0,55475,55475,16342038,0,16342038,null,26432074,119.86439833723078,null,329469,55475,4332711.0438000001,19.648015605364982,null,0,null,{"$f":"ROUND(AI58/F58*100,2)","v":74.11},{"$f":"ROUND(AQ58+J58,2)","v":74.11}]
[165,"MALDEN                       ",1,80737953.747600004,47246321,84059175.637440011,35620417,48438759,1192438,54.41,45736597,0,0,3321221.8898400068,1807076.8302619474,0,7309,7395,49.41,57.62459437970665,0,48438759,57.62459437970665,1,null,null,0.46744624708905785,57.62459437970665,0,0,184875,0,48438759,0,48438759,null,84059176,100.00000043131519,null,3321221.8898400068,1192438,2702161.5356688946,3.2145943797066536,null,0,null,{"$f":"ROUND(AI59/F59*100,2)","v":57.62},{"$f":"ROUND(AQ59+J59,2)","v":57.62}]
[658,"DUDLEY CHARLTON              ",1,36713400,23842023,37460711,14629068,22831643,0,54.11,20269991,0,0,747311,404369.98210000002,0,3895,3870,49.11,63.645409720066446,0,23842023,63.645409720066446,0,null,null,0,63.645409720066446,0,0,96750,96750,23938773,0,23938773,null,38567841,102.95544310410979,null,747311,96750,3668782.2778999992,9.7936803118873001,null,0,null,{"$f":"ROUND(AI60/F60*100,2)","v":63.9},{"$f":"ROUND(AQ60+J60,2)","v":63.9}]
[622,"BLACKSTONE MILLVILLE         ",1,17804636,10684594,17580139,8234791,9345348,0,53.99,9491517,0,0,0,0,0,1879,1800,48.99,60.776504668137157,0,10684594,60.77650466813715,0,null,null,0,60.776504668137157,0,0,45000,45000,10729594,0,10729594,null,18964385,107.87391954068167,null,-224497,45000,1238076.9539000001,7.0424753404964449,null,0,null,{"$f":"ROUND(AI61/F61*100,2)","v":61.03},{"$f":"ROUND(AQ61+J61,2)","v":61.03}]
[810,"BRISTOL PLYMOUTH             ",1,19738678,10595527.050000001,20776046,10001847,10774199,178671.94999999925,52.99,11009227,0,0,1037368,549701.30320000008,0,1309,1346,47.99,51.858755992357743,0,10774199,51.858755992357736,1,null,null,0,51.858755992357743,0,28349.049999999814,33650,0,10774199,0,10774199,null,20776046,100,null,1037368,178671.94999999925,-235027.77540000156,-1.131244007642259,null,0,null,{"$f":"ROUND(AI62/F62*100,2)","v":51.86},{"$f":"ROUND(AQ62+J62,2)","v":51.86}]
[316,"WEBSTER                      ",1,20776506.130000003,10515224,21401884.859999996,10346397,11055488,540264,52.99,11340859,0,0,625378.729999993,331388.18902699632,0,1980,1990,47.99,51.656609089896776,0,11055488,51.656609089896776,1,null,null,0.61411266666017172,51.656609089896776,0,0,49750,0,11055488,0,11055488,null,21401885,100.00000065414801,null,625378.729999993,540264,-285370.78731399775,-1.3333909101032262,null,0,null,{"$f":"ROUND(AI63/F63*100,2)","v":51.66},{"$f":"ROUND(AQ63+J63,2)","v":51.66}]
[16,"ATTLEBORO                    ",1,66876305.419999994,34235474,68325590.250000015,33083184,35242406,1006932,52.72,36021251,0,0,1449284.8300000206,764062.96237601084,0,6227,6292,47.72,51.580097399890356,0,35242406,51.580097399890363,1,null,null,0.47677714284336026,51.580097399890356,0,0,157300,0,35242406,0,35242406,null,68325590,99.999999634104853,null,1449284.8300000206,1006932,-778845.17980001122,-1.1399026001096431,null,0,null,{"$f":"ROUND(AI64/F64*100,2)","v":51.58},{"$f":"ROUND(AQ64+J64,2)","v":51.58}]
[226,"OXFORD                       ",1,18717632.59,10258149,19226330.559999999,9307209,9919122,0,52.65,10122663,0,0,508697.96999999881,267829.48120499938,0,1942,1934,47.65,53.3546896428686,0,10258149,53.3546896428686,0,null,null,0.64490069387951976,53.3546896428686,0,0,48350,48350,10306499,0,10306499,null,19613708,102.01482773216192,null,508697.96999999881,48350,183835.96016000211,0.95616768673720998,null,0,null,{"$f":"ROUND(AI65/F65*100,2)","v":53.61},{"$f":"ROUND(AQ65+J65,2)","v":53.61}]
[251,"ROCKLAND                     ",1,23580543.138319999,11055738,25189073.019840002,12589951,12599122,1543384,52.09,13120988,0,0,1608529.8815200031,837883.21528376965,0,2253,2326,47.09,50.018204282771293,0,12599122,50.018204282771293,1,null,null,0.58816668942427808,50.018204282771293,0,61153.478381224442,58150,0,12599122,0,12599122,null,25189073,99.999999921235684,null,1608529.8815200031,1543384,-521866.13603465818,-2.07179571722871,null,0,null,{"$f":"ROUND(AI66/F66*100,2)","v":50.02},{"$f":"ROUND(AQ66+J66,2)","v":50.02}]
[332,"WEST SPRINGFIELD             ",1,41551686.519999996,21363060,42891023.810000002,20277457,22613567,1250507,51.91,22264730,0,0,1339337.2900000066,695249.98723900341,0,3871,3938,46.91,52.723308961274242,0,22613567,52.723308961274242,1,null,null,0.48086742091689882,52.723308961274242,0,104426.06326799933,98450,0,22613567,0,22613567,null,42891024,100.00000044298312,null,1339337.2900000066,1250507,348836.54022900015,0.81330896127424523,null,0,null,{"$f":"ROUND(AI67/F67*100,2)","v":52.72},{"$f":"ROUND(AQ67+J67,2)","v":52.72}]
[780,"WHITMAN HANSON               ",1,38173063,24120485,38322360,16147370,22174990,0,51.86,19873976,0,0,149297,77425.424199999994,0,4067,3964,46.86,62.941021899486358,0,24120485,62.941021899486358,0,null,null,0,62.941021899486358,0,0,99100,99100,24219585,0,24219585,null,40366955,105.33525336122305,null,149297,99100,4345609.1040000021,11.339617664465344,null,0,null,{"$f":"ROUND(AI68/F68*100,2)","v":63.2},{"$f":"ROUND(AQ68+J68,2)","v":63.2}]
[24,"BELCHERTOWN                  ",1,23327151.939999998,13481666,22973661.619999997,11383708,11589954,0,51.25,11774002,0,0,0,0,0,2493,2401,46.25,58.683139949547147,0,13481666,58.683139949547154,0,null,null,0.56325976239753106,58.683139949547147,0,0,60025,60025,13541691,0,13541691,null,24925399,108.49554334125342,null,-353490.3200000003,60025,1767689.4197500031,7.6944174115070894,null,0,null,{"$f":"ROUND(AI69/F69*100,2)","v":58.94},{"$f":"ROUND(AQ69+J69,2)","v":58.94}]
[182,"MIDDLEBOROUGH                ",1,32073963.209999997,17459284,32000342.629999999,16053881,15946462,0,51.22,16390575,0,0,0,0,0,3299,3217,46.22,54.559678319294299,0,17459284,54.559678319294299,0,null,null,0.60278760624560523,54.559678319294299,0,0,80425,80425,17539709,0,17539709,null,33593590,104.97884472182604,null,-73620.579999998212,80425,1149133.5049140006,3.5910037533057562,null,0,null,{"$f":"ROUND(AI70/F70*100,2)","v":54.81},{"$f":"ROUND(AQ70+J70,2)","v":54.81}]
[151,"LEICESTER                    ",1,16135346.720000001,9534162,16315414.450000001,8170911,8144503,0,50.57,8250705,0,0,180067.73000000045,91060.251061000235,0,1629,1598,45.57,58.436529634097035,0,9534162,58.436529634097035,0,null,null,0.49426473502792323,58.436529634097035,0,0,39950,39950,9574112,0,9574112,null,17745023,108.76231832406806,null,180067.73000000045,39950,1323406.9126349986,8.1113901010035292,null,0,null,{"$f":"ROUND(AI71/F71*100,2)","v":58.68},{"$f":"ROUND(AQ71+J71,2)","v":58.68}]
[610,"ASHBURNHAM WESTMINSTER       ",1,20944478,10138704,21651624,11097471,10554153,415449,50.22,10873446,0,0,707146,355128.72119999997,0,2224,2253,45.22,48.74531813410394,0,10554153,48.745318134103933,1,null,null,0,48.74531813410394,0,21868.029799999669,56325,0,10554153,0,10554153,null,21651624,100,null,707146,415449,-319292.57279999927,-1.4746818658960592,null,0,null,{"$f":"ROUND(AI72/F72*100,2)","v":48.75},{"$f":"ROUND(AQ72+J72,2)","v":48.75}]
[214,"NORTHBRIDGE                  ",1,24874347.920000002,15214206,24091597.779999997,10435707,13655891,0,49.88,12016889,0,0,0,0,0,2566,2435,44.88,63.1515026065656,0,15214206,63.151502606565607,0,null,null,0.60604168504561795,63.1515026065656,0,0,60875,60875,15275081,0,15275081,null,25710788,106.72097481780224,null,-782750.14000000432,60875,3258192.0273360014,13.524184062382268,null,0,null,{"$f":"ROUND(AI73/F73*100,2)","v":63.4},{"$f":"ROUND(AQ73+J73,2)","v":63.4}]
[77,"DOUGLAS                      ",1,13898746.319999997,8530840,13645814.699999997,6463272,7182543,0,49.68,6779241,0,0,0,0,0,1508,1452,44.68,62.516164754897353,0,8530840,62.516164754897353,0,null,null,0.68486362430835845,62.516164754897353,0,0,36300,36300,8567140,0,8567140,null,15030412,110.14668109189554,null,-252931.61999999918,36300,1787899.2570400015,13.102180385316252,null,0,null,{"$f":"ROUND(AI74/F74*100,2)","v":62.78},{"$f":"ROUND(AQ74+J74,2)","v":62.78}]
[191,"MONSON                       ",1,11227559.509999998,7372025,10642912.68,5415578,5227335,0,49.65,5284206,0,0,0,0,0,1172,1096,44.65,69.266987540482205,0,7372025,69.266987540482205,0,null,null,0.90157236691155862,69.266987540482205,0,0,27400,27400,7399425,0,7399425,null,12815003,120.40879583726887,null,-584646.82999999821,27400,2115218.8543800004,19.874435861480741,null,0,null,{"$f":"ROUND(AI75/F75*100,2)","v":69.52},{"$f":"ROUND(AQ75+J75,2)","v":69.52}]
[52,"CARVER                       ",1,16482096.760799997,9731289,16197468.462199999,8567837,7629631,0,48.98,7933520,0,0,0,0,0,1714,1657,43.98,60.079073607767107,0,9731289,60.079073607767107,0,null,null,0.66313199001218426,60.079073607767107,0,0,41425,41425,9772714,0,9772714,null,18340551,113.23097212877005,null,-284628.29859999754,41425,1839193.9472144414,11.354823449766641,null,0,null,{"$f":"ROUND(AI76/F76*100,2)","v":60.33},{"$f":"ROUND(AQ76+J76,2)","v":60.33}]
[185,"MILFORD                      ",1,43366941.909150004,20022624.302150823,44418717.093200006,23574280,20844437,821812.69784917682,48.85,21698543,0,0,1051775.1840500012,513792.1774084256,0,4207,4221,43.85,46.927147752295269,0,20844437,46.927147752295269,1,null,null,0.54442098984408316,46.927147752295269,0,502085.30215082131,105525,0,20844437,0,20844437,null,44418717,99.999999790178535,null,1051775.1840500012,821812.69784917682,-854106.30002820119,-1.9228522477047321,null,0,null,{"$f":"ROUND(AI77/F77*100,2)","v":46.93},{"$f":"ROUND(AQ77+J77,2)","v":46.93}]
[118,"HALIFAX                      ",1,5366429.71,2699817,5540979.4299999988,2982219,2558760,0,48.18,2669644,0,0,174549.71999999881,84098.055095999429,0,594,592,43.18,48.724544714651657,0,2699817,48.724544714651657,0,null,null,3.4673961060767291,48.724544714651657,0,0,14800,14800,2714617,0,2714617,null,5696836,102.81279820596629,null,174549.71999999881,14800,44973.110626000445,0.81164550769683785,null,0,null,{"$f":"ROUND(AI78/F78*100,2)","v":48.99},{"$f":"ROUND(AQ78+J78,2)","v":48.99}]
[735,"NORTH MIDDLESEX              ",1,32881223,19840443,32371795,17231131,15140664,0,47.58,15402500,0,0,0,0,0,3551,3422,42.58,61.289289024596869,0,19840443,61.289289024596876,0,null,null,0,61.289289024596869,0,0,85550,85550,19925993,0,19925993,null,37157124,114.78240239690138,null,-509428,85550,4523492.9389999993,13.973562290876984,null,0,null,{"$f":"ROUND(AI79/F79*100,2)","v":61.55},{"$f":"ROUND(AQ79+J79,2)","v":61.55}]
[138,"HOPEDALE                     ",1,10475107.010799998,5914920,10396781.262500001,5558390,4838391,0,47.33,4920797,0,0,0,0,0,1104,1077,42.33,56.891838451333385,0,5914920,56.891838451333385,0,null,null,0.62042176406879479,56.891838451333385,0,0,26925,26925,5941845,0,5941845,null,11500235,110.61341688008798,null,-78325.7482999973,26925,1021048.4284587493,9.8208128331174365,null,0,null,{"$f":"ROUND(AI80/F80*100,2)","v":57.15},{"$f":"ROUND(AQ80+J80,2)","v":57.15}]
[83,"EAST BRIDGEWATER             ",1,20492729.260000002,10306507,20764631.130000003,11106385,9658246,0,47.2,9800906,0,0,271901.87000000104,128337.68264000049,0,2210,2185,42.2,49.634914944910932,0,10306507,49.634914944910939,0,null,null,0.62547434059055396,49.634914944910932,0,0,54625,54625,10361132,0,10361132,null,21467517,103.38501495932906,null,271901.87000000104,54625,560226.10663999803,2.6979824641845127,null,0,null,{"$f":"ROUND(AI81/F81*100,2)","v":49.9},{"$f":"ROUND(AQ81+J81,2)","v":49.9}]
[674,"GILL MONTAGUE                ",1,11383341,6065444,11391876,6028359,5363517,0,46.93,5346207,0,0,8535,4005.4755,0,1098,1089,41.93,53.243592187976759,0,6065444,53.243592187976766,0,null,null,0,53.243592187976759,0,0,27225,27225,6092669,0,6092669,null,12121028,106.40063146754757,null,8535,27225,746461.5932,6.5525782864911761,null,0,null,{"$f":"ROUND(AI82/F82*100,2)","v":53.48},{"$f":"ROUND(AQ82+J82,2)","v":53.48}]
[263,"SAVOY                        ",1,600300.83000000007,505329,592852.67000000004,321122,271731,0,46.84,277692,0,0,0,0,0,65,62,41.84,85.236859943634897,0,505329,85.236859943634897,0,null,null,17.971597060768595,85.236859943634897,0,0,1550,1550,506879,0,506879,null,828001,139.66387298213567,null,-7448.1600000000326,1550,229186.80937199993,38.658307699280499,null,0,null,{"$f":"ROUND(AI83/F83*100,2)","v":85.5},{"$f":"ROUND(AQ83+J83,2)","v":85.5}]
[885,"WHITTIER                     ",1,17494788,8010858.9927000003,18310028,10028034,8281994,271135.00729999971,46.84,8576417,0,0,815240,381858.41600000003,0,1135,1169,41.84,45.232011660495544,0,8281994,45.232011660495552,1,null,null,0,45.232011660495544,0,66705.992700000061,29225,0,8281994,0,8281994,null,18310028,100,null,815240,271135.00729999971,-294423.11519999988,-1.607988339504459,null,0,null,{"$f":"ROUND(AI84/F84*100,2)","v":45.23},{"$f":"ROUND(AQ84+J84,2)","v":45.23}]
[770,"TANTASQUA                    ",1,17582598,7701145.309475,18183142,10066601,8116541,415395.69052499998,46.58,8469708,0,0,600544,279733.39519999997,0,1599,1610,41.58,44.637725427211642,0,8116541,44.637725427211642,1,null,null,0,44.637725427211642,0,55506.309475000016,40250,0,8116541,0,8116541,null,18183142,100,null,600544,415395.69052499998,-353166.54360000044,-1.9422745727883566,null,0,null,{"$f":"ROUND(AI85/F85*100,2)","v":44.64},{"$f":"ROUND(AQ85+J85,2)","v":44.64}]
[272,"SHUTESBURY                   ",1,1268845.75,593590.46020800003,1336733.0899999999,723367,613366,19775.539791999967,46.41,620378,0,0,67887.339999999851,31506.514493999926,0,141,146,41.41,45.885450475382491,0,613366,45.885450475382491,1,null,null,12.066543663271791,45.885450475382491,0,0,3650,0,613366,0,613366,null,1336733,99.999993267167511,null,67887.339999999851,19775.539791999967,-7011.8270689998753,-0.52454952461750537,null,0,null,{"$f":"ROUND(AI86/F86*100,2)","v":45.89},{"$f":"ROUND(AQ86+J86,2)","v":45.89}]
[98,"FLORIDA                      ",1,924504.84,537067,872994.29,469626,403368,0,46.32,404371,0,0,0,0,0,89,85,41.32,61.520104558759478,0,537067,61.520104558759485,0,null,null,9.5772725424054759,61.520104558759478,0,0,2125,2125,539192,0,539192,null,1008818,115.55837323976081,null,-51510.54999999993,2125,134821.044872,15.443519667465402,null,0,null,{"$f":"ROUND(AI87/F87*100,2)","v":61.76},{"$f":"ROUND(AQ87+J87,2)","v":61.76}]
[818,"FRANKLIN COUNTY              ",1,7425790,3437610.8843999999,7597275,4196134,3401141,0,45.82,3481071,0,0,171485,78574.426999999996,0,476,478,40.82,45.247945933245795,0,3437610.8843999999,45.247945933245802,0,null,null,0,45.247945933245795,0,17911.884399999981,11950,11950,3449560.8843999999,0,3449560.8843999999,null,7645694.8843999999,100.637332259264,null,171485,11950,-31510.520599999931,-0.41476082674380166,null,0,null,{"$f":"ROUND(AI88/F88*100,2)","v":45.41},{"$f":"ROUND(AQ88+J88,2)","v":45.41}]
[910,"BRISTOL COUNTY               ",1,5797631,2983352,5839373,3169711,2669662,0,45.7,2668593,0,0,41742,19076.094000000001,0,387,384,40.700000000000003,51.090279726950136,0,2983352,51.090279726950136,0,null,null,0,51.090279726950136,0,0,9600,9600,2992952,0,2992952,null,6162663,105.53638207389731,null,41742,9600,324358.53899999987,5.5546809392035783,null,0,null,{"$f":"ROUND(AI89/F89*100,2)","v":51.25},{"$f":"ROUND(AQ89+J89,2)","v":51.25}]
[27,"BERKLEY                      ",1,6578224.6799999988,3875013,6569709.3200000003,3390355,3179354,0,45.69,3001700,0,0,0,0,0,742,723,40.69,58.983020576015377,0,3875013,58.983020576015377,0,null,null,2.4340599983454942,58.983020576015377,0,0,18075,18075,3893088,0,3893088,null,7283443,110.86400699384367,null,-8515.3599999984726,18075,891387.8116919999,13.568146903826793,null,0,null,{"$f":"ROUND(AI90/F90*100,2)","v":59.26},{"$f":"ROUND(AQ90+J90,2)","v":59.26}]
[5,"AGAWAM                       ",1,40513463.040000007,18827346.812022001,40806967.850000001,22728531,18078437,0,45.51,18571251,0,0,293504.80999999493,133574.03903099769,0,4051,4013,40.51,46.137578467550853,0,18827346.812022001,46.137578467550853,0,null,null,0.54487775425343199,46.137578467550853,0,0,100325,100325,18927671.812022001,0,18927671.812022001,null,41656202.812022001,102.08110282818281,null,293504.80999999493,100325,356420.74348700047,0.87343108852671492,null,0,null,{"$f":"ROUND(AI91/F91*100,2)","v":46.38},{"$f":"ROUND(AQ91+J91,2)","v":46.38}]
[133,"HOLBROOK                     ",1,12460674.085960001,5309934,12443297.537840001,7047648,5395650,85716,45.43,5652990,0,0,0,0,0,1208,1168,40.43,43.361898110945731,0,5395650,43.361898110945731,1,null,null,0.98145519365756706,43.361898110945731,0,94453.863775481936,29200,0,5395650,0,5395650,null,12443298,100.000003714128,null,-17376.548119999468,85716,-257340.07144071255,-2.0681018890542688,null,0,null,{"$f":"ROUND(AI92/F92*100,2)","v":43.36},{"$f":"ROUND(AQ92+J92,2)","v":43.36}]
[79,"DRACUT                       ",1,37334953.579999998,18761667,37644250.119999997,20168359,17475891,0,45.38,17082961,0,0,309296.53999999911,140358.76985199962,0,3957,3873,40.380000000000003,49.839396296094954,0,18761667,49.839396296094954,0,null,null,0.67477062131863608,49.839396296094954,0,0,96825,96825,18858492,0,18858492,null,39026851,103.67280760167259,null,309296.53999999911,96825,1775531.2955439985,4.7166068918468937,null,0,null,{"$f":"ROUND(AI93/F93*100,2)","v":50.1},{"$f":"ROUND(AQ93+J93,2)","v":50.1}]
[728,"NEW SALEM WENDELL            ",1,1217420,631982,1255062,711713,543349,0,44.97,564401,0,0,37642,16927.607400000001,0,119,121,39.97,50.354643834328506,0,631982,50.354643834328506,0,null,null,0,50.354643834328506,0,0,3025,3025,635007,0,635007,null,1346720,107.30306550592719,null,37642,3025,70605.618600000045,5.6256677837429621,null,0,null,{"$f":"ROUND(AI94/F94*100,2)","v":50.6},{"$f":"ROUND(AQ94+J94,2)","v":50.6}]
[161,"LUDLOW                       ",1,27236633.910000004,13351728,27187438.540000007,15433886,11753553,0,44.22,12022285,0,0,0,0,0,2761,2680,39.22,49.109915155692327,0,13351728,49.109915155692327,0,null,null,0.55777281032521997,49.109915155692327,0,0,67000,67000,13418728,0,13418728,null,28852614,106.12479714685175,null,-49195.369999997318,67000,1396442.6776119974,5.1363524943972081,null,0,null,{"$f":"ROUND(AI95/F95*100,2)","v":49.36},{"$f":"ROUND(AQ95+J95,2)","v":49.36}]
[685,"HAWLEMONT                    ",1,933646,612202,950854,532283,418571,0,44.12,419517,0,0,17208,7592.1695999999993,0,95,93,39.119999999999997,64.384437568753981,0,612202,64.384437568753981,0,null,null,0,64.384437568753981,0,0,2325,2325,614527,0,614527,null,1146810,120.60842148216236,null,17208,2325,195010.21520000004,20.508954602914862,null,0,null,{"$f":"ROUND(AI96/F96*100,2)","v":64.63},{"$f":"ROUND(AQ96+J96,2)","v":64.63}]
[43,"BRIMFIELD                    ",1,2557047.06,1202422,2535170.4500000002,1464818,1070352,0,43.9,1112940,0,0,0,0,0,285,274,38.9,47.429631408018338,0,1202422,47.429631408018338,0,null,null,7.1964483598171336,47.429631408018338,0,0,6850,6850,1209272,0,1209272,null,2674090,105.47969269679677,null,-21876.60999999987,6850,96332.172449999955,3.7998302027384341,null,0,null,{"$f":"ROUND(AI97/F97*100,2)","v":47.7},{"$f":"ROUND(AQ97+J97,2)","v":47.7}]
[244,"RANDOLPH                     ",1,35955443.988719992,14990690,36417465.611719996,21159883,15257583,266893,43.86,15972700,0,0,462021.6230000034,202642.6838478015,0,3333,3295,38.86,41.896333925801116,0,15257583,41.896333925801116,1,null,null,0.64877370033034409,41.896333925801116,0,351993.13735971879,82375,0,15257583,0,15257583,null,36417466,100.00000106619173,null,462021.6230000034,266893,-715117.41730039008,-1.9636660741988834,null,0,null,{"$f":"ROUND(AI98/F98*100,2)","v":41.9},{"$f":"ROUND(AQ98+J98,2)","v":41.9}]
[287,"STURBRIDGE                   ",1,8029576.1899999995,3069295,8483866.0799999982,4983525,3500341,431046,43.46,3687088,0,0,454289.88999999873,197434.38619399944,0,911,934,38.46,41.258796013432601,0,3500341,41.258796013432601,1,null,null,2.3618473363060231,41.258796013432601,0,67851.14226699993,23350,0,3500341,0,3500341,null,8483866,99.999999057033705,null,454289.88999999873,431046,-186747.19836799894,-2.2012039865673998,null,0,null,{"$f":"ROUND(AI99/F99*100,2)","v":41.26},{"$f":"ROUND(AQ99+J99,2)","v":41.26}]
[672,"GATEWAY                      ",1,10475106,5507624,9565466,5566378,3999088,0,43.16,4128455,0,0,0,0,0,1066,950,38.159999999999997,57.578208944551157,0,5507624,57.578208944551157,0,null,null,0,57.578208944551157,0,0,23750,23750,5531374,0,5531374,null,11097752,116.01893728962081,null,-909640,23750,1402918.8744000001,14.666497945839751,null,0,null,{"$f":"ROUND(AI100/F100*100,2)","v":57.83},{"$f":"ROUND(AQ100+J100,2)","v":57.83}]
[310,"WAREHAM                      ",1,29801464.629999995,12488232.138633749,30579432.949999999,18285648,12293785,0,42.99,13146098,0,0,777968.32000000402,334448.58076800173,0,2859,2815,37.99,40.838664860310139,0,12488232.138633749,40.838664860310139,0,null,null,0.6767262971647513,40.838664860310139,0,0,70375,70375,12558607.138633749,0,12558607.138633749,null,30844255.13863375,100.8660140594064,null,777968.32000000402,70375,-587491.08657125197,-1.9211967976379754,null,0,null,{"$f":"ROUND(AI101/F101*100,2)","v":41.07},{"$f":"ROUND(AQ101+J101,2)","v":41.07}]
[141,"HUDSON                       ",1,27792860.269480001,10859646.737085393,28189612.605080001,16846912,11342701,483054.2629146073,42.7,12036965,0,0,396752.33559999987,169413.24730119997,0,2771,2759,37.700000000000003,40.237165224313692,0,11342701,40.237165224313692,1,null,null,0.67626485676263715,40.237165224313692,0,247043.20646538818,68975,0,11342701,0,11342701,null,28189613,100.00000140094156,null,396752.33559999987,483054.2629146073,-694263.58236916177,-2.4628347756863107,null,0,null,{"$f":"ROUND(AI102/F102*100,2)","v":40.24},{"$f":"ROUND(AQ102+J102,2)","v":40.24}]
[3,"ACUSHNET                     ",1,11538501.129999999,6150152,11701370.220000003,6720092,4981278,0,42.66,4991805,0,0,162869.09000000358,69479.953794001529,0,1251,1244,37.659999999999997,52.559246347817876,0,6150152,52.559246347817876,0,null,null,1.0271030771243728,52.559246347817876,0,0,31100,31100,6181252,0,6181252,null,12901344,110.25498516360931,null,162869.09000000358,31100,1189447.464147999,10.165027187286093,null,0,null,{"$f":"ROUND(AI103/F103*100,2)","v":52.83},{"$f":"ROUND(AQ103+J103,2)","v":52.83}]
[873,"SOUTH SHORE                  ",1,8975128,3866773,9246000,5264595,3981405,114632,42.61,3939721,0,0,270872,115418.55919999999,0,594,588,37.61,43.060837118754058,0,3981405,43.060837118754058,1,null,null,0,43.060837118754058,0,0,14700,0,3981405,0,3981405,null,9246000,100,null,270872,114632,41684.400000000373,0.45083711875405896,null,0,null,{"$f":"ROUND(AI104/F104*100,2)","v":43.06},{"$f":"ROUND(AQ104+J104,2)","v":43.06}]
[805,"BLACKSTONE VALLEY            ",1,17695720,8056069,18218330,10300542,7917788,0,42.39,7722750,0,0,522610,221534.37899999999,0,1186,1204,37.39,44.219579950522359,0,8056069,44.219579950522359,0,null,null,0,44.219579950522359,0,0,30100,30100,8086169,0,8086169,null,18386711,100.92423948847123,null,522610,30100,363418.91299999971,1.9947981675598143,null,0,null,{"$f":"ROUND(AI105/F105*100,2)","v":44.38},{"$f":"ROUND(AQ105+J105,2)","v":44.38}]
[853,"NORTHEAST METROPOLITAN       ",1,20104161,8609863,20386925,11746592,8640333,30470,42.39,8642018,0,0,282764,119863.6596,0,1232,1233,37.39,42.381737314479743,0,8640333,42.381737314479743,1,null,null,0,42.381737314479743,0,20536.316074999981,30825,355,8640688,0,8640688,null,20387280,100.00174131214001,null,282764,30825,-1329.507500000298,-6.5213733802451657E-3,null,0,null,{"$f":"ROUND(AI106/F106*100,2)","v":42.38},{"$f":"ROUND(AQ106+J106,2)","v":42.38}]
[304,"UXBRIDGE                     ",1,18066543.430000003,9122764,18526071.940000001,11067180,7458892,0,42.14,7806887,0,0,459528.50999999791,193645.31411399911,0,1934,1934,37.14,49.24284019594495,0,9122764,49.242840195944957,0,null,null,0.75997635330877078,49.24284019594495,0,0,48350,48350,9171114,0,9171114,null,20238294,109.24222935949582,null,459528.50999999791,48350,1364227.2844839999,7.363823744732791,null,0,null,{"$f":"ROUND(AI107/F107*100,2)","v":49.5},{"$f":"ROUND(AQ107+J107,2)","v":49.5}]
[135,"HOLLAND                      ",1,1736861.59,907048,1599126.75,961437,637690,0,41.9,670034,0,0,0,0,0,185,163,36.9,56.721457507980531,0,907048,56.721457507980524,0,null,null,11.356073248631789,56.721457507980531,0,0,4075,4075,911123,0,911123,null,1872560,117.09891038968613,null,-137734.84000000008,4075,241088.89175000007,15.076284087549659,null,0,null,{"$f":"ROUND(AI108/F108*100,2)","v":56.98},{"$f":"ROUND(AQ108+J108,2)","v":56.98}]
[170,"MARLBOROUGH                  ",1,52135804.352599993,19543643,55409404.919719994,32493304,22916101,3372458,41.89,23211000,0,0,3273600.5671200007,1371311.2775665682,0,4798,4976,36.89,41.357782190951212,0,22916101,41.357782190951212,1,null,null,0.63456188164410365,41.357782190951212,0,331825.96020032093,124400,0,22916101,0,22916101,null,55409405,100.00000014488516,null,3273600.5671200007,3372458,-294898.72087070346,-0.53221780904878813,null,0,null,{"$f":"ROUND(AI109/F109*100,2)","v":41.36},{"$f":"ROUND(AQ109+J109,2)","v":41.36}]
[111,"GRANBY                       ",1,8273052.5900000017,4537515,7978374.4699999979,4781695,3196679,0,41.61,3319802,0,0,0,0,0,852,812,36.61,56.872675218013434,0,4537515,56.872675218013441,0,null,null,0.73496884756437675,56.872675218013434,0,0,20300,20300,4557815,0,4557815,null,9339510,117.06031140952453,null,-294678.12000000384,20300,1238013.3830330013,15.517113012031906,null,0,null,{"$f":"ROUND(AI110/F110*100,2)","v":57.13},{"$f":"ROUND(AQ110+J110,2)","v":57.13}]
[100,"FRAMINGHAM                   ",1,91598610.68881999,33596454.666226074,95619668.628199995,57889811,37729858,4133403.3337739259,41.51,39691724,0,0,4021057.939380005,1669141.1506366399,0,8572,8641,36.51,39.458260566354618,0,37729858,39.458260566354625,1,null,null,0.61111294966764773,39.458260566354618,0,1313452.6662260741,216025,0,37729858,0,37729858,null,95619669,100.00000038883215,null,4021057.939380005,4133403.3337739259,-1961866.4475658163,-2.0517394336453805,null,0,null,{"$f":"ROUND(AI111/F111*100,2)","v":39.46},{"$f":"ROUND(AQ111+J111,2)","v":39.46}]
[285,"STOUGHTON                    ",1,37491590.603239998,14600824.148446621,38474628.719349995,23660828,14813801,212976.85155337863,41.19,15847700,0,0,983038.11610999703,404913.40002570779,0,3696,3724,36.19,38.502778306343252,0,14813801,38.502778306343252,1,null,null,0.63462057528478499,38.502778306343252,0,284995.48642306635,93100,0,14813801,0,14813801,null,38474629,100.00000072944175,null,983038.11610999703,212976.85155337863,-1033898.5695002619,-2.6872216936567455,null,0,null,{"$f":"ROUND(AI112/F112*100,2)","v":38.5},{"$f":"ROUND(AQ112+J112,2)","v":38.5}]
[258,"SALEM                        ",1,52070759.630000003,21231627.191162799,52542429.829999998,31669846,20872584,0,40.9,21489854,0,0,471670.19999999553,192913.11179999815,0,4784,4671,35.9,40.408536985931775,0,21231627.191162799,40.408536985931775,0,null,null,0.61840158658913025,40.408536985931775,0,110399.77771181334,116775,116775,21348402.191162799,0,21348402.191162799,null,53018248.191162795,100.90558880261591,null,471670.19999999553,116775,-141451.60930719972,-0.26921406140687765,null,0,null,{"$f":"ROUND(AI113/F113*100,2)","v":40.630000000000003},{"$f":"ROUND(AQ113+J113,2)","v":40.630000000000003}]
[775,"WACHUSETT                    ",1,63713837,24988919.504425,65656785,40218460,25438325,449405.4955749996,40.35,26492513,0,0,1942948,783979.51800000004,0,7064,7052,35.35,38.744396333143634,0,25438325,38.744396333143634,1,null,null,0,38.744396333143634,0,430762.24942500051,176300,0,25438325,0,25438325,null,65656785,100,null,1942948,449405.4955749996,-1054187.7475000024,-1.6056036668563678,null,0,null,{"$f":"ROUND(AI114/F114*100,2)","v":38.74},{"$f":"ROUND(AQ114+J114,2)","v":38.74}]
[231,"PEMBROKE                     ",1,30579313.617779996,13095032.304039083,30953452.00279,18734967,12218485,0,40.229999999999997,12452574,0,0,374138.38501000404,150515.87228952462,0,3252,3179,35.229999999999997,42.305563537335864,0,13095032.304039083,42.305563537335857,0,null,null,0.59769601782484316,42.305563537335864,0,87982.304039082956,79475,79475,13174507.304039083,0,13174507.304039083,null,31909474.304039083,103.08858056013563,null,374138.38501000404,79475,721933.56331666745,2.3323200373631892,null,0,null,{"$f":"ROUND(AI115/F115*100,2)","v":42.56},{"$f":"ROUND(AQ115+J115,2)","v":42.56}]
[616,"AYER SHIRLEY",1,18020997,8003886,17776166,10841421,6934745,0,40.21,7147796,0,0,0,0,0,1771,1739,35.21,45.025940914368149,0,8003886,45.025940914368149,0,null,null,0,45.025940914368149,0,0,43475,43475,8047361,0,8047361,null,18888782,106.25903245953036,null,-244831,43475,899564.65139999986,5.0605099626094798,null,0,null,{"$f":"ROUND(AI116/F116*100,2)","v":45.27},{"$f":"ROUND(AQ116+J116,2)","v":45.27}]
[212,"NORTH ATTLEBOROUGH           ",1,42114635.469999991,19941736,42858323.110000007,25023400,17834923,0,40.119999999999997,17194759,0,0,743687.6400000155,298367.4811680062,0,4586,4558,35.119999999999997,46.529435948339874,0,19941736,46.529435948339874,0,null,null,0.66995640961183878,46.529435948339874,0,0,113950,113950,20055686,0,20055686,null,45079086,105.18163737834584,null,743687.6400000155,113950,2860926.7682679966,6.675311959651701,null,0,null,{"$f":"ROUND(AI117/F117*100,2)","v":46.8},{"$f":"ROUND(AQ117+J117,2)","v":46.8}]
[186,"MILLBURY                     ",1,17048501.060000002,6879057.8450512495,17130949.16,10531645,6599304,0,40.04,6859232,0,0,82448.099999997765,33012.219239999104,0,1781,1757,35.04,40.15573089851636,0,6879057.8450512495,40.15573089851636,0,null,null,0.70869894767688801,40.15573089851636,0,107071.84505124995,43925,43925,6922982.8450512495,0,6922982.8450512495,null,17454627.845051251,101.88943812761423,null,82448.099999997765,43925,63750.801387249492,0.37213817396705906,null,0,null,{"$f":"ROUND(AI118/F118*100,2)","v":40.409999999999997},{"$f":"ROUND(AQ118+J118,2)","v":40.409999999999997}]
[162,"LUNENBURG                    ",1,14945462.859999999,5605871.9110325621,15341249.750000002,9506767,5834483,228611.08896743786,39.71,6092010,0,0,395786.89000000246,157166.97401900098,0,1627,1647,34.71,38.031340960341247,0,5834483,38.031340960341247,1,null,null,0.74424806708154645,38.031340960341247,0,134759.22253781278,41175,0,5834483,0,5834483,null,15341250,100.00000162959343,null,395786.89000000246,228611.08896743786,-257527.27572500054,-1.6786590396587542,null,0,null,{"$f":"ROUND(AI119/F119*100,2)","v":38.03},{"$f":"ROUND(AQ119+J119,2)","v":38.03}]
[625,"BRIDGEWATER RAYNHAM          ",1,49690981,20536596,51489038,31846579,19642459,0,39.549999999999997,20363915,0,0,1798057,711131.54349999991,0,5317,5407,34.549999999999997,39.885375213263842,0,20536596,39.885375213263842,0,null,null,0,39.885375213263842,0,0,135175,135175,20671771,0,20671771,null,52518350,101.99908959262358,null,1798057,135175,307856.47100000083,0.59790682241917636,null,0,null,{"$f":"ROUND(AI120/F120*100,2)","v":40.15},{"$f":"ROUND(AQ120+J120,2)","v":40.15}]
[632,"CHESTERFIELD GOSHEN",1,1269753,730880,1290268,795911,494357,0,39.39,508237,0,0,20515,8080.8585000000003,0,146,136,34.39,56.645596108715402,0,730880,56.645596108715395,0,null,null,0,56.645596108715402,0,0,3400,3400,734280,0,734280,null,1530191,118.59481906084628,null,20515,3400,226043.43479999999,17.519107255236904,null,0,null,{"$f":"ROUND(AI121/F121*100,2)","v":56.91},{"$f":"ROUND(AQ121+J121,2)","v":56.91}]
[17,"AUBURN                       ",1,22469656.549999997,8389817.1613508761,22643826.370000001,14394734,8249092,0,39.17,8869587,0,0,174169.82000000402,68222.318494001578,0,2340,2343,34.17,37.051234293450712,0,8389817.1613508761,37.051234293450712,0,null,null,0.68870481947801554,37.051234293450712,0,198776.79884637543,58575,58575,8448392.1613508761,0,8448392.1613508761,null,22843126.161350876,100.88015067813326,null,174169.82000000402,58575,-421194.62777812406,-1.8600859275981279,null,0,null,{"$f":"ROUND(AI122/F122*100,2)","v":37.31},{"$f":"ROUND(AQ122+J122,2)","v":37.31}]
[855,"OLD COLONY                   ",1,7268292,3203704,7329579,4522220,2807359,0,39.119999999999997,2867331,0,0,61287,23975.474399999999,0,489,479,34.119999999999997,43.709249876425375,0,3203704,43.709249876425375,0,null,null,0,43.709249876425375,0,0,11975,11975,3215679,0,3215679,null,7737899,105.57085202301523,null,61287,11975,348347.69519999996,4.7526289736422811,null,0,null,{"$f":"ROUND(AI123/F123*100,2)","v":43.87},{"$f":"ROUND(AQ123+J123,2)","v":43.87}]
[7,"AMESBURY                     ",1,23277123.93,8807407,23284050.52,14749359,8534692,0,39,9080780,0,0,6926.589999999851,2701.3700999999419,0,2440,2394,34,37.825922909911299,0,8807407,37.825922909911299,0,null,null,0.66327056246267935,37.825922909911299,0,30426.522570000496,59850,59850,8867257,0,8867257,null,23616616,101.42829736481778,null,6926.589999999851,59850,-213522.70280000009,-0.91703418448003049,null,0,null,{"$f":"ROUND(AI124/F124*100,2)","v":38.08},{"$f":"ROUND(AQ124+J124,2)","v":38.08}]
[760,"SILVER LAKE                  ",1,18899966,7617506.5369499996,19669150,12263148,7406002,0,38.93,7657200,0,0,769184,299443.33119999996,0,1826,1858,33.93,38.728193831202667,0,7617506.5369499996,38.728193831202667,0,null,null,0,38.728193831202667,0,111993.5369500001,46450,46450,7663956.5369499996,0,7663956.5369499996,null,19927104.53695,101.31146763815416,null,769184,46450,6756.4419499998912,3.4350452103929285E-2,null,0,null,{"$f":"ROUND(AI125/F125*100,2)","v":38.96},{"$f":"ROUND(AQ125+J125,2)","v":38.96}]
[101,"FRANKLIN                     ",1,57559562.145959996,27423796,57388919.031509995,34322367,23066552,0,38.770000000000003,22249684,0,0,0,0,0,6194,6086,33.770000000000003,47.785873061910564,0,27423796,47.785873061910564,0,null,null,0.64180343775729554,47.785873061910564,0,0,152150,152150,27575946,0,27575946,null,61898313,107.85760394966505,null,-170643.11445000023,152150,5326262.0914835706,9.2809939294363275,null,0,null,{"$f":"ROUND(AI126/F126*100,2)","v":48.05},{"$f":"ROUND(AQ126+J126,2)","v":48.05}]
[650,"DIGHTON REHOBOTH             ",1,28150365,12463021,28723483,18028977,10694506,0,38.729999999999997,11124605,0,0,573118,221968.60139999999,0,2914,2929,33.729999999999997,43.389657862871296,0,12463021,43.389657862871296,0,null,null,0,43.389657862871296,0,0,73225,73225,12536246,0,12536246,null,30565223,106.41196612541731,null,573118,73225,1411641.0340999998,4.9145886454647609,null,0,null,{"$f":"ROUND(AI127/F127*100,2)","v":43.64},{"$f":"ROUND(AQ127+J127,2)","v":43.64}]
[218,"NORTON                       ",1,24839826.120000001,12395800,24716889.330000006,15884891,8831998,0,37.97,9385003,0,0,0,0,0,2685,2611,32.97,50.151132832700981,0,12395800,50.151132832700988,0,null,null,0.70846258222583525,50.151132832700981,0,0,65275,65275,12461075,0,12461075,null,28345966,114.68257846506283,null,-122936.78999999538,65275,3076072.1213989984,12.445223508224515,null,0,null,{"$f":"ROUND(AI128/F128*100,2)","v":50.42},{"$f":"ROUND(AQ128+J128,2)","v":50.42}]
[763,"SOMERSET BERKLEY",1,10050573,3820117.8262999998,9594365,6056531,3537834,0,37.69,3616116,0,0,0,0,0,979,922,32.69,39.816265342208681,0,3820117.8262999998,39.816265342208681,0,null,null,0,39.816265342208681,0,13386.015075000003,23050,23050,3843167.8262999998,0,3843167.8262999998,null,9899698.8262999989,103.18242870997715,null,-456208,23050,227051.65780000016,2.3665105277941763,null,0,null,{"$f":"ROUND(AI129/F129*100,2)","v":40.06},{"$f":"ROUND(AQ129+J129,2)","v":40.06}]
[635,"CENTRAL BERKSHIRE            ",1,16974405,8498034,16927679,10815311,6112368,0,37.65,6373271,0,0,0,0,0,1732,1701,32.65,50.202003476081977,0,8498034,50.202003476081984,0,null,null,0,50.202003476081977,0,0,42525,42525,8540559,0,8540559,null,19355870,114.344500507128,null,-46726,42525,2167287.8564999998,12.803219251144824,null,0,null,{"$f":"ROUND(AI130/F130*100,2)","v":50.45},{"$f":"ROUND(AQ130+J130,2)","v":50.45}]
[87,"EAST LONGMEADOW              ",1,25028520.540000003,9901624.2199039999,25486357.480000004,16206963,9279394,0,37.26,9496217,0,0,457836.94000000134,170590.04384400049,0,2680,2646,32.26,38.850684048021122,0,9901624.2199039999,38.850684048021122,0,null,null,0.62738937930019167,38.850684048021122,0,36555.997418000363,66150,66150,9967774.2199039999,0,9967774.2199039999,null,26174737.219903998,102.70097341467563,null,457836.94000000134,66150,471557.42285599932,1.8502346725146808,null,0,null,{"$f":"ROUND(AI131/F131*100,2)","v":39.11},{"$f":"ROUND(AQ131+J131,2)","v":39.11}]
[801,"ASSABET VALLEY               ",1,11767240,3884226.0669062501,12473207,8071058,4402149,517922.93309374992,37.04,4620076,0,0,705967,261490.17680000002,0,715,743,32.04,35.292840085152115,0,4402149,35.292840085152122,1,null,null,0,35.292840085152115,0,85151.117031250149,18575,0,4402149,0,4402149,null,12473207,100,null,705967,517922.93309374992,-217926.87280000001,-1.7471599148478845,null,0,null,{"$f":"ROUND(AI132/F132*100,2)","v":35.29},{"$f":"ROUND(AQ132+J132,2)","v":35.29}]
[750,"PIONEER                      ",1,7816227,4048786,7481050,4776255,2704795,0,36.979999999999997,2766492,0,0,0,0,0,802,751,31.979999999999997,54.120557943069493,0,4048786,54.120557943069485,0,null,null,0,54.120557943069493,0,0,18775,18775,4067561,0,4067561,null,8843816,118.21623969897274,null,-335177,18775,1301068.7100000004,17.391525387479028,null,0,null,{"$f":"ROUND(AI133/F133*100,2)","v":54.37},{"$f":"ROUND(AQ133+J133,2)","v":54.37}]
[167,"MANSFIELD                    ",1,41985292.046640001,18283964,40931631.918399997,26810067,14121565,0,36.5,14940046,0,0,0,0,0,4357,4171,31.5,44.66952120660698,0,18283964,44.669521206606987,0,null,null,0.65660492636539114,44.66952120660698,0,98824.354787355289,104275,104275,18388239,0,18388239,null,45198306,110.42390415829476,null,-1053660.1282400042,104275,3448193.3497840017,8.4242752809323846,null,0,null,{"$f":"ROUND(AI134/F134*100,2)","v":44.92},{"$f":"ROUND(AQ134+J134,2)","v":44.92}]
[275,"SOUTHAMPTON                  ",1,4598039.57,2468676,4683286.6400000006,2974492,1708795,0,36.46,1707526,0,0,85247.070000000298,31081.081722000112,0,496,490,31.46,52.712468609437913,0,2468676,52.712468609437913,0,null,null,3.6869929334613341,52.712468609437913,0,0,12250,12250,2480926,0,2480926,null,5455418,116.48695498168354,null,85247.070000000298,12250,773399.6910559996,16.514037053602159,null,0,null,{"$f":"ROUND(AI135/F135*100,2)","v":52.97},{"$f":"ROUND(AQ135+J135,2)","v":52.97}]
[145,"KINGSTON                     ",1,10520096.445809999,4188864.5356259407,10093730.667000001,6547555,3546176,0,36.44,3678155,0,0,0,0,0,1160,1092,31.439999999999998,41.499666216781769,0,4188864.5356259407,41.499666216781769,0,null,null,2.1755234131597301,41.499666216781769,0,0,27300,27300,4216164.5356259402,0,4216164.5356259402,null,10763719.53562594,106.63767333139144,null,-426365.77880999818,27299.999999999534,538009.0805711397,5.3301311310998543,null,0,null,{"$f":"ROUND(AI136/F136*100,2)","v":41.77},{"$f":"ROUND(AQ136+J136,2)","v":41.77}]
[25,"BELLINGHAM                   ",1,22925709.119999997,8245235,23462633.450000003,15314220,8148413,0,36.36,8531014,0,0,536924.33000000566,195225.68638800204,0,2424,2424,31.36,35.141984456139554,0,8245235,35.141984456139554,0,null,null,0.72670869973319274,35.141984456139554,0,0,60600,60600,8305835,0,8305835,null,23620055,100.67094578422098,null,536924.33000000566,60600,-225178.52242000028,-0.95973251638554302,null,0,null,{"$f":"ROUND(AI137/F137*100,2)","v":35.4},{"$f":"ROUND(AQ137+J137,2)","v":35.4}]
[292,"SWANSEA                      ",1,19734625.710000001,6481461,20558168.07,13514200,7043968,562507,36.200000000000003,7442057,0,0,823542.3599999994,298122.33431999985,0,2060,2076,31.200000000000003,34.263597690297509,0,7043968,34.263597690297509,1,null,null,0.77851773049005546,34.263597690297509,0,277652.54953700001,51900,0,7043968,0,7043968,null,20558168,99.999999659502734,null,823542.3599999994,562507,-398088.84134000074,-1.9364023097024941,null,0,null,{"$f":"ROUND(AI138/F138*100,2)","v":34.26},{"$f":"ROUND(AQ138+J138,2)","v":34.26}]
[829,"SOUTH MIDDLESEX              ",1,11573926,3818290.5708499998,11914131,7823272,4090859,272568.42915000021,36.15,4306958,0,0,340205,122984.1075,0,696,705,31.15,34.33619287885957,0,4090859,34.336192878859563,1,null,null,0,34.33619287885957,0,132805.57085000002,17625,0,4090859,0,4090859,null,11914131,100,null,340205,272568.42915000021,-216099.35649999976,-1.8138071211404281,null,0,null,{"$f":"ROUND(AI139/F139*100,2)","v":34.340000000000003},{"$f":"ROUND(AQ139+J139,2)","v":34.340000000000003}]
[250,"ROCHESTER                    ",1,4252932.9000000004,1750422,4382165.5599999996,2807707,1574459,0,36.1,1581962,0,0,129232.65999999922,46652.990259999715,0,486,476,31.1,39.944223376170207,0,1750422,39.944223376170207,0,null,null,4.3868694230659306,39.944223376170207,0,0,11900,11900,1762322,0,1762322,null,4570029,104.28700005574414,null,129232.65999999922,11900,180360.23284000019,4.1157786115228419,null,0,null,{"$f":"ROUND(AI140/F140*100,2)","v":40.22},{"$f":"ROUND(AQ140+J140,2)","v":40.22}]
[94,"FAIRHAVEN                    ",1,17736701.940000001,7383635,17707799.16,11597160,6110639,0,35.83,6344704,0,0,0,0,0,1803,1785,30.83,41.697078972291663,0,7383635,41.697078972291663,0,null,null,0.91427803236734739,41.697078972291663,0,0,44625,44625,7428260,0,7428260,null,19025420,107.44090684615603,null,-28902.780000001192,44625,1083555.5609719995,6.1190865741217237,null,0,null,{"$f":"ROUND(AI141/F141*100,2)","v":41.95},{"$f":"ROUND(AQ141+J141,2)","v":41.95}]
[766,"SOUTHWICK TOLLAND GRANVILLE",1,16539210,9588623,16275297,10235762,6039535,0,35.75,5818419,0,0,0,0,0,1672,1611,30.75,58.915195218864511,0,9588623,58.915195218864518,0,null,null,0,58.915195218864511,0,0,40275,40275,9628898,0,9628898,null,19864660,122.05405529619522,null,-263913,40275,3810479.3225000007,23.412656140775802,null,0,null,{"$f":"ROUND(AI142/F142*100,2)","v":59.16},{"$f":"ROUND(AQ142+J142,2)","v":59.16}]
[177,"MEDWAY                       ",1,21554025.020479999,10117244,21958660.335269995,14480057,7478603,0,35.4,7773366,0,0,404635.31478999555,143240.90143565842,0,2351,2331,30.4,46.074049352408288,0,10117244,46.074049352408288,0,null,null,0.70366269210429622,46.074049352408288,0,0,58275,58275,10175519,0,10175519,null,24655576,112.28178597215341,null,404635.31478999555,58275,2402153.2413144223,10.939434394620534,null,0,null,{"$f":"ROUND(AI143/F143*100,2)","v":46.34},{"$f":"ROUND(AQ143+J143,2)","v":46.34}]
[148,"LANESBOROUGH                 ",1,1841661.51,747323,1924866.88,1307443,617424,0,35.130000000000003,676206,0,0,83205.369999999879,29230.046480999958,0,198,200,30.130000000000003,38.824658877189471,0,747323,38.824658877189471,0,null,null,8.8848674672314907,38.824658877189471,0,0,5000,5000,752323,0,752323,null,2059766,107.00823113544351,null,83205.369999999879,5000,76117.265056000091,3.9544171000542079,null,0,null,{"$f":"ROUND(AI144/F144*100,2)","v":39.08},{"$f":"ROUND(AQ144+J144,2)","v":39.08}]
[86,"EASTHAMPTON                  ",1,17813516.280000001,7731667,18095294,11793004,6302290,0,35.119999999999997,6355067,0,0,281777.71999999881,98960.335263999572,0,1782,1774,30.119999999999997,42.727501415561413,0,7731667,42.727501415561413,0,null,null,0.64880062186334198,42.727501415561413,0,0,44350,44350,7776017,0,7776017,null,19569021,108.14425562801024,null,281777.71999999881,44350,1420949.747200001,7.8525927636213027,null,0,null,{"$f":"ROUND(AI145/F145*100,2)","v":42.97},{"$f":"ROUND(AQ145+J145,2)","v":42.97}]
[710,"MENDON UPTON                 ",1,21900366,12074206,21475634,12907063,8568571,0,34.81,7475668,0,0,0,0,0,2375,2295,29.810000000000002,56.222815121546589,0,12074206,56.222815121546589,0,null,null,0,56.222815121546589,0,0,57375,57375,12131581,0,12131581,null,25038644,116.59094208813579,null,-424732,57375,4655912.8045999995,21.679978363386148,null,0,null,{"$f":"ROUND(AI146/F146*100,2)","v":56.49},{"$f":"ROUND(AQ146+J146,2)","v":56.49}]
[174,"MAYNARD                      ",1,13617361.215549998,4180312.5528999842,13850824.283779997,9411919,4438905,258592.44710001582,34.75,4813161,0,0,233463.06822999939,81128.416209924777,0,1393,1384,29.75,32.047948259643853,0,4438905,32.047948259643853,1,null,null,0.80424355191127384,32.047948259643853,0,0,34600,0,4438905,0,4438905,null,13850824,99.999997951168893,null,233463.06822999939,258592.44710001582,-374256.43861354887,-2.702051740356147,null,0,null,{"$f":"ROUND(AI147/F147*100,2)","v":32.049999999999997},{"$f":"ROUND(AQ147+J147,2)","v":32.049999999999997}]
[852,"NASHOBA VALLEY               ",1,10305011,3602853.8408499998,10872297,7267551,3604746,1892.159150000196,34.56,3757466,0,0,567286,196054.0416,0,667,704,29.560000000000002,33.155330469725023,0,3604746,33.15533046972503,1,null,null,0,33.155330469725023,0,0,17600,15707.840849999804,3620453.8408499998,0,3620453.8408499998,null,10888004.840849999,100.14447582557762,null,567286,17600,-137012.0023500002,-1.2601937046973646,null,0,null,{"$f":"ROUND(AI148/F148*100,2)","v":33.299999999999997},{"$f":"ROUND(AQ148+J148,2)","v":33.299999999999997}]
[273,"SOMERSET                     ",1,16069095.370000001,5217678.062146375,16337259.259999998,11103046,5234213,16534.937853625044,34.33,5608581,0,0,268163.88999999687,92060.663436998919,0,1808,1802,29.33,32.038501175135295,0,5234213,32.038501175135302,1,null,null,1.310139741597083,32.038501175135295,0,87166.063181875274,45050,28515.062146374956,5262728.062146375,0,5262728.062146375,null,16365774.062146375,100.17453846873933,null,268163.88999999687,45050,-345853.04181162454,-2.1169587646711818,null,0,null,{"$f":"ROUND(AI149/F149*100,2)","v":32.21},{"$f":"ROUND(AQ149+J149,2)","v":32.21}]
[683,"HAMPSHIRE                    ",1,7159547,3151983,7223607,4822063,2401544,0,34.07,2461083,0,0,64060,21825.241999999998,0,750,734,29.07,43.634475131329822,0,3151983,43.634475131329822,0,null,null,0,43.634475131329822,0,0,18350,18350,3170333,0,3170333,null,7992396,110.64273014852552,null,64060,18350,709250.09510000004,9.8185033474274022,null,0,null,{"$f":"ROUND(AI150/F150*100,2)","v":43.89},{"$f":"ROUND(AQ150+J150,2)","v":43.89}]
[187,"MILLIS                       ",1,12356473.845559999,4625471.5320735266,12205625.68949,8273796,3931830,0,34,4149913,0,0,0,0,0,1308,1277,29,37.89622629552224,0,4625471.5320735266,37.896226295522233,0,null,null,0.7668374862597509,37.89622629552224,0,58360.69271213375,31925,31925,4657396.5320735266,0,4657396.5320735266,null,12931192.532073528,105.94452804831052,null,-150848.15606999956,31925,507483.79764692625,4.1577860124279411,null,0,null,{"$f":"ROUND(AI151/F151*100,2)","v":38.159999999999997},{"$f":"ROUND(AQ151+J151,2)","v":38.159999999999997}]
[110,"GRAFTON                      ",1,28066998.630000003,10571515,29002097.030000001,18689770,10312327,0,33.99,9857813,0,0,935098.39999999851,317839.94615999953,0,3103,3159,28.990000000000002,36.450864187733529,0,10571515,36.450864187733529,0,null,null,0.6970973610340494,36.450864187733529,0,0,78975,78975,10650490,0,10650490,null,29340260,101.16599489219763,null,935098.39999999851,78975,792677.21950299852,2.7331720829809214,null,0,null,{"$f":"ROUND(AI152/F152*100,2)","v":36.72},{"$f":"ROUND(AQ152+J152,2)","v":36.72}]
[278,"SOUTH HADLEY                 ",1,19070528.080000002,7724754,19296183.16,12948752,6347431,0,33.950000000000003,6551054,0,0,225655.07999999821,76609.899659999399,0,1934,1921,28.950000000000003,40.03254911060867,0,7724754,40.03254911060867,0,null,null,0.66048181105677273,40.03254911060867,0,0,48025,48025,7772779,0,7772779,null,20721531,107.38668278685638,null,225655.07999999821,48025,1221724.8171799993,6.3314325276128827,null,0,null,{"$f":"ROUND(AI153/F153*100,2)","v":40.28},{"$f":"ROUND(AQ153+J153,2)","v":40.28}]
[1,"ABINGTON                     ",1,18287521.510000002,7423394,18870910.490000002,13029356,5841554,0,33.51,6323642,0,0,583388.98000000045,195493.64719800014,0,1952,1955,28.509999999999998,39.337762764196114,0,7423394,39.337762764196121,0,null,null,0.84086360310309538,39.337762764196114,0,0,48875,48875,7472269,0,7472269,null,20501625,108.64141934679908,null,583388.98000000045,48875,1148626.8948010001,6.0867592764518434,null,0,null,{"$f":"ROUND(AI154/F154*100,2)","v":39.6},{"$f":"ROUND(AQ154+J154,2)","v":39.6}]
[323,"WEST BRIDGEWATER             ",1,9789063.1500000022,3006077.2266937499,9864782.7299999986,6849766,3015017,8939.7733062501065,33.409999999999997,3295824,0,0,75719.579999996349,25297.911677998778,0,1052,1024,28.409999999999997,30.563440498602855,0,3015017,30.563440498602855,1,null,null,0.84219970792525756,30.563440498602855,0,178814.22669374989,25600,16660.226693749893,3031677.2266937499,0,3031677.2266937499,null,9881443.2266937494,100.16888863292533,null,75719.579999996349,25600,-264146.68339924933,-2.677673605480912,null,0,null,{"$f":"ROUND(AI155/F155*100,2)","v":30.73},{"$f":"ROUND(AQ155+J155,2)","v":30.73}]
[301,"TYNGSBOROUGH                 ",1,16424708.550000001,7125624,16310112.57,11087277,5222836,0,33.380000000000003,5444316,0,0,0,0,0,1802,1750,28.380000000000003,43.688380257451527,0,7125624,43.688380257451527,0,null,null,0.83778408397202708,43.688380257451527,0,0,43750,43750,7169374,0,7169374,null,18256651,111.93454932727052,null,-114595.98000000045,43750,1725058.4241339993,10.576618749443732,null,0,null,{"$f":"ROUND(AI156/F156*100,2)","v":43.96},{"$f":"ROUND(AQ156+J156,2)","v":43.96}]
[665,"FREETOWN LAKEVILLE           ",1,26295108,10623488,25836232,17647952,8188280,0,33.22,8582796,0,0,0,0,0,2854,2760,28.22,41.118565586498832,0,10623488,41.118565586498839,0,null,null,0,41.118565586498832,0,0,69000,69000,10692488,0,10692488,null,28340440,109.69262081250858,null,-458876,69000,2109691.7295999993,8.1656323940735618,null,0,null,{"$f":"ROUND(AI157/F157*100,2)","v":41.39},{"$f":"ROUND(AQ157+J157,2)","v":41.39}]
[31,"BILLERICA                    ",1,50581059.937599994,18486609.0465394,51437518.584149994,35483899,15953620,0,33.130000000000003,17041250,0,0,856458.64654999971,283744.74960201496,0,5385,5359,28.130000000000003,35.939931698485708,0,18486609.0465394,35.939931698485708,0,null,null,0.76175457298265026,35.939931698485708,0,4133.1574795590714,133975,133975,18620584.0465394,0,18620584.0465394,null,54104483.046539396,105.18486220914086,null,856458.64654999971,133975,1579334.1396105066,3.0703933297769197,null,0,null,{"$f":"ROUND(AI158/F158*100,2)","v":36.200000000000003},{"$f":"ROUND(AQ158+J158,2)","v":36.200000000000003}]
[745,"PENTUCKET                    ",1,24290785,12770527,23602673,16203424,7399249,0,33.04,7798323,0,0,0,0,0,2674,2573,28.04,54.106274319014638,0,12770527,54.106274319014631,0,null,null,0,54.106274319014638,0,0,64325,64325,12834852,0,12834852,null,29038276,123.02960770587298,null,-688112,64325,5036528.8408000004,21.338807010544947,null,0,null,{"$f":"ROUND(AI159/F159*100,2)","v":54.38},{"$f":"ROUND(AQ159+J159,2)","v":54.38}]
[878,"TRI COUNTY                   ",1,15102844,5553893,15108183,10085613,5022570,0,32.74,4946419,0,0,5339,1747.9886000000001,0,975,954,27.740000000000002,36.760826897582589,0,5553893,36.760826897582589,0,null,null,0,36.760826897582589,0,0,23850,23850,5577743,0,5577743,null,15663356,103.67465101528093,null,5339,23850,631323.88579999935,4.178688369077868,null,0,null,{"$f":"ROUND(AI160/F160*100,2)","v":36.92},{"$f":"ROUND(AQ160+J160,2)","v":36.92}]
[806,"BLUE HILLS                   ",1,13656513,4130304.1981125004,14060446,9823319,4237127,106822.80188749963,32.590000000000003,4582299,0,0,403933,131641.7647,0,859,870,27.590000000000003,30.135082486003643,0,4237127,30.135082486003643,1,null,null,0,30.135082486003643,0,75964.597562500159,21750,0,4237127,0,4237127,null,14060446,100,null,403933,106822.80188749963,-345172.35140000004,-2.4549175139963602,null,0,null,{"$f":"ROUND(AI161/F161*100,2)","v":30.14},{"$f":"ROUND(AQ161+J161,2)","v":30.14}]
[336,"WEYMOUTH                     ",1,68999976.990219995,27366185,69769188.724899977,45695271,24073918,0,31.93,22277302,0,0,769211.73467998207,245609.30688331826,0,6623,6556,26.93,39.223883063776057,0,27366185,39.223883063776064,0,null,null,0.68327076286246025,39.223883063776057,0,0,163900,163900,27530085,0,27530085,null,73225356,104.9537157279092,null,769211.73467998207,163900,5252783.0401394404,7.5288005151545718,null,0,null,{"$f":"ROUND(AI162/F162*100,2)","v":39.46},{"$f":"ROUND(AQ162+J162,2)","v":39.46}]
[717,"MOHAWK TRAIL                 ",1,9300413,5897844,9310511,6523226,2787285,0,31.26,2910466,0,0,10098,3156.6347999999998,0,944,938,26.26,63.346082723064292,0,5897844,63.346082723064285,0,null,null,0,63.346082723064292,0,0,23450,23450,5921294,0,5921294,null,12444520,133.66097736203739,null,10098,23450,3010828.2614000002,32.33794859809521,null,0,null,{"$f":"ROUND(AI163/F163*100,2)","v":63.6},{"$f":"ROUND(AQ163+J163,2)","v":63.6}]
[680,"HAMPDEN WILBRAHAM            ",1,30372595,11405264,29954423,20917022,9037401,0,31.07,9306839,0,0,0,0,0,3252,3142,26.07,38.075392071481396,0,11405264,38.075392071481396,0,null,null,0,38.075392071481396,0,0,78550,78550,11483814,0,11483814,null,32400836,108.1671177575345,null,-418172,78550,2176974.7739000004,7.2676237959916676,null,0,null,{"$f":"ROUND(AI164/F164*100,2)","v":38.340000000000003},{"$f":"ROUND(AQ164+J164,2)","v":38.340000000000003}]
[238,"PLAINVILLE                   ",1,6579213.379999999,2806755.59601,6450343.1600000001,4374579,2075764,0,30.71,1980900,0,0,0,0,0,740,713,25.71,43.51327559462743,0,2806755.59601,43.513275594627437,0,null,null,3.1337252148612795,43.51327559462743,0,0,17825,17825,2824580.59601,0,2824580.59601,null,7199159.5960099995,111.6089395158629,null,-128870.21999999881,17825,843680.21157400007,13.079617481529461,null,0,null,{"$f":"ROUND(AI165/F165*100,2)","v":43.79},{"$f":"ROUND(AQ165+J165,2)","v":43.79}]
[346,"WINTHROP                     ",1,19874501.94588,6298325,19501001.633919992,13757564,5743438,0,30.36,5920504,0,0,0,0,0,1985,1946,25.36,32.297443578717058,0,6298325,32.297443578717051,0,null,null,0.78045701703726522,32.297443578717058,0,43595.596063009929,48650,48650,6346975,0,6346975,null,20104539,103.09490444342211,null,-373500.311960008,48650,426470.90394189116,2.1869179437434028,null,0,null,{"$f":"ROUND(AI166/F166*100,2)","v":32.549999999999997},{"$f":"ROUND(AQ166+J166,2)","v":32.549999999999997}]
[290,"SUTTON                       ",1,13581958.960000001,5239230,13719822.630000001,9853703,3866120,0,29.35,4026768,0,0,137863.66999999993,40462.987144999985,0,1511,1490,24.35,38.187301259593617,0,5239230,38.187301259593617,0,null,null,0.91043426712138953,38.187301259593617,0,0,37250,37250,5276480,0,5276480,null,15130183,110.2797274282255,null,137863.66999999993,37250,1249712.0580949993,9.1088062272930372,null,0,null,{"$f":"ROUND(AI167/F167*100,2)","v":38.46},{"$f":"ROUND(AQ167+J167,2)","v":38.46}]
[239,"PLYMOUTH                     ",1,83619257.170059979,23670916.509499453,84831859.535599992,62123870,22707990,0,28.86,24482475,0,0,1212602.3655400127,349957.04269484762,0,8126,8064,23.86,27.903333298459486,0,23670916.509499453,27.90333329845949,0,null,null,0.71139842189447966,27.903333298459486,0,637655.50949945487,201600,201600,23872516.509499453,0,23872516.509499453,null,85996386.50949946,101.37274719695466,null,1212602.3655400127,201600,-609958.1524747014,-0.71902013679039101,null,0,null,{"$f":"ROUND(AI168/F168*100,2)","v":28.14},{"$f":"ROUND(AQ168+J168,2)","v":28.14}]
[342,"WILMINGTON                   ",1,33711949.045720004,10891329.755806601,33895541.813259996,24840882,9054660,0,28.83,9772085,0,0,183592.76753999293,52929.794881779962,0,3571,3496,23.83,32.132042071520722,0,10891329.755806601,32.132042071520722,0,null,null,0.79998558924821195,32.132042071520722,0,10866.754071213771,87400,87400,10978729.755806601,0,10978729.755806601,null,35819611.755806603,105.67646905645246,null,183592.76753999293,87400,1206645.0510437433,3.5598930906356046,null,0,null,{"$f":"ROUND(AI169/F169*100,2)","v":32.39},{"$f":"ROUND(AQ169+J169,2)","v":32.39}]
[327,"WESTHAMPTON                  ",1,1314694.2799999998,454345,1294416.6200000001,964619,329798,0,28.72,371756,0,0,0,0,0,138,137,23.72,35.100368226112543,0,454345,35.100368226112543,0,null,null,10.335428729225461,35.100368226112543,0,0,3425,3425,457770,0,457770,null,1422389,109.88649079613948,null,-20277.659999999683,3425,86013.546735999931,6.6449661883976745,null,0,null,{"$f":"ROUND(AI170/F170*100,2)","v":35.36},{"$f":"ROUND(AQ170+J170,2)","v":35.36}]
[40,"BRAINTREE                    ",1,53388255.002250001,14627262,55247735.783950001,39956696,15291040,663778,28.62,15811902,0,0,1859480.7817000002,532183.39972254005,0,5508,5559,23.62,27.677224745999808,0,15291040,27.677224745999808,1,null,null,0.73949417655889194,27.677224745999808,0,200851.58376767626,138975,0,15291040,0,15291040,null,55247736,100.00000039105674,null,1859480.7817000002,663778,-520861.98136649095,-0.94277525400019258,null,0,null,{"$f":"ROUND(AI171/F171*100,2)","v":27.68},{"$f":"ROUND(AQ171+J171,2)","v":27.68}]
[871,"SHAWSHEEN VALLEY             ",1,20894661,6241110.7275124993,20905729,15410372,5495357,0,28.61,5981129,0,0,11068,3166.5548000000003,0,1397,1389,23.61,29.853590503887713,0,6241110.7275124993,29.853590503887709,0,null,null,0,29.853590503887713,0,46659.932962499792,34725,34725,6275835.7275124993,0,6275835.7275124993,null,21686207.727512501,103.73332461887601,null,11068,34725,294706.66061249934,1.4096932980069674,null,0,null,{"$f":"ROUND(AI172/F172*100,2)","v":30.02},{"$f":"ROUND(AQ172+J172,2)","v":30.02}]
[105,"GEORGETOWN                   ",1,13311710.359999999,5297543,12726852.809999999,9153957,3572896,0,28.2,3588972,0,0,0,0,0,1490,1389,23.2,41.624925494836461,0,5297543,41.624925494836461,0,null,null,0.8393632870308485,41.624925494836461,0,0,34725,34725,5332268,0,5332268,null,14486225,113.82409474098414,null,-584857.55000000075,34725,1743295.5075800009,13.697773782770735,null,0,null,{"$f":"ROUND(AI173/F173*100,2)","v":41.9},{"$f":"ROUND(AQ173+J173,2)","v":41.9}]
[136,"HOLLISTON                    ",1,24025115.2018,7155224.6612902638,24361946.347450003,17968840,6393106,0,28.06,6835962,0,0,336831.14565000311,94514.819469390859,0,2568,2565,23.06,29.370496754415566,0,7155224.6612902638,29.370496754415562,0,null,null,0.75275910266568558,29.370496754415566,0,61631.030664218357,64125,64125,7219349.6612902638,0,7219349.6612902638,null,25188189.661290266,103.39153244185165,null,336831.14565000311,64125,383387.51619579364,1.5737146397415103,null,0,null,{"$f":"ROUND(AI174/F174*100,2)","v":29.63},{"$f":"ROUND(AQ174+J174,2)","v":29.63}]
[229,"PEABODY                      ",1,61102630.279999994,18597967,62367587.499999993,45733796,16633792,0,27.77,17319479,0,0,1264957.2199999988,351278.61999399966,0,5990,5970,22.77,29.819923690330334,0,18597967,29.819923690330338,0,null,null,0.74068441361415394,29.819923690330334,0,0,149250,149250,18747217,0,18747217,null,64481013,103.38866001510802,null,1264957.2199999988,149250,1427737.9512500018,2.2892306861316456,null,0,null,{"$f":"ROUND(AI175/F175*100,2)","v":30.06},{"$f":"ROUND(AQ175+J175,2)","v":30.06}]
[915,"NORFOLK COUNTY               ",1,3937649,1119500.7805750002,4240624,3129643,1110981,0,27.64,1172108,0,0,302975,83742.289999999994,0,258,271,22.64,26.399435096698038,0,1119500.7805750002,26.399435096698038,0,null,null,0,26.399435096698038,0,12531.760074999998,6775,6775,1126275.7805750002,0,1126275.7805750002,null,4255918.7805749997,100.36067287679832,null,302975,6775,-45832.693024999695,-1.0808006799235201,null,0,null,{"$f":"ROUND(AI176/F176*100,2)","v":26.56},{"$f":"ROUND(AQ176+J176,2)","v":26.56}]
[605,"AMHERST PELHAM               ",1,15504219,9311217,15834018,11664726,4169292,0,27.27,4317937,0,0,329799,89936.187300000005,0,1529,1532,22.27,58.805143457586063,0,9311217,58.805143457586063,0,null,null,0,58.805143457586063,0,0,38300,38300,9349517,0,9349517,null,21014243,132.71579582642889,null,329799,38300,5031580.2914000005,31.777027734842793,null,0,null,{"$f":"ROUND(AI177/F177*100,2)","v":59.05},{"$f":"ROUND(AQ177+J177,2)","v":59.05}]
[326,"WESTFORD                     ",1,45600413.679659985,16313850,45124999.36552,33597365,11527634,0,26.68,12039350,0,0,0,0,0,4959,4911,21.68,36.152576685608572,0,16313850,36.152576685608572,0,null,null,0.74487772929238882,36.152576685608572,0,0,122775,122775,16436625,0,16436625,null,50033990,110.87864975845508,null,-475414.31413998455,122775,4397275.1692792643,9.7446542517609913,null,0,null,{"$f":"ROUND(AI178/F178*100,2)","v":36.42},{"$f":"ROUND(AQ178+J178,2)","v":36.42}]
[8,"AMHERST                      ",1,11927369.58,5925198,12222179.260000002,9033626,3188553,0,26.53,3242544,0,0,294809.68000000156,78213.00810400043,0,1205,1192,21.53,48.479063135586827,0,5925198,48.479063135586827,0,null,null,1.9855611514805136,48.479063135586827,0,0,29800,29800,5954998,0,5954998,null,14988624,122.63462743550039,null,294809.68000000156,29800,2712453.8423219989,22.1928821744511,null,0,null,{"$f":"ROUND(AI179/F179*100,2)","v":48.72},{"$f":"ROUND(AQ179+J179,2)","v":48.72}]
[879,"UPPER CAPE COD               ",1,10314759,2909460,11054587,8517332,2537255,0,26.07,2881931,0,0,739828,192873.15959999998,0,703,722,21.07,26.319029376674134,0,2909460,26.319029376674134,0,null,null,0,26.319029376674134,0,0,18050,18050,2927510,0,2927510,null,11444842,103.53025400225263,null,739828,18050,45579.169100000057,0.41231001302898207,null,0,null,{"$f":"ROUND(AI180/F180*100,2)","v":26.48},{"$f":"ROUND(AQ180+J180,2)","v":26.48}]
[265,"SEEKONK                      ",1,18854298.620000001,4931239.9737716876,18460114.679999996,14348947,4111168,0,25.18,4648257,0,0,0,0,0,2011,1931,20.18,26.71294333352261,0,4931239.9737716876,26.71294333352261,0,null,null,0.86685635322909416,26.71294333352261,0,192173.81721743732,48275,48275,4979514.9737716876,0,4979514.9737716876,null,19328461.973771688,104.70391061390573,null,-394183.94000000507,48275,331258.09734768793,1.7944530848802351,null,0,null,{"$f":"ROUND(AI181/F181*100,2)","v":26.97},{"$f":"ROUND(AQ181+J181,2)","v":26.97}]
[322,"WEST BOYLSTON                ",1,8413020.9400000013,2886885,8930152.6600000001,6857750,2072403,0,25.18,2248612,0,0,517131.71999999881,130213.7670959997,0,893,896,20.18,32.327386887023273,0,2886885,32.327386887023273,0,null,null,0.74821957187011845,32.327386887023273,0,0,22400,22400,2909285,0,2909285,null,9767035,109.37142254855921,null,517131.71999999881,22400,660672.56021199981,7.3982224645642276,null,0,null,{"$f":"ROUND(AI182/F182*100,2)","v":32.58},{"$f":"ROUND(AQ182+J182,2)","v":32.58}]
[18,"AVON                         ",1,5301350.57,946828.92975868739,5497208.8500000006,4485828,1011381,64552.070241312613,25.11,1380349,0,0,195858.28000000026,49180.014108000061,0,537,531,20.11,18.398082146724331,0,1011381,18.398082146724331,1,null,null,1.4621178472912757,18.398082146724331,0,28738.984090437443,13275,0,1011381,0,1011381,null,5497209,100.00000272865746,null,195858.28000000026,64552.070241312613,-368968.14223500015,-6.7119178532756685,null,0,null,{"$f":"ROUND(AI183/F183*100,2)","v":18.399999999999999},{"$f":"ROUND(AQ183+J183,2)","v":18.399999999999999}]
[817,"ESSEX NORTH SHORE",1,10537063,3060544.19536875,12253746,9478745,2775001,0,24.61,3015647,0,0,1716683,422475.6863,0,677,789,19.61,24.97639656778221,0,3060544.19536875,24.976396567782214,0,null,null,0,24.97639656778221,0,54799.838843750011,19725,19725,3080269.19536875,0,3080269.19536875,null,12559014.19536875,102.49122346234979,null,1716683,19725,64622.304768749978,0.5273677516144879,null,0,null,{"$f":"ROUND(AI184/F184*100,2)","v":25.14},{"$f":"ROUND(AQ184+J184,2)","v":25.14}]
[158,"LITTLETON                    ",1,14701467.741599999,3770462.508446292,15178691.897499997,11837909,3340783,0,24.42,3706637,0,0,477224.1558999978,116538.13887077948,0,1542,1558,19.420000000000002,24.840497019820958,0,3770462.508446292,24.840497019820958,0,null,null,0.82017318569905817,24.840497019820958,0,0,38950,38950,3809412.508446292,0,3809412.508446292,null,15647321.508446291,103.08741763856132,null,477224.1558999978,38950,102775.94707679236,0.67710674787278791,null,0,null,{"$f":"ROUND(AI185/F185*100,2)","v":25.1},{"$f":"ROUND(AQ185+J185,2)","v":25.1}]
[740,"OLD ROCHESTER                ",1,10659228,2382613.4918999998,11419777,8704098,2715679,333065.50810000021,24.42,2788710,0,0,760549,185726.06580000001,0,1132,1180,19.420000000000002,23.780490634799612,0,2715679,23.780490634799612,1,null,null,0,23.780490634799612,0,113273.87670000002,29500,0,2715679,0,2715679,null,11419777,100,null,760549,333065.50810000021,-73030.543400000315,-0.63950936520038937,null,0,null,{"$f":"ROUND(AI186/F186*100,2)","v":23.78},{"$f":"ROUND(AQ186+J186,2)","v":23.78}]
[295,"TEWKSBURY                    ",1,35271376.15231999,12727415,34761232.521389998,26940200,7821033,0,24.33,8457408,0,0,0,0,0,3737,3635,19.329999999999998,36.613819697469893,0,12727415,36.613819697469886,0,null,null,0.87474050087541988,36.613819697469893,0,0,90875,90875,12818290,0,12818290,null,39758490,114.37595020698701,null,-510143.6309299916,90875,4360882.1275458131,12.545245985919479,null,0,null,{"$f":"ROUND(AI187/F187*100,2)","v":36.880000000000003},{"$f":"ROUND(AQ187+J187,2)","v":36.880000000000003}]
[715,"MOUNT GREYLOCK               ",1,5049227,1693808,4887694,3824463,1063231,0,24.23,1184288,0,0,0,0,0,516,487,19.23,34.65454261252853,0,1693808,34.654542612528523,0,null,null,0,34.65454261252853,0,0,12175,12175,1705983,0,1705983,null,5530446,113.15041408075055,null,-161533,12175,521694.74379999982,10.673637584513269,null,0,null,{"$f":"ROUND(AI188/F188*100,2)","v":34.9},{"$f":"ROUND(AQ188+J188,2)","v":34.9}]
[88,"EASTON                       ",1,34368780.379999988,9531741,34281775.100000001,26279966,8001809,0,24.05,8244767,0,0,0,0,0,3767,3691,19.05,27.804105744804332,0,9531741,27.804105744804328,0,null,null,0.78282315860781104,27.804105744804332,0,0,92275,92275,9624016,0,9624016,null,35903982,104.73198046270363,null,-87005.279999986291,92275,1379249.0884499988,4.0232720867770908,null,0,null,{"$f":"ROUND(AI189/F189*100,2)","v":28.07},{"$f":"ROUND(AQ189+J189,2)","v":28.07}]
[240,"PLYMPTON                     ",1,2194273.0299999998,702595.25887999998,2074615.8599999996,1557980,516636,0,23.95,496870,0,0,0,0,0,249,227,18.95,33.866282063417756,0,702595.25887999998,33.866282063417756,0,null,null,8.3421007694049631,33.866282063417756,0,41695.258880000009,5675,5675,708270.25887999998,0,708270.25887999998,null,2266250.2588800001,109.23710276079738,null,-119657.17000000016,5675,211399.7604100001,10.189826680010061,null,0,null,{"$f":"ROUND(AI190/F190*100,2)","v":34.14},{"$f":"ROUND(AQ190+J190,2)","v":34.14}]
[234,"PETERSHAM                    ",1,566086.55000000005,424308,611232.30999999994,479273,131959,0,23.72,144984,0,0,45145.759999999893,10708.574271999974,0,57,58,18.72,69.418450736022123,0,424308,69.418450736022123,0,null,null,28.783715678076526,69.418450736022123,0,0,1450,1450,425758,0,425758,null,905031,148.06661643917352,null,45145.759999999893,1450,280773.69606800005,45.93567641540416,null,0,null,{"$f":"ROUND(AI191/F191*100,2)","v":69.66},{"$f":"ROUND(AQ191+J191,2)","v":69.66}]
[122,"HANOVER                      ",1,23675035.831840001,6590763.713344737,24041587.167499997,18466336,5575251,0,23.63,5681027,0,0,366551.33565999568,86616.080616456966,0,2586,2566,18.63,27.41401250851812,0,6590763.713344737,27.414012508518123,0,null,null,0.80018728096097391,27.41401250851812,0,24836.261202132329,64150,64150,6654913.713344737,0,6654913.713344737,null,25121249.713344738,104.49081226760376,null,366551.33565999568,64150,973886.66566448845,4.0508418137260591,null,0,null,{"$f":"ROUND(AI192/F192*100,2)","v":27.68},{"$f":"ROUND(AQ192+J192,2)","v":27.68}]
[243,"QUINCY                       ",1,108294787.80678003,26024786.287227817,109837246.19363996,84853939,24983307,0,23.61,25932574,0,0,1542458.3868599385,364174.42513763148,0,9356,9295,18.61,23.693953726176687,0,26024786.287227817,23.693953726176687,0,null,null,0.76478753560557367,23.693953726176687,0,485449.28722781874,232375,232375,26257161.287227817,0,26257161.287227817,null,111111100.28722781,101.15976514136386,null,1542458.3868599385,232375,324587.46090942249,0.29551675060860916,null,0,null,{"$f":"ROUND(AI193/F193*100,2)","v":23.91},{"$f":"ROUND(AQ193+J193,2)","v":23.91}]
[14,"ASHLAND                      ",1,23394153.285179999,5517159.5103722075,23999962.492609996,18808879,5191083,0,22.67,5440791,0,0,605809.20742999762,137336.94732438048,0,2479,2494,17.670000000000002,22.988200552692682,0,5517159.5103722075,22.988200552692682,0,null,null,0.83531562047983943,22.988200552692682,0,54420.458104931517,62350,62350,5579509.5103722075,0,5579509.5103722075,null,24388388.510372207,101.61844426999339,null,605809.20742999762,62350,138718.01329752058,0.57799262536445184,null,0,null,{"$f":"ROUND(AI194/F194*100,2)","v":23.25},{"$f":"ROUND(AQ194+J194,2)","v":23.25}]
[271,"SHREWSBURY                   ",1,55423621.549999997,19045813,57096131.690000013,40658212,16437920,0,22.56,12880887,0,0,1672510.1400000155,377318.28758400347,0,5943,5993,17.559999999999999,33.35744898342341,0,19045813,33.35744898342341,0,null,null,0.77436720652204294,33.35744898342341,0,0,149825,149825,19195638,0,19195638,null,59853850,104.8299564758132,null,1672510.1400000155,149825,6314750.6907359976,11.059857303506224,null,0,null,{"$f":"ROUND(AI195/F195*100,2)","v":33.619999999999997},{"$f":"ROUND(AQ195+J195,2)","v":33.619999999999997}]
[600,"ACTON BOXBOROUGH             ",1,52422543,14254475.561999999,52599957,41315952,11284005,0,21.89,11514131,0,0,177414,38835.924599999998,0,5649,5544,16.89,27.09978557967262,0,14254475.561999999,27.09978557967262,0,null,null,0,27.09978557967262,0,0,138600,138600,14393075.561999999,0,14393075.561999999,null,55709027.561999999,105.91078536813252,null,177414,138600,2878944.9746999983,5.4732838939393034,null,0,null,{"$f":"ROUND(AI196/F196*100,2)","v":27.36},{"$f":"ROUND(AQ196+J196,2)","v":27.36}]
[725,"NASHOBA                      ",1,29833754,6492305.0653249994,30925691,25002991,5922700,0,21.29,6584080,0,0,1091937,232473.38729999997,0,3225,3277,16.29,20.993241720370932,0,6492305.0653249994,20.993241720370936,0,null,null,0,20.993241720370932,0,0,81925,81925,6574230.0653249994,0,6574230.0653249994,null,31577221.065324999,102.10675992761163,null,1091937,81925,-9849.5485749999061,-3.1849081642185695E-2,null,0,null,{"$f":"ROUND(AI197/F197*100,2)","v":21.26},{"$f":"ROUND(AQ197+J197,2)","v":21.26}]
[690,"KING PHILIP                  ",1,20668060,7224100,20796265,16339640,4456625,0,20.92,4350579,0,0,128205,26820.486000000004,0,2195,2174,15.920000000000002,34.737487717145363,0,7224100,34.737487717145363,0,null,null,0,34.737487717145363,0,0,54350,54350,7278450,0,7278450,null,23618090,113.5689028775119,null,128205,54350,2927871.3619999997,14.078832723087537,null,0,null,{"$f":"ROUND(AI198/F198*100,2)","v":35},{"$f":"ROUND(AQ198+J198,2)","v":35}]
[99,"FOXBOROUGH                   ",1,26242664.986009996,8597390,26484573.869379997,21281099,5203475,0,20.66,5471713,0,0,241908.88337000087,49978.375304242181,0,2729,2690,15.66,32.461877779879359,0,8597390,32.461877779879359,0,null,null,0.8185820072240223,32.461877779879359,0,0,67250,67250,8664640,0,8664640,null,29945739,113.0686079666232,null,241908.88337000087,67250,3192927.0385860922,12.055799177035578,null,0,null,{"$f":"ROUND(AI199/F199*100,2)","v":32.72},{"$f":"ROUND(AQ199+J199,2)","v":32.72}]
[340,"WILLIAMSBURG                 ",1,1740594.9700000002,514620.14508649998,1731396.01,1404042,327354,0,20.63,357187,0,0,0,0,0,188,185,15.629999999999999,29.722844578260286,0,514620.14508649998,29.72284457826029,0,null,null,6.9252266750139642,29.722844578260286,0,14956.145086500008,4625,4625,519245.14508649998,0,519245.14508649998,null,1923287.1450864999,111.08302976200689,null,-9198.9600000001956,4625,162058.1482235,9.3599700638965864,null,0,null,{"$f":"ROUND(AI200/F200*100,2)","v":29.99},{"$f":"ROUND(AQ200+J200,2)","v":29.99}]
[171,"MARSHFIELD                   ",1,40490934.449160002,13963368,40254049.280549996,32113539,8140510,0,20.6,8292334,0,0,0,0,0,4299,4193,15.600000000000001,34.68810777937523,0,13963368,34.688107779375223,0,null,null,0.79402789461590506,34.68810777937523,0,0,104825,104825,14068193,0,14068193,null,46181732,114.72568058467139,null,-236885.16861000657,104825,5775858.8482066998,14.348516364035675,null,0,null,{"$f":"ROUND(AI201/F201*100,2)","v":34.950000000000003},{"$f":"ROUND(AQ201+J201,2)","v":34.950000000000003}]
[56,"CHELMSFORD                   ",1,47335965.470179997,10346618,47241970.625249989,39434421,7807550,0,19.5,9212184,0,0,0,0,0,5122,5056,14.5,21.901326009609594,0,10346618,21.901326009609594,0,null,null,0.84129763555556503,21.901326009609594,0,0,126400,126400,10473018,0,10473018,null,49907439,105.64216170382478,null,-93994.844930008054,126400,1260833.7280762512,2.6688847044038404,null,0,null,{"$f":"ROUND(AI202/F202*100,2)","v":22.17},{"$f":"ROUND(AQ202+J202,2)","v":22.17}]
[213,"NORTHBOROUGH                 ",1,15486011.710000001,3712560.0384160001,15526446.370000001,13153691,2372755,0,19.12,2968657,0,0,40434.660000000149,7731.1069920000291,0,1779,1755,14.120000000000001,23.911202537557859,0,3712560.0384160001,23.911202537557855,0,null,null,1.5518471266369449,23.911202537557859,0,0,43875,43875,3756435.0384160001,0,3756435.0384160001,null,16910126.038415998,108.91176020218977,null,40434.660000000149,43875,787778.49247199995,5.0737849067262104,null,0,null,{"$f":"ROUND(AI203/F203*100,2)","v":24.19},{"$f":"ROUND(AQ203+J203,2)","v":24.19}]
[673,"GROTON DUNSTABLE             ",1,23421974,10513273,23366261,19288600,4077661,0,19.010000000000002,4441926,0,0,0,0,0,2552,2496,14.010000000000002,44.993390256147528,0,10513273,44.993390256147528,0,null,null,0,44.993390256147528,0,0,62400,62400,10575673,0,10575673,null,29864273,127.80937865925576,null,-55713,62400,6133746.7838999992,26.250441968015334,null,0,null,{"$f":"ROUND(AI204/F204*100,2)","v":45.26},{"$f":"ROUND(AQ204+J204,2)","v":45.26}]
[830,"MINUTEMAN                    ",1,7154168,2166677,7012158,5684556,1327602,0,18.88,1323895,0,0,0,0,0,431,414,13.879999999999999,30.898861662843309,0,2166677,30.898861662843306,0,null,null,0,30.898861662843309,0,0,10350,10350,2177027,0,2177027,null,7861583,112.11360325879708,null,-142010,10350,853131.56960000005,12.166462444229012,null,0,null,{"$f":"ROUND(AI205/F205*100,2)","v":31.05},{"$f":"ROUND(AQ205+J205,2)","v":31.05}]
[307,"WALPOLE                      ",1,36833859.746200003,7542980.7103260532,37317617.441239998,30729479,6588138,0,18.88,7045566,0,0,483757.69503999501,91333.452823551052,0,3869,3834,13.879999999999999,20.212921476573808,0,7542980.7103260532,20.212921476573808,0,null,null,0.83788259430512868,20.212921476573808,0,121247.70980036515,95850,95850,7638830.7103260532,0,7638830.7103260532,null,38368309.710326053,102.81553952564218,null,483757.69503999501,95850,593264.53741994221,1.5897706715979147,null,0,null,{"$f":"ROUND(AI206/F206*100,2)","v":20.47},{"$f":"ROUND(AQ206+J206,2)","v":20.47}]
[289,"SUNDERLAND                   ",1,1659835.8300000003,841288,1744222.4,1440699,303523,0,18.86,328960,0,0,84386.5699999996,15915.307101999924,0,173,175,13.86,48.232840032326159,0,841288,48.232840032326159,0,null,null,8.9501741537722044,48.232840032326159,0,0,4375,4375,845663,0,845663,null,2286362,131.08202256776431,null,84386.5699999996,4375,516702.65536000003,29.623668137732899,null,0,null,{"$f":"ROUND(AI207/F207*100,2)","v":48.48},{"$f":"ROUND(AQ207+J207,2)","v":48.48}]
[773,"TRITON                       ",1,25789437,8362546,25722812,21834988,3887824,0,18.440000000000001,4743287,0,0,0,0,0,2678,2627,13.440000000000001,32.510232551557735,0,8362546,32.510232551557735,0,null,null,0,32.510232551557735,0,0,65675,65675,8428221,0,8428221,null,30263209,117.65124668329419,null,-66625,65675,3684934.4671999998,14.32555067152067,null,0,null,{"$f":"ROUND(AI208/F208*100,2)","v":32.770000000000003},{"$f":"ROUND(AQ208+J208,2)","v":32.770000000000003}]
[730,"NORTHBORO SOUTHBORO          ",1,14903362,2914613.6458749999,15041278,12932868,2108410,0,18.43,2772108,0,0,137916,25417.918799999999,0,1508,1492,13.43,19.377433525761571,0,2914613.6458749999,19.377433525761571,0,null,null,0,19.377433525761571,0,25838.355706249946,37300,37300,2951913.6458749999,0,2951913.6458749999,null,15884781.645874999,105.60792537625458,null,137916,37300,179806.11047499999,1.1954177728448343,null,0,null,{"$f":"ROUND(AI209/F209*100,2)","v":19.63},{"$f":"ROUND(AQ209+J209,2)","v":19.63}]
[262,"SAUGUS                       ",1,28469688.994549997,5266627.0180176003,28704386.50144,24111062,4593325,0,18.39,5278737,0,0,234697.50689000264,43160.871517071486,0,2882,2855,13.39,18.347812512047216,0,5266627.0180176003,18.347812512047216,0,null,null,0.92379607040298906,18.347812512047216,0,380168.01801760099,71375,71375,5338002.0180176003,0,5338002.0180176003,null,29449064.018017601,102.59429866769752,null,234697.50689000264,71375,59265.340402783826,0.20646788740742039,null,0,null,{"$f":"ROUND(AI210/F210*100,2)","v":18.600000000000001},{"$f":"ROUND(AQ210+J210,2)","v":18.600000000000001}]
[670,"FRONTIER                     ",1,5716411,2758445,5662972,4785017,877955,0,17.850000000000001,1010841,0,0,0,0,0,576,566,12.850000000000001,48.710200227018603,0,2758445,48.710200227018603,0,null,null,0,48.710200227018603,0,0,14150,14150,2772595,0,2772595,null,7557612,133.45663725690326,null,-53439,14150,1761754.4979999999,31.110069023827059,null,0,null,{"$f":"ROUND(AI211/F211*100,2)","v":48.96},{"$f":"ROUND(AQ211+J211,2)","v":48.96}]
[246,"READING                      ",1,38963364.685199998,10126574,39638139.190400004,31807445,7830694,0,17.809999999999999,7059553,0,0,674774.50520000607,120177.33937612106,0,4269,4245,12.809999999999999,25.54755144119521,0,10126574,25.54755144119521,0,null,null,0.82724763671233148,25.54755144119521,0,0,106125,106125,10232699,0,10232699,null,42040144,106.05983242064436,null,674774.50520000607,106125,3173146.4101897599,8.0052860073670331,null,0,null,{"$f":"ROUND(AI212/F212*100,2)","v":25.82},{"$f":"ROUND(AQ212+J212,2)","v":25.82}]
[9,"ANDOVER                      ",1,56905481.147259988,9042864.1595289409,57593754.781260006,49454967,8138788,0,17.5,10078907,0,0,688273.63400001824,120447.88595000318,0,5998,5950,12.5,15.701119320790195,0,9042864.1595289409,15.701119320790195,0,null,null,1.1216989600516649,15.701119320790195,0,515289.05294918688,148750,148750,9191614.1595289409,0,9191614.1595289409,null,58646581.159528941,101.82802177470032,null,688273.63400001824,148750,-887292.92719155923,-1.540606148290701,null,0,null,{"$f":"ROUND(AI213/F213*100,2)","v":15.96},{"$f":"ROUND(AQ213+J213,2)","v":15.96}]
[10,"ARLINGTON                    ",1,47819420.315520003,10234582,50290292.382299997,39574733,10715559,480977,17.5,8800801,0,0,2470872.0667799935,432402.61168649886,0,5141,5318,12.5,21.307410421362778,0,10715559,21.307410421362775,1,null,null,1.1893111982515259,21.307410421362778,0,0,132950,0,10715559,0,10715559,null,50290292,99.999999239813533,null,2470872.0667799935,480977,1914757.8330975007,3.8074104213627784,null,0,null,{"$f":"ROUND(AI214/F214*100,2)","v":21.31},{"$f":"ROUND(AQ214+J214,2)","v":21.31}]
[20,"BARNSTABLE                   ",1,53870372.68999999,8440922.3601875007,55521659.879999995,46784953,8736707,295784.63981249928,17.5,9716290,0,0,1651287.1900000051,288975.25825000089,0,5423,5492,12.5,15.735673282972462,0,8736707,15.735673282972463,1,null,null,1.3028419548178565,15.735673282972462,0,507899.36018749978,137300,0,8736707,0,8736707,null,55521660,100.00000021613188,null,1651287.1900000051,295784.63981249928,-979583.47899999842,-1.7643267170275383,null,0,null,{"$f":"ROUND(AI215/F215*100,2)","v":15.74},{"$f":"ROUND(AQ215+J215,2)","v":15.74}]
[23,"BEDFORD                      ",1,25862895.333689999,4145009.3652098598,26053076.229189999,22187734,3865342,0,17.5,4559288,0,0,190180.89550000057,33281.656712500095,0,2608,2585,12.5,15.909865417603816,0,4145009.3652098598,15.909865417603815,0,null,null,0.88893420860856065,15.909865417603816,0,178047.58101737872,64625,64625,4209634.3652098598,0,4209634.3652098598,null,26397368.365209859,101.32150281598652,null,190180.89550000057,64625,-349653.97489838954,-1.3420832604275574,null,0,null,{"$f":"ROUND(AI216/F216*100,2)","v":16.16},{"$f":"ROUND(AQ216+J216,2)","v":16.16}]
[26,"BELMONT                      ",1,37689370.076880001,6420104,39180121.943280004,32414023,6766099,345995,17.5,6856521,0,0,1490751.8664000034,260881.57662000059,0,4068,4156,12.5,17.269213734952377,0,6766099,17.269213734952377,1,null,null,1.3195747111829628,17.269213734952377,0,140665.42493500002,103900,0,6766099,0,6766099,null,39180122,100.00000014476728,null,1490751.8664000034,345995,-90422.340073999949,-0.23078626504762312,null,0,null,{"$f":"ROUND(AI217/F217*100,2)","v":17.27},{"$f":"ROUND(AQ217+J217,2)","v":17.27}]
[618,"BERKSHIRE HILLS              ",1,10662018,2753513,10878643,9349872,1528771,0,17.5,1903763,0,0,216625,37909.375,0,1067,1086,12.5,25.31118081547487,0,2753513,25.31118081547487,0,null,null,0,25.31118081547487,0,0,27150,27150,2780663,0,2780663,null,12130535,111.50779559546167,null,216625,27150,876900.47500000009,8.0607523842817557,null,0,null,{"$f":"ROUND(AI218/F218*100,2)","v":25.56},{"$f":"ROUND(AQ218+J218,2)","v":25.56}]
[28,"BERLIN                       ",1,1474055.7653800002,437180,1394075.23704,1182830,211245,0,17.5,243963,0,0,0,0,0,166,152,12.5,31.359856942029307,0,437180,31.35985694202931,0,null,null,14.872719842956501,31.359856942029307,0,0,3800,3800,440980,0,440980,null,1623810,116.47936616733752,null,-79980.528340000194,3800,197016.833518,14.132439073827907,null,0,null,{"$f":"ROUND(AI219/F219*100,2)","v":31.63},{"$f":"ROUND(AQ219+J219,2)","v":31.63}]
[620,"BERLIN BOYLSTON              ",1,4817370,1049323,5052434,4334259,718175,0,17.5,884176,0,0,235064,41136.199999999997,0,517,533,12.5,20.768663182933217,0,1049323,20.768663182933217,0,null,null,0,20.768663182933217,0,0,13325,13325,1062648,0,1062648,null,5396907,106.81796140236567,null,235064,13325,178472.05000000005,3.5323974543754559,null,0,null,{"$f":"ROUND(AI220/F220*100,2)","v":21.03},{"$f":"ROUND(AQ220+J220,2)","v":21.03}]
[30,"BEVERLY                      ",1,43026226.781149998,7336283.4600120001,44949344.692879997,37443198,7506147,169863.53998799995,17.5,7866135,0,0,1923117.9117299989,336545.63455274981,0,4345,4426,12.5,16.69912442836787,0,7506147,16.69912442836787,1,null,null,0.98923645617703682,16.69912442836787,0,132085.46001200005,110650,0,7506147,0,7506147,null,44949345,100.00000068325802,null,1923117.9117299989,169863.53998799995,-359988.32125399914,-0.80087557163212963,null,0,null,{"$f":"ROUND(AI221/F221*100,2)","v":16.7},{"$f":"ROUND(AQ221+J221,2)","v":16.7}]
[35,"BOSTON                       ",1,780383012.88296986,210991435,805600562.75407994,657393838,148206725,0,17.5,140980098,0,0,25217549.871110082,4413071.2274442641,0,63058,64196,12.5,26.190576913041198,0,210991435,26.190576913041195,0,null,null,0.9923257330742864,26.190576913041198,0,0,1604900,1604900,212596335,0,212596335,null,869990173,107.99274643326879,null,25217549.871110082,1604900,71616236.518036008,8.889794748057767,null,0,null,{"$f":"ROUND(AI222/F222*100,2)","v":26.39},{"$f":"ROUND(AQ222+J222,2)","v":26.39}]
[36,"BOURNE                       ",1,19753593.370000005,4877338,19473369.859999999,16682400,2790970,0,17.5,3407840,0,0,0,0,0,2084,2001,12.5,25.046194033516912,0,4877338,25.046194033516908,0,null,null,1.3327517996003646,25.046194033516912,0,0,50025,50025,4927363,0,4927363,null,21609763,110.97084457060684,null,-280223.51000000536,50025,1519523.2745000003,7.8030833154421479,null,0,null,{"$f":"ROUND(AI223/F223*100,2)","v":25.3},{"$f":"ROUND(AQ223+J223,2)","v":25.3}]
[38,"BOXFORD                      ",1,6315613.1311499998,1625748,6380974.8437599996,5508993,871982,0,17.5,1116671,0,0,65361.712609999813,11438.299706749967,0,730,729,12.5,25.478050608361674,0,1625748,25.478050608361674,0,null,null,3.7739908947635397,25.478050608361674,0,0,18225,18225,1643973,0,1643973,null,7152966,112.09832627682174,null,65361.712609999813,18225,527302.40234200004,8.2636652745568,null,0,null,{"$f":"ROUND(AI224/F224*100,2)","v":25.76},{"$f":"ROUND(AQ224+J224,2)","v":25.76}]
[39,"BOYLSTON                     ",1,2701535.6,443237.88018750004,2619960.2999999998,2263384,356576,0,17.5,458493,0,0,0,0,0,299,283,12.5,16.917732691884684,0,443237.88018750004,16.917732691884684,0,null,null,7.1819432721159382,16.917732691884684,0,23055.880187500006,7075,7075,450312.88018750004,0,450312.88018750004,null,2713696.8801875003,103.57778628124633,null,-81575.300000000279,7075,-8180.1723124998971,-0.31222504831466225,null,0,null,{"$f":"ROUND(AI225/F225*100,2)","v":17.190000000000001},{"$f":"ROUND(AQ225+J225,2)","v":17.190000000000001}]
[41,"BREWSTER                     ",1,4371530.74,930169,4481450.93,3903212,578239,0,17.5,784254,0,0,109920.18999999948,19236.033249999906,0,473,474,12.5,20.755978689250092,0,930169,20.755978689250092,0,null,null,5.5918146730980851,20.755978689250092,0,0,11850,11850,942019,0,942019,null,4845231,108.11746185961252,null,109920.18999999948,11850,157765.0872500001,3.5204019794990842,null,0,null,{"$f":"ROUND(AI226/F226*100,2)","v":21.02},{"$f":"ROUND(AQ226+J226,2)","v":21.02}]
[46,"BROOKLINE                    ",1,68558216.958700001,11159462,71400245.83788,59216726,12183520,1024058,17.5,12495043,0,0,2842028.8791799992,497355.05385649984,0,7142,7343,12.5,17.063694749264116,0,12183520,17.063694749264116,1,null,null,1.7721304249749754,17.063694749264116,0,0,183575,0,12183520,0,12183520,null,71400246,100.00000022705804,null,2842028.8791799992,1024058,-311523.02162900008,-0.43630525073588444,null,0,null,{"$f":"ROUND(AI227/F227*100,2)","v":17.059999999999999},{"$f":"ROUND(AQ227+J227,2)","v":17.059999999999999}]
[48,"BURLINGTON                   ",1,34467698.66996,5684571.2333384063,34239007.273680001,30149693,4089314,0,17.5,5991826,0,0,0,0,0,3553,3469,12.5,16.602616973968797,0,5684571.2333384063,16.602616973968793,0,null,null,0.99685017419091049,16.602616973968797,0,171390.23794853128,86725,86725,5771296.2333384063,0,5771296.2333384063,null,35920989.233338408,104.9124729178447,null,-228691.39627999812,86725,-220530.03955559339,-0.64409005142248432,null,0,null,{"$f":"ROUND(AI228/F228*100,2)","v":16.86},{"$f":"ROUND(AQ228+J228,2)","v":16.86}]
[49,"CAMBRIDGE                    ",1,75565946.828440011,10513263,79533780.825280011,68456380,11077401,564138,17.5,13918412,0,0,3967833.9968400002,694370.94944699993,0,6709,6888,12.5,13.927919539415409,0,11077401,13.927919539415408,1,null,null,2.522955917823281,13.927919539415409,0,0,172200,0,11077401,0,11077401,null,79533781,100.00000021968023,null,3967833.9968400002,564138,-2841010.6444240008,-3.5720804605845906,null,0,null,{"$f":"ROUND(AI229/F229*100,2)","v":13.93},{"$f":"ROUND(AQ229+J229,2)","v":13.93}]
[50,"CANTON                       ",1,30171279.553439993,4936587.2551948912,31710377.389359999,26583708,5126669,190081.74480510876,17.5,5549316,0,0,1539097.835920006,269342.12128600106,0,3157,3224,12.5,16.167164890696593,0,5126669,16.16716489069659,1,null,null,1.031331664495537,16.167164890696593,0,171041.20231370325,80600,0,5126669,0,5126669,null,31710377,99.999998772136976,null,1539097.835920006,190081.74480510876,-422647.04313799925,-1.3328351093034065,null,0,null,{"$f":"ROUND(AI230/F230*100,2)","v":16.170000000000002},{"$f":"ROUND(AQ230+J230,2)","v":16.170000000000002}]
[815,"CAPE COD                     ",1,10012278,2080187,10180996,8693872,1487124,0,17.5,1781674,0,0,168718,29525.649999999998,0,654,652,12.5,20.432057924391682,0,2080187,20.432057924391682,0,null,null,0,20.432057924391682,0,0,16300,16300,2096487,0,2096487,null,10790359,105.98529849142462,null,168718,16300,314812.70000000019,3.0921601383597448,null,0,null,{"$f":"ROUND(AI231/F231*100,2)","v":20.59},{"$f":"ROUND(AQ231+J231,2)","v":20.59}]
[51,"CARLISLE                     ",1,5130124.3316099988,859890.09694868745,5330419.6237000003,4642180,688240,0,17.5,932823,0,0,200295.29209000152,35051.676115750262,0,596,609,12.5,16.131752425746409,0,859890.09694868745,16.131752425746409,0,null,null,3.7175966336913406,16.131752425746409,0,24184.096948687511,15225,15225,875115.09694868745,0,875115.09694868745,null,5517295.096948687,103.50583043064385,null,200295.29209000152,15225,-57708.337198812515,-1.0826227815579657,null,0,null,{"$f":"ROUND(AI232/F232*100,2)","v":16.420000000000002},{"$f":"ROUND(AQ232+J232,2)","v":16.420000000000002}]
[65,"COHASSET                     ",1,14009300.662070001,2265937.0686455625,14047813.289400002,11968705,2079108,0,17.5,2458367,0,0,38512.627330001444,6739.7097827502521,0,1573,1553,12.5,16.130176433618754,0,2265937.0686455625,16.130176433618754,0,null,null,1.5614212955374027,16.130176433618754,0,68911.068645562511,38825,38825,2304762.0686455625,0,2304762.0686455625,null,14273467.068645563,101.60632672571063,null,38512.627330001444,38825,-153605.2569994377,-1.0934460320265167,null,0,null,{"$f":"ROUND(AI233/F233*100,2)","v":16.41},{"$f":"ROUND(AQ233+J233,2)","v":16.41}]
[67,"CONCORD                      ",1,18417417.455640003,2573232,18462886.786499996,15757030,2705857,132625,17.5,3231005,0,0,45469.330859992653,7957.1329004987138,0,2088,2040,12.5,14.655655051616922,0,2705857,14.655655051616924,1,null,null,2.5090074583206823,14.655655051616922,0,0,51000,0,2705857,0,2705857,null,18462887,100.0000011563739,null,45469.330859992653,132625,-525148.18763749907,-2.8443449483830783,null,0,null,{"$f":"ROUND(AI234/F234*100,2)","v":14.66},{"$f":"ROUND(AQ234+J234,2)","v":14.66}]
[640,"CONCORD CARLISLE             ",1,13172186,2020931,13659882,11719574,1940308,0,17.5,2390479,0,0,487696,85346.799999999988,0,1283,1301,12.5,14.794644638950761,0,2020931,14.794644638950761,0,null,null,0,14.794644638950761,0,0,32525,32525,2053456,0,2053456,null,13773030,100.82832340718609,null,487696,32525,-337023.34999999963,-2.4672493510558873,null,0,null,{"$f":"ROUND(AI235/F235*100,2)","v":15.03},{"$f":"ROUND(AQ235+J235,2)","v":15.03}]
[68,"CONWAY                       ",1,1306815.92,606379,1311758.95,1106711,205048,0,17.5,229558,0,0,4943.0300000000279,865.0302500000048,0,147,145,12.5,46.226404630210453,0,606379,46.226404630210453,0,null,null,10.699811543867863,46.226404630210453,0,0,3625,3625,610004,0,610004,null,1716715,130.87122447306345,null,4943.0300000000279,3625,380446.18375000003,29.002751134268991,null,0,null,{"$f":"ROUND(AI236/F236*100,2)","v":46.5},{"$f":"ROUND(AQ236+J236,2)","v":46.5}]
[71,"DANVERS                      ",1,34741461.949999996,6334657.4445563704,34881940.840000004,29397926,5484015,0,17.5,6104340,0,0,140478.89000000805,24583.805750001407,0,3717,3660,12.5,18.160278046490632,0,6334657.4445563704,18.160278046490628,0,null,null,0.87414104121863512,18.160278046490632,0,292201.84163187491,91500,91500,6426157.4445563704,0,6426157.4445563704,null,35824083.44455637,102.70094662701791,null,140478.89000000805,91500,321817.7975563705,0.92259143214683803,null,0,null,{"$f":"ROUND(AI237/F237*100,2)","v":18.420000000000002},{"$f":"ROUND(AQ237+J237,2)","v":18.420000000000002}]
[72,"DARTMOUTH                    ",1,35239525.229999997,9326041,36075718.260000005,30256260,5819458,0,17.5,6313251,0,0,836193.03000000864,146333.7802500015,0,3719,3721,12.5,25.851296799655177,0,9326041,25.851296799655177,0,null,null,0.93338804680860676,25.851296799655177,0,0,93025,93025,9419066,0,9419066,null,39675326,109.97792397106939,null,836193.03000000864,93025,3105815.3044999996,8.6091572234714526,null,0,null,{"$f":"ROUND(AI238/F238*100,2)","v":26.11},{"$f":"ROUND(AQ238+J238,2)","v":26.11}]
[73,"DEDHAM                       ",1,27117828.372749999,4312267.8425356252,26929202.733199999,23751768,3177435,0,17.5,4712610,0,0,0,0,0,2731,2681,12.5,16.013351324431127,0,4312267.8425356252,16.013351324431127,0,null,null,1.2088873869878769,16.013351324431127,0,188276.85637562536,67025,67025,4379292.8425356252,0,4379292.8425356252,null,28131060.842535626,104.46302893272774,null,-188625.63955000043,67025,-333317.63577437401,-1.237755306299654,null,0,null,{"$f":"ROUND(AI239/F239*100,2)","v":16.260000000000002},{"$f":"ROUND(AQ239+J239,2)","v":16.260000000000002}]
[74,"DEERFIELD                    ",1,3182088.0800000005,1059343,3228031.8499999992,2757185,470847,0,17.5,564906,0,0,45943.769999998622,8040.1597499997579,0,350,345,12.5,32.816993425885812,0,1059343,32.816993425885819,0,null,null,5.2570113463510442,32.816993425885812,0,0,8625,8625,1067968,0,1067968,null,3825153,118.49799437387834,null,45943.769999998622,8625,503062.42625000014,15.584184098121597,null,0,null,{"$f":"ROUND(AI240/F240*100,2)","v":33.08},{"$f":"ROUND(AQ240+J240,2)","v":33.08}]
[645,"DENNIS YARMOUTH              ",1,34668834,6718014,35460503,30284637,5175866,0,17.5,6205588,0,0,791669,138542.07499999998,0,3469,3409,12.5,18.945061213598692,0,6718014,18.945061213598692,0,null,null,0,18.945061213598692,0,0,85225,85225,6803239,0,6803239,null,37087876,104.58925526239715,null,791669,85225,597650.97500000056,1.685399033961815,null,0,null,{"$f":"ROUND(AI241/F241*100,2)","v":19.190000000000001},{"$f":"ROUND(AQ241+J241,2)","v":19.190000000000001}]
[78,"DOVER                        ",1,4528034.3919200003,690567,4322776.7936200006,3814498,508279,0,17.5,756486,0,0,0,0,0,517,480,12.5,15.975078820151204,0,690567,15.975078820151204,0,null,null,6.710257417501305,15.975078820151204,0,0,12000,12000,702567,0,702567,null,4517065,104.49452321171775,null,-205257.59829999972,12000,-53918.938883500057,-1.2473218363501708,null,0,null,{"$f":"ROUND(AI242/F242*100,2)","v":16.25},{"$f":"ROUND(AQ242+J242,2)","v":16.25}]
[655,"DOVER SHERBORN               ",1,11333898,1629376,11580014,10114738,1465276,0,17.5,2026502,0,0,246116,43070.299999999996,0,1203,1208,12.5,14.070587479427918,0,1629376,14.070587479427918,0,null,null,0,14.070587479427918,0,0,30200,30200,1659576,0,1659576,null,11774314,101.67789089028736,null,246116,30200,-366926.44999999995,-3.1686183626375577,null,0,null,{"$f":"ROUND(AI243/F243*100,2)","v":14.33},{"$f":"ROUND(AQ243+J243,2)","v":14.33}]
[82,"DUXBURY                      ",1,28945039.577839997,4782129.23820375,29322453.03464001,24866076,4456377,0,17.5,5131429,0,0,377413.45680001378,66047.354940002406,0,3165,3134,12.5,16.30876254641586,0,4782129.23820375,16.30876254641586,0,null,null,1.0550725399219594,16.30876254641586,0,115999.23820374999,78350,78350,4860479.23820375,0,4860479.23820375,null,29726555.238203749,101.37813232435347,null,377413.45680001378,78350,-270950.04285825137,-0.9240360707140205,null,0,null,{"$f":"ROUND(AI244/F244*100,2)","v":16.579999999999998},{"$f":"ROUND(AQ244+J244,2)","v":16.579999999999998}]
[85,"EASTHAM                      ",1,1871143.94,334856,1830657.57,1584800,245858,0,17.5,320365,0,0,0,0,0,202,184,12.5,18.291569405850161,0,334856,18.291569405850161,0,null,null,13.040814375463048,18.291569405850161,0,0,4600,4600,339456,0,339456,null,1924256,105.11283112329959,null,-40486.369999999879,4600,19090.925250000029,1.0428452356603231,null,0,null,{"$f":"ROUND(AI245/F245*100,2)","v":18.54},{"$f":"ROUND(AQ245+J245,2)","v":18.54}]
[89,"EDGARTOWN                    ",1,3756339.3899999997,535881,3949969.68,3348602,601368,65487,17.5,691245,0,0,193630.2900000005,33885.300750000089,0,405,406,12.5,15.224623192550682,0,601368,15.224623192550682,1,null,null,7.4940978128235169,15.224623192550682,0,0,10150,0,601368,0,601368,null,3949970,100.00000810132801,null,193630.2900000005,65487,-89876.694000000018,-2.2753768074493177,null,0,null,{"$f":"ROUND(AI246/F246*100,2)","v":15.22},{"$f":"ROUND(AQ246+J246,2)","v":15.22}]
[91,"ERVING                       ",1,2387006.7599999998,431895,2412269.36,2019029,393240,0,17.5,422147,0,0,25262.600000000093,4420.9550000000163,0,257,255,12.5,17.904095088286493,0,431895,17.904095088286493,0,null,null,3.1378284432050543,17.904095088286493,0,3705.6731250000012,6375,6375,438270,0,438270,null,2457299,101.86669203475685,null,25262.600000000093,6375,16122.862000000023,0.66836905808893832,null,0,null,{"$f":"ROUND(AI247/F247*100,2)","v":18.170000000000002},{"$f":"ROUND(AQ247+J247,2)","v":18.170000000000002}]
[96,"FALMOUTH                     ",1,34334682.75,5403420,35910247.149999999,30727509,5182738,0,17.5,6284293,0,0,1575564.3999999985,275723.76999999973,0,3576,3575,12.5,15.047014233651691,0,5403420,15.047014233651689,0,null,null,1.6316532052586177,15.047014233651691,0,0,89375,89375,5492795,0,5492795,null,36220304,100.863421654284,null,1575564.3999999985,89375,-791498.25124999974,-2.2041013751418852,null,0,null,{"$f":"ROUND(AI248/F248*100,2)","v":15.3},{"$f":"ROUND(AQ248+J248,2)","v":15.3}]
[662,"FARMINGTON RIVER",1,2333265,407070,2496034,2114411,381623,0,17.5,436806,0,0,162769,28484.574999999997,0,243,254,12.5,16.308672077383562,0,407070,16.308672077383562,0,null,null,0,16.308672077383562,0,0,6350,6350,413420,0,413420,null,2527831,101.27390091641379,null,162769,6350,-23385.949999999953,-0.93692433676784859,null,0,null,{"$f":"ROUND(AI249/F249*100,2)","v":16.559999999999999},{"$f":"ROUND(AQ249+J249,2)","v":16.559999999999999}]
[107,"GLOUCESTER                   ",1,35333205.213599995,6157967.4910011301,34881817.403679989,30325627,4556190,0,17.5,6104318,0,0,0,0,0,3348,3237,12.5,17.653803469401431,0,6157967.4910011301,17.653803469401431,0,null,null,1.0131697114481424,17.653803469401431,0,87620.491001124959,80925,80925,6238892.4910011301,0,6238892.4910011301,null,36564519.491001129,104.8240092190369,null,-451387.8099200055,80925,134574.4453571327,0.38580112899431285,null,0,null,{"$f":"ROUND(AI250/F250*100,2)","v":17.89},{"$f":"ROUND(AQ250+J250,2)","v":17.89}]
[117,"HADLEY                       ",1,5981187.5199999996,938253.99517187499,5986156.3800000008,5261618,724538,0,17.5,1047577,0,0,4968.8600000012666,869.55050000022163,0,627,611,12.5,15.673730113476836,0,938253.99517187499,15.673730113476838,0,null,null,0.97723457735663088,15.673730113476836,0,64207.717359375034,15275,15275,953528.99517187499,0,953528.99517187499,null,6215146.9951718748,103.825336336634,null,4968.8600000012666,15275,-94048.371328125126,-1.5710978022950535,null,0,null,{"$f":"ROUND(AI251/F251*100,2)","v":15.93},{"$f":"ROUND(AQ251+J251,2)","v":15.93}]
[675,"HAMILTON WENHAM              ",1,15726746,3413341,16707535,14120458,2587077,0,17.5,2923819,0,0,980789,171638.07499999998,0,1717,1785,12.5,20.429949720290875,0,3413341,20.429949720290875,0,null,null,0,20.429949720290875,0,0,44625,44625,3457966,0,3457966,null,17578424,105.21255230050393,null,980789,44625,534147.375,3.1970447765035388,null,0,null,{"$f":"ROUND(AI252/F252*100,2)","v":20.7},{"$f":"ROUND(AQ252+J252,2)","v":20.7}]
[121,"HANCOCK                      ",1,806235.6399999999,199115,700017.85,630016,70002,0,17.5,122503,0,0,0,0,0,90,75,12.5,28.444274670995888,0,199115,28.444274670995892,0,null,null,1.8138337472394455,28.444274670995888,0,0,1875,1875,200990,0,200990,null,831006,118.71211569819256,null,-106217.78999999992,1875,78486.876250000016,11.212124983670062,null,0,null,{"$f":"ROUND(AI253/F253*100,2)","v":28.71},{"$f":"ROUND(AQ253+J253,2)","v":28.71}]
[125,"HARVARD                      ",1,9617698.6389000006,1816706,9693663.2637600005,8402066,1291597,0,17.5,1696391,0,0,75964.624859999865,13293.809350499976,0,1036,1019,12.5,18.741170913082986,0,1816706,18.741170913082986,0,null,null,1.073164307567082,18.741170913082986,0,0,25475,25475,1842181,0,1842181,null,10244247,105.67983146576145,null,75964.624859999865,25475,145789.92884199996,1.5039714592422371,null,0,null,{"$f":"ROUND(AI254/F254*100,2)","v":19},{"$f":"ROUND(AQ254+J254,2)","v":19}]
[127,"HATFIELD                     ",1,3505759.1100000003,786221,3617908.4000000004,3106474,511434,0,17.5,633134,0,0,112149.29000000004,19626.125750000007,0,375,381,12.5,21.731368323200222,0,786221,21.731368323200222,0,null,null,0.94894939849776172,21.731368323200222,0,0,9525,9525,795746,0,795746,null,3902220,107.85845213770475,null,112149.29000000004,9525,162612.03000000003,4.4946419870663377,null,0,null,{"$f":"ROUND(AI255/F255*100,2)","v":21.99},{"$f":"ROUND(AQ255+J255,2)","v":21.99}]
[131,"HINGHAM                      ",1,37371415.691150002,6499060.2338675,39001020.533249997,32512856,6488165,0,17.5,6825179,0,0,1629604.8420999944,285180.84736749902,0,4119,4189,12.5,16.663820959061262,0,6499060.2338675,16.663820959061262,0,null,null,1.372110018361631,16.663820959061262,0,28455.233867499745,104725,104725,6603785.2338675,0,6603785.2338675,null,39116641.233867496,100.29645557740965,null,1629604.8420999944,104725,-221393.35945124924,-0.5676604263791063,null,0,null,{"$f":"ROUND(AI256/F256*100,2)","v":16.93},{"$f":"ROUND(AQ256+J256,2)","v":16.93}]
[139,"HOPKINTON                    ",1,32526014.474999998,5873878.4027372804,33687637.267440006,28536777,5150860,0,17.5,5895337,0,0,1161622.7924400084,203283.98867700144,0,3387,3489,12.5,17.436302689041774,0,5873878.4027372804,17.436302689041774,0,null,null,0.86125650865101244,17.436302689041774,0,0,87225,87225,5961103.4027372804,0,5961103.4027372804,null,34497880.402737282,102.40516462720406,null,1161622.7924400084,87225,65766.880935279652,0.1952255672108052,null,0,null,{"$f":"ROUND(AI257/F257*100,2)","v":17.7},{"$f":"ROUND(AQ257+J257,2)","v":17.7}]
[142,"HULL                         ",1,10591221.700679999,3708196,10627740.812809998,9322055,1305686,0,17.5,1859855,0,0,36519.112129999325,6390.8446227498816,0,1054,1042,12.5,34.891667620745679,0,3708196,34.891667620745679,0,null,null,1.1976629110730608,34.891667620745679,0,0,26050,26050,3734246,0,3734246,null,13056301,122.85114240142902,null,36519.112129999325,26050,1874391.3577582506,17.636780862203366,null,0,null,{"$f":"ROUND(AI258/F258*100,2)","v":35.14},{"$f":"ROUND(AQ258+J258,2)","v":35.14}]
[144,"IPSWICH                      ",1,18277939.337160002,3032974.52940783,18118176.856480002,15505476,2612701,0,17.5,3170681,0,0,0,0,0,1921,1865,12.5,16.739954320089776,0,3032974.52940783,16.739954320089776,0,null,null,1.045620765900694,16.739954320089776,0,111882.55029139074,46625,46625,3079599.52940783,0,3079599.52940783,null,18585075.529407829,102.57696277404887,null,-159762.48068000004,46625,-91081.420476170257,-0.50270742579485983,null,0,null,{"$f":"ROUND(AI259/F259*100,2)","v":17},{"$f":"ROUND(AQ259+J259,2)","v":17}]
[150,"LEE                          ",1,6714728.879999999,1980674,6274000.4799999986,5563066,710934,0,17.5,1097950,0,0,0,0,0,661,601,12.5,31.569554486231095,0,1980674,31.569554486231095,0,null,null,0.899423106196511,31.569554486231095,0,0,15025,15025,1995699,0,1995699,null,7558765,120.4775967757019,null,-440728.40000000037,15025,897748.9160000002,14.309034863191478,null,0,null,{"$f":"ROUND(AI260/F260*100,2)","v":31.81},{"$f":"ROUND(AQ260+J260,2)","v":31.81}]
[152,"LENOX                        ",1,5600729.1799999997,1185105,5259228.0599999996,4733305,525923,0,17.5,920365,0,0,0,0,0,577,521,12.5,22.533820296053108,0,1185105,22.533820296053108,0,null,null,1.4492385409124093,22.533820296053108,0,0,13025,13025,1198130,0,1198130,null,5931435,112.78147538633266,null,-341501.12000000011,13025,277765.08950000012,5.2814802159387639,null,0,null,{"$f":"ROUND(AI261/F261*100,2)","v":22.78},{"$f":"ROUND(AQ261+J261,2)","v":22.78}]
[154,"LEVERETT                     ",1,934315.57,277216,982131.53,843668,138464,0,17.5,171873,0,0,47815.960000000079,8367.7930000000142,0,100,104,12.5,28.225954623409759,0,277216,28.225954623409759,0,null,null,17.588529379762047,28.225954623409759,0,0,2600,2600,279816,0,279816,null,1123484,114.39241747996829,null,47815.960000000079,2600,107942.98225,10.990684949295947,null,0,null,{"$f":"ROUND(AI262/F262*100,2)","v":28.49},{"$f":"ROUND(AQ262+J262,2)","v":28.49}]
[155,"LEXINGTON                    ",1,64514813.130400017,9584428.3342046905,67063773.197500005,57095237,9968536,384107.66579530947,17.5,11736160,0,0,2548960.0670999885,446068.01174249797,0,6695,6849,12.5,14.864263557976493,0,9968536,14.864263557976493,1,null,null,1.2706318344115242,14.864263557976493,0,780772.81753593683,171225,0,9968536,0,9968536,null,67063773,99.99999970550418,null,2548960.0670999885,384107.66579530947,-1767624.3095625006,-2.6357364420235072,null,0,null,{"$f":"ROUND(AI263/F263*100,2)","v":14.86},{"$f":"ROUND(AQ263+J263,2)","v":14.86}]
[157,"LINCOLN                      ",1,5682114.4160699993,841588,5601678.0140399989,4808245,793433,0,17.5,980294,0,0,0,0,0,623,618,12.5,15.02385531425853,0,841588,15.02385531425853,0,null,null,4.2613390640429216,15.02385531425853,0,0,15450,15450,857038,0,857038,null,5665283,101.13546308446473,null,-80436.402030000463,15450,-123255.65245699976,-2.200334473850031,null,0,null,{"$f":"ROUND(AI264/F264*100,2)","v":15.3},{"$f":"ROUND(AQ264+J264,2)","v":15.3}]
[695,"LINCOLN SUDBURY              ",1,17538177,2820121.1578124999,17586404,15195939,2390465,0,17.5,3077621,0,0,48227,8439.7250000000004,0,1701,1676,12.5,16.035803327459668,0,2820121.1578124999,16.035803327459668,0,null,null,0,16.035803327459668,0,76517.4140625,41900,41900,2862021.1578124999,0,2862021.1578124999,null,18057960.157812499,102.68136770776162,null,48227,41900,-215599.54218749981,-1.2259444408731888,null,0,null,{"$f":"ROUND(AI265/F265*100,2)","v":16.27},{"$f":"ROUND(AQ265+J265,2)","v":16.27}]
[159,"LONGMEADOW                   ",1,24849640.570000004,4363911,25612986.450000003,21804274,3808712,0,17.5,4482273,0,0,763345.87999999896,133585.52899999981,0,2758,2811,12.5,17.037884311222129,0,4363911,17.037884311222129,0,null,null,0.89801101659506,17.037884311222129,0,35851.856562500121,70275,70275,4434186,0,4434186,null,26238460,102.44201726034957,null,763345.87999999896,70275,-48086.628750000149,-0.18774315460585456,null,0,null,{"$f":"ROUND(AI266/F266*100,2)","v":17.309999999999999},{"$f":"ROUND(AQ266+J266,2)","v":17.309999999999999}]
[164,"LYNNFIELD                    ",1,19490234.623029999,4036801,19743094.595660001,17067615,2675480,0,17.5,3455042,0,0,252859.9726300016,44250.495210250279,0,2117,2104,12.5,20.44664771493008,0,4036801,20.44664771493008,0,null,null,1.0692291784786123,20.44664771493008,0,0,52600,52600,4089401,0,4089401,null,21157016,107.16159970509797,null,252859.9726300016,52600,634359.44575949991,3.2130699809286583,null,0,null,{"$f":"ROUND(AI267/F267*100,2)","v":20.71},{"$f":"ROUND(AQ267+J267,2)","v":20.71}]
[698,"MANCHESTER ESSEX",1,13572189,2813718,13636380,11449215,2187165,0,17.5,2386367,0,0,64191,11233.424999999999,0,1481,1458,12.5,20.633907239311313,0,2813718,20.633907239311313,0,null,null,0,20.633907239311313,0,0,36450,36450,2850168,0,2850168,null,14299383,104.8620161655806,null,64191,36450,463801.5,3.4012069185516971,null,0,null,{"$f":"ROUND(AI268/F268*100,2)","v":20.9},{"$f":"ROUND(AQ268+J268,2)","v":20.9}]
[168,"MARBLEHEAD                   ",1,30687140.549999997,5381364,30592758.849999998,25878831,4713928,0,17.5,5353733,0,0,0,0,0,3366,3308,12.5,17.590319416386993,0,5381364,17.590319416386993,0,null,null,1.408861956557677,17.590319416386993,0,0,82700,82700,5464064,0,5464064,null,31342895,102.45200556667024,null,-94381.699999999255,82700,110331.20125000086,0.36064482379953944,null,0,null,{"$f":"ROUND(AI269/F269*100,2)","v":17.86},{"$f":"ROUND(AQ269+J269,2)","v":17.86}]
[169,"MARION                       ",1,3955020.5,595842,4014302.5699999994,3344045,670258,74416,17.5,702503,0,0,59282.069999999367,10374.362249999889,0,448,439,12.5,16.696748396820524,0,670258,16.696748396820524,1,null,null,4.812425426311707,16.696748396820524,0,0,10975,0,670258,0,670258,null,4014303,100.00001071169881,null,59282.069999999367,74416,-32244.949749999796,-0.80325160317947564,null,0,null,{"$f":"ROUND(AI270/F270*100,2)","v":16.7},{"$f":"ROUND(AQ270+J270,2)","v":16.7}]
[700,"MARTHAS VINEYARD             ",1,8168795,2756975,8315537,6895864,1419673,0,17.5,1455219,0,0,146742,25679.85,0,734,730,12.5,33.154503431347848,0,2756975,33.154503431347848,0,null,null,0,33.154503431347848,0,0,18250,18250,2775225,0,2775225,null,9671089,116.30143669615083,null,146742,18250,1320006.0250000001,15.873972119900372,null,0,null,{"$f":"ROUND(AI271/F271*100,2)","v":33.369999999999997},{"$f":"ROUND(AQ271+J271,2)","v":33.369999999999997}]
[172,"MASHPEE                      ",1,16847491.769999996,4359861,16578175.300000003,14402235,2175940,0,17.5,2901181,0,0,0,0,0,1734,1688,12.5,26.298798999911643,0,4359861,26.298798999911646,0,null,null,1.4915875250034398,26.298798999911643,0,0,42200,42200,4402061,0,4402061,null,18804296,113.42802003064836,null,-269316.46999999322,42200,1500880.3224999998,9.053350536714369,null,0,null,{"$f":"ROUND(AI272/F272*100,2)","v":26.55},{"$f":"ROUND(AQ272+J272,2)","v":26.55}]
[173,"MATTAPOISETT                 ",1,4564402.3699999992,661547.15474999999,4686148.55,3913634,772515,110967.84525000001,17.5,820076,0,0,121746.18000000063,21305.581500000109,0,511,510,12.5,16.48507280034902,0,772515,16.48507280034902,1,null,null,4.2631055614607725,16.48507280034902,0,41422.154750000016,12750,0,772515,0,772515,null,4686149,100.00000960276857,null,121746.18000000063,110967.84525000001,-47560.996249999967,-1.0149271996509803,null,0,null,{"$f":"ROUND(AI273/F273*100,2)","v":16.489999999999998},{"$f":"ROUND(AQ273+J273,2)","v":16.489999999999998}]
[175,"MEDFIELD                     ",1,23366471.620039996,5862409,23395043.4848,20516702,2878341,0,17.5,4094133,0,0,28571.864760003984,5000.0763330006966,0,2578,2538,12.5,25.058337693660913,0,5862409,25.058337693660913,0,null,null,1.0499014779610703,25.058337693660913,0,0,63450,63450,5925859,0,5925859,null,26442561,113.02633832324356,null,28571.864760003984,63450,1831726.3901600004,7.8295489869471382,null,0,null,{"$f":"ROUND(AI274/F274*100,2)","v":25.33},{"$f":"ROUND(AQ274+J274,2)","v":25.33}]
[176,"MEDFORD                      ",1,52268719.305079997,11332041,52826959.864799984,45090390,7736570,0,17.5,9244718,0,0,558240.55971998721,97692.097950997762,0,4990,4896,12.5,21.451245782460486,0,11332041,21.451245782460486,0,null,null,1.0297575923207249,21.451245782460486,0,0,122400,122400,11454441,0,11454441,null,56544831,107.03782906439281,null,558240.55971998721,122400,2209723.0236600041,4.1829456575115174,null,0,null,{"$f":"ROUND(AI275/F275*100,2)","v":21.68},{"$f":"ROUND(AQ275+J275,2)","v":21.68}]
[178,"MELROSE                      ",1,35264711.847039998,7867296,36086251.428580001,29102972,6983279,0,17.5,6315094,0,0,821539.58154000342,143769.4267695006,0,3727,3732,12.5,21.801366693823923,0,7867296,21.801366693823923,0,null,null,0.86829115955095137,21.801366693823923,0,0,93300,93300,7960596,0,7960596,null,37063568,102.70827956002648,null,821539.58154000342,93300,1645501.9999985006,4.5599139141819443,null,0,null,{"$f":"ROUND(AI276/F276*100,2)","v":22.06},{"$f":"ROUND(AQ276+J276,2)","v":22.06}]
[184,"MIDDLETON                    ",1,6500381.7589600012,1550526,6509297.9842300005,5617606,891692,0,17.5,1139127,0,0,8916.2252699993551,1560.3394222498871,0,743,729,12.5,23.820172371220998,0,1550526,23.820172371220998,0,null,null,3.3416771845554281,23.820172371220998,0,0,18225,18225,1568751,0,1568751,null,7186357,110.40141375322351,null,8916.2252699993551,18225,429623.85275975009,6.6001564807847863,null,0,null,{"$f":"ROUND(AI277/F277*100,2)","v":24.1},{"$f":"ROUND(AQ277+J277,2)","v":24.1}]
[189,"MILTON                       ",1,35082060.980719998,5964021.6424181247,36501504.885839999,30504862,5996643,32621.357581875287,17.5,6387763,0,0,1419443.9051200002,248402.68339600004,0,3762,3860,12.5,16.428481561937662,0,5996643,16.428481561937666,1,null,null,1.174303742165268,16.428481561937662,0,103681.12462062459,96500,63878.642418124713,6060521.6424181247,0,6060521.6424181247,null,36565383.642418124,100.17500307666192,null,1419443.9051200002,96500,-327241.7126038745,-0.89651567415463518,null,0,null,{"$f":"ROUND(AI278/F278*100,2)","v":16.600000000000001},{"$f":"ROUND(AQ278+J278,2)","v":16.600000000000001}]
[712,"MONOMOY",1,17618966,2708296,18464076,15720020,2744056,35760,17.5,3231213,0,0,845110,147894.25,0,1863,1874,12.5,14.861593940579535,0,2744056,14.861593940579533,1,null,null,0,14.861593940579535,0,0,46850,11090,2755146,0,2755146,null,18475166,100.06006257773203,null,845110,46850,-476067.29999999981,-2.5783434816884423,null,0,null,{"$f":"ROUND(AI279/F279*100,2)","v":14.92},{"$f":"ROUND(AQ279+J279,2)","v":14.92}]
[196,"NAHANT                       ",1,2670798.36,477893,2552657.5399999991,2291916,260742,0,17.5,446715,0,0,0,0,0,298,282,12.5,18.721391040961969,0,477893,18.721391040961969,0,null,null,2.5301335757926582,18.721391040961969,0,0,7050,7050,484943,0,484943,null,2776859,108.78306065293823,null,-118140.82000000076,7050,38227.930500000191,1.4975737991082099,null,0,null,{"$f":"ROUND(AI280/F280*100,2)","v":19},{"$f":"ROUND(AQ280+J280,2)","v":19}]
[197,"NANTUCKET                    ",1,13869821.479999997,2126945,15206451.73,12225508,2980944,853999,17.5,2661129,0,0,1336630.2500000037,233910.29375000062,0,1480,1552,12.5,19.603153009844196,0,2980944,19.603153009844196,1,null,null,4.9491778447910146,19.603153009844196,0,0,38800,0,2980944,0,2980944,null,15206452,100.00000177556214,null,1336630.2500000037,853999,319814.9472500002,2.1031530098441955,null,0,null,{"$f":"ROUND(AI281/F281*100,2)","v":19.600000000000001},{"$f":"ROUND(AQ281+J281,2)","v":19.600000000000001}]
[198,"NATICK                       ",1,49956678.079499997,8681240,51546022.215100005,42809644,8736378,55138,17.5,9020554,0,0,1589344.1356000081,278135.22373000137,0,5333,5417,12.5,16.948694825651835,0,8736378,16.948694825651835,1,null,null,0.99714246354454894,16.948694825651835,0,15322.000215999782,135425,80287,8816665,0,8816665,null,51626309,100.15575747933558,null,1589344.1356000081,135425,-203888.88764250092,-0.39554727771558973,null,0,null,{"$f":"ROUND(AI282/F282*100,2)","v":17.100000000000001},{"$f":"ROUND(AQ282+J282,2)","v":17.100000000000001}]
[660,"NAUSET                       ",1,12650853,3321529,12867301,11188533,1678768,0,17.5,2251778,0,0,216448,37878.399999999994,0,1301,1273,12.5,25.813719598228097,0,3321529,25.813719598228097,0,null,null,0,25.813719598228097,0,0,31825,31825,3353354,0,3353354,null,14541887,113.0142754879209,null,216448,31825,1101576.3250000002,8.5610519641997946,null,0,null,{"$f":"ROUND(AI283/F283*100,2)","v":26.06},{"$f":"ROUND(AQ283+J283,2)","v":26.06}]
[199,"NEEDHAM                      ",1,50670510.318260007,8239739.7644304372,51969545.140780009,44250723,7718822,0,17.5,9094670,0,0,1299034.8225200027,227331.09394100046,0,5327,5362,12.5,15.854939161214233,0,8239739.7644304372,15.854939161214231,0,null,null,1.4051861309107421,15.854939161214233,0,267811.76443043724,134050,134050,8373789.7644304372,0,8373789.7644304372,null,52624512.764430434,101.26029123763963,null,1299034.8225200027,134050,-720880.63520606421,-1.3871213097079753,null,0,null,{"$f":"ROUND(AI284/F284*100,2)","v":16.11},{"$f":"ROUND(AQ284+J284,2)","v":16.11}]
[204,"NEWBURYPORT                  ",1,22313844.746979997,3658991.6660889401,22958152.764539998,19326232,3631921,0,17.5,4017677,0,0,644308.01756000146,112753.90307300026,0,2420,2445,12.5,15.937657108634776,0,3658991.6660889401,15.937657108634774,0,null,null,1.1817283696013408,15.937657108634776,0,126253.66608893732,61125,61125,3720116.6660889401,0,3720116.6660889401,null,23046348.666088939,100.38415939842147,null,644308.01756000146,61125,-297560.06770555908,-1.2960976031362392,null,0,null,{"$f":"ROUND(AI285/F285*100,2)","v":16.2},{"$f":"ROUND(AQ285+J285,2)","v":16.2}]
[207,"NEWTON                       ",1,123275321.48661001,19617930,126316298.67331998,106090242,20226057,608127,17.5,22105352,0,0,3040977.1867099702,532171.00767424481,0,12650,12711,12.5,16.012230577076007,0,20226057,16.012230577076011,1,null,null,1.8032784556891985,16.012230577076007,0,0,317775,0,20226057,0,20226057,null,126316299,100.00000025862064,null,3040977.1867099702,608127,-1879295.267830994,-1.4877694229239928,null,0,null,{"$f":"ROUND(AI286/F286*100,2)","v":16.010000000000002},{"$f":"ROUND(AQ286+J286,2)","v":16.010000000000002}]
[208,"NORFOLK                      ",1,7315213.0608799998,3312405,7167206.0455,6157870,1009336,0,17.5,1254261,0,0,0,0,0,835,803,12.5,46.216126325539726,0,3312405,46.216126325539726,0,null,null,3.0882620933781681,46.216126325539726,0,0,20075,20075,3332480,0,3332480,null,9490350,132.41352264399609,null,-148007.01537999976,20075,2078218.9420375,28.996221524039058,null,0,null,{"$f":"ROUND(AI287/F287*100,2)","v":46.5},{"$f":"ROUND(AQ287+J287,2)","v":46.5}]
[211,"NORTH ANDOVER                ",1,43286349.479999997,7262285.6748125004,45462873.919999987,37541377,7921497,659211.32518749963,17.5,7956003,0,0,2176524.4399999902,380891.77699999826,0,4687,4834,12.5,17.424100847516332,0,7921497,17.424100847516335,1,null,null,0.84542675283264235,17.424100847516332,0,113660.6748124999,120850,0,7921497,0,7921497,null,45462874,100.00000017596778,null,2176524.4399999902,659211.32518749963,-34505.93599999696,-7.5899152483668075E-2,null,0,null,{"$f":"ROUND(AI288/F288*100,2)","v":17.420000000000002},{"$f":"ROUND(AQ288+J288,2)","v":17.420000000000002}]
[217,"NORTH READING                ",1,23706840.709970001,6739782,23928340.855640002,20127141,3801200,0,17.5,4187460,0,0,221500.14567000046,38762.525492250075,0,2545,2501,12.5,28.166524543683135,0,6739782,28.166524543683135,0,null,null,0.89764864813666168,28.166524543683135,0,0,62525,62525,6802307,0,6802307,null,26929448,112.54206115863076,null,221500.14567000046,62525,2614847.350263,10.927825569012111,null,0,null,{"$f":"ROUND(AI289/F289*100,2)","v":28.43},{"$f":"ROUND(AQ289+J289,2)","v":28.43}]
[210,"NORTHAMPTON                  ",1,27395100.530000001,7093554,27323757.340000004,22846792,4476965,0,17.5,4781658,0,0,0,0,0,2805,2767,12.5,25.961122080437853,0,7093554,25.961122080437853,0,null,null,0.93949145512446985,25.961122080437853,0,0,69175,69175,7162729,0,7162729,null,30009521,109.82940825663179,null,-71343.189999997616,69175,2381071.4654999999,8.7142900439035991,null,0,null,{"$f":"ROUND(AI290/F290*100,2)","v":26.21},{"$f":"ROUND(AQ290+J290,2)","v":26.21}]
[406,"NORTHAMPTON SMITH            ",1,1764814,895485,1980086,1655651,324435,0,17.5,346515,0,0,215272,37672.6,0,91,97,12.5,45.224550852841745,0,895485,45.224550852841745,0,null,null,0,45.224550852841745,0,0,2425,2425,897910,0,897910,null,2553561,128.96212588746144,null,215272,2425,551394.94999999995,27.847020280937294,null,0,null,{"$f":"ROUND(AI291/F291*100,2)","v":45.35},{"$f":"ROUND(AQ291+J291,2)","v":45.35}]
[219,"NORWELL                      ",1,20295768.49016,3362602.9436770314,20603272.396599997,17503826,3099446,0,17.5,3605573,0,0,307503.90643999726,53813.183626999518,0,2210,2202,12.5,16.320722645165514,0,3362602.9436770314,16.320722645165514,0,null,null,0.98146738629710428,16.320722645165514,0,111792.57682765624,55050,55050,3417652.9436770314,0,3417652.9436770314,null,20921478.943677031,101.54444663426158,null,307503.90643999726,55050,-187919.72572796792,-0.91208678947029398,null,0,null,{"$f":"ROUND(AI292/F292*100,2)","v":16.59},{"$f":"ROUND(AQ292+J292,2)","v":16.59}]
[220,"NORWOOD                      ",1,35458013.178439997,5663726.3884928748,36030240.360470004,31220839,4809401,0,17.5,6305292,0,0,572227.18203000724,100139.75685525127,0,3491,3492,12.5,15.719368874115924,0,5663726.3884928748,15.719368874115924,0,null,null,0.90306208111616049,15.719368874115924,0,260438.02436037478,87300,87300,5751026.3884928748,0,5751026.3884928748,null,36971865.388492875,102.61342977066553,null,572227.18203000724,87300,-554265.67458937597,-1.5383346573437766,null,0,null,{"$f":"ROUND(AI293/F293*100,2)","v":15.96},{"$f":"ROUND(AQ293+J293,2)","v":15.96}]
[221,"OAK BLUFFS                   ",1,3839529.9800000004,650652,4306524.25,3420717,885807,235155,17.5,753642,0,0,466994.26999999955,81723.997249999913,0,409,434,12.5,20.568954186197839,0,885807,20.568954186197836,1,null,null,4.2223651892190066,20.568954186197839,0,0,10850,0,885807,0,885807,null,4306524,99.999994194854466,null,466994.26999999955,235155,132165.25625000009,3.0689541861978391,null,0,null,{"$f":"ROUND(AI294/F294*100,2)","v":20.57},{"$f":"ROUND(AQ294+J294,2)","v":20.57}]
[224,"ORLEANS                      ",1,1909216.98,279616,2072439.67,1813057,259383,0,17.5,362677,0,0,163222.68999999994,28563.970749999989,0,212,223,12.5,13.492117722297797,0,279616,13.492117722297799,0,null,null,12.013325992482839,13.492117722297797,0,0,5575,5575,285191,0,285191,null,2098248,101.24531152214433,null,163222.68999999994,5575,-77485.942249999964,-3.7388756532536362,null,0,null,{"$f":"ROUND(AI295/F295*100,2)","v":13.76},{"$f":"ROUND(AQ295+J295,2)","v":13.76}]
[230,"PELHAM                       ",1,689081.27,222256,696611.65,626950,69662,0,17.5,121907,0,0,7530.3800000000047,1317.8165000000008,0,70,73,12.5,31.905294721958782,0,222256,31.905294721958782,0,null,null,21.349554691705251,31.905294721958782,0,0,1825,1825,224081,0,224081,null,851031,122.16720751081323,null,7530.3800000000047,1825,102173.96125000001,14.667277133536309,null,0,null,{"$f":"ROUND(AI296/F296*100,2)","v":32.17},{"$f":"ROUND(AQ296+J296,2)","v":32.17}]
[242,"PROVINCETOWN                 ",1,1414247.5399999998,269641,1284862.27,1156376,128486,0,17.5,224851,0,0,0,0,0,147,129,12.5,20.985984746832049,0,269641,20.985984746832049,0,null,null,9.735151401508725,20.985984746832049,0,0,3225,3225,272866,0,272866,null,1429242,111.23698106568263,null,-129385.26999999979,3225,48015.10275000002,3.7369844123448352,null,0,null,{"$f":"ROUND(AI297/F297*100,2)","v":21.24},{"$f":"ROUND(AQ297+J297,2)","v":21.24}]
[249,"RICHMOND                     ",1,1381559.82,344169,1238912.1900000002,1115021,123891,0,17.5,216810,0,0,0,0,0,146,123,12.5,27.779934912094127,0,344169,27.779934912094131,0,null,null,2.3061489127813002,27.779934912094127,0,0,3075,3075,347244,0,347244,null,1462265,118.02813886269048,null,-142647.62999999989,3075,130434.36674999999,10.528136521927351,null,0,null,{"$f":"ROUND(AI298/F298*100,2)","v":28.03},{"$f":"ROUND(AQ298+J298,2)","v":28.03}]
[252,"ROCKPORT                     ",1,7619731.0979199996,1377981,7726823.8438600004,6690331,1036493,0,17.5,1352194,0,0,107092.74594000075,18741.230539500131,0,805,777,12.5,17.83373126973758,0,1377981,17.83373126973758,0,null,null,1.5536376912107834,17.83373126973758,0,0,19425,19425,1397406,0,1397406,null,8087737,104.67091218116475,null,107092.74594000075,19425,45211.827324500075,0.58512822652773266,null,0,null,{"$f":"ROUND(AI299/F299*100,2)","v":18.09},{"$f":"ROUND(AQ299+J299,2)","v":18.09}]
[253,"ROWE                         ",1,618393.5,103362,676330.15,545165,131165,27803,17.5,118358,0,0,57936.650000000023,10138.913750000003,0,63,70,12.5,19.393634898577268,0,131165,19.393634898577268,1,null,null,1.7823484580718454,19.393634898577268,0,0,1750,0,131165,0,131165,null,676330,99.999977821482602,null,57936.650000000023,27803,12807.223750000005,1.8936348985772682,null,0,null,{"$f":"ROUND(AI300/F300*100,2)","v":19.39},{"$f":"ROUND(AQ300+J300,2)","v":19.39}]
[261,"SANDWICH                     ",1,28304004.249999989,6665593,27987804.329999994,24211459,3776345,0,17.5,4897866,0,0,0,0,0,3093,2977,12.5,23.816062601435235,0,6665593,23.816062601435235,0,null,null,0.90186090151234188,23.816062601435235,0,0,74425,74425,6740018,0,6740018,null,30951477,110.5891574596413,null,-316199.91999999434,74425,1842152.2422500011,6.5819819966206019,null,0,null,{"$f":"ROUND(AI301/F301*100,2)","v":24.08},{"$f":"ROUND(AQ301+J301,2)","v":24.08}]
[264,"SCITUATE                     ",1,27783603.550999999,5110701,28197733.99712,24057987,4139747,0,17.5,4934603,0,0,414130.44612000138,72472.828071000229,0,3035,3008,12.5,18.124509581237934,0,5110701,18.12450958123793,0,null,null,1.0505655050396827,18.124509581237934,0,0,75200,75200,5185901,0,5185901,null,29243888,103.71006408879114,null,414130.44612000138,75200,251297.55050399993,0.89119767754978696,null,0,null,{"$f":"ROUND(AI302/F302*100,2)","v":18.39},{"$f":"ROUND(AQ302+J302,2)","v":18.39}]
[266,"SHARON                       ",1,31433647.07305,6865177,32275546.17168,26573303,5702243,0,17.5,5648221,0,0,841899.09862999991,147332.34226024998,0,3381,3414,12.5,21.270521538141505,0,6865177,21.270521538141505,0,null,null,0.84937160921754085,21.270521538141505,0,0,85350,85350,6950527,0,6950527,null,33523830,103.86758390293423,null,841899.09862999991,85350,1302306.4199560005,4.0349632289064132,null,0,null,{"$f":"ROUND(AI303/F303*100,2)","v":21.53},{"$f":"ROUND(AQ303+J303,2)","v":21.53}]
[269,"SHERBORN                     ",1,3327431.3505500001,545223,3380505.0839999993,2917753,462752,0,17.5,591588,0,0,53073.733449999243,9287.9033537498672,0,379,378,12.5,16.128447863621084,0,545223,16.128447863621084,0,null,null,7.2631146429044326,16.128447863621084,0,0,9450,9450,554673,0,554673,null,3472426,102.71914739708762,null,53073.733449999243,9450,-36915.389699999825,-1.0920081107027819,null,0,null,{"$f":"ROUND(AI304/F304*100,2)","v":16.41},{"$f":"ROUND(AQ304+J304,2)","v":16.41}]
[274,"SOMERVILLE                   ",1,62767269.546019986,19582488,64208758.285060003,54026428,10182330,0,17.5,11236533,0,0,1441488.7390400171,252260.52933200297,0,5351,5396,12.5,30.498157140902727,0,19582488,30.49815714090273,0,null,null,1.1618010220477555,30.498157140902727,0,0,134900,134900,19717388,0,19717388,null,73743816,114.85008894364276,null,1441488.7390400171,134900,8480855.3001144994,13.208253089809105,null,0,null,{"$f":"ROUND(AI305/F305*100,2)","v":30.71},{"$f":"ROUND(AQ305+J305,2)","v":30.71}]
[276,"SOUTHBOROUGH                 ",1,11801364.191059999,2777761,11574099.806239998,10152043,1422057,0,17.5,2025467,0,0,0,0,0,1323,1274,12.5,23.999801682221651,0,2777761,23.999801682221651,0,null,null,2.1823959127537149,23.999801682221651,0,0,31850,31850,2809611,0,2809611,null,12961654,111.98844158067415,null,-227264.3848200012,31850,784143.53390800045,6.7749850704176708,null,0,null,{"$f":"ROUND(AI306/F306*100,2)","v":24.27},{"$f":"ROUND(AQ306+J306,2)","v":24.27}]
[765,"SOUTHERN BERKSHIRE           ",1,7132076,1869396,7553559,6368170,1185389,0,17.5,1321873,0,0,421483,73759.524999999994,0,772,754,12.5,24.748545685550347,0,1869396,24.748545685550347,0,null,null,0,24.748545685550347,0,0,18850,18850,1888246,0,1888246,null,8256416,109.30497795807248,null,421483,18850,566373.17500000005,7.4980969235826436,null,0,null,{"$f":"ROUND(AI307/F307*100,2)","v":25},{"$f":"ROUND(AQ307+J307,2)","v":25}]
[284,"STONEHAM                     ",1,22756236.458160002,3779409.3832463399,23623782.041999996,19986407,3637375,0,17.5,4134162,0,0,867545.58383999392,151820.47717199894,0,2339,2378,12.5,15.998324808987164,0,3779409.3832463399,15.998324808987164,0,null,null,1.0299167368901812,15.998324808987164,0,102183.15721721866,59450,59450,3838859.3832463399,0,3838859.3832463399,null,23825266.38324634,100.85288774205642,null,867545.58383999392,59450,-295302.47410365893,-1.2500220057002309,null,0,null,{"$f":"ROUND(AI308/F308*100,2)","v":16.25},{"$f":"ROUND(AQ308+J308,2)","v":16.25}]
[288,"SUDBURY                      ",1,24443508.479559995,4466220,24450575.494369991,21153252,3297323,0,17.5,4278851,0,0,7067.0148099958897,1236.7275917492807,0,2766,2727,12.5,18.266318520921505,0,4466220,18.266318520921502,0,null,null,1.5485606857254426,18.266318520921505,0,10685.787334062392,68175,68175,4534395,0,4534395,null,25687647,105.05947807205952,null,7067.0148099958897,68175,255544.28848525137,1.0451463138120971,null,0,null,{"$f":"ROUND(AI309/F309*100,2)","v":18.55},{"$f":"ROUND(AQ309+J309,2)","v":18.55}]
[291,"SWAMPSCOTT                   ",1,19890269.34,3140515.2075,20062283.009999998,17079677,2982606,0,17.5,3510900,0,0,172013.66999999806,30102.392249999659,0,2143,2120,12.5,15.653827662258665,0,3140515.2075,15.653827662258665,0,null,null,1.1407931475101871,15.653827662258665,0,166984.08824999991,53000,53000,3193515.2075,0,3193515.2075,null,20273192.2075,101.05127216775317,null,172013.66999999806,53000,-317384.31924999924,-1.5819950256498725,null,0,null,{"$f":"ROUND(AI310/F310*100,2)","v":15.92},{"$f":"ROUND(AQ310+J310,2)","v":15.92}]
[296,"TISBURY                      ",1,3448541.2399999993,474255,3757350.99,3164190,593161,118906,17.5,657536,0,0,308809.75000000093,54041.706250000163,0,364,378,12.5,15.786680604997191,0,593161,15.786680604997192,1,null,null,4.6596199016297835,15.786680604997191,0,0,9450,0,593161,0,593161,null,3757351,100.00000026614495,null,308809.75000000093,118906,-64375.423249999993,-1.7133193950028094,null,0,null,{"$f":"ROUND(AI311/F311*100,2)","v":15.79},{"$f":"ROUND(AQ311+J311,2)","v":15.79}]
[298,"TOPSFIELD                    ",1,4950981.2964300001,1093858,4876256.0624799998,4295264,580992,0,17.5,853345,0,0,0,0,0,572,558,12.5,22.432333043717932,0,1093858,22.432333043717932,0,null,null,4.2986348231947256,22.432333043717932,0,0,13950,13950,1107808,0,1107808,null,5403072,110.80369715556054,null,-74725.233950000256,13950,254463.18906600005,5.2184131802254754,null,0,null,{"$f":"ROUND(AI312/F312*100,2)","v":22.72},{"$f":"ROUND(AQ312+J312,2)","v":22.72}]
[300,"TRURO                        ",1,1788414.01,277556,1879850.1199999996,1621100,258750,0,17.5,328974,0,0,91436.109999999637,16001.319249999935,0,194,197,12.5,14.764794120927046,0,277556,14.764794120927048,0,null,null,5.0299279130084118,14.764794120927046,0,0,4925,4925,282481,0,282481,null,1903581,101.26238149241389,null,91436.109999999637,4925,-46492.770999999892,-2.4732169073138639,null,0,null,{"$f":"ROUND(AI313/F313*100,2)","v":15.03},{"$f":"ROUND(AQ313+J313,2)","v":15.03}]
[774,"UPISLAND",1,3060576,812797,3393222,2857444,535778,0,17.5,593814,0,0,332646,58213.049999999996,0,349,365,12.5,23.953546216545806,0,812797,23.953546216545806,0,null,null,0,23.953546216545806,0,0,9125,9125,821922,0,821922,null,3679366,108.43281105686572,null,332646,9125,228108.15000000002,6.7224646663259868,null,0,null,{"$f":"ROUND(AI314/F314*100,2)","v":24.22},{"$f":"ROUND(AQ314+J314,2)","v":24.22}]
[305,"WAKEFIELD                    ",1,31933215.629270006,5317017.2860360602,32600249.418120001,27898292,4701957,0,17.5,5705044,0,0,667033.78884999454,116730.91304874903,0,3380,3374,12.5,16.309744191959265,0,5317017.2860360602,16.309744191959265,0,null,null,0.94212517209219315,16.309744191959265,0,149670.53898381209,84350,84350,5401367.2860360602,0,5401367.2860360602,null,33299659.286036059,102.14541262843009,null,667033.78884999454,84350,-303676.36213493999,-0.93151545633926602,null,0,null,{"$f":"ROUND(AI315/F315*100,2)","v":16.57},{"$f":"ROUND(AQ315+J315,2)","v":16.57}]
[308,"WALTHAM                      ",1,58974377.85684,9012826.3317359835,62218743.565559998,52507147,9711597,698770.66826401651,17.5,10888280,0,0,3244365.7087199986,567763.99902599968,0,5195,5298,12.5,15.608796390699972,0,9711597,15.608796390699972,1,null,null,1.0408325415919564,15.608796390699972,0,606688.07839967171,132450,0,9711597,0,9711597,null,62218744,100.00000069824618,null,3244365.7087199986,698770.66826401651,-1176683.1239729989,-1.8912036093000282,null,0,null,{"$f":"ROUND(AI316/F316*100,2)","v":15.61},{"$f":"ROUND(AQ316+J316,2)","v":15.61}]
[314,"WATERTOWN                    ",1,28744449.526519999,4334781,26987815.659180008,23909715,3078101,0,17.5,4722868,0,0,0,0,0,2776,2590,12.5,16.061992770154067,0,4334781,16.061992770154067,0,null,null,1.4952564709057339,16.061992770154067,0,326283.91367243743,64750,64750,4399531,0,4399531,null,28309246,104.89639605334455,null,-1756633.867339991,64750,-323336.74035650119,-1.1980841444888028,null,0,null,{"$f":"ROUND(AI317/F317*100,2)","v":16.3},{"$f":"ROUND(AQ317+J317,2)","v":16.3}]
[315,"WAYLAND                      ",1,24309849.451349992,3644813,24601190.323630001,21539908,3061282,0,17.5,4305208,0,0,291340.87228000909,50984.652649001589,0,2644,2620,12.5,14.815596123814686,0,3644813,14.815596123814686,0,null,null,1.6658320981910983,14.815596123814686,0,0,65500,65500,3710313,0,3710313,null,25250221,102.63820842744585,null,291340.87228000909,65500,-594895.30663525034,-2.4181565965279326,null,0,null,{"$f":"ROUND(AI318/F318*100,2)","v":15.08},{"$f":"ROUND(AQ318+J318,2)","v":15.08}]
[317,"WELLESLEY                    ",1,47297420.926149994,7789132,48641677.772080004,41171516,7470162,0,17.5,8512294,0,0,1344256.8459300101,235244.94803775175,0,5050,5081,12.5,16.01328810346034,0,7789132,16.01328810346034,0,null,null,2.2651999693819027,16.01328810346034,0,0,127025,127025,7916157,0,7916157,null,49087673,100.91689935123084,null,1344256.8459300101,127025,-596136.61011400074,-1.2255675326564877,null,0,null,{"$f":"ROUND(AI319/F319*100,2)","v":16.27},{"$f":"ROUND(AQ319+J319,2)","v":16.27}]
[318,"WELLFLEET                    ",1,1240792.6900000002,176624,1150249.74,993135,157115,0,17.5,201294,0,0,0,0,0,132,124,12.5,15.355274064221913,0,176624,15.355274064221915,0,null,null,19.1638904028121,15.355274064221913,0,0,3100,3100,179724,0,179724,null,1172859,101.96559574966737,null,-90542.950000000186,3100,-21569.704499999993,-1.8752192458656847,null,0,null,{"$f":"ROUND(AI320/F320*100,2)","v":15.62},{"$f":"ROUND(AQ320+J320,2)","v":15.62}]
[321,"WESTBOROUGH                  ",1,31788292.559999999,5025628.3124719998,32643542.910000004,27945222,4698321,0,17.5,5712620,0,0,855250.35000000522,149668.8112500009,0,3465,3498,12.5,15.39547446282999,0,5025628.3124719998,15.395474462829988,0,null,null,0.86948637911137927,15.39547446282999,0,260844.81425100006,87450,87450,5113078.3124719998,0,5113078.3124719998,null,33058300.312472001,101.27056491268581,null,855250.35000000522,87450,-599541.69677800033,-1.8366318215855735,null,0,null,{"$f":"ROUND(AI321/F321*100,2)","v":15.66},{"$f":"ROUND(AQ321+J321,2)","v":15.66}]
[330,"WESTON                       ",1,21506483.175400004,2988929,21219806.953260001,18857119,2362688,0,17.5,3713466,0,0,0,0,0,2322,2249,12.5,14.085561695182204,0,2988929,14.085561695182202,0,null,null,3.5528265261050036,14.085561695182204,0,0,56225,56225,3045154,0,3045154,null,21902273,103.21617462516619,null,-286676.222140003,56225,-668312.21682049986,-3.1494735946116936,null,0,null,{"$f":"ROUND(AI322/F322*100,2)","v":14.35},{"$f":"ROUND(AQ322+J322,2)","v":14.35}]
[331,"WESTPORT                     ",1,15286780.110000001,4303047,14995933.330000002,12876991,2118942,0,17.5,2624288,0,0,0,0,0,1604,1549,12.5,28.69475947450081,0,4303047,28.694759474500806,0,null,null,1.3848216094927142,28.69475947450081,0,0,38725,38725,4341772,0,4341772,null,17218763,114.82288311827269,null,-290846.77999999933,38725,1717483.6672499999,11.452996152057441,null,0,null,{"$f":"ROUND(AI323/F323*100,2)","v":28.95},{"$f":"ROUND(AQ323+J323,2)","v":28.95}]
[335,"WESTWOOD                     ",1,29096356.715499997,4725912.9092836883,29539997.822689999,25123982,4416016,0,17.5,5169500,0,0,443641.10719000176,77637.193758250301,0,3110,3100,12.5,15.998352260045404,0,4725912.9092836883,15.998352260045403,0,null,null,1.2189378325934845,15.998352260045404,0,146857.61947743734,77500,77500,4803412.9092836883,0,4803412.9092836883,null,29927394.90928369,101.31143234647136,null,443641.10719000176,77500,-366086.70968706161,-1.2392915933320303,null,0,null,{"$f":"ROUND(AI324/F324*100,2)","v":16.260000000000002},{"$f":"ROUND(AQ324+J324,2)","v":16.260000000000002}]
[337,"WHATELY                      ",1,973888.2100000002,250115.0875275,877253.83999999985,745655,131599,0,17.5,153519,0,0,0,0,0,99,89,12.5,28.511141943533701,0,250115.0875275,28.511141943533705,0,null,null,17.728725898241819,28.511141943533701,0,6187.0875274999999,2225,2225,252340.0875275,0,252340.0875275,null,997995.0875275,113.76354733625334,null,-96634.370000000345,2225,98820.665527500038,11.264774347126259,null,0,null,{"$f":"ROUND(AI325/F325*100,2)","v":28.76},{"$f":"ROUND(AQ325+J325,2)","v":28.76}]
[341,"WILLIAMSTOWN                 ",1,3344865.7700000005,928776,3691422.7599999993,3123894,567529,0,17.5,645999,0,0,346556.98999999883,60647.473249999792,0,376,397,12.5,25.160380167347729,0,928776,25.160380167347729,0,null,null,4.8933636045155398,25.160380167347729,0,0,9925,9925,938701,0,938701,null,4062595,110.05499137140285,null,346556.98999999883,9925,292702.01700000011,7.9292466896964164,null,0,null,{"$f":"ROUND(AI326/F326*100,2)","v":25.43},{"$f":"ROUND(AQ326+J326,2)","v":25.43}]
[344,"WINCHESTER                   ",1,39564443.627320006,7572048,40749515.511779994,33648454,7101062,0,17.5,7131165,0,0,1185071.8844599873,207387.57978049776,0,4302,4340,12.5,18.581933809276947,0,7572048,18.581933809276947,0,null,null,1.3005570856875328,18.581933809276947,0,0,108500,108500,7680548,0,7680548,null,41329002,101.42206963921446,null,1185071.8844599873,108500,549382.78543850128,1.3481946436386067,null,0,null,{"$f":"ROUND(AI327/F327*100,2)","v":18.850000000000001},{"$f":"ROUND(AQ327+J327,2)","v":18.850000000000001}]
[347,"WOBURN",1,48695159.223999999,8202269.03757165,49230530.561499998,41631275,7599256,0,17.5,8615343,0,0,535371.33749999851,93689.98406249973,0,4860,4789,12.5,16.660939754295708,0,8202269.03757165,16.660939754295704,0,null,null,0.86040863612446927,16.660939754295708,0,504474.95087115071,119725,119725,8321994.03757165,0,8321994.03757165,null,49953269.037571654,101.46806964667746,null,535371.33749999851,119725,-293348.81069085002,-0.5958676604640516,null,0,null,{"$f":"ROUND(AI328/F328*100,2)","v":16.899999999999999},{"$f":"ROUND(AQ328+J328,2)","v":16.899999999999999}]
[349,"WORTHINGTON                  ",1,181016.85000000003,193899.28,1164871.5999999999,939802,225070,31170.720000000001,17.5,203853,0,0,983854.74999999977,172174.58124999996,0,12,115,12.5,19.321442809662457,0,225070,19.321442809662457,1,null,null,0.933823951068942,19.321442809662457,0,0,2875,0,225070,0,225070,null,1164872,100.00003433854857,null,983854.74999999977,31170.720000000001,21217.47000000003,1.8214428096624573,null,0,null,{"$f":"ROUND(AI329/F329*100,2)","v":19.32},{"$f":"ROUND(AQ329+J329,2)","v":19.32}]
[350,"WRENTHAM                     ",1,9069999.5540800001,3632823,8534196.4301100001,6762850,1771346,0,17.5,1493484,0,0,0,0,0,1038,958,12.5,42.567839043202987,0,3632823,42.567839043202987,0,null,null,2.664455209461988,42.567839043202987,0,0,23950,23950,3656773,0,3656773,null,10419623,122.09260807775546,null,-535803.12397000007,23950,2163288.62473075,25.348474721044902,null,0,null,{"$f":"ROUND(AI330/F330*100,2)","v":42.85},{"$f":"ROUND(AQ330+J330,2)","v":42.85}]
[705,"MASCONOMET                   ",1,19907859,4875399,19398726,16836310,2562416,0,17.489999999999998,3392837,0,0,0,0,0,2092,2013,12.489999999999998,25.132573139081398,0,4875399,25.132573139081401,0,null,null,0,25.132573139081398,0,0,50325,50325,4925724,0,4925724,null,21762034,112.18280004573496,null,-509133,50325,1532886.8226000005,7.9019973919936817,null,0,null,{"$f":"ROUND(AI331/F331*100,2)","v":25.39},{"$f":"ROUND(AQ331+J331,2)","v":25.39}]
[999,"State Total",1,9866011313.0677662,4400335961.8829308,10090177272.100754,5943909029,4146268253,96588107.3431288,null,4136936886,0,0,247480591.81664005,110860443.03101288,0,940831,942120,null,null,0,4496924069.2260599,44.567344536750738,83,null,null,null,null,0,16967131.562045749,null,14169068.772108248,4511593137.998167,71164.359999999986,4511521973.6381674,null,10455431002.638166,103.61989408795954,null,null,null,null,null,null,0]
[null,"State Total FY15",1,9711217584.8007889,4300854366.3566036,9866011313.0677662,5817618237,4048393088,73483128.805447862,null,4045081245,34003994,14542205.309161477,191870968.9234398,87802924.451959014,0,937604,940831,null,null,0,4388879700.4712124,44.484843582715506,59,null,null,null,null,0,16967131.562045749,null,11605151,4400486311.2629309,150349.38000000006,4400335961.8829308,null,10217954198.882931,103.56722564618397,null,null,null,419073077.86449182]
[null,null,null,null,null,null,null,null,null,null,null,null,null,null,null,null,null,null,null,null,null,null,null,null,null,null,null,null,null,null,null,null,null,null,null,null,null,null,null,null,null,-44487988.876901783]
[null,null,null,null,null,null,null,null,null,null,null,null,null,null,null,null,null,null,null,null,null,null,null,null,null,null,null,null,0,null,null,246]
[]
[]
[null,null,null,null,null,null,null,null,null,null,null,null,null,null,null,null,null,null,null,null,null,108044368.75484753]
[null,null,null,null,null,null,null,null,101]

{"sheet":"frac","index":15,"n_rows":469,"n_cols":11,"rows_kept":469,"cut":false,"hidden":true,"merged":[]}
[null,null,null,null,null,null,"       -----------------------distfrac16prelim2-19-----------------------"]
[]
[]
["fraclea","regorder",null,null,"memlea",null,null,null,null,null,"memeffpct"]
[]
[]
[null,null,null,null,null,null,"FY16","FY16","FY16","town ","weighted"]
[null,"Record",null,null,null,null,"Foundation","Reg'l Total","Member","effort ","effort goal"]
["fraclea","Number","fraconcat","District","memlea","Town","Percentage","Enrollment","Enrollment","goal pct","percentage"]
[406,1,{"$f":"A10*1000+E10","v":406210},"NORTHAMPTON SMITH            ",210,"NORTHAMPTON                  ",1,97,97,{"$f":"ROUND(VLOOKUP(E10,town351,11),2)","v":82.5},{"$f":"ROUND(G10*J10,2)","v":82.5}]
[600,2,600002,"ACTON BOXBOROUGH             ",2,"ACTON                        ",0.85036880927000003,5694,4842,77.34,65.77]
[600,3,600037,"ACTON BOXBOROUGH             ",37,"BOXBOROUGH                   ",0.14963119073,5694,852,82.5,12.34]
[603,4,603004,"ADAMS CHESHIRE               ",4,"ADAMS                        ",0.73009161380999998,1419,1036,33.630000000000003,24.55]
[603,5,603058,"ADAMS CHESHIRE               ",58,"CHESHIRE                     ",0.26990838619000002,1419,383,50.36,13.59]
[605,6,605008,"AMHERST PELHAM               ",8,"AMHERST                      ",0.79830287205999995,1532,1223,73.47,58.65]
[605,7,605154,"AMHERST PELHAM               ",154,"LEVERETT                     ",7.3759791120000001E-2,1532,113,82.5,6.09]
[605,8,605230,"AMHERST PELHAM               ",230,"PELHAM                       ",3.9164490859999998E-2,1532,60,82.5,3.23]
[605,9,605272,"AMHERST PELHAM               ",272,"SHUTESBURY                   ",8.8772845949999998E-2,1532,136,53.59,4.76]
[610,10,610011,"ASHBURNHAM WESTMINSTER       ",11,"ASHBURNHAM                   ",0.47087166009999998,2283,1075,44.18,20.8]
[610,11,610328,"ASHBURNHAM WESTMINSTER       ",328,"WESTMINSTER                  ",0.52912833989999997,2283,1208,54.76,28.98]
[615,12,615015,"ATHOL ROYALSTON              ",15,"ATHOL                        ",0.93742824339999997,1742,1633,29.98,28.1]
[615,13,615255,"ATHOL ROYALSTON              ",255,"ROYALSTON                    ",6.25717566E-2,1742,109,61.45,3.85]
[616,14,616019,"AYER SHIRLEY",19,"AYER",0.58375922770999999,1761,1028,63.27,36.93]
[616,15,616270,"AYER SHIRLEY",270,"SHIRLEY                      ",0.41624077229000001,1761,733,54.92,22.86]
[618,16,618113,"BERKSHIRE HILLS              ",113,"GREAT BARRINGTON             ",0.71115173674999999,1094,778,82.5,58.67]
[618,17,618283,"BERKSHIRE HILLS              ",283,"STOCKBRIDGE                  ",0.13985374771,1094,153,82.5,11.54]
[618,18,618333,"BERKSHIRE HILLS              ",333,"WEST STOCKBRIDGE             ",0.14899451554000001,1094,163,82.5,12.29]
[620,19,620028,"BERLIN BOYLSTON              ",28,"BERLIN                       ",0.39171374765,531,208,82.5,32.32]
[620,20,620039,"BERLIN BOYLSTON              ",39,"BOYLSTON                     ",0.60828625235,531,323,82.5,50.18]
[622,21,622032,"BLACKSTONE MILLVILLE         ",32,"BLACKSTONE                   ",0.71366120218999995,1830,1306,48.39,34.53]
[622,22,622188,"BLACKSTONE MILLVILLE         ",188,"MILLVILLE                    ",0.28633879780999999,1830,524,40.08,11.48]
[625,23,625042,"BRIDGEWATER RAYNHAM          ",42,"BRIDGEWATER                  ",0.61035622474999995,5446,3324,60.14,36.71]
[625,24,625245,"BRIDGEWATER RAYNHAM          ",245,"RAYNHAM                      ",0.38964377524999999,5446,2122,60.92,23.74]
[632,25,632060,"CHESTERFIELD GOSHEN",60,"CHESTERFIELD                 ",0.52941176470999995,136,72,54.58,28.9]
[632,26,632108,"CHESTERFIELD GOSHEN",108,"GOSHEN                       ",0.47058823528999999,136,64,67.38,31.71]
[635,27,635022,"CENTRAL BERKSHIRE            ",22,"BECKET                       ",0.10608695652,1725,183,82.5,8.75]
[635,28,635069,"CENTRAL BERKSHIRE            ",69,"CUMMINGTON                   ",4.4637681159999998E-2,1725,77,82.5,3.68]
[635,29,635070,"CENTRAL BERKSHIRE            ",70,"DALTON                       ",0.56521739130000004,1725,975,51.23,28.96]
[635,30,635132,"CENTRAL BERKSHIRE            ",132,"HINSDALE                     ",0.13623188406,1725,235,78.900000000000006,10.75]
[635,31,635233,"CENTRAL BERKSHIRE            ",233,"PERU                         ",5.971014493E-2,1725,103,50.94,3.04]
[635,32,635313,"CENTRAL BERKSHIRE            ",313,"WASHINGTON                   ",3.5362318839999997E-2,1725,61,81.89,2.9]
[635,33,635345,"CENTRAL BERKSHIRE            ",345,"WINDSOR                      ",5.2753623190000001E-2,1725,91,80.959999999999994,4.2699999999999996]
[640,34,640051,"CONCORD CARLISLE             ",51,"CARLISLE                     ",0.25871857258999997,1233,319,82.5,21.34]
[640,35,640067,"CONCORD CARLISLE             ",67,"CONCORD                      ",0.74128142741000003,1233,914,82.5,61.16]
[645,36,645075,"DENNIS YARMOUTH              ",75,"DENNIS                       ",0.35718457943999998,3424,1223,82.5,29.47]
[645,37,645351,"DENNIS YARMOUTH              ",351,"YARMOUTH                     ",0.64281542055999996,3424,2201,82.5,53.03]
[650,38,650076,"DIGHTON REHOBOTH             ",76,"DIGHTON                      ",0.40584636301999999,2942,1194,50.04,20.309999999999999]
[650,39,650247,"DIGHTON REHOBOTH             ",247,"REHOBOTH                     ",0.59415363698000001,2942,1748,68.930000000000007,40.96]
[655,40,655078,"DOVER SHERBORN               ",78,"DOVER                        ",0.53625632377999999,1186,636,82.5,44.24]
[655,41,655269,"DOVER SHERBORN               ",269,"SHERBORN                     ",0.46374367622000001,1186,550,82.5,38.26]
[658,42,658054,"DUDLEY CHARLTON              ",54,"CHARLTON                     ",0.53507424474999998,3906,2090,51.32,27.46]
[658,43,658080,"DUDLEY CHARLTON              ",80,"DUDLEY                       ",0.46492575525000002,3906,1816,39.65,18.43]
[660,44,660041,"NAUSET                       ",41,"BREWSTER                     ",0.46305031447,1272,589,82.5,38.200000000000003]
[660,45,660085,"NAUSET                       ",85,"EASTHAM                      ",0.23427672956000001,1272,298,82.5,19.329999999999998]
[660,46,660224,"NAUSET                       ",224,"ORLEANS                      ",0.18238993711000001,1272,232,82.5,15.05]
[660,47,660318,"NAUSET                       ",318,"WELLFLEET                    ",0.12028301886999999,1272,153,82.5,9.92]
[662,48,662225,"FARMINGTON RIVER",225,"OTIS                         ",0.6484375,256,166,82.5,53.5]
[662,49,662260,"FARMINGTON RIVER",260,"SANDISFIELD                  ",0.3515625,256,90,82.5,29]
[665,50,665102,"FREETOWN LAKEVILLE           ",102,"FREETOWN                     ",0.42872154116,2855,1224,68.510000000000005,29.37]
[665,51,665146,"FREETOWN LAKEVILLE           ",146,"LAKEVILLE                    ",0.57127845883999995,2855,1631,65.489999999999995,37.409999999999997]
[670,52,670068,"FRONTIER                     ",68,"CONWAY                       ",0.16077738516000001,566,91,82.5,13.26]
[670,53,670074,"FRONTIER                     ",74,"DEERFIELD                    ",0.46466431094999999,566,263,82.5,38.33]
[670,54,670289,"FRONTIER                     ",289,"SUNDERLAND                   ",0.24734982332,566,140,81.14,20.07]
[670,55,670337,"FRONTIER                     ",337,"WHATELY                      ",0.12720848057,566,72,82.5,10.49]
[672,56,672033,"GATEWAY                      ",33,"BLANDFORD                    ",0.13786008229999999,972,134,82.5,11.37]
[672,57,672059,"GATEWAY                      ",59,"CHESTER                      ",0.1841563786,972,179,45.57,8.39]
[672,58,672143,"GATEWAY                      ",143,"HUNTINGTON                   ",0.27263374486000003,972,265,57.67,15.72]
[672,59,672183,"GATEWAY                      ",183,"MIDDLEFIELD                  ",4.1152263369999997E-2,972,40,82.5,3.4]
[672,60,672194,"GATEWAY                      ",194,"MONTGOMERY                   ",8.3333333329999995E-2,972,81,82.5,6.87]
[672,61,672256,"GATEWAY                      ",256,"RUSSELL                      ",0.28086419753000003,972,273,39.5,11.09]
[673,62,673081,"GROTON DUNSTABLE             ",81,"DUNSTABLE                    ",0.22999222998999999,2574,592,75.930000000000007,17.46]
[673,63,673115,"GROTON DUNSTABLE             ",115,"GROTON                       ",0.77000777000999998,2574,1982,82.5,63.53]
[674,64,{"$f":"A73*1000+E73","v":674106},"GILL MONTAGUE                ",106,"GILL                         ",0.14570135746999999,1105,161,{"$f":"ROUND(VLOOKUP(E73,town351,11),2)","v":61.01},8.89]
[674,65,674192,"GILL MONTAGUE                ",192,"MONTAGUE                     ",0.85429864252999999,1105,944,51.71,{"$f":"ROUND(G74*J74,2)","v":44.18}]
[675,66,675119,"HAMILTON WENHAM              ",119,"HAMILTON                     ",0.66442199775999999,1782,1184,82.5,54.81]
[675,67,675320,"HAMILTON WENHAM              ",320,"WENHAM                       ",0.33557800224000001,1782,598,82.5,27.69]
[680,68,680120,"HAMPDEN WILBRAHAM            ",120,"HAMPDEN                      ",0.23727735369,3144,746,72.5,17.2]
[680,69,680339,"HAMPDEN WILBRAHAM            ",339,"WILBRAHAM                    ",0.76272264630999997,3144,2398,67.819999999999993,51.73]
[683,70,683060,"HAMPSHIRE                    ",60,"CHESTERFIELD                 ",9.8092643049999997E-2,734,72,54.58,5.35]
[683,71,683108,"HAMPSHIRE                    ",108,"GOSHEN                       ",5.7220708449999998E-2,734,42,67.38,3.86]
[683,72,683275,"HAMPSHIRE                    ",275,"SOUTHAMPTON                  ",0.58719346048999999,734,431,63.54,37.31]
[683,73,683327,"HAMPSHIRE                    ",327,"WESTHAMPTON                  ",0.12670299728000001,734,93,71.28,9.0299999999999994]
[683,74,683340,"HAMPSHIRE                    ",340,"WILLIAMSBURG                 ",0.13079019074000001,734,96,79.37,10.38]
[685,75,685053,"HAWLEMONT                    ",53,"CHARLEMONT                   ",0.73786407766999995,103,76,55.53,40.97]
[685,76,685129,"HAWLEMONT                    ",129,"HAWLEY                       ",0.26213592232999999,103,27,56.87,14.91]
[690,77,690208,"KING PHILIP                  ",208,"NORFOLK                      ",0.34314627414999999,2174,746,82.5,28.31]
[690,78,690238,"KING PHILIP                  ",238,"PLAINVILLE                   ",0.25942962281999998,2174,564,69.290000000000006,17.98]
[690,79,690350,"KING PHILIP                  ",350,"WRENTHAM                     ",0.39742410303999998,2174,864,82.5,32.79]
[695,80,695157,"LINCOLN SUDBURY              ",157,"LINCOLN                      ",0.15772669220999999,1566,247,82.5,13.01]
[695,81,695288,"LINCOLN SUDBURY              ",288,"SUDBURY                      ",0.84227330778999998,1566,1319,82.5,69.489999999999995]
[698,82,698092,"MANCHESTER ESSEX",92,"ESSEX",0.38650306748000002,1467,567,82.5,31.89]
[698,83,698166,"MANCHESTER ESSEX",166,"MANCHESTER",0.61349693252000004,1467,900,82.5,50.61]
[700,84,700062,"MARTHAS VINEYARD             ",62,"CHILMARK                     ",4.2465753420000002E-2,730,31,82.5,3.5]
[700,85,700089,"MARTHAS VINEYARD             ",89,"EDGARTOWN                    ",0.25616438355999999,730,187,82.5,21.13]
[700,86,700104,"MARTHAS VINEYARD             ",104,"GAY HEAD                     ",2.0547945210000002E-2,730,15,82.5,1.7]
[700,87,700221,"MARTHAS VINEYARD             ",221,"OAK BLUFFS                   ",0.29863013699000002,730,218,82.5,24.64]
[700,88,700296,"MARTHAS VINEYARD             ",296,"TISBURY                      ",0.22465753425000001,730,164,82.5,18.53]
[700,89,700334,"MARTHAS VINEYARD             ",334,"WEST TISBURY                 ",0.15753424658000001,730,115,82.5,13]
[705,90,705038,"MASCONOMET                   ",38,"BOXFORD                      ",0.38152011923000001,2013,768,82.5,31.48]
[705,91,705184,"MASCONOMET                   ",184,"MIDDLETON                    ",0.35121708891999998,2013,707,82.5,28.98]
[705,92,705298,"MASCONOMET                   ",298,"TOPSFIELD                    ",0.26726279185000001,2013,538,82.5,22.05]
[710,93,710179,"MENDON UPTON                 ",179,"MENDON                       ",0.45446698317000001,2317,1053,65.599999999999994,29.81]
[710,94,710303,"MENDON UPTON                 ",303,"UPTON                        ",0.54553301682999999,2317,1264,64.849999999999994,35.380000000000003]
[712,95,712055,"MONOMOY",55,"CHATHAM                      ",0.26620980496000002,1897,505,82.5,21.96]
[712,96,712126,"MONOMOY",126,"HARWICH                      ",0.73379019503999998,1897,1392,82.5,60.54]
[715,97,715148,"MOUNT GREYLOCK               ",148,"LANESBOROUGH                 ",0.38193018480000002,487,186,64.87,24.78]
[715,98,715341,"MOUNT GREYLOCK               ",341,"WILLIAMSTOWN                 ",0.61806981520000004,487,301,82.5,50.99]
[717,99,717013,"MOHAWK TRAIL                 ",13,"ASHFIELD                     ",0.17610062893,954,168,82.2,14.48]
[717,100,717047,"MOHAWK TRAIL                 ",47,"BUCKLAND                     ",0.18343815514,954,175,73.23,13.43]
[717,101,717053,"MOHAWK TRAIL                 ",53,"CHARLEMONT                   ",8.9098532489999993E-2,954,85,55.53,4.95]
[717,102,717066,"MOHAWK TRAIL                 ",66,"COLRAIN                      ",0.18029350105,954,172,60.62,10.93]
[717,103,717129,"MOHAWK TRAIL                 ",129,"HAWLEY                       ",1.5723270439999999E-2,954,15,56.87,0.89]
[717,104,717130,"MOHAWK TRAIL                 ",130,"HEATH                        ",0.10062893082,954,96,43.88,4.42]
[717,105,717237,"MOHAWK TRAIL                 ",237,"PLAINFIELD                   ",6.0796645699999999E-2,954,58,82.5,5.0199999999999996]
[717,106,717268,"MOHAWK TRAIL                 ",268,"SHELBURNE                    ",0.19392033543000001,954,185,75.41,14.62]
[720,107,720235,"NARRAGANSETT                 ",235,"PHILLIPSTON                  ",0.16981132074999999,1325,225,52.06,8.84]
[720,108,720294,"NARRAGANSETT                 ",294,"TEMPLETON                    ",0.83018867924999995,1325,1100,39.409999999999997,32.72]
[725,109,725034,"NASHOBA                      ",34,"BOLTON                       ",0.30809248555000002,3460,1066,82.5,25.42]
[725,110,725147,"NASHOBA                      ",147,"LANCASTER                    ",0.29855491329,3460,1033,69.790000000000006,20.84]
[725,111,725286,"NASHOBA                      ",286,"STOW                         ",0.39335260115999998,3460,1361,82.5,32.450000000000003]
[728,112,728206,"NEW SALEM WENDELL            ",206,"NEW SALEM                    ",0.54615384614999996,130,71,50.52,27.59]
[728,113,728319,"NEW SALEM WENDELL            ",319,"WENDELL                      ",0.45384615384999999,130,59,60.46,27.44]
[730,114,730213,"NORTHBORO SOUTHBORO          ",213,"NORTHBOROUGH                 ",0.57785234899000004,1490,861,80.88,46.74]
[730,115,730276,"NORTHBORO SOUTHBORO          ",276,"SOUTHBOROUGH                 ",0.42214765101000001,1490,629,82.5,34.83]
[735,116,735012,"NORTH MIDDLESEX              ",12,"ASHBY                        ",0.12276140959,3462,425,52.23,6.41]
[735,117,735232,"NORTH MIDDLESEX              ",232,"PEPPERELL                    ",0.48526863084999999,3462,1680,55.08,26.73]
[735,118,735299,"NORTH MIDDLESEX              ",299,"TOWNSEND                     ",0.39196995956000003,3462,1357,49.19,19.28]
[740,119,740169,"OLD ROCHESTER                ",169,"MARION                       ",0.29152542373000001,1180,344,82.5,24.05]
[740,120,740173,"OLD ROCHESTER                ",173,"MATTAPOISETT                 ",0.33644067796999999,1180,397,82.5,27.76]
[740,121,740250,"OLD ROCHESTER                ",250,"ROCHESTER                    ",0.37203389831,1180,439,63.9,23.77]
[745,122,745116,"PENTUCKET                    ",116,"GROVELAND                    ",0.38667659099000001,2687,1039,63.63,24.6]
[745,123,745180,"PENTUCKET                    ",180,"MERRIMAC                     ",0.35429847412999999,2687,952,59.24,20.99]
[745,124,745329,"PENTUCKET                    ",329,"WEST NEWBURY                 ",0.25902493487,2687,696,82.5,21.37]
[750,125,750029,"PIONEER                      ",29,"BERNARDSTON                  ",0.34850455137000003,769,268,55.97,19.510000000000002]
[750,126,750156,"PIONEER                      ",156,"LEYDEN                       ",7.0221066319999997E-2,769,54,82.5,5.79]
[750,127,750216,"PIONEER                      ",216,"NORTHFIELD                   ",0.49024707412000001,769,377,64.34,31.54]
[750,128,{"$f":"A137*1000+E137","v":750312},"PIONEER                      ",312,"WARWICK                      ",9.1027308190000003E-2,769,70,{"$f":"ROUND(VLOOKUP(E137,town351,11),2)","v":67.87},6.18]
[753,129,753021,"QUABBIN                      ",21,"BARRE                        ",0.37106080781,2253,836,39.130000000000003,{"$f":"ROUND(G138*J138,2)","v":14.52}]
[753,130,753124,"QUABBIN                      ",124,"HARDWICK                     ",0.17576564581000001,2253,396,35.26,6.2]
[753,131,753140,"QUABBIN                      ",140,"HUBBARDSTON                  ",0.27075011096000001,2253,610,52.95,14.34]
[753,132,753202,"QUABBIN                      ",202,"NEW BRAINTREE                ",6.7465601419999993E-2,2253,152,55.41,3.74]
[753,133,753222,"QUABBIN                      ",222,"OAKHAM                       ",0.11495783399999999,2253,259,58.6,6.74]
[755,134,755206,"RALPH C MAHAR                ",206,"NEW SALEM                    ",9.4420600859999995E-2,699,66,50.52,4.7699999999999996]
[755,135,755223,"RALPH C MAHAR                ",223,"ORANGE                       ",0.77110157367999999,699,539,28.35,21.86]
[755,136,755234,"RALPH C MAHAR                ",234,"PETERSHAM                    ",9.5851216020000005E-2,699,67,76.28,7.31]
[755,137,755319,"RALPH C MAHAR                ",319,"WENDELL                      ",3.8626609440000001E-2,699,27,60.46,2.34]
[760,138,760118,"SILVER LAKE                  ",118,"HALIFAX                      ",0.33528784647999998,1876,629,51.82,17.37]
[760,139,760145,"SILVER LAKE                  ",145,"KINGSTON                     ",0.54904051173000001,1876,1030,63.56,34.9]
[760,140,760240,"SILVER LAKE                  ",240,"PLYMPTON                     ",0.11567164179,1876,217,76.05,8.8000000000000007]
[763,141,763027,"SOMERSET BERKLEY",27,"BERKLEY                      ",0.29565217390999998,920,272,54.31,16.059999999999999]
[763,142,763273,"SOMERSET BERKLEY",273,"SOMERSET                     ",0.70434782609000002,920,648,65.67,46.25]
[765,143,765006,"SOUTHERN BERKSHIRE           ",6,"ALFORD                       ",3.4076015729999999E-2,763,26,82.5,2.81]
[765,144,765090,"SOUTHERN BERKSHIRE           ",90,"EGREMONT                     ",0.13368283093,763,102,82.5,11.03]
[765,145,765193,"SOUTHERN BERKSHIRE           ",193,"MONTEREY                     ",0.11926605505,763,91,82.5,9.84]
[765,146,765205,"SOUTHERN BERKSHIRE           ",205,"NEW MARLBOROUGH              ",0.20707732634000001,763,158,82.5,17.079999999999998]
[765,147,765267,"SOUTHERN BERKSHIRE           ",267,"SHEFFIELD                    ",0.50589777194999996,763,386,82.5,41.74]
[766,148,766112,"SOUTHWICK TOLLAND",112,"GRANVILLE",0.13320825516000001,1599,213,68.98,9.19]
[766,149,766279,"SOUTHWICK TOLLAND",279,"SOUTHWICK                    ",0.83239524703000001,1599,1331,62.73,52.22]
[766,150,766297,"SOUTHWICK TOLLAND",297,"TOLLAND                      ",3.4396497810000003E-2,1599,55,82.5,2.84]
[767,151,767084,"SPENCER EAST BROOKFIELD      ",84,"EAST BROOKFIELD              ",0.17675415104,1867,330,46.31,8.19]
[767,152,767280,"SPENCER EAST BROOKFIELD      ",280,"SPENCER                      ",0.82324584895999997,1867,1537,43.06,35.450000000000003]
[770,153,770043,"TANTASQUA                    ",43,"BRIMFIELD                    ",0.17701863354,1610,285,56.1,9.93]
[770,154,770045,"TANTASQUA                    ",45,"BROOKFIELD                   ",0.15403726708000001,1610,248,41.55,6.4]
[770,155,770135,"TANTASQUA                    ",135,"HOLLAND                      ",0.11801242235999999,1610,190,58.1,6.86]
[770,156,770287,"TANTASQUA                    ",287,"STURBRIDGE                   ",0.47950310558999998,1610,772,56.54,27.11]
[770,157,770306,"TANTASQUA                    ",306,"WALES                        ",7.1428571430000004E-2,1610,115,43.7,3.12]
[773,158,773203,"TRITON                       ",203,"NEWBURY                      ",0.31204644411999999,2756,860,82.5,25.74]
[773,159,773254,"TRITON                       ",254,"ROWLEY                       ",0.32619738751999999,2756,899,79.650000000000006,25.98]
[773,160,773259,"TRITON                       ",259,"SALISBURY                    ",0.36175616836000002,2756,997,82.5,29.84]
[774,161,774062,"UPISLAND",62,"CHILMARK                     ",0.21739130435000001,368,80,82.5,17.93]
[774,162,774104,"UPISLAND",104,"AQUINNAH",9.5108695650000005E-2,368,35,82.5,7.85]
[774,163,774334,"UPISLAND",334,"WEST TISBURY                 ",0.6875,368,253,82.5,56.72]
[775,164,775134,"WACHUSETT                    ",134,"HOLDEN                       ",0.43918547056000001,7268,3192,58.55,25.71]
[775,165,775228,"WACHUSETT                    ",228,"PAXTON                       ",0.10057787562000001,7268,731,68.510000000000005,6.89]
[775,166,775241,"WACHUSETT                    ",241,"PRINCETON                    ",6.1640066039999997E-2,7268,448,82.5,5.09]
[775,167,775257,"WACHUSETT                    ",257,"RUTLAND                      ",0.23073747936,7268,1677,43.46,10.029999999999999]
[775,168,775282,"WACHUSETT                    ",282,"STERLING                     ",0.16785910842000001,7268,1220,71.08,11.93]
[778,169,778311,"QUABOAG",311,"WARREN                       ",0.61809815951000002,1304,806,28.36,17.53]
[778,170,778324,"QUABOAG",324,"WEST BROOKFIELD              ",0.38190184048999998,1304,498,55.72,21.28]
[780,171,780123,"WHITMAN HANSON               ",123,"HANSON                       ",0.41698935139999999,4132,1723,52.41,21.85]
[780,172,780338,"WHITMAN HANSON               ",338,"WHITMAN                      ",0.58301064859999996,4132,2409,45.09,26.29]
[801,173,801028,"ASSABET VALLEY               ",28,"BERLIN                       ",4.1722745630000002E-2,743,31,82.5,3.44]
[801,174,801141,"ASSABET VALLEY               ",141,"HUDSON                       ",0.24226110363,743,180,57.3,13.88]
[801,175,801170,"ASSABET VALLEY               ",170,"MARLBOROUGH                  ",0.48586810228999999,743,361,58.11,28.23]
[801,176,801174,"ASSABET VALLEY               ",174,"MAYNARD                      ",8.3445491250000003E-2,743,62,65.25,5.44]
[801,177,801213,"ASSABET VALLEY               ",213,"NORTHBOROUGH                 ",7.8061911169999998E-2,743,58,80.88,6.31]
[801,178,801276,"ASSABET VALLEY               ",276,"SOUTHBOROUGH                 ",1.7496635260000001E-2,743,13,82.5,1.44]
[801,179,801321,"ASSABET VALLEY               ",321,"WESTBOROUGH                  ",5.1144010769999998E-2,743,38,82.5,4.22]
[805,180,805025,"BLACKSTONE VALLEY            ",25,"BELLINGHAM                   ",8.5548172759999999E-2,1204,103,63.64,5.44]
[805,181,805032,"BLACKSTONE VALLEY            ",32,"BLACKSTONE                   ",6.4784053159999994E-2,1204,78,48.39,3.13]
[805,182,805077,"BLACKSTONE VALLEY            ",77,"DOUGLAS                      ",6.7275747509999997E-2,1204,81,50.32,3.39]
[805,183,805110,"BLACKSTONE VALLEY            ",110,"GRAFTON                      ",5.8970099669999998E-2,1204,71,66.010000000000005,3.89]
[805,184,805138,"BLACKSTONE VALLEY            ",138,"HOPEDALE                     ",1.9102990029999999E-2,1204,23,52.67,1.01]
[805,185,805179,"BLACKSTONE VALLEY            ",179,"MENDON                       ",6.2292358800000003E-2,1204,75,65.599999999999994,4.09]
[805,186,805185,"BLACKSTONE VALLEY            ",185,"MILFORD                      ",0.12458471761000001,1204,150,51.15,6.37]
[805,187,805186,"BLACKSTONE VALLEY            ",186,"MILLBURY                     ",6.2292358800000003E-2,1204,75,59.96,3.74]
[805,188,805188,"BLACKSTONE VALLEY            ",188,"MILLVILLE                    ",2.990033223E-2,1204,36,40.08,1.2]
[805,189,805214,"BLACKSTONE VALLEY            ",214,"NORTHBRIDGE                  ",0.12126245847,1204,146,50.12,6.08]
[805,190,805290,"BLACKSTONE VALLEY            ",290,"SUTTON                       ",7.724252492E-2,1204,93,70.650000000000006,5.46]
[805,191,805303,"BLACKSTONE VALLEY            ",303,"UPTON                        ",9.8837209300000006E-2,1204,119,64.849999999999994,6.41]
[805,192,{"$f":"A201*1000+E201","v":805304},"BLACKSTONE VALLEY            ",304,"UXBRIDGE                     ",0.12790697674000001,1204,154,{"$f":"ROUND(VLOOKUP(E201,town351,11),2)","v":57.86},7.4]
[806,193,806018,"BLUE HILLS                   ",18,"AVON                         ",5.8620689660000003E-2,870,51,74.89,{"$f":"ROUND(G202*J202,2)","v":4.3899999999999997}]
[806,194,806040,"BLUE HILLS                   ",40,"BRAINTREE                    ",0.18275862069000001,870,159,71.38,13.05]
[806,195,806050,"BLUE HILLS                   ",50,"CANTON                       ",7.2413793099999998E-2,870,63,82.5,5.97]
[806,196,806073,"BLUE HILLS                   ",73,"DEDHAM                       ",9.0804597700000003E-2,870,79,82.5,7.49]
[806,197,806133,"BLUE HILLS                   ",133,"HOLBROOK                     ",0.17241379309999999,870,150,54.57,9.41]
[806,198,806189,"BLUE HILLS                   ",189,"MILTON                       ",5.9770114940000001E-2,870,52,82.5,4.93]
[806,199,806220,"BLUE HILLS                   ",220,"NORWOOD                      ",5.7471264369999997E-2,870,50,82.5,4.74]
[806,200,806244,"BLUE HILLS                   ",244,"RANDOLPH                     ",0.29540229885000002,870,257,56.14,16.579999999999998]
[806,201,806335,"BLUE HILLS                   ",335,"WESTWOOD                     ",1.0344827589999999E-2,870,9,82.5,0.85]
[810,202,810027,"BRISTOL PLYMOUTH             ",27,"BERKLEY                      ",7.8008915299999995E-2,1346,105,54.31,4.24]
[810,203,810042,"BRISTOL PLYMOUTH             ",42,"BRIDGEWATER                  ",8.1723625559999999E-2,1346,110,60.14,4.91]
[810,204,810076,"BRISTOL PLYMOUTH             ",76,"DIGHTON",2.7488855869999999E-2,1346,37,50.04,1.38]
[810,205,810182,"BRISTOL PLYMOUTH             ",182,"MIDDLEBOROUGH                ",0.21471025260000001,1346,289,48.78,10.47]
[810,206,810245,"BRISTOL PLYMOUTH             ",245,"RAYNHAM                      ",0.11812778603,1346,159,60.92,7.2]
[810,207,810247,"BRISTOL PLYMOUTH             ",247,"REHOBOTH                     ",3.0460624070000001E-2,1346,41,68.930000000000007,2.1]
[810,208,810293,"BRISTOL PLYMOUTH             ",293,"TAUNTON                      ",0.44947994056000001,1346,605,37.18,16.71]
[815,209,815020,"CAPE COD                     ",20,"BARNSTABLE                   ",0.27147239264,652,177,82.5,22.4]
[815,210,815041,"CAPE COD                     ",41,"BREWSTER                     ",5.9815950919999999E-2,652,39,82.5,4.93]
[815,211,815055,"CAPE COD                     ",55,"CHATHAM                      ",2.6073619629999999E-2,652,17,82.5,2.15]
[815,212,815075,"CAPE COD                     ",75,"DENNIS                       ",0.12116564417,652,79,82.5,10]
[815,213,815085,"CAPE COD                     ",85,"EASTHAM                      ",1.8404907979999999E-2,652,12,82.5,1.52]
[815,214,815126,"CAPE COD                     ",126,"HARWICH                      ",0.11196319018000001,652,73,82.5,9.24]
[815,215,815172,"CAPE COD                     ",172,"MASHPEE                      ",9.6625766870000004E-2,652,63,82.5,7.97]
[815,216,815224,"CAPE COD                     ",224,"ORLEANS                      ",2.1472392640000001E-2,652,14,82.5,1.77]
[815,217,815242,"CAPE COD                     ",242,"PROVINCETOWN                 ",6.1349693300000001E-3,652,4,82.5,0.51]
[815,218,815300,"CAPE COD                     ",300,"TRURO                        ",3.0674846600000001E-3,652,2,82.5,0.25]
[815,219,815318,"CAPE COD                     ",318,"WELLFLEET                    ",1.2269938649999999E-2,652,8,82.5,1.01]
[815,220,815351,"CAPE COD                     ",351,"YARMOUTH                     ",0.25153374232999998,652,164,82.5,20.75]
[817,221,817030,"ESSEX NORTH SHORE                  ",30,"BEVERLY                      ",0.13941698352000001,789,110,82.5,11.5]
[817,222,817038,"ESSEX NORTH SHORE                  ",38,"BOXFORD                      ",2.027883397E-2,789,16,82.5,1.67]
[817,223,817071,"ESSEX NORTH SHORE                  ",71,"DANVERS                      ",0.13561470214999999,789,107,82.5,11.19]
[817,224,817092,"ESSEX NORTH SHORE                  ",92,"ESSEX                        ",1.394169835E-2,789,11,82.5,1.1499999999999999]
[817,225,817107,"ESSEX NORTH SHORE                  ",107,"GLOUCESTER                   ",0.10139416984000001,789,80,82.5,8.3699999999999992]
[817,226,817119,"ESSEX NORTH SHORE                  ",119,"HAMILTON                     ",1.520912548E-2,789,12,82.5,1.25]
[817,227,817164,"ESSEX NORTH SHORE                  ",164,"LYNNFIELD                    ",2.4081115340000001E-2,789,19,82.5,1.99]
[817,228,817166,"ESSEX NORTH SHORE                  ",166,"MANCHESTER                   ",5.0697084899999998E-3,789,4,82.5,0.42]
[817,229,817168,"ESSEX NORTH SHORE                  ",168,"MARBLEHEAD                   ",1.520912548E-2,789,12,82.5,1.25]
[817,230,817184,"ESSEX NORTH SHORE                  ",184,"MIDDLETON                    ",3.1685678070000001E-2,789,25,82.5,2.61]
[817,231,817196,"ESSEX NORTH SHORE                  ",196,"NAHANT                       ",5.0697084899999998E-3,789,4,82.5,0.42]
[817,232,817229,"ESSEX NORTH SHORE                  ",229,"PEABODY",0.20152091254999999,789,159,72.23,14.56]
[817,233,817252,"ESSEX NORTH SHORE                  ",252,"ROCKPORT                     ",2.1546261090000001E-2,789,17,82.5,1.78]
[817,234,817258,"ESSEX NORTH SHORE                  ",258,"SALEM                        ",0.21546261089999999,789,170,59.1,12.73]
[817,235,817291,"ESSEX NORTH SHORE                  ",291,"SWAMPSCOTT                   ",3.2953105199999999E-2,789,26,82.5,2.72]
[817,236,817298,"ESSEX NORTH SHORE                  ",298,"TOPSFIELD                    ",1.140684411E-2,789,9,82.5,0.94]
[817,237,817320,"ESSEX NORTH SHORE                  ",320,"WENHAM                       ",1.013941698E-2,789,8,82.5,0.84]
[818,238,818029,"FRANKLIN COUNTY              ",29,"BERNARDSTON                  ",4.3933054389999997E-2,478,21,55.97,2.46]
[818,239,818047,"FRANKLIN COUNTY              ",47,"BUCKLAND                     ",2.0920502090000001E-2,478,10,73.23,1.53]
[818,240,818066,"FRANKLIN COUNTY              ",66,"COLRAIN                      ",4.811715481E-2,478,23,60.62,2.92]
[818,241,818068,"FRANKLIN COUNTY              ",68,"CONWAY                       ",1.0460251049999999E-2,478,5,82.5,0.86]
[818,242,818074,"FRANKLIN COUNTY              ",74,"DEERFIELD                    ",3.3472803349999997E-2,478,16,82.5,2.76]
[818,243,818091,"FRANKLIN COUNTY              ",91,"ERVING                       ",6.4853556490000006E-2,478,31,82.5,5.35]
[818,244,818106,"FRANKLIN COUNTY              ",106,"GILL                         ",1.0460251049999999E-2,478,5,61.01,0.64]
[818,245,818114,"FRANKLIN COUNTY              ",114,"GREENFIELD                   ",0.23640167364,478,113,44.8,10.59]
[818,246,818130,"FRANKLIN COUNTY              ",130,"HEATH                        ",1.464435146E-2,478,7,43.88,0.64]
[818,247,818156,"FRANKLIN COUNTY              ",156,"LEYDEN                       ",2.5104602510000001E-2,478,12,82.5,2.0699999999999998]
[818,248,818192,"FRANKLIN COUNTY              ",192,"MONTAGUE                     ",0.14644351463999999,478,70,51.71,7.57]
[818,249,818206,"FRANKLIN COUNTY              ",206,"NEW SALEM                    ",1.6736401670000001E-2,478,8,50.52,0.85]
[818,250,818216,"FRANKLIN COUNTY              ",216,"NORTHFIELD                   ",8.1589958160000003E-2,478,39,64.34,5.25]
[818,251,818223,"FRANKLIN COUNTY              ",223,"ORANGE                       ",0.16527196653000001,478,79,28.35,4.6900000000000004]
[818,252,818268,"FRANKLIN COUNTY              ",268,"SHELBURNE                    ",1.0460251049999999E-2,478,5,75.41,0.79]
[818,253,818289,"FRANKLIN COUNTY              ",289,"SUNDERLAND                   ",2.0920502090000001E-2,478,10,81.14,1.7]
[818,254,818312,"FRANKLIN COUNTY              ",312,"WARWICK                      ",1.464435146E-2,478,7,67.87,0.99]
[818,255,818319,"FRANKLIN COUNTY              ",319,"WENDELL                      ",1.8828451879999999E-2,478,9,60.46,1.1399999999999999]
[818,256,{"$f":"A265*1000+E265","v":818337},"FRANKLIN COUNTY              ",337,"WHATELY                      ",1.6736401670000001E-2,478,8,{"$f":"ROUND(VLOOKUP(E265,town351,11),2)","v":82.5},1.38]
[821,257,821095,"GREATER FALL RIVER           ",95,"FALL RIVER                   ",0.75169606512999998,1474,1108,27,{"$f":"ROUND(G266*J266,2)","v":20.3}]
[821,258,821273,"GREATER FALL RIVER           ",273,"SOMERSET                     ",8.8195386700000003E-2,1474,130,65.67,5.79]
[821,259,821292,"GREATER FALL RIVER           ",292,"SWANSEA                      ",8.2089552240000002E-2,1474,121,63.8,5.24]
[821,260,821331,"GREATER FALL RIVER           ",331,"WESTPORT                     ",7.8018995930000001E-2,1474,115,82.5,6.44]
[823,261,823009,"GREATER LAWRENCE             ",9,"ANDOVER                      ",1.610738255E-2,1490,24,82.5,1.33]
[823,262,823149,"GREATER LAWRENCE             ",149,"LAWRENCE                     ",0.71610738254999995,1490,1067,12.84,9.19]
[823,263,823181,"GREATER LAWRENCE             ",181,"METHUEN                      ",0.25302013423000003,1490,377,44.63,11.29]
[823,264,823211,"GREATER LAWRENCE             ",211,"NORTH ANDOVER                ",1.476510067E-2,1490,22,82.5,1.22]
[825,265,825072,"GREATER NEW BEDFORD          ",72,"DARTMOUTH                    ",0.11572561829,2143,248,82.5,9.5500000000000007]
[825,266,825094,"GREATER NEW BEDFORD          ",94,"FAIRHAVEN                    ",9.3327111530000006E-2,2143,200,64.17,5.99]
[825,267,825201,"GREATER NEW BEDFORD          ",201,"NEW BEDFORD                  ",0.79094727017999999,2143,1695,23.77,18.8]
[828,268,828079,"GREATER LOWELL               ",79,"DRACUT                       ",0.20637813212,2195,453,54.62,11.27]
[828,269,828081,"GREATER LOWELL               ",81,"DUNSTABLE                    ",5.0113895200000003E-3,2195,11,75.930000000000007,0.38]
[828,270,828160,"GREATER LOWELL               ",160,"LOWELL                       ",0.74077448746999996,2195,1626,26.78,19.84]
[828,271,828301,"GREATER LOWELL               ",301,"TYNGSBOROUGH                 ",4.7835990889999999E-2,2195,105,66.62,3.19]
[829,272,829014,"SOUTH MIDDLESEX              ",14,"ASHLAND                      ",0.10496453901,705,74,77.33,8.1199999999999992]
[829,273,829100,"SOUTH MIDDLESEX              ",100,"FRAMINGHAM                   ",0.72907801417999996,705,514,58.49,42.64]
[829,274,829136,"SOUTH MIDDLESEX              ",136,"HOLLISTON                    ",5.6737588649999997E-2,705,40,71.94,4.08]
[829,275,829139,"SOUTH MIDDLESEX              ",139,"HOPKINTON                    ",2.553191489E-2,705,18,82.5,2.11]
[829,276,829198,"SOUTH MIDDLESEX              ",198,"NATICK                       ",8.3687943259999995E-2,705,59,82.5,6.9]
[830,277,830002,"MINUTEMAN                    ",2,"ACTON                        ",6.763285024E-2,414,28,77.34,5.23]
[830,278,830010,"MINUTEMAN                    ",10,"ARLINGTON                    ",0.38164251208,414,158,82.5,31.49]
[830,279,830026,"MINUTEMAN                    ",26,"BELMONT                      ",7.2463768119999994E-2,414,30,82.5,5.98]
[830,280,830034,"MINUTEMAN                    ",34,"BOLTON                       ",2.415458937E-2,414,10,82.5,1.99]
[830,281,830037,"MINUTEMAN                    ",37,"BOXBOROUGH                   ",1.207729469E-2,414,5,82.5,1]
[830,282,830051,"MINUTEMAN                    ",51,"CARLISLE                     ",1.93236715E-2,414,8,82.5,1.59]
[830,283,830067,"MINUTEMAN                    ",67,"CONCORD                      ",2.8985507250000001E-2,414,12,82.5,2.39]
[830,284,830078,"MINUTEMAN                    ",78,"DOVER                        ",7.2463768099999999E-3,414,3,82.5,0.6]
[830,285,830147,"MINUTEMAN                    ",147,"LANCASTER                    ",8.2125603859999993E-2,414,34,69.790000000000006,5.73]
[830,286,830155,"MINUTEMAN                    ",155,"LEXINGTON                    ",0.10869565217,414,45,82.5,8.9700000000000006]
[830,287,830157,"MINUTEMAN                    ",157,"LINCOLN                      ",1.207729469E-2,414,5,82.5,1]
[830,288,830199,"MINUTEMAN                    ",199,"NEEDHAM                      ",5.5555555559999997E-2,414,23,82.5,4.58]
[830,289,830286,"MINUTEMAN                    ",286,"STOW                         ",4.347826087E-2,414,18,82.5,3.59]
[830,290,830288,"MINUTEMAN                    ",288,"SUDBURY                      ",6.5217391299999997E-2,414,27,82.5,5.38]
[830,291,830315,"MINUTEMAN                    ",315,"WAYLAND                      ",1.207729469E-2,414,5,82.5,1]
[830,292,830330,"MINUTEMAN                    ",330,"WESTON                       ",7.2463768099999999E-3,414,3,82.5,0.6]
[832,293,832011,"MONTACHUSETT                 ",11,"ASHBURNHAM                   ",4.0376850610000001E-2,1486,60,44.18,1.78]
[832,294,832012,"MONTACHUSETT                 ",12,"ASHBY                        ",2.69179004E-2,1486,40,52.23,1.41]
[832,295,832015,"MONTACHUSETT                 ",15,"ATHOL                        ",6.1911170930000002E-2,1486,92,29.98,1.86]
[832,296,832021,"MONTACHUSETT                 ",21,"BARRE                        ",2.5572005379999999E-2,1486,38,39.130000000000003,1]
[832,297,832097,"MONTACHUSETT                 ",97,"FITCHBURG                    ",0.27725437415999998,1486,412,26.98,7.48]
[832,298,832103,"MONTACHUSETT                 ",103,"GARDNER                      ",0.10565275908000001,1486,157,34.299999999999997,3.62]
[832,299,832125,"MONTACHUSETT                 ",125,"HARVARD                      ",5.3835800800000003E-3,1486,8,82.5,0.44]
[832,300,832134,"MONTACHUSETT                 ",134,"HOLDEN",5.1816958279999999E-2,1486,77,58.55,3.03]
[832,301,832140,"MONTACHUSETT                 ",140,"HUBBARDSTON                  ",4.1049798120000001E-2,1486,61,52.95,2.17]
[832,302,832162,"MONTACHUSETT                 ",162,"LUNENBURG                    ",5.2489905789999999E-2,1486,78,60.29,3.16]
[832,303,832234,"MONTACHUSETT                 ",234,"PETERSHAM                    ",3.36473755E-3,1486,5,76.28,0.26]
[832,304,832235,"MONTACHUSETT                 ",235,"PHILLIPSTON                  ",1.2786002689999999E-2,1486,19,52.06,0.67]
[832,305,832241,"MONTACHUSETT                 ",241,"PRINCETON                    ",1.4131897710000001E-2,1486,21,82.5,1.17]
[832,306,832255,"MONTACHUSETT                 ",255,"ROYALSTON                    ",1.34589502E-2,1486,20,61.45,0.83]
[832,307,832282,"MONTACHUSETT                 ",282,"STERLING                     ",4.3068640649999997E-2,1486,64,71.08,3.06]
[832,308,832294,"MONTACHUSETT                 ",294,"TEMPLETON                    ",6.6621803499999993E-2,1486,99,39.409999999999997,2.63]
[832,309,832328,"MONTACHUSETT                 ",328,"WESTMINSTER                  ",5.5854643340000003E-2,1486,83,54.76,3.06]
[832,310,832343,"MONTACHUSETT                 ",343,"WINCHENDON                   ",0.10228802153,1486,152,32.26,3.3]
[851,311,851004,"NORTHERN BERKSHIRE           ",4,"ADAMS                        ",0.29052631578999999,475,138,33.630000000000003,9.77]
[851,312,851058,"NORTHERN BERKSHIRE           ",58,"CHESIRE",0.10526315789,475,50,50.36,5.3]
[851,313,851063,"NORTHERN BERKSHIRE           ",63,"CLARKSBURG                   ",0.10526315789,475,50,37.54,3.95]
[851,314,851098,"NORTHERN BERKSHIRE           ",98,"FLORIDA                      ",4.2105263160000003E-2,475,20,53.68,2.2599999999999998]
[851,315,851148,"NORTHERN BERKSHIRE           ",148,"LANESBOROUGH                 ",3.7894736839999998E-2,475,18,64.87,2.46]
[851,316,851190,"NORTHERN BERKSHIRE           ",190,"MONROE                       ",8.4210526300000001E-3,475,4,80.819999999999993,0.68]
[851,317,851209,"NORTHERN BERKSHIRE           ",209,"NORTH ADAMS                  ",0.34105263157999999,475,162,30.14,10.28]
[851,318,851263,"NORTHERN BERKSHIRE           ",263,"SAVOY                        ",4.2105263160000003E-2,475,20,53.16,2.2400000000000002]
[851,319,851341,"NORTHERN BERKSHIRE           ",341,"WILLIAMSTOWN                 ",2.7368421050000001E-2,475,13,82.5,2.2599999999999998]
[852,320,{"$f":"A329*1000+E329","v":852019},"NASHOBA VALLEY               ",19,"AYER",8.0965909089999996E-2,704,57,{"$f":"ROUND(VLOOKUP(E329,town351,11),2)","v":63.27},5.12]
[852,321,852056,"NASHOBA VALLEY               ",56,"CHELMSFORD                   ",0.26278409090999999,704,185,80.5,{"$f":"ROUND(G330*J330,2)","v":21.15}]
[852,322,852115,"NASHOBA VALLEY               ",115,"GROTON                       ",5.5397727270000002E-2,704,39,82.5,4.57]
[852,323,852158,"NASHOBA VALLEY               ",158,"LITTLETON                    ",4.6875E-2,704,33,75.58,3.54]
[852,324,852232,"NASHOBA VALLEY               ",232,"PEPPERELL                    ",0.22585227273,704,159,55.08,12.44]
[852,325,852270,"NASHOBA VALLEY               ",270,"SHIRLEY                      ",0.12073863636,704,85,54.92,6.63]
[852,326,852299,"NASHOBA VALLEY               ",299,"TOWNSEND                     ",0.13352272727,704,94,49.19,6.57]
[852,327,852326,"NASHOBA VALLEY               ",326,"WESTFORD                     ",7.3863636359999998E-2,704,52,73.319999999999993,5.42]
[853,328,853057,"NORTHEAST METROPOLITAN       ",57,"CHELSEA                      ",0.16869424169,1233,208,19.14,3.23]
[853,329,853165,"NORTHEAST METROPOLITAN       ",165,"MALDEN                       ",0.13787510138,1233,170,45.59,6.29]
[853,330,853178,"NORTHEAST METROPOLITAN       ",178,"MELROSE                      ",5.0283860499999999E-2,1233,62,82.5,4.1500000000000004]
[853,331,853217,"NORTHEAST METROPOLITAN       ",217,"NORTH READING                ",2.7575020280000001E-2,1233,34,82.5,2.27]
[853,332,853246,"NORTHEAST METROPOLITAN       ",246,"READING                      ",1.3787510140000001E-2,1233,17,82.19,1.1299999999999999]
[853,333,853248,"NORTHEAST METROPOLITAN       ",248,"REVERE                       ",0.17518248175000001,1233,216,35.450000000000003,6.21]
[853,334,853262,"NORTHEAST METROPOLITAN       ",262,"SAUGUS                       ",0.16139497160999999,1233,199,81.61,13.17]
[853,335,853284,"NORTHEAST METROPOLITAN       ",284,"STONEHAM                     ",5.7583130580000003E-2,1233,71,82.5,4.75]
[853,336,853305,"NORTHEAST METROPOLITAN       ",305,"WAKEFIELD                    ",5.1905920520000003E-2,1233,64,82.5,4.28]
[853,337,853344,"NORTHEAST METROPOLITAN       ",344,"WINCHESTER                   ",7.2992700699999998E-3,1233,9,82.5,0.6]
[853,338,853346,"NORTHEAST METROPOLITAN       ",346,"WINTHROP                     ",5.5150040550000001E-2,1233,68,69.64,3.84]
[853,339,853347,"NORTHEAST METROPOLITAN       ",347,"WOBURN",9.3268450929999996E-2,1233,115,82.5,7.69]
[855,340,855003,"OLD COLONY                   ",3,"ACUSHNET                     ",0.32150313151999999,479,154,57.34,18.43]
[855,341,855052,"OLD COLONY                   ",52,"CARVER                       ",0.19832985385999999,479,95,51.02,10.119999999999999]
[855,342,855146,"OLD COLONY                   ",146,"LAKEVILLE                    ",0.27557411272999999,479,132,65.489999999999995,18.05]
[855,343,855173,"OLD COLONY                   ",173,"MATTAPOISETT                 ",6.4718162839999996E-2,479,31,82.5,5.34]
[855,344,855250,"OLD COLONY                   ",250,"ROCHESTER                    ",0.13987473904,479,67,63.9,8.94]
[860,345,860024,"PATHFINDER                   ",24,"BELCHERTOWN                  ",0.15136054422,588,89,48.75,7.38]
[860,346,860111,"PATHFINDER                   ",111,"GRANBY                       ",3.5714285710000002E-2,588,21,58.39,2.09]
[860,347,860124,"PATHFINDER                   ",124,"HARDWICK",4.25170068E-2,588,25,35.26,1.5]
[860,348,860191,"PATHFINDER                   ",191,"MONSON                       ",0.18707482992999999,588,110,50.35,9.42]
[860,349,860202,"PATHFINDER                   ",202,"NEW BRAINTREE                ",1.870748299E-2,588,11,55.41,1.04]
[860,350,860222,"PATHFINDER                   ",222,"OAKHAM",2.380952381E-2,588,14,58.6,1.4]
[860,351,860227,"PATHFINDER                   ",227,"PALMER                       ",0.27380952381000001,588,161,42.2,11.55]
[860,352,860309,"PATHFINDER                   ",309,"WARE                         ",0.18707482992999999,588,110,37.04,6.93]
[860,353,860311,"PATHFINDER                   ",311,"WARREN                       ",7.993197279E-2,588,47,28.36,2.27]
[871,354,871023,"SHAWSHEEN VALLEY             ",23,"BEDFORD                      ",1.2958963279999999E-2,1389,18,82.5,1.07]
[871,355,871031,"SHAWSHEEN VALLEY             ",31,"BILLERICA                    ",0.46580273577999998,1389,647,66.87,31.15]
[871,356,871048,"SHAWSHEEN VALLEY             ",48,"BURLINGTON                   ",7.9193664509999998E-2,1389,110,82.5,6.53]
[871,357,871295,"SHAWSHEEN VALLEY             ",295,"TEWKSBURY                    ",0.26277897768000003,1389,365,75.67,19.88]
[871,358,871342,"SHAWSHEEN VALLEY             ",342,"WILMINGTON                   ",0.17926565875,1389,249,71.17,12.76]
[872,359,872044,"SOUTHEASTERN                 ",44,"BROCKTON                     ",0.61158192089999996,1416,866,21.19,12.96]
[872,360,872083,"SOUTHEASTERN                 ",83,"EAST BRIDGEWATER             ",6.6384180789999997E-2,1416,94,52.8,3.51]
[872,361,872088,"SOUTHEASTERN                 ",88,"EASTON                       ",3.8841807909999998E-2,1416,55,75.95,2.95]
[872,362,872099,"SOUTHEASTERN                 ",99,"FOXBOROUGH                   ",1.624293785E-2,1416,23,79.34,1.29]
[872,363,872167,"SOUTHEASTERN                 ",167,"MANSFIELD                    ",5.437853107E-2,1416,77,63.5,3.45]
[872,364,872218,"SOUTHEASTERN                 ",218,"NORTON                       ",7.4152542370000005E-2,1416,105,62.03,4.5999999999999996]
[872,365,872266,"SOUTHEASTERN                 ",266,"SHARON                       ",1.483050847E-2,1416,21,82.5,1.22]
[872,366,872285,"SOUTHEASTERN                 ",285,"STOUGHTON                    ",9.6751412430000003E-2,1416,137,58.81,5.69]
[872,367,872323,"SOUTHEASTERN                 ",323,"WEST BRIDGEWATER             ",2.6836158190000001E-2,1416,38,66.59,1.79]
[873,368,873001,"SOUTH SHORE                  ",1,"ABINGTON                     ",0.25340136054000001,588,149,66.489999999999995,16.850000000000001]
[873,369,873065,"SOUTH SHORE                  ",65,"COHASSET                     ",6.8027210899999999E-3,588,4,82.5,0.56000000000000005]
[873,370,873122,"SOUTH SHORE                  ",122,"HANOVER                      ",7.8231292519999995E-2,588,46,76.37,5.97]
[873,371,873123,"SOUTH SHORE                  ",123,"HANSON                       ",0.12755102040999999,588,75,52.41,6.68]
[873,372,873219,"SOUTH SHORE                  ",219,"NORWELL                      ",1.19047619E-2,588,7,82.5,0.98]
[873,373,873251,"SOUTH SHORE                  ",251,"ROCKLAND                     ",0.27380952381000001,588,161,47.91,13.12]
[873,374,873264,"SOUTH SHORE                  ",264,"SCITUATE                     ",5.4421768709999999E-2,588,32,82.5,4.49]
[873,375,873338,"SOUTH SHORE                  ",338,"WHITMAN                      ",0.19387755102000001,588,114,45.09,8.74]
[876,376,876017,"SOUTHERN WORCESTER           ",17,"AUBURN                       ",8.2752613239999995E-2,1148,95,60.83,5.03]
[876,377,876054,"SOUTHERN WORCESTER           ",54,"CHARLTON                     ",0.16724738676000001,1148,192,51.32,8.58]
[876,378,876080,"SOUTHERN WORCESTER           ",80,"DUDLEY                       ",0.11149825784,1148,128,39.65,4.42]
[876,379,876215,"SOUTHERN WORCESTER           ",215,"NORTH BROOKFIELD",4.0069686409999999E-2,1148,46,44.5,1.78]
[876,380,876226,"SOUTHERN WORCESTER           ",226,"OXFORD                       ",0.13414634146000001,1148,154,47.35,6.35]
[876,381,876228,"SOUTHERN WORCESTER           ",228,"PAXTON                       ",9.5818815299999992E-3,1148,11,68.510000000000005,0.66]
[876,382,876257,"SOUTHERN WORCESTER           ",257,"RUTLAND",2.9616724739999999E-2,1148,34,43.46,1.29]
[876,383,876277,"SOUTHERN WORCESTER           ",277,"SOUTHBRIDGE                  ",0.15418118467,1148,177,27.84,4.29]
[876,384,{"$f":"A393*1000+E393","v":876280},"SOUTHERN WORCESTER           ",280,"SPENCER                      ",0.13240418118,1148,152,{"$f":"ROUND(VLOOKUP(E393,town351,11),2)","v":43.06},5.7]
[876,385,876316,"SOUTHERN WORCESTER           ",316,"WEBSTER                      ",0.13850174216,1148,159,47.01,{"$f":"ROUND(G394*J394,2)","v":6.51}]
[878,386,878101,"TRI COUNTY                   ",101,"FRANKLIN                     ",0.21278825996,954,203,61.23,13.03]
[878,387,878175,"TRI COUNTY                   ",175,"MEDFIELD                     ",8.3857442300000005E-3,954,8,82.5,0.69]
[878,388,878177,"TRI COUNTY                   ",177,"MEDWAY                       ",5.6603773580000002E-2,954,54,64.599999999999994,3.66]
[878,389,878187,"TRI COUNTY                   ",187,"MILLIS                       ",3.1446540879999998E-2,954,30,66,2.08]
[878,390,878208,"TRI COUNTY                   ",208,"NORFOLK                      ",4.507337526E-2,954,43,82.5,3.72]
[878,391,878212,"TRI COUNTY                   ",212,"NORTH ATTLEBOROUGH           ",0.31132075471999998,954,297,59.88,18.64]
[878,392,878238,"TRI COUNTY                   ",238,"PLAINVILLE                   ",0.10587002096000001,954,101,69.290000000000006,7.34]
[878,393,878265,"TRI COUNTY                   ",265,"SEEKONK                      ",8.4905660379999998E-2,954,81,74.819999999999993,6.35]
[878,394,878269,"TRI COUNTY                   ",269,"SHERBORN                     ",0,954,0,82.5,0]
[878,395,878307,"TRI COUNTY                   ",307,"WALPOLE                      ",7.1278826000000003E-2,954,68,81.12,5.78]
[878,396,878350,"TRI COUNTY                   ",350,"WRENTHAM                     ",7.2327044029999996E-2,954,69,82.5,5.97]
[879,397,879036,"UPPER CAPE COD               ",36,"BOURNE                       ",0.29224376731000001,722,211,82.5,24.11]
[879,398,879096,"UPPER CAPE COD               ",96,"FALMOUTH                     ",0.17728531855999999,722,128,82.5,14.63]
[879,399,879169,"UPPER CAPE COD               ",169,"MARION                       ",1.8005540170000001E-2,722,13,82.5,1.49]
[879,400,879261,"UPPER CAPE COD               ",261,"SANDWICH                     ",0.17590027700999999,722,127,82.5,14.51]
[879,401,879310,"UPPER CAPE COD               ",310,"WAREHAM                      ",0.33656509694999998,722,243,57.01,19.190000000000001]
[885,402,885007,"WHITTIER                     ",7,"AMESBURY                     ",5.4747647560000001E-2,1169,64,61,3.34]
[885,403,885105,"WHITTIER                     ",105,"GEORGETOWN                   ",3.7639007699999998E-2,1169,44,71.8,2.7]
[885,404,885116,"WHITTIER                     ",116,"GROVELAND                    ",6.2446535499999997E-2,1169,73,63.63,3.97]
[885,405,885128,"WHITTIER                     ",128,"HAVERHILL                    ",0.65953806672000004,1169,771,44.26,29.19]
[885,406,885144,"WHITTIER                     ",144,"IPSWICH                      ",2.8229255769999999E-2,1169,33,82.5,2.33]
[885,407,885180,"WHITTIER                     ",180,"MERRIMAC                     ",5.645851155E-2,1169,66,59.24,3.34]
[885,408,885203,"WHITTIER                     ",203,"NEWBURY                      ",1.9674935840000001E-2,1169,23,82.5,1.62]
[885,409,885204,"WHITTIER                     ",204,"NEWBURYPORT                  ",1.5397775880000001E-2,1169,18,82.5,1.27]
[885,410,885254,"WHITTIER                     ",254,"ROWLEY                       ",1.28314799E-2,1169,15,79.650000000000006,1.02]
[885,411,885259,"WHITTIER                     ",259,"SALISBURY                    ",3.9349871690000003E-2,1169,46,82.5,3.25]
[885,412,885329,"WHITTIER                     ",329,"WEST NEWBURY                 ",1.368691189E-2,1169,16,82.5,1.1299999999999999]
[910,413,910003,"BRISTOL COUNTY               ",3,"ACUSHNET                     ",2.6041666670000001E-2,384,10,57.34,1.49]
[910,414,910016,"BRISTOL COUNTY               ",16,"ATTLEBORO                    ",0.10677083333,384,41,47.28,5.05]
[910,415,910027,"BRISTOL COUNTY               ",27,"BERKLEY                      ",2.8645833329999999E-2,384,11,54.31,1.56]
[910,416,910072,"BRISTOL COUNTY               ",72,"DARTMOUTH                    ",3.90625E-2,384,15,82.5,3.22]
[910,417,910076,"BRISTOL COUNTY               ",76,"DIGHTON                      ",7.2916666670000005E-2,384,28,50.04,3.65]
[910,418,910088,"BRISTOL COUNTY               ",88,"EASTON                       ",1.041666667E-2,384,4,75.95,0.79]
[910,419,910094,"BRISTOL COUNTY               ",94,"FAIRHAVEN                    ",3.125E-2,384,12,64.17,2.0099999999999998]
[910,420,910095,"BRISTOL COUNTY               ",95,"FALL RIVER                   ",0.11458333333,384,44,27,3.09]
[910,421,910102,"BRISTOL COUNTY               ",102,"FREETOWN                     ",4.4270833330000002E-2,384,17,68.510000000000005,3.03]
[910,422,910167,"BRISTOL COUNTY               ",167,"MANSFIELD                    ",2.6041666700000001E-3,384,1,63.5,0.17]
[910,423,910201,"BRISTOL COUNTY               ",201,"NEW BEDFORD                  ",4.9479166669999998E-2,384,19,23.77,1.18]
[910,424,910212,"BRISTOL COUNTY               ",212,"NORTH ATTLEBOROUGH           ",2.34375E-2,384,9,59.88,1.4]
[910,425,910218,"BRISTOL COUNTY               ",218,"NORTON                       ",4.4270833330000002E-2,384,17,62.03,2.75]
[910,426,910245,"BRISTOL COUNTY               ",245,"RAYNHAM                      ",2.8645833329999999E-2,384,11,60.92,1.75]
[910,427,910247,"BRISTOL COUNTY               ",247,"REHOBOTH                     ",7.8125E-2,384,30,68.930000000000007,5.39]
[910,428,910265,"BRISTOL COUNTY               ",265,"SEEKONK                      ",2.8645833329999999E-2,384,11,74.819999999999993,2.14]
[910,429,910273,"BRISTOL COUNTY               ",273,"SOMERSET                     ",3.125E-2,384,12,65.67,2.0499999999999998]
[910,430,910292,"BRISTOL COUNTY               ",292,"SWANSEA                      ",4.6875E-2,384,18,63.8,2.99]
[910,431,910293,"BRISTOL COUNTY               ",293,"TAUNTON                      ",0.1171875,384,45,37.18,4.3600000000000003]
[910,432,910331,"BRISTOL COUNTY               ",331,"WESTPORT                     ",7.5520833329999995E-2,384,29,82.5,6.23]
[915,433,915018,"NORFOLK COUNTY               ",18,"AVON                         ",0,271,0,74.89,0]
[915,434,915025,"NORFOLK COUNTY               ",25,"BELLINGHAM                   ",5.1660516609999999E-2,271,14,63.64,3.29]
[915,435,915040,"NORFOLK COUNTY               ",40,"BRAINTREE                    ",4.0590405900000001E-2,271,11,71.38,2.9]
[915,436,915046,"NORFOLK COUNTY               ",46,"BROOKLINE                    ",0,271,0,82.5,0]
[915,437,915050,"NORFOLK COUNTY               ",50,"CANTON                       ",1.4760147600000001E-2,271,4,82.5,1.22]
[915,438,915065,"NORFOLK COUNTY               ",65,"COHASSET                     ",7.3800738000000003E-3,271,2,82.5,0.61]
[915,439,915073,"NORFOLK COUNTY               ",73,"DEDHAM                       ",0.11070110700999999,271,30,82.5,9.1300000000000008]
[915,440,915078,"NORFOLK COUNTY               ",78,"DOVER                        ",7.3800738000000003E-3,271,2,82.5,0.61]
[915,441,915099,"NORFOLK COUNTY               ",99,"FOXBOROUGH                   ",5.5350553509999997E-2,271,15,79.34,4.3899999999999997]
[915,442,915101,"NORFOLK COUNTY               ",101,"FRANKLIN                     ",4.7970479699999999E-2,271,13,61.23,2.94]
[915,443,915133,"NORFOLK COUNTY               ",133,"HOLBROOK                     ",7.3800738010000005E-2,271,20,54.57,4.03]
[915,444,915175,"NORFOLK COUNTY               ",175,"MEDFIELD                     ",1.4760147600000001E-2,271,4,82.5,1.22]
[915,445,915177,"NORFOLK COUNTY               ",177,"MEDWAY                       ",2.5830258299999999E-2,271,7,64.599999999999994,1.67]
[915,446,915187,"NORFOLK COUNTY               ",187,"MILLIS                       ",1.8450184500000001E-2,271,5,66,1.22]
[915,447,915189,"NORFOLK COUNTY               ",189,"MILTON                       ",7.3800738000000003E-3,271,2,82.5,0.61]
[915,448,{"$f":"A457*1000+E457","v":915199},"NORFOLK COUNTY               ",199,"NEEDHAM                      ",1.4760147600000001E-2,271,4,{"$f":"ROUND(VLOOKUP(E457,town351,11),2)","v":82.5},1.22]
[915,449,915208,"NORFOLK COUNTY               ",208,"NORFOLK                      ",3.3210332100000003E-2,271,9,82.5,{"$f":"ROUND(G458*J458,2)","v":2.74}]
[915,450,915220,"NORFOLK COUNTY               ",220,"NORWOOD                      ",4.0590405900000001E-2,271,11,82.5,3.35]
[915,451,915238,"NORFOLK COUNTY               ",238,"PLAINVILLE                   ",2.21402214E-2,271,6,69.290000000000006,1.53]
[915,452,915243,"NORFOLK COUNTY               ",243,"QUINCY                       ",8.8560885610000001E-2,271,24,76.39,6.77]
[915,453,915244,"NORFOLK COUNTY               ",244,"RANDOLPH                     ",3.6900369000000002E-2,271,10,56.14,2.0699999999999998]
[915,454,915266,"NORFOLK COUNTY               ",266,"SHARON                       ",2.21402214E-2,271,6,82.5,1.83]
[915,455,915285,"NORFOLK COUNTY               ",285,"STOUGHTON                    ",5.9040590410000003E-2,271,16,58.81,3.47]
[915,456,915307,"NORFOLK COUNTY               ",307,"WALPOLE                      ",4.7970479699999999E-2,271,13,81.12,3.89]
[915,457,915317,"NORFOLK COUNTY               ",317,"WELLESLEY",0,271,0,82.5,0]
[915,458,915335,"NORFOLK COUNTY               ",335,"WESTWOOD                     ",2.21402214E-2,271,6,82.5,1.83]
[915,459,915336,"NORFOLK COUNTY               ",336,"WEYMOUTH                     ",9.9630996309999997E-2,271,27,68.069999999999993,6.78]
[915,460,915350,"NORFOLK COUNTY               ",350,"WRENTHAM                     ",3.6900369000000002E-2,271,10,82.5,3.04]

{"sheet":"disthist","index":16,"n_rows":448,"n_cols":37,"rows_kept":448,"cut":false,"hidden":true,"merged":[]}
[null,null,"this will change every year","c70fy07","c70fy06","c70fy07","c70fy07","c70fy07","c70fy07",null,null,null,"c70fy09 oct 15","c70fy09 oct 15","net of $412m cut",null,"c70fy10finalmay, reflecting weymouth and chelsea waiver, june 29, 2010",null,"c70fy10final, june30, 2010; reflects what weymouth chelsea and associated districts were ELIGIBLE for after June 30 waivers",null,"fy11 fb in localcont pivoted, total difffers because of regionalizers","pymincont pivoted dec 21, reflects raynham waiver and reallocated contributions for a/s, s/b oakhamfor comparison purposes","ayer, shirley, berkley, somerset, freetown, lakeville, ayer/shirley,  berk/som, f/l  adjusted based upon disaagregation file; oakham aid assigned to pathfindeer","ayer, shirley, berkley, somerset,freetown, lakeville,  ayer/shirley, berk/som, freetown/lakevilleadjusted based upon disaagregation file","ayer, shirley, berkley, somerset, freetown, lakeville, ayer/shirley, berk/som, freetown/lakeville  adjusted based upon disaagregation file","c70fy12, oct 14; monomoy, chatham harwich, granville, st","c70fy12, oct 14; monomoy, chatham harwich, granville, st","c70fy12, oct 14; monomoy, chatham harwich, granville, st","c70fy13; adjusts Lanesborough, Chesire, Berlin, Boylston, Ayer, N Berkshire, Nashoba Valley, Berlin Boylston","c70fy13; adjusts Lanesborough, Chesire, Berlin, Boylston, Ayer, N Berkshire, Nashoba Valley, Berlin Boylston","c70fy13; adjusts Lanesborough, Chesire, Berlin, Boylston, Ayer, N Berkshire, Nashoba Valley, Berlin Boylston; New Bedford","c70fy14; adjusts Acton Boxborough; removes Essex","c70fy14; adjusts Acton Boxborough; removes Essex","c70fy14; adjusts Acton Boxborough; removes Essex and allocates aid to sending districts","c70fy15","c70fy15","c70fy15; adjusts Gateway and Worthington; Peabody and ENS"]
[null,null,"c70fy15"]
[1,2,3,4,5,6,7,8,9,10,11,12,13,14,15,16,17,18,19,20,21,22,23,24,25,26,27,28,29,30,31,32,33,34,35,36,37]
[]
[]
[]
[null,null,"prior year ",null,"required",null,"Foundation","Required","FY07","Foundation","Required","FY08","Foundation","Required","chapter 70",null,"Foundation","Required","chapter 70",null,"Foundation","Required",null,null,"edujobs","Foundation","Required",null,"Foundation","Required",null,"Foundation","Required",null,"Foundation","Required"]
[null,null,"target aid share","foundation","contribution","Chapter 70","Budget","Contribution","chapter 70","Budget","Contribution","chapter 70","Budget","Contribution","aid","FY09 9c cut","Budget","Contribution","aid","FY10","Budget","Contribution","c70","sfsf","total","Budget","Contribution","c70","Budget","Contribution","c70","Budget","Contribution","c70","Budget","Contribution","c70"]
["LEA","District","FY15","FY06","FY06","FY06","FY07","FY07","aid","FY08","FY08","aid","FY09","FY09","FY09","stabilization aid","FY10","FY10","FY10","sfsf","FY11","FY11","FY11","FY11","FY11","FY12","FY12","FY12","FY13","FY13","FY13","FY14","FY14","FY14","FY15","FY15","FY15"]
[1,"ABINGTON                     ",31.44,16523760,10191983,6869653,17243088.48,10835090,7152781,18063555.577898104,11492886,7448806,19020902.029999997,11903143,6987394,821183,19474318.639892824,12084604,7652405,0,18226050.298500001,11741657,7205352,38682,462271,17359608.879999999,12056554,7244034,18273059.900000002,12498017,7324394,18967492.810000002,13020494,7374594,18287521.510000002,12943494,7423394]
[2,"ACTON                        ",26.69,16798342,14323943,2723714,17472326.599199999,14258025,3214302,18387597.604836155,14103803,4283795,19355313.269600004,14127172,4678327,549814,19717633.622768261,14236925,5123578,357131,19649104.540190399,14516319,5160527,27704,353078,19614092.674799997,14543128,5188231,20151482.417030003,14761130,5537500.2082832009,13308,9807,1699,0,0,0]
[3,"ACUSHNET                     ",44.12,10752617,4702995,6049622,10925643.810000001,5021780,6138021,10761756.058842914,5158813,6206921,11395406.830000002,5414309,5825831,684672,11223341.565244021,5326164,6380293,0,10323398.130179999,5401579,6007556,32251,371236,10560494.92,5591539,6039807,10945583.299999999,5840331,6088327,11227244.859999999,6098928,6118877,11538501.129999999,6393318,6150152]
[4,"ADAMS                        ",65.38,0,0,0,0,0,0,0,0,0,11943.49,2802,9141,0,12306.57500478469,3310,8958,39,0,0,0,0,0,0,0,0,12697.210000000001,3609,9088,0,0,0,0,0,0]
[5,"AGAWAM                       ",47.36,32319935,21493837,10826098,34566078.779999994,22041666,12524413,35551345.780867614,21602566,14029399,37698376.909999989,21211830,14752751,1733796,38739894.035965554,21200429,16156816,1382649,37851740.416679993,20906343,16620258,89225,936907,38691315.740000002,21196318,17494998,40065479.369999997,21799451,18531417.812022001,39705689.879999995,22317126,18633592.812022001,40513463.040000007,22228633,18827346.812022001]
[6,"ALFORD                       ",17.5,0,0,0,0,0,0,0,0,0,0,0,0,0,0,0,0,0,0,0,0,0,0,0,0,0,0,0,0,0,0,0,0,0,0]
[7,"AMESBURY                     ",39,19460597,12406221,8455877,19548536.809999999,12809091,8583727,19781530.293151677,13167547,8706827,20756560.399999999,13536773,8124385,954806,21190912.030989472,13555005,8897607,0,21216914.582820002,13646574,8377810,44976,535896,21437478.949999999,13871392,8422786,21788085.690000001,14228051,8517266,22520782.300000004,14645774,{"$f":"8577441+84220","v":8661661},23277123.93,14710835,8807407]
[8,"AMHERST                      ",28.57,11114274,5541487,5572787,11497553.710000001,5563556,5933998,11950170.523914317,5791375,6158796,12240957.26,6176229,5607673,659034,12789869.018824883,8287309,6141373,0,12104976.778860003,8244892,5782594,31044,361635,11778216.34,8330699,5813638,12123554.34,8560597,5864398,11999013.530000001,8782052,5895073,11927369.58,8808278,5925198]
[9,"ANDOVER                      ",17.5,40445552,43398252,5235106,45421092.757479988,43984801,6105826,47430802.160358295,44443293,6764195,50839207.830960013,44963510,6682611,785364,52920927.943806164,46055668,7318616,0,52465302.435107633,46239193,6891063,36994,541909,53641152.655579992,47162432,6928057,55867173.864680015,48525635,7950343.1065797508,57208567.533579998,49906105,{"$f":"8465632.15952894+84220","v":8549852.1595289409},56905481.147259988,49453903,9042864.1595289409]
[10,"ARLINGTON                    ",17.5,31514908,29608395,5019276.8,34791436.82971999,30151702,5592669.7999999998,35888202.793767765,30613441,5814119.7999999998,38070505.063400008,31841211,5574195,655099,40248798.10830944,33205258,6104708,938832,39642105.945616916,33491571,6632057,35604,490929,41361535.892299995,34480956,6880580,43488849.24750001,35379353,8109496,46406615.112400003,36357635,10048980,47819420.315520003,37584838,10234582]
[11,"ASHBURNHAM                   ",53.81,0,0,0,0,0,0,0,0,0,0,0,0,0,0,0,0,0,12035.81568,5767,6269,0,0,0,0,0,0,0,0,0,0,0,0,0,0]
[12,"ASHBY                        ",49.38,0,0,0,10849.66,3784,7066,0,0,0,0,0,0,0,0,0,0,0,36107.447039999999,17602,18505,0,0,0,0,0,0,0,0,0,0,0,0,0,0]
[13,"ASHFIELD                     ",20.13,88168,48246,66553,97646.94,58472,71328,158055.47,93913,98741,154299.47,98640,99291,0,171296.79213014356,113319,97305,0,227707.1532,147698,93413,0,0,244010.68,163790,93413,265614.51000000007,185836,93413,205261.50999999998,160515,93413,207026.65000000002,168768,93413]
[14,"ASHLAND                      ",23.8,17600708,15268810,2710446,19209670.376520004,15739323,3470347,20160314.837740563,16316673,3843642,21548050.5513,16954069,4110859,483123,21943205.255612019,17161770,4502102,279333,21499028.046113763,17147082,4502104,24169,317887,22018866.611560002,17141832,4877035,22827562.789220002,17549961,5393484.5103722075,23024892.666360006,17849470,5455184.5103722075,23394153.285179999,18210677,5517159.5103722075]
[15,"ATHOL                        ",67.83,0,0,0,0,0,0,0,0,0,0,0,0,0,0,0,0,0,0,0,0,0,0,0,0,0,0,0,0,0,0,0,0,0,0]
[16,"ATTLEBORO                    ",51.5,49581258,24133853,26883243.999999996,51622674.860000007,26137000,27866185.999999996,53454656.395922035,27572010,28728682.999999996,56616897.470000006,28727620,27069945.999999996,3181356,58918761.277305275,28533080,29646276,739405,57958272.469619997,29329457,28610552,153594,1774285,59072872.719999991,30079922,28992951,63511315.789999999,31014381,32496935,65997192.829999998,31917394,34079799,66876305.419999994,32678917,34235474]
[17,"AUBURN                       ",39.39,16499311,14372371,3851160.4,17023458.98,14092633,4305255.4000000004,18480214.973095328,14055240,5071081.4000000004,19659678.48,13968259,5197030.4000000004,610773,20439500.344528228,14187753,5691647,560100,20652528.680219997,14065172,6460963,34685,91709,20662647.859999999,14287674,6495648,22131023.739999998,14570334,7942820.3625045,22143759.650000002,14877912,8141597.1613508752,22469656.549999997,14563293,8389817.1613508761]
[18,"AVON                         ",19.399999999999999,4314744,5219399,598615.19999999995,4744879.2,5087039,689890.2,4908325.580745657,4879669,821450.2,4880185.91,4634153,787773.2,92582,5079184.7577110045,4655392,862748,0,5003299.8623400005,4683156,812346,4361,59766,5311469.62,4662241,816707,5330691.71,4889789,874133.94566824997,5277960.9499999993,4882181,902872.92975868739,5301350.57,4680844,946828.92975868739]
[19,"AYER                         ",38.14,8246427,6215760,3640814,8871545.0322399996,6363490,3883672,9386273.5519316979,6352709,4095225,9764441.5805200022,6347229,3805903,447283,10086779.713210486,6445455,4168122,0,643993,415421.3758135406,253793,1362,16107,769483.96129999985,504740,264744,104146,557301,38995,0,0,0,0,0,0]
[20,"BARNSTABLE                   ",17.5,47026157,46712289,6420888,47204345.670000002,46877880,6788862,48539833.542866066,45893085,7300545,49407513.479999997,45447325,6930189,814460,50897964.509274639,45599938,7589756,0,49664767.726020001,44936193,7146363,38365,542328,49571418,44732590,7184728,52647431.899999999,46300239,7401888,53905631.089999996,47284048,7909787.3601874998,53870372.68999999,46207751,8440922.3601875007]
[21,"BARRE                        ",58.65,19593,9834,15043,21699.32,7253,16444,22710.54,6521,17100,23886.98,7013,17858,0,61532.87502392345,22041,17501,21991,0,0,0,0,0,12250.07,4767,7483,25394.420000000002,10406,14988,12894.02,5544,12894.02,0,0,0]
[22,"BECKET                       ",17.5,48982,54219,48982,140168.19,87604,79274,146700.20000000001,105888,80981,95547.92,70485,81381,0,86146.025033492828,68508,79753,0,155492.25912,142385,76563,0,0,170510.26,161768,76563,227522.88,221631,76563,218155.53,210026,76563,246041.35,221437,76563]
[23,"BEDFORD                      ",17.61,17469341,19992834,2053688,18847501.762400001,20198035,2302613,19936512.315641664,20143875,2658496,21540315.715160001,20229106,2707008,318137,22837847.15390702,20263035,2964642,0,22281982.144923359,20213672,2791448,14986,220883,22574959.842000004,20395123,2806434,24305160.20324,20957504,3729645.7841924857,25381920.618640006,21670472,{"$f":"3907693.36520986+16844","v":3924537.3652098598},25862895.333689999,21890571,4145009.3652098598]
[24,"BELCHERTOWN                  ",53.03,18090392,8585608,9504784,19713838.600000001,9148930,10564909,20636641.406207636,9371626,11265015,22678130.579999998,9514031,11779707,1384393,23575322.127127279,9788345,12900818,886159,22816367.782979999,9964385,12981543,69691,802818,23483392.580000002,10232132,13251261,23567308.230000004,10469424,13355141,23833924.679999996,10829462,13419341,23327151.939999998,11128856,13481666]
[25,"BELLINGHAM                   ",34.69,19213556,11849997,7674956.0000000019,19765781.870000005,12301746,7877733.0000000019,20737641.341686606,12839032,8236349,21635191.629999999,13286678,7660683,900310,22336539.266939711,13855656,8389773,91110,21918230.382779997,14070986,7985431,42869,516233,22005905.830000002,14331642,8028300,21897110.52,14719762,8123660,22859867.109999999,15024829,8184635,22925709.119999997,15265577,8245235]
[26,"BELMONT                      ",17.5,25508704,25370522,3002919.2,26906930.229400001,25515369,3344078.2,28888243.350710981,25916568,3857487.2,31086767.443360008,26482952,4119658,484157,33630843.731472418,27745446,4511739,1373659,32919934.323621243,28127012,5541573,29750,410300,33178102.924880005,28699894,5571323,34247348.968879998,29351497,5724243,35925169.712800004,30375090,5864908.424935,37689370.076880001,31269266,6420104]
[27,"BERKLEY                      ",47.5,7643922,2828497,4920431,8272940.120000001,3113070,5258969,8560781.2362940945,3328896,5405595,8827170.8099999987,3585871,4954853,582312,9064946.7510200962,3849845,5426422,0,6358267,2943167.6275719707,3785929,19984,230000,6692981.5599999996,3181543,3805913,6718784.6800000006,3109727,3837513,6637699.4999999991,3087420,3856463,6578224.6799999988,3202757,3875013]
[28,"BERLIN                       ",17.5,1495721,1260426,505156.8,1574409.8655099997,1380034,518927.8,1531631.5569803971,1426621,529127.80000000005,1559344.8398399998,1379744,482385.8,56692,1739191.978516578,1464517,528296,0,1521295.9949798398,1367714,497433,2670,32943,1493144.841,1321677,500103,1366340,1379734,428980,1449658.5541600001,1228268,433030,1474055.7653800002,1240618,437180]
[29,"BERNARDSTON                  ",42.47,0,0,0,0,0,0,0,0,0,0,0,0,0,24613.150009569381,12834,0,11779,24071.631359999999,12891,11308,0,0,12250.07,6787,11308,12697.210000000001,6666,11308,0,0,0,0,0,0]
[30,"BEVERLY                      ",17.5,34118143,32135174,6332869.2000000002,35715876.831259988,32889802,6612472.2000000002,37367798.212748706,33478649,6901558.2000000002,39386154.621250004,34043028,6491827.2000000002,762943,39194005.831609689,34064888,7109675,0,38562013.260270961,34027524,6694328,35938,485209,39163824.46955999,34390816,6730266,41449624.288350001,35366026,6901866,42458330.514560007,36512325,{"$f":"7033951.460012+193707","v":7227658.4600120001},43026226.781149998,36875947,7336283.4600120001]
[31,"BILLERICA                    ",33.090000000000003,44723745,33169789,13000488.000000002,47634963.546500005,33645086,14140521.000000002,48947057.0166407,33836479,15747049.000000002,51035401.591280006,33569444,15629163,1836795,52105541.174899884,33750443,17116639,1238459,48993356.292637311,33261644,17282794,92782,1127922,50875415.991750009,33909226,17375576,52527991.367600001,34773532,18204887.04653937,51957284.506579995,35443588,{"$f":"18343562.0465394+8422","v":18351984.0465394},50581059.937599994,35165450,18486609.0465394]
[32,"BLACKSTONE                   ",51.87,78960,54427,38854,194416.49,79381,115035,192121.28,87676,115785,214016.92,93849,127344,0,208216.51714449763,92534,124797,0,84250.709759999998,38469,84250.709759999998,0,0,85750.49,40589,84251,88880.470000000016,43338,84251,116046.18,57626,84251,181016.85000000003,89793,91224]
[33,"BLANDFORD                    ",25.07,48982,35517,34879,65097.96,37532,43027,34065.81,19175,34065.81,59717.45,34567,45413.81,0,73839.450028708146,45404,44506,0,84250.709759999998,55481,42726,0,0,122500.7,81440,42726,88880.470000000016,61527,42726,128940.2,98474,42726,181016.85000000003,141333,43655]
[34,"BOLTON                       ",17.5,9973,4632,5341,11170.821760000001,8623,5551,11756.7567,9885,5654,12414.87736,10106,5769,0,0,0,5654,0,0,0,0,0,0,0,0,0,0,0,0,0,0,0,0,0,0]
[35,"BOSTON                       ",17.5,586105185,399376878,203634716.00000003,619256557.27349997,422061485,210540147.00000003,645423775.69285941,450972697,215807608.00000003,674654547.49265981,485336817,198137070.00000003,23285769,698913738.66387761,510847386,216994382,0,680748415.44375777,527398841,204317586,1096867,13086129,706116381.62752008,551817407,205414453,724294011.71002996,579960095,207858813,750290537.27947998,604305866,{"$f":"209406563+8422","v":209414985},780383012.88296986,627463814,210991435]
[36,"BOURNE                       ",17.5,17925620,14175597,4520605,19096415.879999999,14957841,4725494,19833297.543827865,15646627,4854448,20945577.219999999,16223237,4518112,530985,20772043.229703348,16779418,4948115,0,19969976.504640002,16817476,4659046,25012,321732,19955194.440000001,17178276,4684058,20413172.529999997,17508247,4771738,20231816.77,17624172,4825238,19753593.370000005,16968423,4877338]
[37,"BOXBOROUGH                   ",17.5,4097907,3155257,1318163,4120404.6616799999,3160718,1344663,4148265.2990540327,3153303,1370363,4158143.8214699994,3122645,1248173,146690,4221713.9749441538,3141987,1366966,0,3719555.6312304004,3019563,1287108,6910,83923,3688231.1508000009,3037911,1294018,3802586.1715900004,3281068,1310578,0,0,0,0,0,0]
[38,"BOXFORD                      ",17.5,6071885,5163711,1491956.8,6289686.6546200002,5060226,1536106.8,6441226.7548756497,5155389,1579156.8,6868240.9885999989,5466446,1479954.8,173929,6715149.8644612292,5538616,1620806,0,6426161.3153402992,5556487,1526119,8193,106694,6278578.7740599988,5546995,1534312,6142159.6714999992,5438279,1563632,6321744.6236000005,5657134,{"$f":"1582232+25266","v":1607498},6315613.1311499998,5486948,1625748]
[39,"BOYLSTON                     ",17.5,2456202,2401450,399441.2,2596679.29,2468253,424025.2,2637266.6833377071,2412440,441425.2,2748598.3,2379694,412437.2,48471,2995460.8425033498,2540646,451690,3125,2900472.82014,2577094,428244,2299,33097,2809495.56,2592747,430543,2762062,2804850,404281,2837168.6900000004,2524555,427336.88018750004,2701535.6,2336823,443237.88018750004]
[40,"BRAINTREE                    ",28.61,36257909,32433077,4903921.2,39382974.82124,33034864,6348111,41131026.449868038,33655897,7475129,44050195.07244999,34532907,8516409,1000879,46447721.11701142,34269687,9326942,2851092,45861987.164652348,35115999,11466594,61558,781482,47773435.682659999,35619436,12154000,49979205.223809995,36669696,13546898.562588248,51154368.228680007,37491319,13863900.583767677,53388255.002250001,38760993,14627262]
[41,"BREWSTER                     ",17.5,3745908,3609192,847877.2,3716661.11,3503455,872877.2,3870065.49,3592082,899723.2,4197809.6900000004,3789305,856428.2,100650,4216302.6441186611,3870397,937937,0,4075130.8498800001,3786992,883143,4741,62353,4135853.54,3959695,887884,4270180.41,4095847,906844,4270777.8100000005,4059699,918344,4371530.74,3934378,930169]
[42,"BRIDGEWATER                  ",38.19,88168,50372,88168,97646.94,52590,91714,79486.89,42308,79486.89,95547.92,49903,85767.89,0,110759.17504306222,61737,84053,0,36107.447039999999,20964,36107.447039999999,0,0,49000.28,28706,36107,38091.630000000005,22925,36107,51576.08,31717,36107,78029.39999999998,48603,36107]
[43,"BRIMFIELD                    ",41.97,2082262,1222310,892997.6,2227974.4500000002,1181088,1046886,2430566.1536758002,1254545,1176021,2380996.33,1252428,1065723,125248,2416094.560888038,1320275,1167152,0,2491980.6652200003,1418885,1098967,5900,69910,2587336.7200000002,1412114,1175223,2627653.7399999998,1439707,1187947,2589280.4,1451989,1195297,2557047.06,1495359,1202422]
[44,"BROCKTON                     ",78.290000000000006,138977359,28667300,110310059,148050710.59000003,30752545,117298166,154658101.48941717,32078890,122579211,162730674.18000001,33821654,115352398,13556622,165249140.34832537,32323782,126330840,6594518,165226027.56366,32681998,130000851,697902,2623405,173663222.44,34080582,139582640,183049366.26000002,34969008,148088586,194125642.31999999,36202770,157922872,202656340.72,37791281,164865060]
[45,"BROOKFIELD                   ",56.76,2025359,709065,1322058.3999999999,2063441.72,801638,1345037.4,2050160.4735631028,812205,1357887.4,2003095.25,823505,1225913.3999999999,144074,2262218.9634143542,963341,1342588,0,2318727.5348999999,997242,1296130,6958,46050,2344861.94,1042415,1303088,2462784.7700000005,1111388,1354889.719122,2368076.6400000006,1081418,1361089.719122,2293424.8199999998,1033581,1366889.719122]
[46,"BROOKLINE                    ",17.5,43182454,61282406,5214247.2,46243374.585639991,59029263,5789916.2000000002,49807109.097208999,56651328,6667814.2000000002,52046875.491919994,53580843,6687235.2000000002,785907,55448797.678294986,53202974,7323679,0,55383764.102746435,52241986,6895830,37020,549129,57861961.59826,52548862,6932850,63110212.205569983,54160831,8949381,66334276.020650007,55964810,10369466,68558216.958700001,57398755,11159462]
[47,"BUCKLAND                     ",33.26,0,0,0,0,0,0,0,0,0,0,0,0,0,12306.57500478469,6213,0,6094,12035.81568,5834,6202,0,0,0,0,0,0,0,0,0,0,0,0,0,0]
[48,"BURLINGTON                   ",17.5,26346430,31715482,3726893.6,28476092.515739989,31274657,4099584.6,29703889.542099517,30286140,4663527.5999999996,32206347.779779997,29440791,4943419.5999999996,580968,33076725.604208447,30090020,5413900,0,32935307.252465941,30061628,5097620,27366,382764,33128199.854009997,30481205,5124986,33884514.180340007,31423998,5326186.995389875,34352845.412480004,32068110,5497577.2333384063,34467698.66996,30725441,5684571.2333384063]
[49,"CAMBRIDGE                    ",17.5,58192422,121371348,7122204.7999999998,59270960.026400015,88906440,7772247.7999999998,58586280.466038458,83184123,8516352.8000000007,62523713.757140018,76283365,8336916.8000000007,979784,65306358.733187631,75386475,9130367,0,63289437.868766032,70899052,8596971,46152,639119,65583156.403349996,70070141,8643123,68855555.119200006,68855555,8892163,72833197.092889979,69898977,9053613,75565946.828440011,67728118,10513263]
[50,"CANTON                       ",17.5,21297642,22689136,2658679.6,23120445.500109997,22714049,2977670.6,24474543.710445229,22506106,3369282.6,26022801.77039,22769714,3364793.6,395442,26782117.437980484,23032985,3685031,64101,26442324.635255523,23230516,3530108,18951,275998,27781523.257420003,23943285,3838238,29173938.351570003,24768223,4580646.0528811878,30084633.497920007,25615490,4751687.2551948912,30171279.553439993,25776936,4936587.2551948912]
[51,"CARLISLE                     ",17.5,5380976,5527723,625736.4,5564262.385809999,5588855,695338.4,5581542.8067216659,5455408,779767.4,5703345.7581000021,5287388,762232.4,89580,5621329.9800242223,5264374,834776,0,5332769.3760069599,4994997,786008,4220,61148,5279778.722959999,5047262,790228,5237293.4315999998,5073775,815308,5211682.2159700003,5137653,839492.09694868745,5130124.3316099988,4617112,859890.09694868745]
[52,"CARVER                       ",49.87,14692519,5600310,9266231,15522693.041550003,5937552,9740177,16020593.808795983,6229859,10016064,16571482.380320001,6622023,9233907,1085201,17214969.206102479,7603064,10112726,0,16524123.59413152,7761924,9521941,51118,586792,16233062.765200002,8021055,9573059,16560679.89696,8171863,9644539,16614966.67595,8403720,9688439,16482096.760799997,8461514,9731289]
[53,"CHARLEMONT                   ",45.7,78372,24481,66503,140168.19,52863,104458,180766.01,75004,130303,202073.43,86198,143418,0,183603.36713492827,78176,140550,0,96286.525439999998,48181,96286.525439999998,0,0,61250.35,31272,61250.35,63486.049999999996,33682,61250.35,77364.119999999981,42623,61250.35,65024.500000000007,36024,61250.35]
[54,"CHARLTON                     ",49.5,9796,3731,6065,0,1019,0,0,0,0,0,0,0,0,12306.57500478469,4735,0,7572,12035.81568,4895,7269,0,0,36750.21,15574,21176,38091.630000000005,16459,21633,25788.04,11686,21633,26009.8,11935,21633]
[55,"CHATHAM                      ",17.5,4193476,7336875,477224.8,4300106.45,6443767,532283.80000000005,4585029.6806893088,6009057,613312.80000000005,4990261.8899999997,5494357,625585.80000000005,73521,4899882.2308746418,5453455,685125,0,4739534.5728599997,5103025,645100,3463,50262,0,0,0,0,0,0,0,0,0,0,0,0]
[56,"CHELMSFORD                   ",20.43,40243143,36260612,6876856,42592748.364599995,37179861,7440307,44064611.171122938,37500357,8365004,46153358.467759997,37130897,8440095,991910,47744450.184116684,37306579,9243365,1194506,45545882.214795649,37406417,9828091,52762,692768,45821656.65101999,38188765,9880853,47211208.199219994,38901400,10089893,46881673.41488,39656173,10218568,47335965.470179997,39489751,10346618]
[57,"CHELSEA                      ",79.709999999999994,50386551,8453650,42000702,53256173.620359994,9142672,44127092,58311558.942627169,9794441,48517118,61064521.992660001,10267187,45455271,5342064,62117725.984426871,10206209,49781388,2130129,63694269.530000001,10946147,51355990,277725,1118615,64097834.562419996,11332640,52765195,67545521.032000005,11524290,56040644,73447858.946570009,11993753,61454106,77392158.150499985,12901270,64490888]
[58,"CHESHIRE                     ",49.31,411606,147670,263936,421381.96,162084,269956,475084.72,183097,302591,499694.78,201075,316850,0,453352.7593033493,179424,310513,0,479485.93776,198341,298092,0,0,488021.36,199213,298092,38092,238032,21802,38682.05999999999,17166,21802,13004.9,5919,13004.9]
[59,"CHESTER                      ",53.53,147024,57724,89300,108496.6,52566,89800,158055.47,67713,121002,178186.45,77758,133451,0,183603.36713492827,77294,130782,0,167528.0748,73335,125551,0,0,170510.26,80804,125551,214825.67,97804,125551,243943.57,117682,126262,220031.55,109806,126262]
[60,"CHESTERFIELD                 ",42.26,147024,74106,85640,151017.85,79291,87945,226187.09,122154,128461,202073.43,103249,129211,0,183603.36713492827,91172,126627,0,179563.89048,95302,121562,0,0,170510.26,94294,121562,303706.14,170592,133114,256837.59,151126,133114,259046.25,153673,133114]
[61,"CHICOPEE                     ",66.819999999999993,63096901,25483093,37613808,66358804.090000004,26441283,39917521,70099506.047638729,26325951,43773555,74549552.000000015,26468494,43024649,5056409,76114569.038086131,26127050,47119437,2868082,78296359.978620008,26109119,51185902,274789,726550,80257160.099999994,26628690,53628470,83403437.559999987,27382282,56021156,85269685.210000008,28420070,56849615,86339875.140000001,29088958,57250917]
[62,"CHILMARK                     ",17.5,0,0,0,0,0,0,0,0,0,0,0,0,0,0,0,0,0,0,0,0,0,0,0,0,0,0,0,0,0,0,0,0,0,0]
[63,"CLARKSBURG                   ",64.150000000000006,1993186,524551,1478268,1972655.02,539994,1491068,2196793.9275769964,547599,1656057,2288928.2000000002,572047,1542133,181237,2376571.2172095692,528092,1688903,159576,2231781.7016399996,543566,1740491,9344,104994,2136484.0499999998,549697,1749835,2103294.87,569562,1758875,1986375.6900000002,576786,1764100,1905986.03,594708,1769100]
[64,"CLINTON                      ",55,15756067,6894665,8894104,17332015.639999997,7423486,9908530,18272407.502293319,7817673,10454735,19345443.02,8132725,10033541,1179177,19828374.571238272,8774199,10988464,65712,19382689.431299996,8846816,10408392,55877,640182,19545739.000000004,9048453,10497286,20163527.150000002,9343931,10857440.780578749,20693064.010000002,9644943,11124661.80557175,20886485.84,9674943,11251678.80557175]
[65,"COHASSET                     ",17.5,10255772,9352895,1220622.8,11254255.086480001,9701624,1552631,11621501.817125602,10016645,1696971,11287341.726259999,10125783,1600696,188119,11947087.452460095,10452621,1753039,0,11786894.642872915,10479155,1650626,8861,129327,12238484.622929998,10714412,1659487,12695055.016299998,10974758,1720297,13558190.14047,11461151,2165950.0686455625,14009300.662070001,11815460,2265937.0686455625]
[66,"COLRAIN                      ",41.68,0,0,0,0,0,0,0,0,0,0,0,0,0,0,0,0,0,0,0,0,0,0,0,0,0,0,0,0,0,0,0,13004.9,7860,5145]
[67,"CONCORD                      ",17.5,13711708,16586109,1639229.6,13626561.195820002,15556720,1788313.6000000001,13775795.201134795,14723944,1975048.6,14398286.772480002,14186610,1928177.6,226606,15022515.681104843,14230911,2111688,0,14880065.931155697,14212716,1988323,10674,157941,15431249.350580001,14620020,1998997,16485820.2147,15013137,2075197,17831572.198360004,15783717,2125997,18417417.455640003,15844185,2573232]
[68,"CONWAY                       ",22.06,900481,519131,563283.19999999995,887748.23,570221,569433.19999999995,1081794.7444083365,683924,619012.19999999995,1153948.4099999999,705236,571560.19999999995,67172,1145043.3689110049,908027,625958,0,1249385.60142,1005920,589390,3164,37129,1252208.6499999999,987728,592554,1423805.89,1108375,598954,1317133.4800000004,1067389,602704,1306815.92,1065116,606379]
[69,"CUMMINGTON                   ",17.5,48982,82658,32727.599999999999,75947.62,69777,41165.599999999999,90842.16,76148,45639.6,166242.96,127944,70567.600000000006,0,208216.51714449763,147140,69156,0,203635.52184,157619,66390,0,0,268510.82,194827,73684,164036.83000000002,133703,73684,166579.44999999998,138227,73684,168011.94999999998,147058,73684]
[70,"DALTON                       ",49.03,166617,55122,142474,226965.47,100136,177549,271608.17,128312,203607,297621.34999999998,135954,218598,0,294362.54217799043,133527,214226,0,275850.41592,131098,205657,0,0,403261.59,190360,212902,531229.02000000014,258303,272926,513675.18,262243,272926,350080.55,180975,272926]
[71,"DANVERS                      ",19.059999999999999,26325457,27029911,3753262,27291804.810000006,27200094,3957823,28772437.490009252,27211346,4306061,29725451.43,27058817,4117771,483935,31202047.404463161,27175421,4509672,0,31223555.451959997,27353004,4246217,22796,332859,31951682.219999999,27692459,4269013,33482299.539999999,28151599,5786817.6029244997,34213600.439999998,29050571,{"$f":"6079019.44455637+101064","v":6180083.4445563704},34741461.949999996,29063843,6334657.4445563704]
[72,"DARTMOUTH                    ",17.5,30013625,21693435,8320190,31787364.080000002,22637645,9149719,33384729.905952133,24241171,9429258,34838597.450000003,25612050,8665307,1018378,34865610.348156936,25982767,9490011,0,33815804.735880002,26783708,8935606,47970,604210,34643308.829999998,27284947,8983576,35441243.159999996,28041617,9138016,35496365.130000003,28917668,9233066,35239525.229999997,29520834,9326041]
[73,"DEDHAM                       ",17.5,20084837,24834561,3188973.6,21999587.074999996,24648038,3524054.6,22956468.83366517,24204569,3691508.6,24352509.547620002,23678833,3521908.6,413907,25074340.33835483,23853832,3857099,0,25207774.047433194,23636066,3631768,19497,275484,25446765.917099997,23938734,3651265,26335982.540799998,24613424,3890647.9861599999,26535745.209500007,25162541,4078924.8425356252,27117828.372749999,24153827,4312267.8425356252]
[74,"DEERFIELD                    ",17.5,2642380,1930020,712360,2837157.02,1916205,920952,2894786.9036194519,1943673,951114,3308363.25,2201765,990223,116375,3364244.2070966512,2590037,1084466,0,3310478.6745599997,2602950,1021111,5482,67823,3402540.04,2702788,1026593,3431229.1799999997,2733958,1041993,3138146.3000000003,2712329,1050593,3182088.0800000005,2730251,1059343]
[75,"DENNIS                       ",17.5,0,0,0,0,0,0,0,0,0,0,0,0,0,0,0,0,0,0,0,0,0,0,0,0,0,0,0,0,0,0,0,0,0,0]
[76,"DIGHTON                      ",46.27,0,0,0,0,0,0,0,0,0,0,0,0,0,0,0,0,0,0,0,0,0,0,0,0,0,0,0,0,0,0,0,0,0,0]
[77,"DOUGLAS                      ",51.64,10549229,3948825,6600404,11244182.879999999,4402719,6966367,11934136.084547279,4703853,7317967,13091381.120000001,5025155,7217947,848279,13862037.638614353,5156920,7904901,800217,13727725.332659999,5395470,8196565,44003,505400,13936065.529999997,5567549,8368517,14220617.059999999,5766202,8454415,14221466.569999998,5973388,8493140,13898746.319999997,6212332,8530840]
[78,"DOVER                        ",17.5,4317253,5147915,363450,4498246.3891599998,4992151,448199,4612399.3686480699,4726827,555890,4778687.8410799997,4574431,580225,68190,4840708.6085977424,4416450,635447,0,4717531.5725570414,4342062,598324,3212,48386,4590181.74,4311579,601536,4512264.4704399994,4166423,622456,4653466.1436000001,4299403,635731,4528034.3919200003,4059051,690567]
[79,"DRACUT                       ",46.19,29756497,15882927,14241936.999999998,31544589.330080003,16574636,15009207,33257290.873810038,17250683,16006608,35284541.199999996,17874077,15579505,1830959,36242185.987368427,17529513,17062255,1650418,34827941.444459997,17559786,17619480,94589,1101079,35260306.700000003,17528088,17732219,36135215.210000008,18026125,18109090,37152939.319999993,18540729,{"$f":"18612210+50532","v":18662742},37334953.579999998,19220889,18761667]
[80,"DUDLEY                       ",59.73,0,0,0,0,0,0,0,0,0,0,0,0,0,0,0,0,0,0,0,0,0,0,0,0,0,0,0,0,12894.02,3632,9262,13004.9,3770,9262]
[81,"DUNSTABLE                    ",17.71,0,0,0,0,0,0,0,0,0,0,0,0,0,12306.57500478469,8124,0,4183,12035.81568,7678,4358,0,0,12250.07,7858,4392,12697.210000000001,8271,4426,0,0,0,0,0,0]
[82,"DUXBURY                      ",17.5,22544989,21198757,2814514.4,24332599.68414,21799788,3127346.4,25877873.382828854,22471945,3547730.4,27351540.51557,23010054,3884918,456569,28050327.867297076,23415077,4254657,380594,26964189.833086807,23687032,4364460,23430,327711,26802911.094560001,23914065,4387890,27796890.404080003,24315649,4513610,28443468.301800001,24930173,4629609.23820375,28945039.577839997,24862384,4782129.23820375]
[83,"EAST BRIDGEWATER             ",46.94,17015111,7598854,9416257,18126132.039999999,8088898,10037234,18786648.513602465,8685044,10382618,19759944.039999999,9220450,9750332,1145894,19857784.98755981,9205039,10678301,0,19438423.617059994,9401494,10054475,53977,626999,19386079.859999999,9557760,10108452,19766953.350000001,9774113,10196332,20120825.100000001,10170405,10251257,20492729.260000002,10728557,10306507]
[84,"EAST BROOKFIELD              ",55.58,176413,103434,72979,172717.17,67453,105264,102197.43,29983,102197.43,95547.92,28245,95547.92,0,86146.025033492828,25739,93637,0,60179.078399999999,19896,60179.078399999999,0,0,110250.63,34586,75665,202128.46000000002,61700,140428,218155.53,71512,146644,285056.05,99040,186016]
[85,"EASTHAM                      ",17.5,1507950,2243267,252703.6,1616181.59,1929935,271644.59999999998,1859265.36,2013378,314184.59999999998,2009843.22,2095073,304723.59999999998,35812,2013733.9113952154,2116114,333725,0,2017979.0678399999,2078576,314229,1687,23709,1921167.55,1979180,315916,1990036.0999999999,1895355,324556,1954308.02,1817599,329806,1871143.94,1673613,334856]
[86,"EASTHAMPTON                  ",36.35,14379873,7394800,7061164,14811911.220000003,7910957,7246465,16177354.557884984,8342895,7856409,16862713.349999998,8754200,7300531,857984,17116009.975915793,9909425,7995345,0,16500250.305240002,9949274,7528257,40415,471948,16577826.099999998,10194026,7568672,17510302.93,10521254,7641192,17991276.290000003,10956834,7687117,17813516.280000001,11344349,7731667]
[87,"EAST LONGMEADOW              ",39.03,19356365,16081730,3415856.4,20729712.940000001,16113527,4616186,22100300.970615972,15537297,6563004,23422159.73,15098039,7448721,875400,24224414.35406699,15193256,8157639,873519,23669359.72518,14824125,8675518,46574,379066,24105912.68,14975127,9130786,24771812.159999996,15279722,9767174.2199039999,24746375.960000001,15736133,9834624.2199039999,25028520.540000003,15784772,9901624.2199039999]
[88,"EASTON                       ",27.15,25936350,18495624,7668206.9999999991,27484649.059999999,19567354,8115511,29177633.708206084,20413260,8764374,30904576.539999995,21110331,8764241,1030005,32240256.071471777,22529505,9598361,112390,31588230.077280004,22880367,9143450,49086,613290,32076583.279999997,23438516,9192536,33281209.900000002,24208253,9343416,33673060.710000001,25085982,9437566,34368780.379999988,25617334,9531741]
[89,"EDGARTOWN                    ",17.5,2906462,3581665,343128.4,3005078.93,3288955,379680.4,2849766.471590891,3031703,415389.4,3070457.61,3082373,407713.4,47916,3245618.0710277515,3016515,446517,0,3164477.4653399996,3012929,420431,2257,33529,3286331.37,3029696,422688,3631686.44,3207706,438768,3600508.11,3160574,448818,3756339.3899999997,3220458,535881]
[90,"EGREMONT                     ",17.5,0,0,0,0,0,0,0,0,0,0,0,0,0,0,0,0,0,0,0,0,0,0,0,0,0,0,0,0,0,0,0,0,0,0]
[91,"ERVING                       ",17.5,1736037,1696174,257383.6,1886102.04,1693156,283644.59999999998,2063705.1585349285,1733353,330352,2321411.09,1908319,369649,43443,2466755.7200229666,2035074,404830,26852,2428316.4251399999,2032401,406463,2182,30012,2407929.63,2045398,408645,2354101.85,2051456,418845,2478101.1,2103316,425470,2387006.7599999998,2050836,431895]
[92,"ESSEX                        ",17.5,0,0,0,0,0,0,0,0,0,0,0,0,0,0,0,0,0,0,0,0,0,0,0,0,0,0,0,0,0,0,0,0,0,0]
[93,"EVERETT                      ",71.66,45371743,24514676,20857067,48207134.680500001,25038448,23168687,53450079.377155341,25416336,28033743,59682692.571389988,25762913,30352631,3567149,62892763.612918936,25931368,33241384,3720012,64793932.005067073,25957484,38091277,204491,540680,68020957.110019997,25027814,42993143,74288708.336989999,25279517,49378544.796454601,79707323.959860012,25001383,55042003.302143387,85328324.66643998,24693137,60635188]
[94,"FAIRHAVEN                    ",36.19,15772369,8958998,6900863.9999999991,16146316.320000002,8999243,7147073,16755601.389419528,9196548,7559053,16953034.73,9303393,6852118,805285,17423766.603881337,9798899,7504255,120613,16843034.112059999,10187330,7179423,38542,454353,17104751.050000001,10317258,7217965,17453568.07,10832169,7292285,17879851.399999999,11242923,7338560,17736701.940000001,11371020,7383635]
[95,"FALL RIVER                   ",71.88,102479194,13825097,88654097,104481870.5,14847016,90065583,106032214.10539405,15513206,91119662,109717451.8,16580407,83793405,9847697,113237307.34539331,19000896,91768280,2468131,110588545.43874,19582705,89259672,479186,4762753,113992339.77,20197065,93795275,117801266.98000002,21470723,96330544,122984522.46999998,22747952,100236570,126851512.44000001,23922480,102929032]
[96,"FALMOUTH                     ",17.5,30137881,32265939,4439705.5999999996,31282681.59,32702864,4646658.5999999996,32408337.333121564,31997640,4954098.5999999996,32989864.899999995,31420687,4674989.5999999996,549421,32976356.55624881,31044599,5119922,0,32249708.827199996,30294456,4820816,25880,366051,32627799.279999997,30223796,4846696,32919523.759999994,30639342,4988896,33718540.630000003,31562698,5077571,34334682.75,30535810,5403420]
[97,"FITCHBURG                    ",72.459999999999994,48848791,12405593,36443198,52232259.629999988,13502431,38857303,53959279.694781937,14179903,40080379,55478399.75,14473238,36822755,4327540,55319139.938725367,14039877,40327289,951974,54357220.723620005,14307424,39281344,210880,1921789,55048365.490000002,14570762,40477603,58628763.059999995,14936099,43692664,59765864.699999996,15456359,44309506,61364752.100000001,15954871,45409881]
[98,"FLORIDA                      ",49.28,741408,396558,420539.6,831136.1,382280,473569,875058.42915476626,374728,500454,898069.22,381234,462482,54353,938109.73427751218,382731,506498,48881,920526.84221999999,383625,526600,2827,28377,784588.89,384062,529427,794115.07999999984,388914,532667,872998.09999999986,415121,534842,924504.84,460528,537067]
[99,"FOXBOROUGH                   ",23.3,21688050,15487944,6200106,23679618.058180004,16211628,7467990,24391941.818536025,16728189,7700920,25837985.804400004,17375190,7572812,889984,26373440.684976753,17554085,8293540,525816,25261529.643114474,17725290,8304130,44580,543071,25263537.016260002,18503444,8348710,25735907.438639998,19355356,8460190,26223593.931839999,20174842,8529165,26242664.986009996,20657534,8597390]
[100,"FRAMINGHAM                   ",40.31,63860283,61259855,8530320.4000000004,69363562.731240004,61627654,10628154.4,71074303.101445913,60232844,13996312.4,75064337.095980003,59230314,15333796.399999999,1802082,78471847.638417289,59169653,16793161,2509034,77781484.489536598,57763279,19634107,105405,278693,79535372.041889995,57510511,22024861,84912568.179920003,58401638,28083628.771975774,89880263.175519973,59388693,31805022.666226074,91598610.68881999,58137448,33596454.666226074]
[101,"FRANKLIN                     ",41.01,44517161,21157822,23359339,48378503.32774999,22883906,25494597,50651137.614666902,24244322,26478420,54191343.764519997,25464638,25705683,3021023,56699650.475846313,28327955,28152172,219523,54564219.318353519,28507883,26714222,143414,1674609,55195445.872189999,29273443,26857636,57091389.563199997,30265045,27111396,57706781.893489994,31221709,27268946,57559562.145959996,32626068,27423796]
[102,"FREETOWN                     ",31.81,4190819,3370570,920190,4507080.37,3270816,1236264,4667891.46,3208836,1459055,4729864.9000000004,3182970,1384217,162678,4714528.3669741629,3198884,1515957,0,1175619,817563.31469409086,351185,1885,11299,1172043.8400000001,834757,353070,1240218.98,861891,378328,1272336.7400000002,903996,378328,1283278.0999999999,908860,388787]
[103,"GARDNER                      ",64.53,23488604,5365218,18123386,24280379.689999998,5820028,18638594,24266064.215644144,6154419,18778744,24824626.379999999,6443188,17123527,2012418,25171808.228991386,6290979,18753226,127603,24334327.323839996,6408008,17777812,95439,1071628,24492666.370000005,6454822,18037844,25131322.549999997,6708647,18422676,26124799.240000002,7163394,18961405,26236297.479999997,7521101,19023155]
[104,"AQUINNAH",17.5,0,0,0,0,0,0,0,0,0,0,0,0,0,0,0,0,0,0,0,0,0,0,0,0,0,0,0,0,0,0,0,0,0,0]
[105,"GEORGETOWN                   ",32.82,9890177,6461877,3428300,11110810.230000002,7042873,4067937,11765704.999744495,7509511,4294072,12224355.249999996,7808142,3977475,467447,13336299.693443066,7954056,4356024,1026220,12957759.106319999,8151601,5067813,27206,326500,13112600.769999998,8111641,5095019,13510524.82,8329567,5180958,13168838.209999999,8562303,{"$f":"5218183+42110","v":5260293},13311710.359999999,8894215,5297543]
[106,"GILL                         ",37.97,0,0,0,0,0,0,0,0,0,0,0,0,0,0,0,0,0,0,0,0,0,0,0,0,0,0,0,0,0,0,0,0,0,0]
[107,"GLOUCESTER                   ",17.5,31232007,26625347,5446301.5999999996,32559971.797839999,27559732,5678695.5999999996,34505025.028608091,28613858,6019080,34138942.174929991,29038790,5551677,652453,34553577.53120216,28958748,6080047,0,33723505.701047271,29373670,5724851,30734,413662,33676197.520679988,29773120,5755585,35226845.308150001,30509144,5893705,35681068.365740001,31184657,{"$f":"5981325.49100113+92942","v":6074267.4910011301},35333205.213599995,30916076,6157967.4910011301]
[108,"GOSHEN                       ",35.409999999999997,127431,75115,71846.8,97646.94,63992,72296.800000000003,113552.7,67109,80208.800000000003,154299.47,77762,102158.8,0,158990.21712535885,82506,100116,0,167528.0748,89091,96111,0,0,110250.63,62127,96111,189431.25,104098,96111,192367.49000000002,104174,96111,168011.94999999998,107732,96111]
[109,"GOSNOLD                      ",17.5,41274,33796,8396.4,51911.4,35263,16648,54330.509943651086,37234,17097,50519.31,38690,17447,0,38313.742821052641,38151,17098,0,28361.246939999997,34636,16414,0,0,39039.35,35217,16414,35111.69,34852,16414,31217.899999999998,31218,16414,22957.61,20662,16414]
[110,"GRAFTON                      ",33.979999999999997,17156243,11239997,5916246,18952992.459999997,12369492,6583500,21091974.376996525,13330299,7761675,22437094.370000001,14299322,7320485,860329,23677504.63712154,14635325,8017198,1024982,23187153.685799997,15109681,8513937,45707,552411,23744711.860000003,15535022,8559644,25114629.089999996,16118863,8995766,27387656.219999999,16893716,10493940,28066998.630000003,17847710,10571515]
[111,"GRANBY                       ",44.75,7544687,4071482,3480552,8086549.8600000003,4268438,3818112,8451939.3722802009,4295869,4156070,9035827.3699999992,4303354,4234786,497687,9050222.3941818178,4343476,4637824,68922,8636188.0120199993,4357208,4431778,23792,276151,8744249.379999999,4488653,4455570,8663530.7500000019,4623232,4493290,8574245.4499999993,4727723,4516215,8273052.5900000017,4695999,4537515]
[112,"GRANVILLE                    ",34.799999999999997,2157167,1168273,1194161,2358065.48,1185776,1307669,2400533.1579714394,1206660,1331035,2341550.79,1228016,1203272,141413,2240177.4551578951,1250541,1317791,0,2244631.2231000001,1266515,1240805,6661,76800,0,0,0,0,0,0,0,0,0,0,0,0]
[113,"GREAT BARRINGTON             ",17.5,0,0,0,0,0,0,0,0,0,0,0,0,0,0,0,0,0,0,0,0,0,0,0,0,0,0,0,0,0,0,0,0,0,0]
[114,"GREENFIELD                   ",55.6,17313166,9111371,8732668,17803363.970000003,9283824,9054173,18475981.23195523,9232071,9486783,18457057.809999999,9067762,8710983,1023745,18757500.666304301,8914962,9540033,302506,18168641.884320002,8874442,9267538,49752,572724,19123336.359999999,9165933,9957403,19845137.929999996,9446211,10481761.769687749,21688417.030000001,9832399,11932187.357180249,21246903.91,9761739,11983812.357180249]
[115,"GROTON                       ",18.649999999999999,0,0,0,0,0,0,0,0,0,0,0,0,0,0,0,0,0,12362.3995134,9161,3201,0,0,12532.104200000002,9543,3201,13020.859919999999,10245,3201,0,0,0,0,0,0]
[116,"GROVELAND                    ",37.33,0,0,0,0,0,0,0,0,0,0,0,0,0,0,0,0,0,0,0,0,0,0,0,0,0,0,0,0,0,0,{"$f":"0+42110","v":42110},65024.500000000007,41295,42110]
[117,"HADLEY                       ",17.5,4520668,5166154,625061.19999999995,4764269,5245116,667691.19999999995,5019642.6810837509,5189433,730915.2,5205800.76,5053095,707232.2,83116,5406525.5920688985,4995543,774541,0,5658505.69092,4937924,729292,3915,57584,5783756.2999999998,5102966,733207,6074126.3499999996,5356386,815648.27781250002,6128452.2700000014,5607720,879855.99517187499,5981187.5199999996,5351851,938253.99517187499]
[118,"HALIFAX                      ",47.71,4947085,2594870,2352215,5102050.8600000003,2752876,2423716,5360750.4569571586,2911501,2541088,5579019.2300000014,2979985,2365166,277963,5830872.9364822973,3036721,2590266,203886,5481069.2047199989,3009340,2630918,14124,166110,5309028.63,2928688,2645042,5256094.54,2947000,2669842,5316163.6799999988,2900902,2684967,5366429.71,2903829,2699817]
[119,"HAMILTON                     ",17.5,0,0,0,0,0,0,0,0,0,0,0,0,0,0,0,0,0,0,0,0,0,0,0,0,0,0,0,0,0,0,{"$f":"0+16844","v":16844},39912.938879999994,35608,16844]
[120,"HAMPDEN                      ",32.67,0,0,0,0,0,0,0,0,0,0,0,0,0,0,0,0,0,0,0,0,0,0,0,0,0,0,0,0,0,0,0,0,0,0]
[121,"HANCOCK                      ",17.5,853878,675229,178649,880073.22,741790,184299,762441.64943651087,762443,188899,856176.18,765743,183712,21591,853326.37133779912,779131,201197,0,790173.65255999996,768393,189443,1017,13112,776252.26,758287,190460,853060.55999999982,775699,194340,908416.76,820354,196865,806235.6399999999,725612,199115]
[122,"HANOVER                      ",26.55,18966432,14270699,4695733,20142433.842250001,14796651,5345783,21096225.834211223,15271206,5825020,21748945.017949998,15848159,5373174,631474,22213294.657841306,15909369,5884555,419371,21774380.339327995,16297523,5935651,31865,401910,22331596.871920001,16434712,5967516,23401737.684919998,16986703,6460513.713344737,23673254.269769996,17673274,6526113.713344737,23675035.831840001,17821949,6590763.713344737]
[123,"HANSON                       ",47.91,29389,7918,28480,32548.98,8976,30063,22710.54,6659,22710.54,11943.49,3468,11943.49,0,36919.725014354073,12160,11705,13055,48143.262719999999,16555,31588,0,0,36750.21,13241,31588,63486.049999999996,23471,40015,64470.1,24990,40015,91034.3,38572,52462]
[124,"HARDWICK                     ",62.56,0,0,0,10849.66,2254,8596,0,0,0,0,0,0,0,0,0,0,0,0,0,0,0,0,0,0,0,0,0,0,0,0,0,13004.9,5113,7892]
[125,"HARVARD                      ",17.5,8751097,7733519,1207690,9436456.4439200014,8041734,1394722,9734129.4134850893,8255080,1487347,10286417.543199999,8498460,1599929,188029,10374344.582891179,8558834,1752199,63312,9724196.0291673597,8552465,1709449,9177,125810,9832645.2214000002,8627525,1718626,10074274.181770001,8807063,1763706,9949641.3842999991,8901871,1790806,9617698.6389000006,8555966,1816706]
[126,"HARWICH                      ",17.5,11161455,11250796,1441301.6,11707485.16,11494628,1562803.6,12038269.950589731,11546692,1725971.6,12378598.029999999,11167921,1674475.6,196790,12611946.734974166,11483505,1833840,0,12195817.037459999,11202192,1726707,9270,133013,0,0,0,0,0,0,0,0,0,0,0,0]
[127,"HATFIELD                     ",17.5,3541366,2921690,619676,3642953.19,2938353,707251,3688012.9120416823,2957523,790818,3648857.07,2998072,726623,85395,3508714.1457454548,3029964,795778,0,3258631.5302400002,3006599,749289,4022,51717,3188704,2995877,753311,3317758.7599999988,3073443,767671,3450986.7199999997,3186043,776846,3505759.1100000003,3095381,786221]
[128,"HAVERHILL                    ",55.18,59731907,29319627,31984671,61978683.149999999,32052321,33057731,65881401.521652639,33678683,34988016,68099107.280000016,34744794,33819377,2258641,71235841.205159843,34829065,35356458,1050318,70567491.926159993,35268131,34622057,185867,1787452,71678180.060000002,35711436,35966744,77249638.609999985,36816955,40527259.019415751,81685330.230000004,37879800,{"$f":"44126723.07174+387413","v":44514136.071740001},83661746.030000001,38734196,45091781.071740001]
[129,"HAWLEY                       ",32.96,48982,21657,27325,32548.98,22929,27475,11355.27,7744,11355.27,11943.49,6852,11668.27,0,49226.300019138762,29178,11435,8613,60179.078399999999,31929,28250,0,0,49000.28,31936,28250,76183.260000000009,40981,35202,38682.05999999999,25218,35202,39014.69999999999,24838,35202]
[130,"HEATH                        ",54.65,0,0,0,0,0,0,0,0,0,0,0,0,0,0,0,0,0,0,0,0,0,0,0,0,0,0,0,0,0,0,0,0,0,0]
[131,"HINGHAM                      ",17.5,25403781,22762272,3340480.4,27560964.819960002,23564072,3996893,29139913.603763632,24642808,4497106,31044967.342000008,26194370,4340488,510109,32711413.88404119,26992341,4753585,965488,32995448.474696219,27678867,5384965,28909,403099,34007006.427199997,28453971,5553035,35828380.478589997,29594328,6234052,37036862.488399997,30669232,6396085.2338675,37371415.691150002,31288570,6499060.2338675]
[132,"HINSDALE                     ",23.52,88168,40638,75997,97646.94,51939,80464,158055.47,85670,107527,166242.96,90274,111270,0,123065.7500478469,72206,109045,0,179563.89048,109118,104683,0,0,231760.61,138940,104683,176734.04000000004,114460,104683,218155.53,163644,104683,259046.25,194505,104683]
[133,"HOLBROOK                     ",45.12,10315927,6313474,4191804,11106581.581619998,6669358,4533288,11701251.39486149,6808999,4892252,11345667.9342,6751013,4434897,521205,11124134.858732402,6628581,4856980,0,10564226.240915999,6698225,4573236,24551,288168,11116936.478390001,6800968,4597787,11381036.588100001,6914226,4644027,11961763.44396,7174489,4881727.8637754824,12460674.085960001,7150740,5309934]
[134,"HOLDEN                       ",40.799999999999997,0,41626,0,0,10840,0,11355.27,8053,4441,0,0,0,0,0,0,0,0,0,0,0,0,0,0,0,0,0,0,0,0,0,0,0,0,0]
[135,"HOLLAND                      ",43.48,1359210,887960,664264.4,1587801.09,867451,792435,1588437.3443519876,838841,802385,1766981.09,954681,795938,93541,1972860.5563712921,1032537,871689,68635,1871122.0890599999,1073712,885390,4753,55456,1879808.57,1112638,890143,1763923.64,1024852,897623,1787430.03,1049519,902423,1736861.59,1013330,907048]
[136,"HOLLISTON                    ",28.31,20308343,15968390,5943728.7999999998,21289179.32736,16431845,6258871.7999999998,21897651.375525266,16494287,6476815.7999999998,23131552.826769996,16702590,6156408.7999999998,723523,23686855.094075777,16771102,6742333,173420,22575963.196708795,16700563,6511735,34958,435435,23040981.368379999,16787957,6546693,23796222.088170003,17016065,7025699.6612902638,24224596.215680003,17524292,7091024.6612902638,24025115.2018,17695327,7155224.6612902638]
[137,"HOLYOKE                      ",78.73,67827362,6811798,61015564,72388532.229999989,7289305,65099227,73576060.433260515,7637734,66054475,75721641.38000001,7973794,60651347,7127961,76657779.796516746,8297090,66423722,1936968,73138531.001340002,8592467,64367063,345551,3815151,76399996.650000006,8863130,67536867,78653933.859999999,9198156,69455778,78916203.399999991,9463063,69621603,78698902.669999987,9692069,69785403]
[138,"HOPEDALE                     ",47.89,7472867,2486366,5057500,8292536.7375000007,2670563,5621974,8815309.2047224138,2839812,5975497,9235166.8740800004,2966673,5609272,659222,9728111.1448041964,4701926,6143124,0,9332695.0668703802,4752702,5784243,31052,355029,9580765.2985399999,4942015,5815295,10187944.10832,5093347,5859695,10400760.003870001,5244027,5887320,10475107.010799998,5458850,5914920]
[139,"HOPKINTON                    ",17.5,24098111,19256994,4841117,25867183.04544,20502679,5364504,26814198.336775228,21690292,5538660,28242723.701650001,22606527,5179893,608759,29889258.479898021,24108745,5672879,107634,29092218.3157188,24749829,5442815,29220,392928,29701471.955480002,25246689,5472035,31278850.639399998,26008119,5705503.4027372804,32117617.453449998,26860574,5789203.4027372804,32526014.474999998,27549192,5873878.4027372804]
[140,"HUBBARDSTON                  ",49.59,9796,1348,8448,0,362,0,11355.27,3159,8196,11943.49,3356,8587,0,12306.57500478469,4308,8415,0,0,0,0,0,0,24500.14,9683,14817,0,0,0,0,0,0,0,0,0]
[141,"HUDSON                       ",41.51,19050737,14410446,5370695,20737185.89144,14946735,5923344,22500615.0596264,15356761,7143854,23936352.536320001,15521036,7530326,884991,25532071.962211221,16165733,8247011,1119328,25192997.510822278,16204219,8819158,47345,569311,25384240.533760004,16175387,9208854,26736601.318939991,16738223,10247974.530620005,26971069.026599996,17041341,10495017.737085393,27792860.269480001,16943537,10859646.737085393]
[142,"HULL                         ",17.5,11353848,8981808,3687093.2,11214367.350959999,9384311,3756143.2,11280495.442531671,9618212,3823493.2,11671069.35836,9831732,3482560.2,409283,11794688.48922978,9783137,3814006,0,11155892.276219161,9798290,3591192,19279,234235,10984440.041849999,9799215,3610471,10867343.796599999,9900725,3654871,10592145.907740001,9917428,3681846,10591221.700679999,9492718,3708196]
[143,"HUNTINGTON                   ",44.73,127431,66133,89877,216115.81,74385,144631,248897.63,92185,163818,345395.31,131667,218880,0,380508.56721148331,174361,214502,0,360101.12568,174095,205922,0,0,403261.59,188394,214868,493137.38999999996,235451,257686,474993.12,238640,257686,466072.9,251663,257686]
[144,"IPSWICH                      ",17.5,14041498,12710447,2066540,14992137.828520002,13156596,2232902,15825233.977843994,13644898,2393856,16400242.809939997,14112689,2282723,268274,16957084.776921969,14253296,2499977,203812,16906352.002642978,14393705,2545833,13667,193189,17102812.789599996,14677975,2559500,17797548.09409,15205869,2722401.9791164375,18113898.173040003,15501270,{"$f":"2834284.52940783+109486","v":2943770.52940783},18277939.337160002,15616820,3032974.52940783]
[145,"KINGSTON                     ",37.06,7998550,4971749,3291409,8273057.0684000002,5048628,3382518,8552328.663848212,5164589,3471243,9261013.0245499983,5370868,3481041,409104,10163781.091275636,6164282,3812342,187157,9993589.1704833005,6118107,3801121,20406,208222,10250129.685999997,6235286,4014844,10455362.598579997,6361939,4130764.5356259407,10405973.177240001,6503570,4159864.5356259407,10520096.445809999,6787210,4188864.5356259407]
[146,"LAKEVILLE                    ",36.9,4799043,2658720,2146114,5190670.9800000004,2889584,2301087,5317162.33,3023826,2348711,5543481.6000000006,3105681,2181431,256370,5602857.9883483276,3253249,2389045,0,120358,71289.72480853874,48927,263,3142,122500.7,75884,49190,189431.25,117945,71486,192367.49000000002,118421,73946,130049.00000000001,82782,73946]
[147,"LANCASTER                    ",30.99,0,0,0,0,0,0,0,0,0,0,0,0,0,0,0,0,0,0,0,0,0,0,0,0,0,0,0,0,12894.02,9530,3364,13004.9,9489,3597]
[148,"LANESBOROUGH                 ",36.770000000000003,1916314,1602997,511327.6,2000612.16,1636328,598919.6,2254707.4840702428,1643144,740945.6,2340403.35,1550747,771260.6,90641,2211537.9160803831,1508600,844664,0,2101664.4740400002,1386013,795318,4270,51076,2085248.98,1418502,799588,2003814,1493112,737198,1859232.2499999993,1282510,742373,1841661.51,1232284,747323]
[149,"LAWRENCE                     ",87.15,120547909,3240618,117307291,127369323.28,4587152,123087075,133779067.90829407,5310337,128507796,141941371.93000001,5886137,121747087,14308148,146793573.0315024,5813067,133334130,7646376,144327894.38892001,6144533,135531978,727596,5051357,152346056.93000001,6462722,145883335,158948561.05000004,6790964,152157597,166158253.06999999,7071945,{"$f":"159086308+320037","v":159406345},177176380.49999997,8004505,169171876]
[150,"LEE                          ",17.66,5823545,5026681,1520616,6350292.3199999994,5174125,1676639,6681418.6652666908,5156036,1878003,7031845.7699999986,5144595,1850212,217444,6993248.0376650728,5210177,2026303,0,6834255.432719999,5256806,1907927,10242,126584,6866001.4999999991,5431263,1918169,7058725.3000000007,5598309,1947049,6795658.4500000011,5748371,1964149,6714728.879999999,5764466,1980674]
[151,"LEICESTER                    ",51.94,13764844,5533064,8584389,14951710.08,6005588,9273246,15396418.602011576,6321482,9525396,16077270.590000004,6607213,8869110,1042329,16403919.290181819,7103381,9713210,0,16141548.42372,7199987,9145765,49099,563921,16759773.840000002,7378547,9381227,16738311.800000001,7574816,9450987,16586640.989999998,7776403,9493437,16135346.720000001,7906856,9534162]
[152,"LENOX                        ",17.5,5379558,5779799,1111972.8,5557057.9500000002,5755763,1149222.8,5681111.1449849457,5626258,1185272.8,5690851.3399999999,5524370,1091138.8,128234,5746214.0793875596,5564115,1194985,0,5692629.6463799989,5437790,1125174,6041,80270,5550215.3299999982,5659278,1131215,5797767.8000000007,5640423,1156055,5519096.620000001,5519097,1170680,5600729.1799999997,5040656,1185105]
[153,"LEOMINSTER                   ",59.36,50087399,17364613,32722786,52403637.229999997,18470739,33951319,55214981.567387104,19608537,35606445,61199688.75,20722302,36220613,4256774,63052401.664000005,21186482,39667839,2198081,61830792.262439989,21870806,39420116,211625,2394129,64079292.579999998,22623162,41456131,66413236.799999997,23577860,42835377,67647235.61999999,24414874,43232362,68009798.659999996,25511102,43390737]
[154,"LEVERETT                     ",17.5,803815,973857,223181.2,852583.6,827268,239065.2,947175.22926746425,853066,261625.2,1053847.72,849640,257545.2,30268,1038637.2936880384,875032,282057,0,1122116.9748600002,937904,265580,1426,18126,1105463.82,928988,267006,1073636.7000000002,916296,271766,1092855.1200000001,934972,274716,934315.57,840884,277216]
[155,"LEXINGTON                    ",17.5,44428216,48013339,5197253.5999999996,48149485.159400001,48176671,5848475.5999999996,50405171.392957248,48167038,6740204.5999999996,53421979.384980008,48294113,6801697.5999999996,799359,55137317.164318644,49717650,7449035,0,53464106.958999999,49818987,7013863,37654,548918,56211262.726240009,51205216,7051517,59157960.380999997,52989430,7876798.51666875,62856513.067499988,55493228,{"$f":"8657571.33420469+8422","v":8665993.3342046905},64514813.130400017,56156903,9584428.3342046905]
[156,"LEYDEN                       ",17.5,0,0,0,0,0,0,0,0,0,0,0,0,0,0,0,0,0,0,0,0,0,0,0,0,0,0,0,0,0,0,0,0,0,0]
[157,"LINCOLN                      ",17.5,5018892,5683798,493536.8,5151111.5048699994,5403675,575118.80000000005,5228858.1013507508,5190002,677097.8,5555855.546620002,5184708,693055.8,81450,5820338.6126000388,5207737,759016,0,5740716.07941732,5163138,714674,3837,57830,5352912.2345500002,5178637,718511,5424170.2317799991,5128408,743071,5868235.8212800017,5381474,759321,5682114.4160699993,5004725,841588]
[158,"LITTLETON                    ",24.95,11139291,10499232,1464107.2,12115413.634199999,10452829,1818491.2,12477893.258578453,10490580,2325579.2000000002,13440913.22665,10423513,2700077,317323,14231659.398570258,10530521,2957052,744086,13640184.029312642,10374233,3484917,18709,237937,13593606.621599995,10469428,3503626,14276865.484880002,10931785,3693487.508446292,14181867.184600001,11325231,3731912.508446292,14701467.741599999,11519536,3770462.508446292]
[159,"LONGMEADOW                   ",17.5,22710932,20812705,3547400,23361827.510000005,21048279,3906490,23686877.90819297,21094587,4239607,24733177.429999996,21260686,3963684,465826,25548586.481975123,21378942,4340920,0,24685139.268599994,21321759,4087324,21942,306429,24642877.109999999,21481517,4109266,25335232.990000002,21911262,4224986,24962248.150000006,22263076,4294961,24849640.570000004,21747129,4363911]
[160,"LOWELL                       ",73.569999999999993,134573109,29664794,108399118,139116837.98003998,31162657,111660607,147723629.79585069,32819557,117869547,150534733.39768001,34088424,107274461,12607274,154968734.65788475,33789587,117484100,3695048,151465731.89643282,34730786,114495103,614660,6425960,157898864.58336002,36240147,121658718,163641193.22828004,37162840,126478353,168760616.72439998,38859325,{"$f":"129901292+25266","v":129926558},176078571.80969998,40949807,135128765]
[161,"LUDLOW                       ",46.51,22679461,13063961,9615500,24089447.75,13513577,10575871,25130130.610954065,13594068,11536063,26252078.679999992,13563370,11354310,1334399,27121644.13746221,13598080,12434935,1088629,26588449.146960001,13600623,12738623,68387,790929,26899330.039999999,13801952,13097378,27321398.960000005,14243896,13211578,27755975.950000003,14764702,13282703,27236633.910000004,14951306,13351728]
[162,"LUNENBURG                    ",40.630000000000003,11716392,8601526,3708907,12276374.15,8871625,3921700,13121501.42336395,8885020,4314259,13675383.389999999,9084809,4134848,485942,13799998.378687082,9022501,4528374,249123,13414483.32636,8836567,4498396,24149,295077,13457816.690000003,8981951,4522545,14298145.129999995,9188886,5219936.6884947494,14546535.939999999,9433283,5354695.9110325621,14945462.859999999,9374156,5605871.9110325621]
[163,"LYNN                         ",75.23,129974090,29799249,100174841,135144695.81999999,31653289,103751349,144686831.68873173,33225614,111461218,152073058.32999998,34465340,105239589,12368129,155276011.32322299,36436147,115255564,3584300,152859294.83544001,37505365,113140585,607389,5439440,156427178.34000003,38215898,118211280,165697522.48000002,39600037,126107787,173772185.64999998,40871553,{"$f":"132900633+471634","v":133372267},181764114.65000001,43133574,138630541]
[164,"LYNNFIELD                    ",17.5,14215391,13251512,1760537.6000000001,15771023.292079998,13495114,2275909,17356642.058858942,13944761,3411881,18585463.714159999,14489660,3665072,430732,19408007.987414353,16010874,4013888,0,19103918.4621954,16284477,3779396,20290,270977,19086223.734719999,16630403,3799686,19513606.067749999,17151894,3887366,19765823.121270001,17368045,{"$f":"3941766+42110","v":3983876},19490234.623029999,17091539,4036801]
[165,"MALDEN                       ",54.54,54185598,21722732,32462866,58405248.022889994,23530624,34874624,62297084.542392798,24505538,37791547,66974103.664699994,25736533,36900852,4336719,70256109.620756119,28341018,40412820,1502272,69445049.599893317,29256886,39466415,211873,2408479,74002031.259239987,29910919,44091112,78173570.110089988,31406125,46767445,79552182.518289998,32589651,{"$f":"46962532+101064","v":47063596},80737953.747600004,34410984,47246321]
[166,"MANCHESTER                   ",17.5,0,0,0,0,0,0,0,0,0,0,0,0,0,0,0,0,0,0,0,0,0,0,0,0,0,0,0,0,0,0,0,0,0,0]
[167,"MANSFIELD                    ",39.119999999999997,34070637,22637801,11432836,37066064.086240001,23186796,13879268,38933172.153506003,23627132,15306040,41292178.534949996,24028768,15447917,1815494,43173220.767601192,24399237,16918143,1855841,42531299.518475883,24405336,17778173,95441,1022220,42752257.461410008,25008185,17873614,43053921.076990001,25772728,18060214,43496373.837260008,26613090,18175039,41985292.046640001,26566576,18283964]
[168,"MARBLEHEAD                   ",17.5,22442162,18815418,3626744,23820222.600000001,19829287,3990936,24883005.764629867,20408599,4474407,26084987.150000002,21181516,4387801,515670,27241689.681577034,22473658,4805402,0,26691563.970600002,22521401,4524671,24290,337066,27367247.329999998,23246510,4548961,28162380.189999998,24103028,4677641,29501925.989999995,24213134,{"$f":"5288792+8422","v":5297214},30687140.549999997,25404870,5381364]
[169,"MARION                       ",17.5,2842071,3116566,338668.4,2997167.17,2911376,375835.4,3025165.423394056,2851568,421906.4,3162483.16,2895625,416376.4,48934,3266374.1133779911,3033215,456004,0,3153015.2271000003,2931584,429364,2305,34185,3339019.88,3088812,431669,3695947.6200000006,3317639,449149,3724025.8699999996,3296965,459899,3955020.5,3359179,595842]
[170,"MARLBOROUGH                  ",39.06,37010306,32604757,6151638.0000000028,39489888.753479995,33387418,7207775.0000000028,41647924.173341915,33111874,9149845.0000000037,44383211.209059998,32757172,10403395,1222644,46013474.233912654,32958768,11393518,1661188,46421470.443365268,33104620,13061334,70119,185397,47531356.683839999,33125854,14405503,50561006.405809999,33652670,17545220.816238921,51938566.105600007,33591541,18678850.960200321,52135804.352599993,32592161,19543643]
[171,"MARSHFIELD                   ",21.23,32271473,20214215,12057258,34872556.111840002,21245140,13627416,36714948.679464169,22881016,14129652,38563639.171119995,24240148,13086402,1537960,40253567.818422206,26140832,14331875,0,39637274.173409283,27040077,13494608,72445,878947,39583756.739600003,27951328,13567053,41137358.67464,28739555,13747293,40558278.62376,29710952,13855893,40490934.449160002,31137078,13963368]
[172,"MASHPEE                      ",17.5,15407543,12020189,4044754,15474024.460000001,12882004,4145104,17073801.756701652,13860224,4425065,17636286.130000006,14142204,4051695,476170,16283467.18671005,14193190,4437308,0,16336474.718640003,14184603,4178081,22430,283872,16170543.359999999,14364504,4200511,16786403.150000002,14863230,4271711,17312286.150000002,15116709,4316511,16847491.769999996,14820989,4359861]
[173,"MATTAPOISETT                 ",17.5,3297524,3310959,473897.6,3387984.92,3308386,497697.6,3488042.5977460435,3193722,531510.6,3669467.71,3252117,508287.6,59736,3955927.7226870819,3490891,556663,0,3799146.5653200001,3492437,524142,2814,41557,3951256.51,3548014,526956,4131578.0200000009,3667812,546236,4068140.6800000006,3673844,587658.15474999999,4564402.3699999992,3935161,661547.15474999999]
[174,"MAYNARD                      ",32.83,10044441,8591307,2211508,10644015.071359999,8569489,2382686,11391224.980435096,8539540,2851685,11937003.731199998,8673841,2919995,343168,12185553.479722442,8524586,3197900,463067,12064502.865547679,8480324,3515408,18872,160487,12168260.781569999,8664177,3534280,12727909.260160001,8836949,3990864.5528999842,12848218.426860001,9277415,4024014.5528999842,13617361.215549998,9450152,4180312.5528999842]
[175,"MEDFIELD                     ",17.5,21083357,16366654,4716703,22222544.690400001,17108794,5113751,23437455.400163922,17719122,5718333,24405492.276769999,18347283,5421102,637107,24887881.817815583,19908771,5937045,0,24403976.669405282,20304518,5590203,30011,389731,24263807.570240002,20679989,5620214,24324022.98694,21208313,5730534,24155267.42306,21603285,5797959,23366471.620039996,20811592,5862409]
[176,"MEDFORD                      ",17.5,40248747,32874703,10251400.4,43002389.842659995,34340915,10733287.4,46366010.244539626,35851875,11321921.4,48419758.008079998,37389566,10452869.4,1228458,50459876.273372002,41624962,11447701,0,49632982.275670551,42205952,10778927,57866,741233,51296237.986520007,42820019,10836793,53745484.954950012,44080589,11047553,52242342.704740003,45112884,{"$f":"11173603+33688","v":11207291},52268719.305079997,45014043,11332041]
[177,"MEDWAY                       ",36.56,19580722,13433801,6292863,20747660.14057,13372805,7374855,21605016.00124561,13383579,8221437,22347779.065000005,13117342,8860400,370037,23324796.46238941,12868279,9045828,1410689,22310016.342912722,12851891,9845648,52856,624313,22260938.035379998,13120301,9898504,22211260.904100001,13680191,9997944,22149987.50784,14085853,10058469,21554025.020479999,14114067,10117244]
[178,"MELROSE                      ",19.02,24907341,20737665,5187289.5999999996,26011915.689749997,21369417,5380590.5999999996,27602185.703187775,21907581,5694605,30260569.438900001,22718830,6748618,793121,32562555.060026802,24854305,7390904,317346,32186376.980879758,25348596,7257935,38964,504526,33172689.346400008,25849124,7323565,34237368.45262,26657847,7672924,34787745.958120003,27402853,{"$f":"7765699+8422","v":7774121},35264711.847039998,28117748,7867296]
[179,"MENDON                       ",33.950000000000003,0,4125,0,11108.373639999998,4683,6425,23065.342200000003,9814,13251,48402.476480000005,20739,27663,0,49954.876631578947,22735,27110,110,36523.099191600006,17440,26131,0,0,24882.900699999998,12459,24882.900699999998,0,0,0,26487.781899999998,14438,12050,26544.465999999997,15491,12050]
[180,"MERRIMAC                     ",42.59,0,0,0,0,0,0,0,0,0,0,0,0,0,0,0,0,0,0,0,0,0,0,0,0,0,0,0,0,0,0,{"$f":"0+50532","v":50532},39014.69999999999,23081,39014.69999999999]
[181,"METHUEN                      ",55.68,56448568,25976682,30471886,60543616.070000008,27289639,33253977,64593404.869511366,28479615,36113790,66932258.720000006,29640305,33440001,3929987,70754596.227797136,29742140,36622588,4389868,67174266.656939983,30293532,38616511,207311,2370809,66167336.409999996,30557302,38823822,68082307.960000008,31301841,39110902,72821269.290000007,32658088,{"$f":"40240901.1178455+421101","v":40662002.117845498},73674473.939999998,33532493,40839452.117845498]
[182,"MIDDLEBOROUGH                ",50.85,26467283,12717234,15072339.000000002,28711248.540000003,13593641,16271963.000000002,29349175.555037435,13995503,16591501.000000002,30535052.200000003,14305024,15378099,1807289,32049946.575188514,14608790,16841680,599477,31398532.903860003,14805660,16422246,88162,1020099,32141290.059999999,15132961,17008329,32752133.430000003,15459649,17292484,32588658.5,15715800,17376809,32073963.209999997,15945136,17459284]
[183,"MIDDLEFIELD                  ",26.26,0,2821,0,0,746,0,0,0,0,35830.47,21223,17650,0,36919.725014354073,21121,17297,0,36107.447039999999,18057,18050,0,0,36750.21,21942,18050,38091.630000000005,24466,18050,51576.08,33824,18050,52019.6,39422,18050]
[184,"MIDDLETON                    ",17.5,5089625,4017323,1072302,5471810.5766400006,4145862,1325949,5832959.1376389088,4345126,1487833,6321846.7792799994,4793498,1430804,168153,6442872.8063946106,5100614,1566978,0,6158787.1565006413,5254874,1475435,7921,102722,6001241.5991799999,5162532,1483356,6436171.7904999992,5445815,1513276,6537210.6908500008,5536081,1531951,6500381.7589600012,5534548,1550526]
[185,"MILFORD                      ",48.59,30216135,22301521,9514224.4000000004,33490000.671320003,22721351,10882700,34771548.012968563,22716028,12145146,36857352.51055,22611874,12747364,1498115,38573246.502751864,22694316,13960569,1918362,37839983.058274925,22556065,14990659,80476,910271,39488612.219000004,22785673,16702939,41626385.357300006,23315453,18734609.200679597,42774603.567850001,23819112,19457577.302150823,43366941.909150004,23509175,20022624.302150823]
[186,"MILLBURY                     ",41.8,14287540,8778478,5889114,15323374.32,9000628,6392219,15891803.931504436,9533703,6643067,16607443.680000002,9835784,6225068,731592,17069156.465240195,10132004,6817527,119625,16354315.981439997,10084315,6531884,35066,416852,16266575.289999999,10291233,6566950,16716297.900000002,10391532,6638870,16935435.850000001,10537672,6745941.8450512495,17048501.060000002,10443623,6879057.8450512495]
[187,"MILLIS                       ",36.22,9097512,7264775,1884585.6,9483891.5441799983,7426472,2102687.6,10117122.766417645,7330284,2786839,11000973.682880001,7435813,3190233,374928,11653273.708027104,7440876,3493858,718540,11328953.966638198,7432660,3966310,21293,257445,11812388.784249999,7564328,4248061,12313171.274950001,7862256,4534410.8393613929,12451955.106319999,8164569,4592771.5320735266,12356473.845559999,8219727,4625471.5320735266]
[188,"MILLVILLE                    ",58.39,0,3591,0,10849.66,3214,7636,22710.54,6563,16148,59717.45,16523,43194,0,49226.300019138762,15127,42330,0,60179.078399999999,19123,41056,0,0,85750.49,27251,58499,50788.840000000004,16406,50788.840000000004,77364.119999999981,26377,50987,26009.8,9583,26009.8]
[189,"MILTON                       ",17.5,25151267,24801774,3395206.4,27293508.643200006,25682096,3770098.4,29370007.727681536,26209746,4180994.4,31229186.953800008,26442315,4283464,503408,33226179.825447932,27411598,4691135,1123447,33177677.717974804,27962065,5474895,29392,405395,33445350.979459997,28316699,5504287,34576600.406800002,28905665,5765927.5177974999,35318011.521599993,29777694,5869608.6424181247,35082060.980719998,29715046,5964021.6424181247]
[190,"MONROE                       ",17.5,156484,91583,84030,67149.83,77281,67149.83,56859.984915476627,50042,56859.984915476627,117805.94,70637,89563.984915476627,0,128295.88296267943,75685,87773,0,87282.108779999995,71027,84262,0,0,79783.97,68985,79783.97,75976.200000000012,45544,75976.200000000012,84306.74,69217,75976.200000000012,49377.140000000007,41572,49377.140000000007]
[191,"MONSON                       ",51.86,11167185,4551198,6615987,11949570.529999999,4838959,7111941,12159308.518842915,4984969,7241370,12797798,5089158,6897967,810673,12822835.034947371,5153721,7554467,114647,12214501.473179998,5102395,7221084,38766,444464,12125247.350000001,5200769,7259850,12141055.580000002,5290215,7312050,11640741.35,5397705,7342725,11227559.509999998,5516259,7372025]
[192,"MONTAGUE                     ",51.8,0,4422,0,0,1165,0,0,0,0,11943.49,5779,6507,0,12306.57500478469,5964,6377,0,0,0,0,0,0,0,0,0,0,0,0,0,0,0,0,0,0]
[193,"MONTEREY                     ",17.5,0,0,0,0,0,0,0,0,0,0,0,0,0,0,0,0,0,0,0,0,0,0,0,0,0,0,0,0,0,0,0,0,0,0]
[194,"MONTGOMERY                   ",17.5,39186,23670,15516,32548.98,24028,15666,45421.08,32646,19296,35830.47,26083,19446,0,61532.87502392345,39614,19057,2862,36107.447039999999,25001,21042,0,0,36750.21,25778,21042,25394.420000000002,18584,21042,25788.04,20780,21042,26009.8,21585,21042]
[195,"MOUNT WASHINGTON             ",17.5,107132,88820,19858,144190.37,111238,32952,126517.21994365109,115279,33752,132726.99,118261,34839,0,129580.38256076556,116497,34142,0,126342.90066,112337,32776,0,0,120558.2,108747,32776,128118.72,110906,32776,91796.300000000017,91796,32776,92960.28,83664,32776]
[196,"NAHANT                       ",17.5,2818535,2890705,384990,2885508.92,2876891,408985,2958071.3727178685,2848361,441588,3103459.42,2795562,425127,49962,3140215.3490373208,2769683,465587,0,3009436.1228999998,2673399,438388,2353,34021,2959458.31,2711123,440741,2836358.0599999996,2696296,454021,2809900.4000000004,2700890,{"$f":"462021+8422","v":470443},2670798.36,2403719,477893]
[197,"NANTUCKET                    ",17.5,8624608,13225325,835167.6,9230081.2999999989,12823739,991186.6,10186787.557364723,12276662,1228636.6000000001,10648679.940000001,11576039,1286905.6000000001,151242,10683423.649684211,11534629,1409385,0,10295374.04874,10871032,1327049,7124,105962,11144212.01,10901757,1334173,11866373.959999999,11286314,1387053,12800411.420000002,11568827,1421503,13869821.479999997,11742876,2126945]
[198,"NATICK                       ",17.5,33697813,33961720,4176645.6,36447202.92904,34581099,4657788.5999999996,37564403.525144182,34454333,5232583.5999999996,40487600.791560009,35263961,5229410.5999999996,614579,42629277.234462015,35169154,5727110,1733013,41207446.519019037,35490451,7024303,37710,518585,43072103.861760005,36948274,7062013,45906950.422800004,38397808,7640285.5809975006,47764102.86208,39466673,8312752.0002159998,49956678.079499997,41275438,8681240]
[199,"NEEDHAM                      ",17.5,34180438,33290098,3838947.6,37003280.957180008,33919990,4366272.5999999996,39386972.010866001,34874779,5124206.5999999996,42028556.259200007,35909710,5475362,643484,43829318.414363444,36829428,5996469,1003421,44582496.208305366,37987380,6590957,35383,500900,46025845.81216,39034126,6991720,48336042.998220004,40702053,7633990,49744211.758409992,42426414,7901801.7644304372,50670510.318260007,43099948,8239739.7644304372]
[200,"NEW ASHFORD                  ",17.5,314618,165062,149556,313210.37,163541,154825,331313.9947464299,168568,163915,321985.11,171991,166015,0,311594.91233684216,178509,162695,0,360381.76277999999,180785,179597,0,0,334159.74,188252,179597,346722.85000000003,196667,179597,273043.12,204082,179597,266775.95,209694,179597]
[201,"NEW BEDFORD                  ",75.44,119985462,15908482,104076980,120904310.03999999,17009241,104762165,124529300.86950365,17999927,107414208,129350707.3,18772687,99286975,11668556,131101527.27395219,18393495,108736420,3971612,126977747.19852,18868260,106123637,569719,6333076,131413254.92999999,19608717,111804538,134200121.78,20555694,{"$f":"113644428+2452653","v":116097081},141486159.03000003,21429480,120056679,146174509.68000001,22672562,123501948]
[202,"NEW BRAINTREE                ",43.61,0,0,0,0,0,0,0,0,0,0,0,0,0,0,0,0,0,0,0,0,0,0,0,0,0,0,0,0,0,0,0,13004.9,7410,5595]
[203,"NEWBURY                      ",17.5,0,0,0,0,0,0,0,0,0,0,0,0,0,0,0,0,0,0,0,0,0,0,0,0,0,0,0,0,0,0,{"$f":"0+16844","v":16844},39848.778960000003,35337,16844]
[204,"NEWBURYPORT                  ",17.5,16302852,18514828,2908020,17369387.83083,18382676,3094664,18138185.240466557,18210192,3229204,19046240.388799995,17810116,3031805,356309,19278084.056310378,17751548,3320352,0,18957046.974179041,17434050,3126377,16784,232641,19604538.718400002,17669920,3143161,20981094.095319998,18161476,3236321,22075535.224889997,18717331,{"$f":"3484457.66608894+42110","v":3526567.6660889401},22313844.746979997,18921662,3658991.6660889401]
[205,"NEW MARLBOROUGH              ",17.5,0,0,0,0,0,0,0,0,0,0,0,0,0,0,0,0,0,0,0,0,0,0,0,0,0,0,0,0,0,0,0,0,0,0]
[206,"NEW SALEM                    ",51.3,0,0,0,0,0,0,0,0,0,0,0,0,0,0,0,0,0,0,0,0,0,0,0,0,0,0,0,0,0,0,0,0,0,0]
[207,"NEWTON                       ",17.5,84474234,95571853,9687799.5999999996,91783004.913320005,95493364,10966834.6,96710790.081070766,94016028,12754100.6,102430485.62952003,93680526,12939868.6,1520739,106034164.82356572,94358670,14171395,0,105360168.87611745,93963930,13343503,71634,1051383,109411944.70578998,95907724,13504221,114655007.73854002,98481856,16173152,119052135.41824004,101648356,17403779,123275321.48661001,103657391,19617930]
[208,"NORFOLK                      ",17.5,7375598,4537885,3290521,7514189.6858999999,4696531,3342421,7568629.1283759158,4835814,3392371,7931793.3029600009,5010638,3120270,366705,8090406.3416947154,5856554,3417236,0,7969864.5064924797,6096820,3217602,17273,206986,7607426.2368400004,5982259,3234875,7567557.911940001,6205265,3270355,7354058.3719600011,6196881,3291530,7315213.0608799998,6240752,3312405]
[209,"NORTH ADAMS                  ",69.87,15707349,2559119,13830276,15487886.440000003,2982732,13921926,16104425.472575067,3199929,14379275,16069533.560000001,3273841,12943553,1521172,15683925.830859331,4425733,14175431,0,15476062.162319999,4393858,13347304,71654,795823,15392110.870000001,4489714,13418958,15076472.880000003,4662123,13480318,15891428.520000001,4776899,13517943,16417451.109999998,4941966,13556793]
[210,"NORTHAMPTON                  ",18.489999999999998,22339621,16647759,6574009.5999999996,23515503.420000002,17537821,6925715.5999999996,23897225.215249706,17925565,7068615.5999999996,25081306.799999997,18789705,6600629.5999999996,775729,25514471.712826792,19225734,7228831,0,24684605.485979997,19535341,6806523,36541,454267,25014294.639999997,20035749,6843064,26386688.750000007,20803896,6954104,26834026.780000009,21624168,7023429,27395100.530000001,22476877,7093554]
[211,"NORTH ANDOVER                ",17.5,30541004,28946886,4129740,33510013.210000001,29846221,4649317,34908316.443979926,30883606,5087208,37117714.300000004,31904083,4968107,583870,38689087.713684224,32219076,5440937,1029075,37806576.337559998,32564460,6092035,32705,458122,38936234,33092191,6124740,40712824.369999997,34010095,6808232.8161875,42340329.710000001,35385415,{"$f":"7068575.6748125+25266","v":7093841.6748125004},43286349.479999997,36224040,7262285.6748125004]
[212,"NORTH ATTLEBOROUGH           ",37.200000000000003,33128817,14691852,18436965,34913727.249999993,15594284,19319443,37024105.29144422,16763755,20260350,38863802.869999997,17813103,18836919,2213781,39803852.803245947,20703716,20629686,0,39026226.24995999,21382362,19424502,104279,1217430,39843826.230000004,21810997,19528781,41161023.43,22566227,19712661,41797469,23207648,19827086,42114635.469999991,24223806,19941736]
[213,"NORTHBOROUGH                 ",17.5,12830969,10921083,2584464.4,13031020.219999999,10898179,2763949.4,13379613.142081046,10658966,3082735.4,13939628.030000001,10678879,2995439.4,352035,14512145.583586603,11014309,3280525,217312,14386023.880859999,11224364,3293494,17681,232062,14878106.429999998,11738874,3311175,15714470.859999999,12259650,3621985.0384160001,15886379.650000002,12722162,3668085.0384160001,15486011.710000001,13010542,3712560.0384160001]
[214,"NORTHBRIDGE                  ",53.38,19224254,6253429,12970825,19859815.41,6987828,13322608,21326300.527729061,7490514,14114803,21595688.16,7937843,12757564,1499314,22343513.91142584,8072415,13971740,299359,22038684.843239997,8329249,13446387,72186,815376,22423099.34,8388993,14034106,23980196.999999996,8893916,15086281,24363998.650000002,9349395,15150056,24874347.920000002,9900452,15214206]
[215,"NORTH BROOKFIELD             ",53.65,6615681,2219735,4285292.8970251717,6571910.5099999998,2316586,4326992.8970251717,6609236.9636889221,2348384,4367042.8970251717,6747317.700000002,2443115,3983453.8970251717,468150,6520066.3495043078,2624892,4362572,0,6139849.1636400009,2611475,4107711,22052,250034,6001484.8899999997,2543410,4129763,6089693.8600000003,2658631,4155363,6187292.3999999994,2707976,4171238,6138607.5700000012,2853212,4187213]
[216,"NORTHFIELD                   ",38.74,0,0,0,0,0,0,0,0,0,0,0,0,0,0,0,0,0,0,0,0,0,0,0,0,0,0,0,0,0,0,0,0,0,0]
[217,"NORTH READING                ",17.5,18601689,14816885,3784804,20183617.97724,15266492,4917126,21182764.789605197,15869112,5313653,22674352.994799998,16503487,5521911,648955,23612463.797106899,16789073,6047449,775942,22639942.1421276,17274696,6424769,34491,430556,22670246.940660004,17894010,6459260,23098274.900569998,18576477,6562100,23398817.806239996,19321117,{"$f":"6625625+50532","v":6676157},23706840.709970001,19832830,6739782]
[218,"NORTON                       ",37.86,22990850,11013370,11977480,23419989.289999999,11653397,12175056,24274093.506333459,12205403,12560940,25467467.109999999,12826588,11717531,1377086,25652702.988677517,13933589,12832725,0,24934930.297499999,14175872,12083038,64867,758645,25121296.479999997,14682739,12147905,25245341.509999998,15231907,12260025,25252431.439999998,15724845,12328675,24839826.120000001,15755447,12395800]
[219,"NORWELL                      ",17.5,14440386,14597702,1917411.6,16098434.99767,14916801,2207570.6,17382511.444969099,15372590,2457881.6000000001,18475933.129799999,15697102,2486597,292234,19354658.580467265,16176665,2723254,454740,19154668.326163501,16412838,2992336,16064,226269,19420562.385559998,16745375,3008400,20138619.813699998,17114763,3148957.366849375,20549300.995200001,17494372,3260749.9436770314,20295768.49016,17370172,3362602.9436770314]
[220,"NORWOOD                      ",17.5,28041822,27289969,3544044,29886710.074549999,27700512,3933871,30207570.065640491,28071619,4534446,31869888.767040003,28472241,4638435,545125,32601763.614237398,28057436,5079889,0,31939204.05633672,28648256,4783122,25678,357914,32665738.414279997,29934115,4808800,34403459.751600005,30967635,5111751.3641325003,35162876.923280001,32031042,5372189.3884928748,35458013.178439997,31475235,5663726.3884928748]
[221,"OAK BLUFFS                   ",17.5,3344833,2798198,546635,3068927.37,2724857,567385,3482507.5606329595,2861389,639762,3500874.88,2916146,591900,69562,3641145.0682794261,3042048,648233,0,3315880.6575599997,2896108,610364,3277,44592,3397147.27,2962918,613641,3454522.33,3045879,629001,3719346.8900000006,3186194,639201,3839529.9800000004,3213640,650652]
[222,"OAKHAM                       ",40,88168,23979,64189,97646.94,23754,73893,102197.43,24731,77466,107491.41,27810,80415,0,183603.36713492827,66144,78807,38652,0,0,0,0,0,0,0,0,0,0,0,0,0,0,0,0,0]
[223,"ORANGE                       ",71.23,5726579,1106334,4911542,5794416.4100000001,1365123,4961898,5977476.5872389013,1437195,5097546,6544119.3700000001,1531082,4936583,580165,6699540.3565933015,1785567,5406413,0,6697536.4997399999,1819535,5090570,27329,306189,6427741.0799999991,1820190,5117899,6143522.4500000002,1791132,5142779,6178576.1000000006,1796299,5158204,6225638.2200000016,1814005,5173729]
[224,"ORLEANS                      ",17.5,1619773,2314304,225962.4,1599992.33,1928689,236862.4,1527004.24,1747368,246812.4,1489750.36,1601503,229223.4,26939,1586853.2817454548,1643573,251039,0,1471893.3349799998,1497065,236373,1269,17747,1548813.24,1556406,237642,1684181.3199999998,1657933,245322,1746797.08,1713633,250272,1909216.98,1715171,279616]
[225,"OTIS                         ",17.5,0,4865,0,0,1222,0,0,0,0,0,0,0,0,0,0,0,0,0,0,0,0,0,0,0,0,0,0,0,0,0,0,0,0,0]
[226,"OXFORD                       ",52.16,15678123,7200883,8477240,16425478.989999998,7646890,8877524,17109033.364616748,8150080,9240150,17439260.300000004,8260539,8426242,990282,17832934.835016266,8214327,9228194,390414,17925538.693260003,8351513,9390325,50411,228497,18299262.16,8535109,9764153,19039445.560000002,8878897,10160549,18857808.949999999,9147593,10209599,18717632.59,9144757,10258149]
[227,"PALMER                       ",56.76,15382941,5150016,10232925,16293473.060000004,5491599,10828140,16630337.504335003,5686758,11045384,16912374.970000003,5850602,10045276,1180556,17367767.6769378,6255521,11001315,110932,16420213.2009,6331779,10463070,56170,638157,15673257.680000003,6390223,10519240,16134047.02,6470869,10585480,16198575.519999998,6747578,10626130,15478309.109999996,6819446,10664455]
[228,"PAXTON                       ",34.9,196006,125093,0,0,0,0,0,0,0,0,0,0,0,0,0,0,0,0,0,0,0,0,0,0,0,0,0,0,0,0,0,0,0,0]
[229,"PEABODY                      ",29.78,52895313,34167033,18728280,54951902.25,36075831,19286644,56602396.857231177,38043319,19741190,58044809.350000001,39953502,18002388,2115704,59750176.473661244,40112796,19715730,0,57582047.419799998,41285234,18563939,99659,1206582,59014857.119999997,42743764,18663598,60749406.699999996,44345547,18906718,{"$f":"62298319.99-2406437","v":59891882.990000002},{"$f":"45533417-1758848","v":43774569},{"$f":"19059168-736211","v":18322957},61102630.279999994,44118255,{"$f":"18472707+125260","v":18597967}]
[230,"PELHAM                       ",17.5,709807,760482,118052.8,749939.66,643809,164606.79999999999,733964.10943651071,561236,210786.8,674439.18,490547,208647.8,24521,670880.08917129191,496664,228505,0,663890.04804000002,481763,215156,1155,14219,580669.32999999996,480192,216311,560019.19999999995,482745,218831,655277.24,566477,220506,689081.27,620173,222256]
[231,"PEMBROKE                     ",41.88,22515538,14046314,8469224,24815140.279400006,14742688,10072452,26921544.8071214,15414393,11507152,28631944.000619993,16182768,11139968,1309208,29986707.348423712,16470418,12200192,1316097,29225596.232482802,16691260,12726668,68322,805499,29344771.673250001,17053741,12794990,30140603.210499994,17494279,12925750,30742484.871859998,17997108,13013732.304039083,30579313.617779996,18171451,13095032.304039083]
[232,"PEPPERELL                    ",45.65,9796,2034,7762,10849.66,4054,8308,11355.27,4893,8571,11943.49,5146,8877,0,0,0,8699,0,0,0,0,0,0,0,0,0,0,0,0,0,0,0,0,0,0]
[233,"PERU                         ",51.83,48982,11961,37021,97646.94,29593,71992,79486.89,29514,72342,107491.41,39254,91528,0,98452.600038277524,35805,89697,0,84250.709759999998,35751,84250.709759999998,0,0,73500.42,33517,73500.42,76183.260000000009,35598,73500.42,103152.16,50799,73500.42,117044.1,56662,73500.42]
[234,"PETERSHAM                    ",23.1,794648,460434,334214,887913.94,484109,403805,910107.84943651082,464081,446027,884202.43,440655,403908,47469,727844.57486698567,387334,442349,0,686761.92768000008,379916,416507,2236,25481,656167.6,383839,418743,637666.18999999983,396428,421383,594228.81999999995,438845,422883,566086.55000000005,454106,424308]
[235,"PHILLIPSTON                  ",47.55,0,0,0,0,0,0,0,0,0,0,0,0,0,0,0,0,0,0,0,0,0,0,0,0,0,0,0,0,0,0,0,0,0,0]
[236,"PITTSFIELD                   ",58.27,52725657,24611444,28114213,57082753.469999999,25485280,31597473,59041738.979034342,25796426,33245313,61752172.609999992,25995833,31996051,3760289,63207565.231892832,25852192,35041213,2314160,62148014.552700013,25940936,35512358,190646,1809494,63704268.780000001,26794850,36909419,65754169.920000002,27822547,38017592.827607997,67796003.910000011,28757787,39290437.62740925,67481752.38000001,29005679,39447162.62740925]
[237,"PLAINFIELD                   ",18.739999999999998,19593,16836,18987,43398.64,22879,30740,68131.62,37773,41615,95547.92,47108,54235,0,98452.600038277524,55480,53150,0,96286.525439999998,58428,51024,0,0,61250.35,41319,51024,63486.049999999996,42461,51024,51576.08,40855,51024,78029.39999999998,64254,51024]
[238,"PLAINVILLE                   ",34.85,5675056,3322319,2374850,6041437.8299999991,3487590,2553848,6193164.1266190642,3616015,2618681,6360137.9900000002,3728363,2405042,282649,6513212.2174468907,3852023,2633937,27252,6313858.9432200007,3881974,2505722,13452,161615,6272346.2599999998,3923605,2519174,6913476.3999999994,4145967,2768880.59601,6826165.1400000006,4169061,2788255.59601,6579213.379999999,4253996,2806755.59601]
[239,"PLYMOUTH                     ",29.15,65808603,50709654,16749442.999999998,70785947.548399985,52596289,18464636,72586825.799855381,54446578,19542986,77105661.264829993,55729593,19128070,2247998,79497521.622687668,56638333,20948547,1910642,78742171.183430165,56893637,21523756,115549,1428409,79081949.172639996,57303942,21778007,80478825.04377,59037999,22208459.478195209,83431824.025150001,60777692,23291787.509499453,83619257.170059979,61240645,23670916.509499453]
[240,"PLYMPTON                     ",36.299999999999997,1607157,1349172,489958,1606594.6,1279333,506035,1709080.5840138937,1275953,543319,1853769.61,1327166,531833,62503,1908834.034465072,1361877,582449,0,2009833.57968,1434960,563844,3027,21828,1974807.62,1416646,566871,2018759.52,1484742,591347.62748400006,2207684.7599999998,1597361,652019.25887999998,2194273.0299999998,1544590,702595.25887999998]
[241,"PRINCETON                    ",17.5,0,0,0,0,0,0,0,0,0,0,0,0,0,12306.57500478469,10005,0,2302,0,0,0,0,0,0,0,0,0,0,0,0,0,0,0,0,0]
[242,"PROVINCETOWN                 ",17.5,1291811,4055956,255800.8,1285826.94,1956162,263550.8,1321743.9439575451,1727275,271200.8,1263192.58,1561249,248898.8,29252,1338933.845374163,1591643,272588,0,1375097.9072400001,1521466,256663,1378,18272,1289521.3,1431340,258041,1203806.04,1203806,262841,1231636.8800000001,1215446,265966,1414247.5399999998,1209208,269641]
[243,"QUINCY                       ",26.15,73098901,63941052,12561073.199999999,77782533.934249982,67709257,13380709.199999999,83528509.845593929,70748789,14388553.199999999,89488958.460700005,73362291,14430718,1695949,92909519.333574429,72784382,15804134,4321003,92692070.835875496,74238283,18949428,101729,1298455,96661211.859239995,75702194,20959018,102157664.34112,79182392,23565229.189149439,105786949.41116999,81483004,24789394.287227817,108294787.80678003,82452996,26024786.287227817]
[244,"RANDOLPH                     ",44.48,28415668,20365108,10420471,30652225.832729999,20844001,11313976,31690386.102510918,20566218,11852877,32016655.867279999,20344448,10904100,1281488,31481792.989716146,20147871,11941876,0,30820251.731979597,19924468,11244232,60364,716005,31980943.732399996,20085920,11895024,34252525.530859999,20607886,13913057.555152636,35279771.078940004,21206980,14424784.13735972,35955443.988719992,20964754,14990690]
[245,"RAYNHAM                      ",37.36,0,0,0,0,0,0,0,0,0,0,0,0,0,0,0,0,0,0,0,0,0,0,0,0,0,12697.210000000001,7860,4837,0,0,0,26009.8,16567,9443]
[246,"READING                      ",20.53,29463124,23184689,6290156.9999999981,31463026.360140003,24343136,7119890,33194639.301516734,25152672,8041967,35385849.034999996,26121634,8289951,974264,36474849.126737088,26451786,9078931,944132,35612661.075852714,26779324,9437516,50665,641507,36437713.051029995,27264731,9488181,38136802.087369993,28233100,9903702,38817531.163199998,29008253,{"$f":"10011427+8422","v":10019849},38963364.685199998,30125539,10126574]
[247,"REHOBOTH                     ",29.93,0,0,0,0,0,0,0,0,0,0,0,0,0,0,0,0,0,0,0,0,0,0,0,0,0,0,0,0,116046.18,81889,34157,91034.3,64373,34157]
[248,"REVERE                       ",64.510000000000005,46478555,22374964,24103591,51922904.798499994,24134938,27787967,56922955.069418222,25539984,31382971,60166072.687420011,26575341,30058188,3532544,64653955.409767158,26216203,32918917,5518835,65723577.218013175,27005010,37975657,203870,539040,68075146.155200005,27339812,40735334,74073065.5757,28043890,46214315.401124246,76694917.361529991,28826715,{"$f":"48007444.2055175+33688","v":48041132.205517501},79960501.103390008,29010426,50950075]
[249,"RICHMOND                     ",17.5,1762868,2078922,321695.2,1791554.66,2029927,333845.2,1666525.1984222305,1918538,344495.2,1733844.42,1800907,356276.2,0,1714724.0778717706,1779707,349151,0,1627120.605,1690989,328754,1765,23307,1432341.44,1629712,330519,1455405.7799999998,1455406,336919,1341137.6900000002,1341138,340519,1381559.82,1243404,344169]
[250,"ROCHESTER                    ",37.04,3680270,2350290,1329980,3824253.2,2478288,1395317,4020213.9527178695,2498485,1521729,4281470.25,2647282,1462330,171858,4601636.8752688998,2799668,1601504,200465,4449279.2438400006,2835130,1696698,9109,109987,4206398.72,2715486,1705807,4265135.9700000007,2781320,1725847,4306372.08,2817361,1738272,4252932.9000000004,2742703,1750422]
[251,"ROCKLAND                     ",48.56,19513418,11054067,8952545,20522022.761699997,11421237,9430825,21120295.814178336,11629129,9714945,21933698.112469997,11574215,9270036,1089447,22004828.13255582,11463450,10152293,389085,21074812.564186316,11539567,9925552,53285,619191,21774162.33845,11752002,10022160,22355995.259560004,12117742,10325639.588731904,22663493.787000004,12382935,10386793.067113128,23580543.138319999,12524805,11055738]
[252,"ROCKPORT                     ",17.5,7402784,7362604,1194220.8,7628241.0882799998,7471074,1244120.8,8076762.8806776693,7497665,1322611.8,8284122.9709999999,7446648,1226740.8,144171,8104260.50920715,7413825,1343494,0,7620062.4644836802,7138013,1265007,6791,93921,7319480.6514099985,7150187,1271798,7190513.3909999989,7094748,1304118,7275247.9357000012,7139271,{"$f":"1324168+33688","v":1357856},7619731.0979199996,6857758,1377981]
[253,"ROWE                         ",17.5,475150,699660,45294.8,409882.39,614824,50581.8,523549.62469008093,580213,70473.8,419120.95,513500,65254.8,7669,441524.18143540673,501807,71465,0,552009.03876000002,498355,67290,361,5289,560185.52,501042,67651,613859.06999999995,514712,99147,620119.16,527677,100747,618393.5,525865,103362]
[254,"ROWLEY                       ",22.83,0,0,0,0,0,0,0,0,0,0,0,0,0,0,0,0,0,0,0,0,0,0,0,0,0,0,0,0,0,0,{"$f":"0+25266","v":25266},66468.098199999993,52584,25266]
[255,"ROYALSTON                    ",33.979999999999997,0,0,0,0,0,0,0,0,0,0,0,0,0,0,0,0,0,0,0,0,0,0,0,0,0,0,0,0,0,0,0,0,0,0]
[256,"RUSSELL                      ",61.11,244989,94511,150478,183566.83,77676,151228,226187.09,88946,178215,225960.41,85118,179065,0,232829.66715406702,86171,175484,0,191599.70616,75063,168465,0,0,207260.47,79133,168465,189431.25,72090,168465,205261.50999999998,81982,168465,220031.55,83474,168465]
[257,"RUTLAND                      ",55,9796,4598,8945.2000000000007,10849.66,4565,9555.2000000000007,11355.27,4214,9848.2000000000007,11943.49,4379,10197.200000000001,0,0,0,9993,0,0,0,0,0,0,0,0,0,0,0,0,0,0,0,0,0,0]
[258,"SALEM                        ",41.55,39985833,29992288,10536329.999999998,42136154.640000001,30487993,11648162,42852484.075050555,30556126,12876914,44915008.079999983,30543822,12859851,1511335,47512497.335793309,30403931,14083762,3024804,47422424.260079995,30121364,16969097,91098,240865,49075889.510000005,30553623,18522267,51691291.730000004,31398532,20759584.19116275,51136476.850000001,31823721,{"$f":"20879459.1911628+134752","v":21014211.191162799},52070759.630000003,31881386,21231627.191162799]
[259,"SALISBURY                    ",17.5,0,0,0,0,0,0,0,0,0,0,0,0,0,0,0,0,0,0,0,0,0,0,0,0,0,0,0,0,0,0,{"$f":"0+33688","v":33688},52019.6,44990,33688]
[260,"SANDISFIELD                  ",17.5,0,0,0,0,0,0,0,0,0,0,0,0,0,0,0,0,0,0,0,0,0,0,0,0,0,0,0,0,0,0,0,0,0,0]
[261,"SANDWICH                     ",19.03,27631550,23236639,5651356.0000000019,28541824.359999999,23538127,6229598.0000000019,29371842.072332684,23681935,6694018.0000000019,29341477.619999997,23800113,6150491.0000000019,722827,30244193.036922485,24197825,6735852,0,29670856.676279996,24024554,6342344,34049,449184,28621462.630000006,24051894,6376393,29161934.479999997,24620229,6508793,28830810.450000003,24951122,6588268,28304004.249999989,24542435,6665593]
[262,"SAUGUS                       ",19.68,22412040,22359654,3538314.4,24160470.339740004,22578923,3844289.4,24646309.885408901,22714754,3997139.4,25756505.726459999,22756006,3750635.4,440788,26465118.450756904,22613204,4107595,0,25120399.373848077,22610471,3867629,20763,290803,25149470.265000004,22560247,3888392,26683232.319300003,22948688,4144389.7674957826,28162538.90636,23659244,{"$f":"4883463.0180176+202129","v":5085592.0180176003},28469688.994549997,23886601,5266627.0180176003]
[263,"SAVOY                        ",51.61,759317,298094,461223,819788.07,322710,499459,805305.56435198744,325832,504459,842480.55,336900,471826,55451,868256.36446315795,341085,516731,10440,771221.57736,360142,496374,2665,30432,690277.05,333540,499039,695640.89999999991,312586,502079,593525.96,291675,503704,600300.83000000007,298627,505329]
[264,"SCITUATE                     ",17.5,21888018,18307200,3580818,23195983.650910005,19230638,3965346,24538930.345499434,20008979,4529951,26018135.560409993,20809421,4660944,547771,26573232.383127034,21922917,5104541,0,26489575.520701922,22264352,4806334,25802,351455,26874930.164800003,22799362,4832136,27918935.093200006,23462809,4957576,28025063.522399995,24028869,5034826,27783603.550999999,23886438,5110701]
[265,"SEEKONK                      ",27.57,16068884,14714809,3044575.2,16695154.580000002,14553529,3620014.2,17298382.43925048,14521219,4210223.2,17542753.499999996,14157726,4120766.2,484287,18026023.068662196,14305874,4512952,0,17708321.343119998,14225007,4249306,22812,293384,18141473.569999997,14541315,4272118,18781878.59,14551240,4595356.15655425,18801442.079999998,14822067,4787529.9737716876,18854298.620000001,14466350,4931239.9737716876]
[266,"SHARON                       ",19.25,24896987,18670749,6270630.0000000009,26202037.429339994,19586419,6615618,27015017.202182684,20567259,6785118,28024961.712149993,21309075,6231888,732394,28860669.078239046,22028864,6824996,6809,28790563.702690437,22591942,6432692,34533,448580,29804844.627760001,23242013,6562832,30203331.846320003,24076220,6695952,31456583.212149996,24940038,6780652,31433647.07305,25641123,6865177]
[267,"SHEFFIELD                    ",17.5,19593,10223,9370,43398.64,32920,14036,45421.08,40042,14610,35830.47,28711,14760,0,36919.725014354073,30951,14465,0,24071.631359999999,20857,13886,0,0,24500.14,21717,13886,50788.840000000004,46205,13886,64470.1,62545,13886,78029.39999999998,70226,13886]
[268,"SHELBURNE                    ",24.68,0,0,0,0,0,0,0,0,0,0,0,0,0,0,0,0,0,12035.81568,7620,4416,0,0,12250.07,7587,4663,12697.210000000001,8809,4663,12894.02,9180,4663,13004.9,10008,4663]
[269,"SHERBORN                     ",17.5,3380552,3318579,340731.2,3421487.44172,3345012,392337.2,3609943.9431416788,3395988,464158.2,3944872.97248,3531728,482139.2,56663,4018165.4634094238,3568870,528026,0,3616285.1801423398,3274399,497179,2669,39428,3544554.8176799999,3168291,499848,3322207.8539100001,3024786,515408,3446195.4454399999,3128611,525258,3327431.3505500001,2944257,545223]
[270,"SHIRLEY                      ",45.15,6819383,2858481,3995219,7141364.7989100004,3138806,4154632,7495917.7602271345,3284354,4330455,7800802.5329999998,3435489,4012957,471617,7655204.9791285908,3754395,4394883,0,12461,6250.1276655997626,6812,37,420,0,0,0,0,0,0,0,0,0,0,0,0]
[271,"SHREWSBURY                   ",23.16,39662058,25861451,13800607,43006922.329999998,27107973,15898949,46216469.143160932,28796799,17419670,49163922.700000003,30297112,16882697,1984114,50640024.753362693,31084837,18489475,1065713,49767093.421020001,32455678,18412775,98848,1189765,51780005.259999998,33692240,18511623,53574891.730000004,35083729,18748463,55072809.080000006,36553737,18897238,55423621.549999997,38578814,19045813]
[272,"SHUTESBURY                   ",47.56,980949,744787,465653.2,1097675.33,693858,532129.19999999995,1087472.3443519874,671283,540635.19999999995,1238144.68,732474,551624.19999999995,64829,1224192.060937799,728091,604124,0,1121281.2738600001,660237,568831,3054,35764,1133132.5,652599,571885,1250486.46,696787,584974.46020800003,1178320.1300000001,657620,588274.46020800003,1268845.75,689268,593590.46020800003]
[273,"SOMERSET                     ",33.72,18801260,18110659,2685723.2,19720957.539999995,17515386,3559416.2,20657264.747334611,16992794,4521167.2,21503415.919999998,16475983,4807347.2,564976,21570952.204983734,16298338,5264877,7737,14275069,10715794.64921918,3499899,19110,75402,14571529.510000002,10467269,4104261,15524516.379999997,10738045,5022377.9989644997,15769354.82,11107578,5109544.062146375,16069095.370000001,11192906,5217678.062146375]
[274,"SOMERVILLE                   ",17.5,51199725,35731948,19725438.800000001,52325941.29772,38065244,19994838.800000001,53650930.251636975,40215930,20255638.800000001,55603076.77403,42134230,18431168.800000001,2166096,57459406.133968234,47404010,20185320,0,56711003.467927195,48121353,19006095,102033,1205842,58313543.709569983,48819464,19108128,60645451.388249993,50545090,19316888,61833356.366640002,51800992,19448713,62767269.546019986,52703692,19582488]
[275,"SOUTHAMPTON                  ",37.49,3817595,1937134,2294612,4033879.67,2117278,2404074,4219769.7429432645,2252330,2496629,4454454.5199999996,2332152,2339180,274909,4552925.5780440187,2372375,2561807,0,4426092.5655599991,2463679,2412147,12949,149736,4394778.41,2552882,2425096,4300263.7899999991,2555321,2444176,4418126.47,2686385,2456276,4598039.57,2840365,2468676]
[276,"SOUTHBOROUGH                 ",17.5,10775916,8618521,2581627,11112363.866560001,8827786,2657427,11560282.354900939,9325599,2735813,12278597.972959999,9676623,2560589,300929,12791303.833687706,10552826,2804288,0,12125426.22289644,10423982,2640461,14175,186952,12100378.3814,10488914,2654636,12191121.0648,10539005,2710636,12056861.715160001,10683506,2744686,11801364.191059999,10384154,2777761]
[277,"SOUTHBRIDGE                  ",72.33,20428362,5691750,14736612,20103131.259999998,5866161,14851612,21509239.16868699,5955255,15829982,22155409.049999997,6064486,14570274,1712350,22728459.686706219,6844242,15956972,0,22931317.140119996,6910142,15713770,84358,223047,24396090.530000005,7165928,17230163,25154189.23,7503317,17682899.236941002,26268571.68,7736324,18620961.75948,26907889.430000003,7788520,19119369]
[278,"SOUTH HADLEY                 ",34.47,16765667,11233847,5531820,17331909.950000003,11613713,5867471,18060956.990095712,11637991,6422966,19336375.739999998,11671079,6859182,806115,19536753.464956939,11564704,7511991,460058,18934829.861939996,11597234,7506322,40297,478280,18784553.009999998,11810114,7546619,19235881.489999998,12212647,7627179,19156845.539999999,12497985,7676404,19070528.080000002,12680992,7724754]
[279,"SOUTHWICK                    ",38.89,0,0,0,0,0,0,0,0,0,0,0,0,0,0,0,0,0,0,0,0,0,0,0,0,0,0,0,0,0,0,0,0,0,0]
[280,"SPENCER                      ",57.4,637001,478936,10778.186440677964,54248.3,12811,41437,45421.08,12291,41637,0,0,0,0,0,0,0,0,12035.81568,3941,8095,0,0,12250.07,4119,8131,12697.210000000001,4307,8390,25788.04,8782,17006,52019.6,18303,33717]
[281,"SPRINGFIELD                  ",83.07,253464385,28100362,225364023,262628553.05000001,30283760,232799829,286041159.20882511,31670757,254370402,296198428.4600001,33567836,235104590,27630323,305615195.21157515,33218730,257480215,14916250,302574194.31083989,34730182,262704775,1410316,8988999,309609750.70000011,34205756,275403995,320618386.81000006,34766731,285851656,330986295.45999998,35173501,295812794,337653427.27999997,36066908,301586519]
[282,"STERLING                     ",29.24,0,0,0,0,0,0,0,0,0,0,0,0,0,0,0,0,0,0,0,0,0,0,0,0,0,0,0,0,0,0,0,0,0,0]
[283,"STOCKBRIDGE                  ",17.5,0,0,0,0,0,0,0,0,0,0,0,0,0,0,0,0,0,0,0,0,0,0,0,0,0,0,0,0,0,0,0,0,0,0]
[284,"STONEHAM                     ",17.5,20419437,19045680,2769263.2,21921969.618560001,19522076,3032206.2,22673086.945864055,19670018,3312881.2,22727888.293199997,19736135,3160708.2,371458,23370068.911074977,19854576,3461523,53970,22707298.597098894,19664269,3310118,17770,252255,22408566.778700002,19761522,3327888,22578725.166379999,20034480,3483735.226029125,22242673.456560001,20042778,{"$f":"3585918.38324634+84220","v":3670138.3832463399},22756236.458160002,19732979,3779409.3832463399]
[285,"STOUGHTON                    ",40.409999999999997,30205157,21534491,8780857,31850504.109099995,21895939,9954565,33770063.061032131,22305523,11464540,35164976.446949996,22405193,11417910,1341873,35727786.25349389,22804647,12504587,418552,34710176.447902016,22865525,12168170,65324,784845,35682635.053249992,22821888,12860747,37103273.115960002,23411556,14019928.662023555,37422637.886239998,23911700,14304924.148446621,37491590.603239998,23503750,14600824.148446621]
[286,"STOW                         ",17.5,0,0,0,0,0,0,0,0,0,0,0,0,0,0,0,0,0,0,0,0,0,0,0,0,0,0,0,0,0,0,0,0,0,0]
[287,"STURBRIDGE                   ",40.94,5388381,4493704,1078308.3999999999,5516983.2500000009,4220516,1296467,5996978.0763373207,4176875,1820103,6345206.4400000004,4283593,1844805,216808,6820126.4317856468,4456964,2020381,342781,6646558.3768799985,4437863,2225107,11945,146635,6992372.2599999998,4640856,2351516,7793154.3099999987,5063140,2770520.3911102498,7764309.5599999996,4966483,2865678.1422669999,8029576.1899999995,4960281,3069295]
[288,"SUDBURY                      ",17.5,21263672,18207063,3502825,22258494.250949997,18693151,3676919,23679206.276443515,19595273,4083933,24596035.436999999,20228054,3908626,459355,25394888.37452016,20950783,4280621,163484,24480270.235956777,21160359,4184481,22464,312735,24225298.832720004,21111921,4206945,25075914.117840003,21703788,4325145,24959360.853349999,21986344,4397070,24443508.479559995,21216573,4466220]
[289,"SUNDERLAND                   ",19.09,1491367,811746,843699,1434832.39,731500,853199,1506338.8093238133,728448,877325,1550511.91,767335,797608,93738,1651251.6745186604,1124871,873519,0,1426674.3802799999,1068529,822488,4415,50791,1427166.29,1106475,826903,1450167.1600000001,1171657,833063,1488182.91,1281235,836963,1659835.8300000003,1346071,841288]
[290,"SUTTON                       ",29.84,11351923,6730648,4751948,12029949.919999998,7218489,5011361,12654100.683758389,7579591,5245542,13334009.530000001,8022384,4918279,578013,13738054.398713876,8347934,5386366,3754,13180445.080379996,8462731,5075229,27246,327595,13280919.139999997,8832665,5102475,13287888.290000001,9081755,5163355,13559813.799999999,9456038,5201455,13581958.960000001,9692460,5239230]
[291,"SWAMPSCOTT                   ",17.5,15093910,15315544,2051980.4,16210766.109999999,15382522,2247430.4,17414723.955687378,15557542,2487474.4,17927585.210000001,15655737,2417779.4,284146,18487892.611490913,15778863,2647887,61143,18190629.378119998,16021305,2550769,13694,198667,18506840.309999999,16211795,2564463,19282648.440000001,16709525,2773458.11925,19665111.27,17029285,{"$f":"2940442.2075+16844","v":2957286.2075},19890269.34,16959906,3140515.2075]
[292,"SWANSEA                      ",36.21,14565457,11774730,4075230.8,15460786.719999999,11848674,4383582.8,16127292.304335002,12243842,4579268.8,16666358.550000001,12395050,4237389.8,497993,17381654.481270812,12399806,4640675,341173,17156168.303639997,12593443,4690809,25182,316157,17312134.07,12740418,4715991,18589115.77,13137149,5657431.8930937499,19231862.370000001,13411309,6098205.5495370002,19734625.710000001,13253165,6481461]
[293,"TAUNTON                      ",61.48,64458276,23828389,40629887,66658595.349999994,25423363,41894411,69472944.332918555,26621725,43477482,72404300.269999996,27417594,40398788,4747808,74169525.406621993,27604965,44243664,2320896,72854522.334359989,28606446,43844262,235375,2681198,75257775.25999999,29692749,45565026,78583025.370000005,30952805,47630220,79522976.520000011,32366269,47822170,83736224.63000001,33362611,50373614]
[294,"TEMPLETON                    ",58.73,0,0,0,0,0,0,0,0,0,0,0,0,0,0,0,0,0,0,0,0,0,0,0,0,0,0,0,0,0,0,0,0,0,0]
[295,"TEWKSBURY                    ",28.18,33347082,21518968,11930760,35015994.193659998,22768638,12514712,36101824.202872381,23213156,12918858,36695412.811939992,23595558,11758059,1381849,36766196.446410596,23754317,12877110,134769,34573601.27935721,23683428,12251726,65773,796855,34519814.968239993,23924435,12317499,35261727.251350001,24776381,12472939,34626787.82553,25513488,{"$f":"12566614+67376","v":12633990},35271376.15231999,26187077,12727415]
[296,"TISBURY                      ",17.5,2394089,3644342,300736.40000000002,2565498.85,3203874,330733.40000000002,2664557.161478193,3032752,371402.4,2795073.49,2902213,367111.4,43144,2952272.706204785,2990763,402050,0,2875847.00508,2872767,378562,2032,29731,3137805.37,3040803,380594,3467659.8899999997,3144657,395514,3400472.2900000005,3151771,404664,3448541.2399999993,3079391,474255]
[297,"TOLLAND                      ",17.5,0,0,0,0,0,0,0,0,0,0,0,0,0,0,0,0,0,0,0,0,0,0,0,0,0,0,0,0,0,0,0,0,0,0]
[298,"TOPSFIELD                    ",17.5,4607578,3944399,663179,4657195.6704799999,3710245,946951,4725499.3510903148,3656031,1069468,4933644.223199999,3831911,989593,116300,5003494.1629533703,4127543,1083775,0,4814774.8945071595,4174269,1020461,5478,72911,4836646.4862000002,4219482,1025939,4821533.5831799991,4339766,1048739,4793485.8869399996,4387064,{"$f":"1062714+16844","v":1079558},4950981.2964300001,4373961,1093858]
[299,"TOWNSEND                     ",50.43,9892,2331,7561,10849.66,4644,8090,11355.27,5441,8370,11943.49,5490,8704,0,0,0,8530,0,0,0,0,0,0,0,0,0,0,0,0,0,0,0,0,0,0]
[300,"TRURO                        ",17.5,1704648,2280388,221476.8,1722060.76,2234440,237453.8,1600608.8736194517,2062541,250249.8,1678407.63,1925541,236768.8,27826,1755899.2957244022,1970181,259303,0,1611078.6274799998,1832624,244155,1311,18512,1679937.99,1758607,245466,1835519.57,1798100,253586,1792085.3099999998,1792085,258486,1788414.01,1609573,277556]
[301,"TYNGSBOROUGH                 ",34.28,14979885,8412477,6567408,15541436.869999997,8616640,6924797,16038143.446318682,8917341,7143646,16743697.889999999,9241021,6713664,789013,16627737.4536268,9341709,7352623,0,16055926.01182,9486124,6923083,37166,441174,15581685.049999999,9652634,6960249,16365479.893119998,10162808,7034649,16473614.73,10531483,7080574,16424708.550000001,10954033,7125624]
[302,"TYRINGHAM                    ",17.5,221575,466915,30873.599999999999,217685.02,326528,32323.599999999999,242227.8797746044,303598,36618.6,211474.7,266822,37968.6,0,221493.48244210528,260037,37209,0,250239.19739999998,250313,35721,0,0,241848.72,244240,35721,258128.17,247395,35721,251901.56999999998,248608,35721,249461.65000000002,224515,38498]
[303,"UPTON                        ",37.79,9988,4028,6880,11197.585239999999,4809,7349,46690.898399999998,20600,26091,24535.137620000001,10563,24535.137620000001,0,25382.203100478469,11203,24044,0,49251.668457600004,23544,25708,0,0,12582.467449999998,6272,12582.467449999998,26250.526239999996,13295,12956,39954.317999999999,20706,19248,40041.258719999991,21792,19248]
[304,"UXBRIDGE                     ",40.35,15694459,7254008,8978422,16305919.27,7699224,9271984,16540051.93015206,8083909,9377789,17120711.660000004,8646597,8631945,1014457,17477190.309787564,9596633,9453474,0,17147339.203259997,9663507,8901203,47786,554635,16877042.539999999,9962236,8948989,17330083.23,10285734,9025989,17729556.77,10515859,9074414,18066543.430000003,10926419,9122764]
[305,"WAKEFIELD                    ",17.5,24912170,24531402,4066920,26617789.348280001,24791745,4365403,28230853.006573763,24914208,4647689,29490621.523280002,25175571,4356193,511955,30299105.328824647,25233915,4770785,294405,29492136.843027599,25278570,4769282,25604,354054,30243376.094500005,25690110,4794886,31226177.075480007,26692542,4962309.7470522504,31777096.588499997,27531423,{"$f":"5111980.28603606+58954","v":5170934.2860360602},31933215.629270006,27532408,5317017.2860360602]
[306,"WALES                        ",53.64,1057649,551254,600096.4,1097738.68,542623,623689.4,1214081.5491547664,568369,692029.4,1083615.01,511611,625113.4,73466,1237788.8446468899,562473,684608,0,1290629.74896,586443,690675,3708,9804,1324350.96,599347,725004,1325356.92,604836,730684,1277849.4100000001,602399,734009,1356194.98,645271,737534]
[307,"WALPOLE                      ",20.85,26410304,22394550,4500224.4000000004,28924699.423300002,23409707,5514992,31050181.709740832,24570828,6479354,32983538.436549999,25479114,6715227,789197,33992625.661692321,26485132,7354336,153158,32863427.944973391,26734779,7068906,37949,496139,33583986.553500004,27739862,7106855,35385662.980499998,28681277,7325008.0005256878,36597932.707249992,29680601,7446255.7103260532,36833859.746200003,30016055,7542980.7103260532]
[308,"WALTHAM                      ",17.5,38879439,61572349,5965643.2000000002,42761499.772249997,59697543,6645004.2000000002,46074539.537751034,56268437,7224786.2000000002,48110738.181689993,52317305,6817755.2000000002,801247,49403220.555879377,50761236,7466622,0,47912898.078373261,48460847,7030422,37743,519232,50081563.292000003,48664297,7068165,54877131.504830003,50008834,7701998.2533363122,57878574.668200001,51531811,8308686.3317359835,58974377.85684,51151815,9012826.3317359835]
[309,"WARE                         ",61.52,10543852,4213722,7097968,11341610.789999999,4490738,7590105,11984338.616012348,4670870,7988468,12279413.380000001,4853748,7307532,858807,12947330.615364594,4961196,8003012,0,13334594.007599998,5116642,8060271,43271,114410,13217323.799999999,5226096,8103542,13610889.48,5398699,8212190,14182968.479999997,5508648,8674320,14311776.950000001,5575059,8736718]
[310,"WAREHAM                      ",40.32,26787120,16030344,11226580.000000002,27620251.569999997,16502182,11620568.000000002,28330642.11136163,17161382,11916801.000000002,29713674.899999999,17701346,11178168.000000002,1313698,30323433.981795222,17409106,12242029,672299,29157976.018979996,17518457,12159874,65280,765499,28986212.199999999,17900064,12225154,30086115.449999996,18383155,12345207.138633749,29686081.27,18523807,12416757.138633749,29801464.629999995,18563068,12488232.138633749]
[311,"WARREN                       ",69.73,538960,185240,353720,702595.73,196083,506513,158055.47,44646,137959,71660.94,20366,71660.94,0,24613.150009569381,7172,70228,0,0,0,0,0,0,0,0,0,0,0,0,0,0,0,0,0,0]
[312,"WARWICK                      ",44.21,0,0,0,0,0,0,0,0,0,0,0,0,0,0,0,0,0,0,0,0,0,0,0,0,0,0,0,0,0,0,0,0,0,0]
[313,"WASHINGTON                   ",17.5,29389,10836,18553,32548.98,18105,20004,34065.81,20948,20700,11943.49,6978,11943.49,0,24613.150009569381,16085,11705,0,24071.631359999999,16378,11237,0,0,12250.07,9358,11237,25394.420000000002,19302,11237,0,0,0,13004.9,10244,2761]
[314,"WATERTOWN                    ",17.5,19464616,27494743,2500103.6,21408022.994499996,26660901,2840199.6,22755172.082941681,25584736,3182786.6,23442917.806000002,24228635,3119661.6,366634,24506187.214984823,24010035,3416570,0,24666914.422698718,23332261,3216974,17270,246976,25827066.428560004,23433118,3234244,26990163.684909999,23875646,3341524,28042729.455369998,24440387,3928625.9136724374,28744449.526519999,24409669,4334781]
[315,"WAYLAND                      ",17.5,20528254,22426179,2433825.2000000002,21706401.2687,22177863,2706784.2,22348945.189632639,21508290,3068068.2,23105602.879149996,21557416,3033452.2,356502,23487595.690153036,21787470,3322155,0,22901223.710748963,21497031,3128075,16793,244512,22873243.606079999,21683970,3144868,23638559.356320001,22212916,3250268,24223145.583800003,22634976,3316668,24309849.451349992,21783923,3644813]
[316,"WEBSTER                      ",50.93,15041385,7642041,7399344,16432266.58,8269809,8162458,17755144.59782863,8781928,8973217,18280915.910000004,9216413,8231908,967443,19369599.058311965,9323234,9015364,1031001,19122110.4267,9432847,9503351,51018,541696,19221499.239999998,9741513,9554369,19780303.73,9875242,9905062,20497532.719999999,10176657,10320876,20776506.130000003,10261282,10515224]
[317,"WELLESLEY                    ",17.5,31887905,31509960,3170547.2,35128683.6228,32249496,3765942.2,37728351.069279179,33113521,4616898.2,41021667.78360001,34503446,5832738,685484,43474466.332122765,35866435,6387858,1220173,42176324.226688981,36405114,7163571,38457,528228,42989228.138499998,37498680,7202028,45335499.620400004,38747883,7402108,46194904.987919994,39997992,7526408,47297420.926149994,40402136,7789132]
[318,"WELLFLEET                    ",17.5,1043179,1587533,123912.4,1024829.69,1362731,134999.4,1014001.08,1199684,147734.39999999999,1017218.98,1111542,141139.4,16587,1114134.5932248805,1172923,154572,0,1206261.3075600001,1220593,145542,781,11899,1181905.93,1149462,146323,1149133.73,1123089,151483,1232950.69,1194924,154808,1240792.6900000002,1116713,176624]
[319,"WENDELL                      ",32.04,0,0,0,0,0,0,0,0,0,0,0,0,0,0,0,0,0,0,0,0,0,0,0,0,0,0,0,0,0,0,0,0,0,0]
[320,"WENHAM                       ",17.5,0,0,0,0,0,0,0,0,0,0,0,0,0,0,0,0,0,0,0,0,0,0,0,0,0,0,0,0,0,0,{"$f":"0+8422","v":8422},13282.92632,11679,8422]
[321,"WESTBOROUGH                  ",17.5,24595216,23154460,2766040.8,26156767.179999996,24071950,3129365.8,27284907.908756465,24682401,3731061.8,28924388.270000003,24976329,3966523.8,466160,29970816.824099522,25527660,4344030,99127,29700461.313299999,25642790,4183588,22459,325510,29045979.329999998,26179724,4206047,30072174.120000001,26844072,4475455.4982209997,31092026.789999999,27788304,4736300.3124719998,31788292.559999999,27852628,5025628.3124719998]
[322,"WEST BOYLSTON                ",21.79,7463040,5272275,2604355,7862835.5099999998,5529064,2737047,8303886.0469139311,5698232,2880036,8764535.4300000016,6056904,2705190,317924,8721965.5391540695,6143068,2962652,0,8556984.7309199981,6224632,2789574,14976,182302,8200894.7400000002,6360524,2804550,8653273.7799999993,6565606,2841510,8616496.2100000009,6706677,2864560,8413020.9400000013,6777592,2886885]
[323,"WEST BRIDGEWATER             ",34.29,7087351,6483027,1620335.6,7481921.1700000018,6519525,1739646.6,8080095.9730690857,6637938,1930659.6,8849560.0699999984,6740361,1992175.6,234128,9332740.0692976061,6973221,2181778,177741,9121055.2676399983,6925166,2221676,11927,152991,9407934.3300000001,6966042,2441892,9384522.75,7101110,2550273.4426500001,9746407.75,7107926,2817296.2266937499,9789063.1500000022,6918340,3006077.2266937499]
[324,"WEST BROOKFIELD              ",45,254785,111031,143754,388832.98,151067,237766,328384.52,139713,239116,214016.92,95359,214016.92,0,245136.2421588517,105919,209737,0,251778.78455999997,114004,201348,0,0,231760.61,101090,201348,303706.14,139106,201348,321307.69,147913,201348,233036.45,115505,201348]
[325,"WESTFIELD                    ",54.4,49973231,20368440,29644636,53649787.230000004,21748478,31901309,55203857.608358152,22572618,32840745,57201000.020000011,23301263,30462915,3580110,58064880.787414365,23683434,33362165,1019282,56542890.625020012,24024402,32372885,173792,1986845,56348311.590000004,24659576,32546677,58680126.160000004,25776861,32927874.488096002,59626032.379999988,26817278,33072499.488096002,59091820.839999996,27452394,33214624.488096002]
[326,"WESTFORD                     ",31.38,35723685,24675698,11305202,38818431.875120007,25842739,12975693,40555313.116589576,26531707,14023606,42911329.967289984,27280805,13986752,1643773,44563082.297898509,27807520,15317915,1437647,42723467.157275043,28681127,15776704,84696,1021312,43881686.305879995,29241053,15861400,45585175.226279989,30308996,16064000,45685221.157399982,31603683,16189875,45600413.679659985,32229875,16313850]
[327,"WESTHAMPTON                  ",28.93,1143015,871506,286065.2,1161647.67,830817,341741.2,1170704.509380162,836402,392663.2,1157514.8700000001,778624,376209.2,44213,1296948.5063349283,829588,412014,55347,1232065.9646999999,806088,440058,2362,28516,1193876.6000000001,823754,442420,1195530.31,868868,447620,1215188.8099999998,921372,450895,1314694.2799999998,956723,454345]
[328,"WESTMINSTER                  ",44.37,0,0,0,0,0,0,0,0,0,0,0,0,0,0,0,0,0,0,0,0,0,0,0,0,0,0,0,0,0,0,0,0,0,0]
[329,"WEST NEWBURY                 ",17.5,0,0,0,0,0,0,0,0,0,0,0,0,0,0,0,0,0,0,0,0,0,0,0,0,0,0,0,0,0,0,{"$f":"0+33688","v":33688},13004.9,10405,13004.900000000001]
[330,"WESTON                       ",17.5,16162814,20181705,1480949.6,17307605.129800003,19912849,1790525.6,18370485.452483337,19288255,2217818.6,19437327.17588,18964744,2334128.6,274315,20595641.906424958,19452416,2556275,0,20090660.412545517,19197587,2406938,12921,195391,20217500.017579999,19394331,2419859,21125018.31106,19897050,2512979,21575268.311200004,20375359,2571779,21506483.175400004,19355835,2988929]
[331,"WESTPORT                     ",17.5,12968630,9738097,4035010,13865149.07,10429878,4191901,14462425.445800073,11075177,4296424,15502132.710000001,11580866,4007408,470965,15990008.832857417,11793167,4388806,0,15747912.792959997,12196747,4132413,22184,279609,15633780.250000004,12313381,4154597,15649507.84,12625582,4221997,15457275.029999999,12949560,4262947,15286780.110000001,12928118,4303047]
[332,"WEST SPRINGFIELD             ",51.77,31130339,18106441,13445170,33870575.43,18598514,15272061,35265587.219952904,18707901,16557686,36643826.119999997,18919840,15860056,1863930,38205385.345714822,19265177,17369506,1570702,37738816.076999992,19240559,18143323,97401,797859,38457480.989999995,19599705,18857776,39534882.329999998,20240555,19563826.466162249,40948666.769999996,20335136,20717957.063267998,41551686.519999996,20188627,21363060]
[333,"WEST STOCKBRIDGE             ",17.5,0,0,0,0,0,0,0,0,0,0,0,0,0,0,0,0,0,0,0,0,0,0,0,0,0,0,0,0,0,0,0,0,0,0]
[334,"WEST TISBURY                 ",17.5,0,0,0,0,0,0,0,0,0,0,0,0,0,0,0,0,0,0,0,0,0,0,0,0,0,0,0,0,0,0,0,0,0,0]
[335,"WESTWOOD                     ",17.5,20567480,21740599,2250702.4,22498088.821120001,21936416,2588559.4,24472148.293146249,22175336,3096779.4,25508214.087440003,22412158,3174824.4,373117,26986270.471055556,22996257,3476983,513030,25931255.131285079,23233856,3756916,20169,287878,26758357.153839998,23390650,3777085,28328703.767000001,24138538,4382005.2898062505,28396775.81552,24768521,4528862.9092836883,29096356.715499997,24830260,4725912.9092836883]
[336,"WEYMOUTH                     ",31.53,51107904,31463668,19644236,54069183.504560001,33009395,21059789,57436766.066748992,35313488,22123278,61362559.405040011,37036094,21768190,2558275,62237990.731232964,37337725,23839936,1060330,62823242.56985008,38124103,22447209,130052,2523813,64565174.840659991,39054922,25510253,67376255.928720012,40341671,27034585,68036042.431139991,41955039,27200610,68999976.990219995,43802418,27366185]
[337,"WHATELY                      ",24.08,905765,834822,131052.8,847599.61,747909,172887.8,801658.09440833644,665132,207744.8,828878.44,601232,220473.8,25911,831398.74939712929,581336,241457,8606,770958.84743999992,548156,235454,1264,15670,778131.94,571400,236718,871685.15,643358,240518,1002641.6199999999,761189,247640.0875275,973888.2100000002,773751,250115.0875275]
[338,"WHITMAN                      ",55.21,97965,35557,87102,172717.17,52188,126825,180766.01,61318,131107,119434.9,40958,119434.9,0,110759.17504306222,40065,117046,0,167528.0748,60734,112364,0,0,158260.19,58829,112364,189431.25,70715,118716,192367.49000000002,71155,121212,78029.39999999998,29915,78029.39999999998]
[339,"WILBRAHAM                    ",36.1,0,0,0,0,0,0,0,0,0,0,0,0,0,0,0,0,0,0,0,0,0,0,0,0,0,0,0,0,0,0,0,0,0,0]
[340,"WILLIAMSBURG                 ",22.28,1353554,1305103,359184.4,1431625.05,1223519,401047.4,1303227.8492111149,1103460,410847.4,1358267.99,1050677,386941.4,45475,1529284.0745033494,1098680,423768,6836,1588795.8168000001,1185579,405448,2177,27379,1626834.23,1211055,415779,1690611.6400000001,1270564,434689.03882100002,1847447.82,1352484,509920.14508649998,1740594.9700000002,1393645,514620.14508649998]
[341,"WILLIAMSTOWN                 ",17.5,2838804,2951735,900860.4,2993564.97,3003582,927943.4,2947485.2032250096,2967122,946993.4,2926746.36,2854443,863644.4,101499,3169486.7944727275,2914408,945841,0,2954221.7637,2820665,890585,4781,59525,2930427.46,2765115,895366,3160940.25,2913200,909926,3339446.0000000005,3057274,919376,3344865.7700000005,2917285,928776]
[342,"WILMINGTON                   ",30.86,26946504,24426636,3493482.8,28589474.265000004,24012970,4787472.8,30225618.082184222,23520068,6758866.7999999998,32940341.795039997,22982850,8910320,1047172,33354631.307536971,23083400,9758342,512889,33071492.365163159,22741572,10131715,54392,180399,33089929.46198,23047600,10186107,33475095.871219996,23350005,10653175.75580658,33711449.013840005,24229668,{"$f":"10743100.7558066+58954","v":10802054.755806601},33711949.045720004,24256928,10891329.755806601]
[343,"WINCHENDON                   ",66.88,13575447,4042511,9746972,14428042.68,4236403,10353509,14745121.603420299,4352216,10575115,15156933.289999999,4512742,9718917,1142201,16219065.234373206,4477183,10643896,1097986,15672163.269959999,4664700,11055922,59353,669132,15461197.040000001,4686612,11115275,15336037.73,4744751,11177635,14932867.66,4859333,11215085,14667673.109999999,4914309,11251885]
[344,"WINCHESTER                   ",17.5,25105213,24915091,3131320.8,27686227.761740003,25368782,3582998.8,30248338.701930307,26104922,4143417,32130973.606599998,26921385,4661726,547863,33869183.152500734,27942076,5105397,821710,34209062.642022774,28412977,5684874,30519,312514,35352719.397000007,29111601,6241118,37274561.601149991,30107863,7166699,38667213.748349994,31202716,7464498,39564443.627320006,32332932,7572048]
[345,"WINDSOR                      ",29.02,19593,9317,18987,43398.64,22696,30997,79486.89,46037,50091,59717.45,33889,50341,0,49226.300019138762,30072,49334,0,48143.262719999999,30554,47361,0,0,98000.56,57428,47361,88880.470000000016,53746,47361,90258.14,59063,47361,91034.3,66927,47361]
[346,"WINTHROP                     ",32.14,14203032,10524171,4649575,15189263.146560002,10737357,4843961,16040450.497654758,11241167,5042458,16653713.865099998,11482366,4639322,545229,17547573.530765843,12509487,5080860,0,16947233.724507775,12482874,4784037,25683,318165,17937168.698699996,12779319,5157850,18416072.0348,13141365,5274707,19449615.869399998,13466250,{"$f":"6026961.59606301+25266","v":6052227.5960630104},19874501.94588,13576177,6298325]
[347,"WOBURN",20.13,34930602,37657788,4733852.8,37332334.363359995,38094517,5154155.8,40314036.275784098,38276911,5788495.7999999998,42494196.208999999,37749504,6002692.7999999998,705458,43397769.300633483,37761424,6573988,0,43013306.744314127,37654434,6189936,33230,468697,44725938.827559993,38469627,6256312,46091897.869999997,39862499,6819375.0867005,47182460.705740005,40697687,{"$f":"7323850.03757165+16844","v":7340694.03757165},48695159.223999999,40727571,8202269.03757165]
[348,"WORCESTER                    ",69.459999999999994,233243474,72184115,161059359,242782324.40000004,77309187,167480913,252522466.45670471,80540711,174025314,262175701.59,83762339,161512435,18981512,274595072.36176842,81810677,176884068,15900327,275818706.70521998,84305903,187838166,1008399,4578055,286908104.64000005,85772826,201135279,298950312.13000005,88586175,210364137,311832464.69999999,91934732,219897733,314854112.86000001,96374700,220569583]
[349,"WORTHINGTON                  ",17.5,156820,105031,69958,108496.6,89804,70458,113552.7,89058,72331,95547.92,69044,72731,0,73839.450028708146,58793,71276,0,60179.078399999999,50743,60179.078399999999,0,0,49000.28,61740,49000.28,101577.68000000001,101578,49000.28,103152.16,103152,49000.28,181016.85000000003,161882,{"$f":"49000.28+144899","v":193899.28}]
[350,"WRENTHAM                     ",21.59,8108218,4773537,3446005,8536881.8352199998,4905786,3631096,8611109.7637538575,5032071,3688296,9026427.3732400015,5280507,3413547,401172,9476432.1319100633,5747185,3738425,0,9107308.40131188,5781211,3520026,18897,227952,8997163.6104499996,5880789,3538923,8996680.8980999999,5899004,3581123,8892422.6601499971,6253155,3606873,9069999.5540800001,6555043,3632823]
[351,"YARMOUTH                     ",17.5,0,0,0,0,0,0,0,0,0,11943.49,9336,2607,0,24613.150009569381,19848,2555,2210,12035.81568,10055,4574,0,0,12250.07,10608,4574,12697.210000000001,10850,4574,0,0,0,0,0,0]
[406,"NORTHAMPTON SMITH            ",18.489999999999998,1567616,1276116,738533.6,2025133,1468568,875376.6,2278216,1708914,947960.6,2111565,1581883,854264.6,100396,2146693.9467942584,1617583,935567,0,2230337.8020000001,1765084,880911,4729,53277,2070902,1658734,885640,2229442,1757745,890560,2020055,1627859,893210,1764814,1447978,895485]
[600,"ACTON BOXBOROUGH             ",25.27,20024105,16885593,3138512,22506705,17791669,4715036,23994743,18369316,5625427,25793437,18940607,6132157,720673,26931634.808038283,19569628,6715773,646234,26278547.039999999,19800807,6931919,37214,467099,26873147,20359612,6969133,27636880,20909979,7124121.5619999999,{"$f":"28337812+3710701+20514396","v":52562909},{"$f":"21701014+3337251+15117599","v":40155864},{"$f":"7198421.562+1320503+5594326","v":14113250.561999999},52422543,40290368,14254475.561999999]
[603,"ADAMS CHESHIRE               ",61.08,13106574,3602054,9630920,13377962,3796726,9810525,14106031,3891220,10299351,14355783,4039739,9363751,1100461,14762561.506602872,4503688,10254928,3946,14205800.124,4515273,9659551,51857,585716,14489416,4653780,9835636,14848664,4798921,10049743,14525980,4882095,10085868,14419594,4988650,10121468]
[605,"AMHERST PELHAM               ",28.93,15073351,7265229,9343785,15860056,8312731,9689857,16118464,8736670,9793582,16270720,8932603,8844227,1039405,16430082.97033493,10908954,9685959,0,15978763.512,10987020,9120106,48961,560042,15588078,11132046,9169067,15882762,11359856,9233467,15889254,11667688,9272992,15504219,11484398,9311217]
[610,"ASHBURNHAM WESTMINSTER       ",48.74,16693060,7990286,8905601,17725876,8610748,9391438,18827304,8914333,9934552,19657064,9471071,9246935,1086732,20747434.319617227,10251619,10126994,368821,20412503.039999999,10455439,9882650,53054,619686,20584849,10676599,9935704,20759601,10923476,10026904,20785812,11067299,10083104,20944478,11060794,10138704]
[615,"ATHOL ROYALSTON              ",65.709999999999994,17339154,518662,16820492,17708359,623845,17084514,18516080,678872,17837208,19014821,720901,16370053,1923867,18226670.661818184,2067242,17928042,0,17923395.240000002,2103961,16880687,90623,1004932,17935653,2172893,16971310,17818204,2286653,17043590,17517520,2367862,17086740,17539155,2500939,17129715]
[616,"AYER SHIRLEY",41.14,null,null,null,null,null,null,null,null,null,null,null,null,null,0,null,null,null,16872486,9799433.7010924481,7802151,41885,487764,16879384,9899773,7844036,17419519,10045000,7915436,17689265,10457924,7959611,18020997,10736761,8003886]
[618,"BERKSHIRE HILLS              ",17.5,8878410,10098842,2672816.7999999998,9250332,10102954,2737902.8,9395655,9910102,2793902.8,9799535,9631380,2563329.7999999998,301252,9958320.0275598094,9695771,2807290,0,9969549.1140000001,9487659,2643288,14190,177387,9915801,9513236,2657478,10178607,9534109,2700038,10635683,9671358,2726838,10662018,9324675,2753513]
[620,"BERLIN BOYLSTON              ",17.5,2881502,2980030,790482,3230183,3023460,851501,3463889,3187414,892400,3734852,3255818,840984,98835,3848242.2752153119,3256016,921023,0,3748889.16,3345125,867217,4656,59925,3766444,3420481,871873,{"$f":"3871973+250741+384591","v":4507305},3391112,{"$f":"888833+78723+56292","v":1023848},4631328,4040189,1036398,4817370,4122172,1049323]
[622,"BLACKSTONE MILLVILLE         ",53.73,15426759,5876193,10378194,15675653,6231925,10509983,16290966,6659559,10845267,17163606,6723921,10139052,1191577,17821603.166315794,7213787,11104016,0,17631668.597999997,7334869,10455320,56129,643892,17725268,7567852,10511449,18008630,7894508,10589769,17925439,8081231,10637619,17804636,8183978,10684594]
[625,"BRIDGEWATER RAYNHAM          ",37.86,40912576,21884965,19283254,41935929,23349196,19665067,44782550,24739437,20734543,47098996,25851193,19340030,2272909,48428019.06526316,27952831,21180680,0,47983788.083999999,28495798,19943306,107065,1272209,48390610,29073200,20050371,49427213,30075604,20269571,49488995,30660371,20403671,49690981,31221396,20536596]
[632,"CHESTERFIELD GOSHEN",38.9,1195209,674787,646741,1312143,731037,711347,1277283,717531,719547,1377086,699752,691531,81271,1450752.9125358853,732969,757346,0,1401680.358,744562,713102,3828,44616,1350534,753143,716930,1413142,785219,723330,1413824,797176,727230,1269753,783121,730880]
[635,"CENTRAL BERKSHIRE            ",39.24,16411075,9277515,7747832.0000000009,17068928,9492361,8092876.0000000009,17956787,9547848,8550035,18638347,9708028,7991169,939150,18841797.769186605,10035980,8751713,54105,17732901.377999999,10045858,8291382,44512,520024,17880776,10085382,8335894,17613394,10334614,8410334,17159555,10602338,8454734,16974405,10521566,8498034]
[640,"CONCORD CARLISLE             ",17.5,9779664,11276561,1482929.2,11043068,11833214,1704025.2,11535486,12039761,1798430.2,12261008,11881005,1722913.2,202483,12736972.591770336,12027622,1886888,0,12226662.599999998,11610510,1776656,9538,132844,12055418,11452179,1786194,12584072,11667076,1836274,12876490,11748056,1867899,13172186,11470046,2020931]
[645,"DENNIS YARMOUTH              ",17.5,31552699,26916269,6323844,31921636,27640649,6521044,32866009,28181902,6712794,33929083,28230096,6176777,725917,34720683.78947369,29362682,6764640,0,33550155.035999998,29272877,6369450,34194,452946,33188220,29829472,6403644,34159114,30421379,6543564,34997479,31287824,6631289,34668834,30189585,6718014]
[650,"DIGHTON REHOBOTH             ",36.54,23502323,12171196,11331127,25227557,13220377,12078498,26488176,14032590,12595982,27834400,14867498,11760784,1382169,28579093.545645937,15934995,12880094,0,27227094.57,16519761,12127640,65106,766523,27435686,16943069,12192746,28588235,17614915,12315946,28145868,17936311,12390171,28150365,18051150,12463021]
[655,"DOVER SHERBORN               ",17.5,7739997,8275872,1191754.3999999999,8206331,8468634,1273362.3999999999,8844812,8708826,1385096.4,9304310,8639071,1311389.3999999999,154119,9990853.0587559827,9006852,1436198,0,10131211.535999998,9255639,1352295,7260,106168,10389452,9537204,1359555,11120543,10202046,1408555,11227795,10290387,1438730,11333898,10098983,1629376]
[658,"DUDLEY CHARLTON              ",54.18,30449329,9274397,21174932,32233347,10252229,22188433,33797564,11029311,23069087,36110116,11697527,21845257,2567332,36777726.03406699,11966621,23924337,886768,35729459.82,12287043,23361642,125416,1429447,35694097,12669036,23487058,36205278,13079319,23647098,36078034,13510547,23744648,36713400,14006333,23842023]
[660,"NAUSET                       ",17.5,13094670,13143058,3212073.2,13492342,13864524,3298923.2,13240289,13643131,3379473.2,12973291,12791886,3090604.2,363219,12824763.657799043,12606630,3384747,0,12466861.355999999,12161887,3187010,17109,216203,11987364,11783104,3204119,12271544,11841626,3256279,12583436,12006085,3289004,12650853,11365672,3321529]
[662,"FARMINGTON RIVER",17.5,2207961,2145103,375505.6,2244629,2179857,389405.6,2032717,2125018,401955.6,2101262,2056801,370690.6,43565,2272476.6989473687,2094866,405970,0,2284470.102,2094019,382253,2052,28215,2507654,2157223,384305,2477293,2210649,394745,2381535,2239793,400995,2333265,2082363,407070]
[665,"FREETOWN LAKEVILLE           ",34.79,13524454,7948805,6460005.0000000009,14519330,8906388,6832785.0000000009,15553549,9668371,7200036.0000000009,16583275,10105484,6769499.0000000009,795575,17047222.562296651,10617731,7413773,0,25704555.482000001,16324122.86063578,10304430,55318,621851,25567244,16827381,10359748,26403268,17241340,10478788,26716909,17493884,10552138,26295108,17518350,10623488]
[670,"FRONTIER                     ",19.46,5418605,3086349,2650507,5733999,3534975,2746608,5983480,3789925,2814392,6338406,3919060,2608966,306615,6166668.8979904307,4548404,2857269,0,5993205.5159999998,4594579,2690347,14443,168829,5922687,4614585,2704790,5890106,4643352,2729670,5648702,4748410,2744045,5716411,4750289,2758445]
[672,"GATEWAY                      ",42.62,10512746,5273227,5377752,11307523,5576855,5817025,11430685,5636748,5921631,11453179,5658310,5356783,629548,11448115.732822968,5871665,5866604,0,11136859.595999999,5975739,5523878,29655,343896,10684938,5977311,5553533,10913250,6024049,5598773,10501988,6111205,5625873,10475106,6121175,{"$f":"5652523-144899","v":5507624}]
[673,"GROTON DUNSTABLE             ",18.420000000000002,19963557,10573496,9690045,22069166,11478206,10590960,22567813,12305992,10757109,23533501,13095797,9914811,1165224,23587738.32880383,16063245,10858434,0,22939192.446000002,16429914,10224085,54888,648086,23308786,17069512,10278973,23452027,17673118,10384573,23574679,18322278,10449473,23421974,18828192,10513273]
[674,"GILL MONTAGUE                ",49.89,9776132,4890426,5898325.9999999991,10362291,5144962,6225636.9999999991,10629600,5170843,6375222.9999999991,10694903,5178227,5756498.9999999991,676524,10705697.249377992,5206242,6304363,0,10709037.408,5230945,5936062,31867,364384,10890170,5322669,5967929,10709407,5432442,6010369,11221184,5642595,6037994,11383341,5825645,6065444]
[675,"HAMILTON WENHAM              ",17.5,14468765,11376222,3164291,15069063,11961487,3269343,15863562,12603727,3408380,16231350,12979612,3137455,368725,16539445.386411486,13759009,3436056,0,16099995.413999999,13883368,3235322,17369,231115,15671050,13956082,3252691,16304849,14293365,3325691,16257548,14512213,3370416,15726746,13965278,3413341]
[680,"HAMPDEN WILBRAHAM            ",35.28,27186575,17817946,9591950,28628962,18371310,10257652,29666356,18507813,11187984,30302280,18629304,10514180,1235664,30835123.285741627,19103251,11514847,217025,29974196.813999999,18956605,11046497,59302,714898,30318463,19431538,11105799,30471568,19904990,11241439,30267610,20416003,11323964,30372595,20400941,11405264]
[683,"HAMPSHIRE                    ",34.729999999999997,6298064,3937642,2426572,6805484,4138583,2676375,6739463,4154095,2812809,7281652,4261680,2743722,322452,7552394.2032535886,4295649,3004851,251894,7104748.4820000008,4238418,3066486,16462,194072,7166323,4430064,3082948,7159285,4518959,3114108,7221048,4622819,3133233,7159547,4689344,3151983]
[685,"HAWLEMONT                    ",43.37,1068768,490624,613734.80000000005,1007233,489631,620084.80000000005,935837,424000,625634.80000000005,977501,437137,582347.80000000005,68440,1015177.688803828,455789,637772,0,943708.38599999994,475782,600513,3224,36635,852740,451986,603737,880128,468192,607377,950613,539883,609827,933646,531341,612202]
[690,"KING PHILIP                  ",23.6,14979166,8734642,6244524,16295851,9507703,6788148,17396805,10500808,7139022,18770909,11301852,6776559,796405,19266152.972248808,12421086,7421505,0,18766472.316,12655997,6987941,37514,450050,19491490,13489687,7025455,20106153,14008919,7113575,20756038,15085093,7169225,20668060,15441355,7224100]
[695,"LINCOLN SUDBURY              ",17.5,11315184,11075410,1787678.4,13657169,11726968,2197526,14669142,12512472,2374621,15512737,13029848,2256999,265251,16180111.874449763,13524542,2471805,183765,15640388.226,13606478,2500432,13423,182915,15881721,14058638,2513855,16550937,14522938,2609494.7437499999,16660368,14759478,2686012.1578124999,17538177,15255513,2820121.1578124999]
[698,"MANCHESTER ESSEX",17.5,8366673,9103515,1375984,9141258,9202986,1511536,9630975,9237772,1597236,10323403,9323664,1537696,180715,10893473.5984689,9499354,1684043,0,11219611.109999999,9669672,1585661,8513,123169,12153403,10046472,2106931,13132240,10490205,2642035,13658346,10881653,2776693,13572189,11221647,2813718]
[700,"MARTHAS VINEYARD             ",17.5,7093516,6601054,2673935,7932850,7970360,2820735,8068434,8233407,2861785,7978454,7784419,2596397,305138,8027782.3081339709,7579454,2843504,0,7689159.2280000001,7354264,2677387,14373,170469,7459791,6982300,2691760,7821993,7071878,2720400,8027352,7261038,2738625,8168795,7068505,2756975]
[705,"MASCONOMET                   ",17.5,15318665,11142823,4419317,17202789,12854203,4773155,18048378,13991386,4933394,18669125,14530501,4520949,531318,19727906.272153113,16061599,4951222,0,18612164.453999996,16036618,4661972,25027,317398,18928100,16514464,4686999,19357735,16963367,4770799,19715478,17420377,4823099,19907859,17251458,4875399]
[710,"MENDON UPTON                 ",36.1,17625772,7917147,9708625,19301063,8448890,10852173,20644958,8956960,11687998,21996366,9449432,11227445,1319489,22672457.180478469,10147020,12295995,229442,22132247.579999998,10574513,11793702,63314,734621,22155000,11066163,11857016,22015006,11315699,11954456,22375411,11860177,12014831,21900366,12299101,12074206]
[712,"MONOMOY",17.5,0,0,0,0,0,0,0,0,0,0,0,0,0,0,0,0,0,0,0,0,0,0,17110771.399999999,16296303,2384540,17569657,16140983,2460460,17319106,16031006,2506360,17618966,15518373,2708296]
[715,"MOUNT GREYLOCK               ",25.12,4676875,4597031,1666950,4791177,4533455,1699377,4697972,4234702,1727227,4870291,4171647,1590024,186865,5038820.6667942591,4176618,1741351,0,4954695.6780000003,4130699,1639621,8802,106828,4795752,4018167,1648423,4847655,3957893,1668783,4713594,3902934,1680908,5049227,3998439,1693808]
[717,"MOHAWK TRAIL                 ",33.46,10399815,5552327,5972084,10269301,5648614,6034784,10605776,5769493,6204233,10359333,5721445,5603580,658553,10590789.40784689,5820331,6136890,0,10304179.638,5807577,5778373,31021,355446,10123559,5977059,5809394,9875049,6107017,5850194,9444879,6294792,5874244,9300413,6365060,5897844]
[720,"NARRAGANSETT                 ",56.76,11727704,2977580,8750124,12694975,3200990,9493985,13440494,3363034,10077460,13890162,3558412,9267025,1089094,14047951.990813399,4510425,10148997,0,13273695.708000001,4548674,9556093,51301,579303,13213993,4564055,9607394,13537728,4721311,9664194,13335812,4863858,9698544,12841231,4967494,9731269]
[725,"NASHOBA                      ",21.55,21474489,17977668,5332822.8,23697784,19133543,5871971.7999999998,25411849,20274365,6289003.7999999998,26805348,21157439,5911057.7999999998,694688,28088852.89033493,22132725,6473631,0,27791843.604000002,22306466,6095442,32723,426391,28345672,22733730,6128165,29407907,23699381,6330455.0653249994,29650929,24483221,6411680.0653249994,29833754,24514579,6492305.0653249994]
[728,"NEW SALEM WENDELL            ",43.92,1009815,579782,602215.19999999995,1068078,538560,635233.19999999995,1119947,538342,663419.19999999995,1108280,538661,599333.19999999995,70436,1124015.5376076559,570244,656374,0,1039961.19,627734,618029,3318,37952,1102692,649363,621347,1136073,642537,626107,1171083,681574,629007,1217420,707520,631982]
[730,"NORTHBORO SOUTHBORO          ",17.5,9277131,7604912,1700728,11057753,8704773,2352980,12033372,9631771,2591421,12946742,10026161,2613440,307141,13338720.275598086,10464106,2862169,12445,13069614.491999999,10623654,2706679,14531,189279,13569441,11147301,2721210,14179585,11573173,2838863.6458749999,14882231,12443854,2876913.6458749999,14903362,12767292,2914613.6458749999]
[735,"NORTH MIDDLESEX              ",47.93,32397974,13915496,19063721,33499786,15279377,19658038,34412577,15653174,20148846,36029257,16080023,18814143,2211105,36456713.541818187,16064311,20604743,0,34774968.005999997,16111990,19401015,104153,1203025,34052825,16450543,19505168,34577589,16881292,19659168,33991777,17328829,19751668,32881223,17183613,19840443]
[740,"OLD ROCHESTER                ",24.87,8705281,7603741,1530510,9257160,7909870,1701522,9923961,8215414,1954417,10120297,8156604,1890481,222176,10028263.973971292,8036971,2070404,0,9726308.7780000009,7998372,1949451,10466,138637,10036210,8109683,1959917,10099046,8089994,2124850.6151999999,10378205,8357878,2238124.4918999998,10659228,8277118,2382613.4918999998]
[745,"PENTUCKET                    ",34.08,22757511,10704624,12362390,24589511,11578381,13099037,24625431,12223789,13258787,25233854,12938684,12077530,1419394,26043317.600765556,14358256,13226986,0,25398255.107999999,14404858,12454267,66860,782234,24895122,14749468,12521127,25088106,15200680,12635127,24540719,15640639,12703677,24290785,16086295,12770527]
[750,"PIONEER                      ",38.99,7285294,3967896,3857345,7629462,4135816,4031666,7722039,4259679,4078816,8137059,4327512,3981402,300027,8250102.2009569379,4422230,4195800,0,8263519.067999999,4563544,3950682,21209,247084,8098758,4668314,3971891,8564268,4778263,4007811,7994487,4761551,4028736,7816227,4803095,4048786]
[753,"QUABBIN                      ",53.48,21479251,5822139,15657112,22828423,6355417,16510059,23457369,6739031,16898056,24154885,7104683,15503658,1822045,24370491.302583735,9043482,16979189,0,23447229.215999998,9241790.7475171536,15987266,85827,973446,22899542,9371400,16073093,22525878,9626834,16170613,22333577,9850748,16229913,21722178,9941651,16286563]
[755,"RALPH C MAHAR                ",63.38,6412185,2094096,4365173,6917262,2152974,4764288,7718288,2334381,5383907,8079301,2414941,5068672,595688,8102223.5314832535,2701871,5551073,0,7695444.8340000007,2655320,5226780,28060,316133,7780312,2783833,5254840,8048219,2944041,5286040,7625909,2829128,5304190,7705540,2887638,5322215]
[760,"SILVER LAKE                  ",40.76,13321046,7724834,5693535.0000000009,14290967,8518476,6060844,15151746,9152272,6377611,16633749,9695605,6223582,731417,17042793.321339712,10087324,6815899,139570,17072736.708000001,10313024,6630012,35593,335739,17435883,10508810,6927073,18150262,11017327,7202389.2436499996,19039526,11580385,7571134.5369499996,18899966,11622559,7617506.5369499996]
[763,"SOMERSET BERKLEY",37.68,null,null,null,null,null,null,null,null,null,null,null,null,null,0,null,null,null,8934024,6024631.0156340012,3020271,16235,120381,9240084,6119915,3120169,9949356,6253551,3771017.8262999998,10006703,6377384,3795642.8262999998,10050573,6394899,3820117.8262999998]
[765,"SOUTHERN BERKSHIRE           ",17.510000000000002,6853294,6969793,1733974,7077639,7054068,1779274,7434729,7019446,1862619,7749803,6862924,1735164,203923,7701585.2769377995,6957008,1900305,0,7684458.96,6952302,1789290,9606,123334,7591122,6997774,1798896,7425917,6948964,1830896,7307651,7007679,1850096,7132076,6413209,1869396]
[766,"SOUTHWICK TOLLAND GRANVILLE",37.53,12815911,5574268,7241643,13803858,5990969,7812889,14257212,6442013,8037753,14939371,6703364,7499327,881347,15526560.214354068,6881234,8213061,432265,14765244.486,7056511,8140267,43700,503859,16668383,8578921,9431433,16707052,8956864,9503073,16783207,9329641,9546823,16539210,9831214,9588623]
[767,"SPENCER EAST BROOKFIELD      ",57.07,16645826,4067456,12578370,17597929,4757111,13106216,18350163,5038864,13522201,19528044,5259510,12767994,1500540,19758448.511387561,5909466,13983163,0,18373741.745999999,6026675,13166267,70682,795214,18885409,6269918,13236949,19620951,6527063,13315389,19752991,6679987,13363889,19886690,6981057,13412164]
[770,"TANTASQUA                    ",44.84,13580390,7605305,6707029,15046973,8686343,7420522,15970260,9193635,7855113,16430281,9386267,7217816,848263,16633736.353684211,9400405,7904757,0,15980906.310000001,9314281,7442962,39957,462563,16224252,9446479,7482919,16427458,9458186,7547159,17338059,10016205,7602665.309475,17582598,10044332,7701145.309475]
[773,"TRITON                       ",19.239999999999998,24298847,17072630,7792907.9999999981,25952449,18085444,8297753,26566548,19085868,8463498,27588090,19936190,7824273,919536,27881099.599617224,20765902,8568933,0,27238757.220000003,21107766,8068337,43314,535182,26824765,21271799,8111651,26774026,21942837,8226571,26448890,22380186,8295596,25789437,21866153,8362546]
[774,"UPISLAND",17.5,2818004,3631100,787574.4,2663328,3211483,806324.4,2717737,2976843,824474.4,2781909,2936509,753921.4,88603,2963440.2602870818,3058634,825674,0,2883583.122,2954241,777438,4174,53162,2947159,2938229,781612,2938330,2789900,795572,2924404,2799531,804072,3060576,2703741,812797]
[775,"WACHUSETT                    ",39.97,48282346,33777538,14580116,51403850,35230245,16173605,54801725,35455524,19346201,58236852,36308065,19622662,2306125,59911476.039043061,37367519,21490211,1053746,59254110.450000003,37595289,21243244,114043,1365920,60601665,38212334,22389331,63034725,39189250,24301041.254999999,63737669,39961275,24731803.504425,63713837,39643665,24988919.504425]
[778,"QUABOAG",59.93,11141894,3567006,7574888,11791190,3881276,7991217,12254851,4136812,8281608,12617536,4373441,8157632,347753,12703713.843444977,4409832,8335277,0,12453350.286,4490234,7848331,42133,479238,13025123,4631357,8393766,12911828,4742222,8447086,13046235,4894859,8479786,13203478,5067470,8512186]
[780,"WHITMAN HANSON               ",52.16,30538240,9106058,21432182,32259424,9879380,22380044,33351647,10636667,22947017,35222900,11243141,21457945,2521814,36937606.644976079,12830981,23500164,606462,36853531.943999998,13057622,23339328,125296,749752,36625906,13430108,23464624,37691613,14011112,23680501,38579785,14560975,24018810,38173063,15278470,24120485]
[801,"ASSABET VALLEY               ",34.75,8391985,7333682,2477600.4,9303432,7595626,2733990.4,9764859,7625516,2878463.4,9921868,7323853,2679432.4,314896,10283013.364976078,7403603,2934442,0,9970968.1919999998,7231682,2763012,14833,173097,10706516,7640401,3066115,11638299,8079707,3688749.9498749999,11645533,8015009,3773901.0669062501,11767240,7930239,3884226.0669062501]
[805,"BLACKSTONE VALLEY            ",43.11,9538740,4657490,4881250,11634064,5661661,5972403,13058784,6650789,6607116,14423992,7306124,6462753,759526,15755118.710813399,8124101,7077833,553185,16047786.84,8574515,7329879,39350,290739,16495490,8881138,7614352,17182760,9269607,7913153,17574009,9547590,8026419,17695720,9764199,8056069]
[806,"BLUE HILLS                   ",32.369999999999997,8736268,7619162,3073959.2,10491975,8307024,3600320.2,11368895,8741919,3875673.2,12148540,8967009,3684433.2,433008,12332269.926889954,8910498,4035092,0,12217671.845999999,9020653,3799362,20397,236383,12473226,9088881,3819759,12759498,9108222,3898019.6005500001,13021004,9407988,3973984.1981125004,13656513,9688001,4130304.1981125004]
[810,"BRISTOL PLYMOUTH             ",52.72,11388476,4427094,6961382,13514890,5510850,8086042,14637445,6248486,8665617,15904781,6720290,8345601,980805,17087281.950622011,7152445,9139878,794959,17171584.145999998,7555546.2191998027,9422839,50586,492612,17835184,7974320,9860864,18840987,8467645,10373342,19809952,9275499,10562802.050000001,19738678,9454533,10595527.050000001]
[815,"CAPE COD                     ",17.5,8147786,7106299,1812921.2,8939780,8238693,1951441.2,8959018,8344063,1986191.2,10056493,8988695,1949175.2,229074,10128081.632153112,9004924,2134684,0,9662450.2679999992,8722672,2009976,10791,131042,9969203,9140927,2020767,10009944,9018171,2047487,9858315,8884266,2063837,10012278,8734661,2080187]
[817,"ESSEX NORTH SHORE",26.14,5267177,4108620,1440224,5871980,4830228,1577696,6088638,5073417,1627614,6185029,5030466,1476268,173496,6597337.6428708136,5303791,1616769,0,6438150.5279999999,5257509,1522317,8173,97479,6657128,5422037,1530490,7032311,5606831,1578772.356525,{"$f":"7223671+2406437","v":9630108},{"$f":"5744390+1758848","v":7503238},{"$f":"1633572.19536875+736211+279092","v":2648875.19536875},10537063,8095297,{"$f":"2685804.19536875+374740","v":3060544.19536875}]
[818,"FRANKLIN COUNTY              ",46.81,5609534,2938885,2670649,6238167,3104015,3134152,6391771,3127422,3264349,6770398,3246800,3153041,370557,6937473.1758851679,3512111,3453126,0,6832233.6720000003,3565201,3251395,17455,196151,6816703,3635743,3268850,7147655,3823257,3344405.5191250001,7343776,3944755,3416932.8843999999,7425790,4056096,3437610.8843999999]
[821,"GREATER FALL RIVER           ",61.17,14786630,3199554,11587076,17060238,4544760,12983299,18611314,5287988,13901536,19717271,5629515,13024771,1530717,20071537.276937805,5932617,14264378,0,19949613.684,6306552.870136939,13431054,72104,796545,20383237,6467055,13916182,20957230,6715829,14241401,21919605,7123557,14796048,22550978,7369160,15181818]
[823,"GREATER LAWRENCE             ",77.12,20801927,3447460,17354467,23397863,2950685,20447178,24270329,2925720,21344609,22243985,2764043,19164616,2252293,21086064.186794262,2952089,20988571,0,21516841.079999998,3448145,19762420,106093,1154758,22406284,3637418,19868513,23647271,3930189,19925633,24165774,3918941,20246833,25639135,4446591,21192544]
[825,"GREATER NEW BEDFORD          ",64.680000000000007,22363849,4239109,18124740,25632190,5757999,20279884,27124010,6752296,21235693,28611071,7172648,19857283,2333698,30517951.37531101,7763883,21747161,1006907,30298830.222000003,8132720,21740799,116714,949205,31299153,8624602,22674551,32530714,8972206,23558508,33301712,9217036,24084676,33725633,9588800,24138401]
[828,"GREATER LOWELL               ",65.400000000000006,24208574,6905055,17303519,27036778,7606125,19430653,27800682,7909037,19937045,29465237,8510997,18820473,2211849,29630457.502009567,8466385,20611676,552397,30423897.84,9232155,20785128,111584,319986,31597336,9860549,21736787,33772319,10353219,23419100,34324570,10693693,23630877,34545660,10980189,23685627]
[829,"SOUTH MIDDLESEX              ",35.1,8446819,8588762,2167094,9208715,8268805,2366025,9654723,8165281,2493762,9715858,7715501,2327422,273527,9614405.0465071779,7341351,2548930,0,9792459.7200000007,7492557,2400022,12884,152274,10544997,7892246,2652751,10989581,7883290,3269602.165025,11813873,8259858,3686820.5708499998,11573926,7868569,3818290.5708499998]
[830,"MINUTEMAN                    ",18.899999999999999,6066584,5495202,2078300.4,6914249,6039013,2248003.4,6679422,5830500,2272053.4,6716739,5664903,2053740.4,241363,6448437.4476555018,5389510,2249201,0,6278768.8019999992,5380998,2117803,11369,130554,6529848,5563357,2129172,6720937,5635287,2146052,6466600,5367418,2155902,7154168,5853666,2166677]
[832,"MONTACHUSETT                 ",58.73,13742072,4888977,8853095,15840334,5296832,10543502,17251828,5727859,11523969,18210278,5909892,11006825,1293561,19239467.091291867,6487260,12054378,697829,19087950.695999995,6671879,12177840,65376,543116,19926696,7025474,12901222,21362521,7634846,13727675,21644238,8117570,13764000,22098279,8502935,13800675]
[851,"NORTHERN BERKSHIRE           ",60.08,4866072,1480368,3385704,5410246,1532260,3877986,5840580,1651415,4189165,6022166,1628309,3931780,462077,6405552.1010526326,1973265,4305980,126307,6194470.0919999992,1959117,4173354,22404,247404,6032835,2076564,4195758,{"$f":"5901249+265615+518532","v":6685396},2057940,{"$f":"4211358+97719+296789","v":4605866},7074072,2680139,4617441,7193835,2748884,4629241]
[852,"NASHOBA VALLEY               ",35.31,5158946,3321776,1931065.2,5389599,3394928,2023465,6238440,3743767,2494673,7033183,4130123,2597762,305298,7866987.6486124406,4598216,2844999,423773,8233340.9220000003,5083135.795428413,3080894,16540,185963,8193934,5151981,3097434,{"$f":"8811361+786722","v":9598083},5561630,{"$f":"3273055.84085+294572","v":3567627.8408499998},9643398,6347664,3583552.8408499998,10305011,6808953,3602853.8408499998]
[853,"NORTHEAST METROPOLITAN       ",43.19,13805435,8368989,5436446,15298678,8834989,6463689,16448129,9382830,7065299,17520203,9753752,6949698,816753,18195495.392153114,9906992,7611122,677381,18075511.403999995,10403784,7787386,41897,489726,18846605,10860660,7985945,19273753,10987834,8285919,19964083,11419748,8564871.3160750009,20104161,11494298,8609863]
[855,"OLD COLONY                   ",40.9,4989253,2641742,2546991,5820992,2972628,2935912,6621083,3475932,3292273,6827603,3546608,3028077,355870,7042233.7959808633,3704307,3316268,21659,6779947.8360000001,3833931.4919956997,3142926,16873,190453,6636605,3861415,3159799,6993936,4108774,3179079,7318581,4348047,3191479,7268292,4341070,3203704]
[860,"PATHFINDER                   ",56.42,6096738,2786084,3310654,6802165,2722408,4079757,7765674,2973205,4792469,8192718,3079140,4575812,537766,7922637.1368421055,3002367,5011306,0,8264011.2758400002,3272693.2524828459,{"$f":"4773477+124459","v":4897936},25626,226728,8310204,3406888,4923562,9047750,3742148,5305602,9290876,3937256,5362159.7480999995,8740342,3869273,5376309.7480999995]
[871,"SHAWSHEEN VALLEY             ",29.8,13777348,11493572,3136056.8,15354177,11614893,3739284,16399600,11925006,4474594,17333155,11848099,4908224,576832,18045396.186028711,12240655,5375355,429386,17891209.259999998,12538270,5465628,29342,342521,18725824,13125229,5600595,19899113,13950931,6159525.7945499998,20418808,14772092,6206185.7275124993,20894661,15270792,6241110.7275124993]
[872,"SOUTHEASTERN                 ",62.45,14936857,5393902,9542955,16539295,5950716,10588579,17132435,6118865,11013570,18651251,6606221,10778323,1266707,19547466.962679427,6794855,11804129,948483,18976858.698000003,6830054,12007606,64462,713969,19791640,7163181,12628459,20139028,7253938,12885090,20816397,7493594,13322803,21227292,7726584,13500708]
[873,"SOUTH SHORE                  ",41.61,5603587,3304900,2298687,6624462,3491969,3132493,7292760,3896693,3409503,8002552,4267730,3342052,392770,8068943.0905263163,4326150,3660126,82667,8159816.8379999995,4585112,3524139,18919,214385,8361233,4747142,3614091,8898769,5090951,3814659,8843168,4991245,3851923,8975128,5135646,3866773]
[876,"SOUTHERN WORCESTER           ",55.32,9571032,4238701,5725706.91653415,12372691,5102480,7282028,13883285,5546098,8337187,15012157,5773697,8266904,971556,15581392.28478469,6076724,9053691,450977,15894028.614,6360940,9350174,50196,132719,15689978,6367969,9400370,16052759,6598237,9454522,16721381,6992891,9728490,17132815,7280728,9852087]
[878,"TRI COUNTY                   ",33.659999999999997,9016173,5636406,3446914,10212901,5924588,4288313,11290959,6500818,4790141,12442959,7015291,4856871,570797,12923675.155598087,7663565,5319115,0,13370766.120000003,8194447,5076999,27256,238385,13542704,8344586,5198118,14397568,8892150,5505418,14698799,9224159,5529518,15102844,9768353,5553893]
[879,"UPPER CAPE COD               ",25.41,7297579,5382948,2593253,7871760,6175413,2762062,8334135,6672582,2884730,9055851,7109422,2747270,322869,9359958.3663157895,7254471,3008736,0,9469840.0140000004,7444031,2832966,15209,177786,9659521,7711247,2848175,9618705,7624553,2874735,10084443,8024477,2891885,10314759,8119608,2909460]
[885,"WHITTIER                     ",47.18,11536179,7149342,4829933,11990774,6974949,5032319,12092901,6752086,5340815,12653763,7029551,5032746,591466,14137619.469473682,7657177,5511728,968714,14275034.699999999,7892558,6260014,33606,212122,15261656,8442171,6819485,16269465,8729868,7563919.4677499998,16875591,9062382,7879914.9927000003,17494788,9523686,8010858.9927000003]
[910,"BRISTOL COUNTY               ",45.7,4169889,2377115,1792774,4678752,2165472,2513280,4979099,2115459,2863640,5282006,2203905,2754395,323706,5380792.1852631588,2265291,3016539,98962,5285460.1679999996,2485563.5502734138,2933494,15748,175709,5518473,2608341,2949242,5541328,2713112,2964202,5650536,2907343,2973677,5797631,3091923,2983352]
[915,"NORFOLK COUNTY               ",28.89,2581809,2385271,605727.6,3153664,2376238,777426,3314326,2403121,911205,3538156,2513756,916670,107730,3601674.9504306214,2554390,1003912,43373,3636172.7040000004,2694070,968927,5294,79925,3894722,2866575,1028147,4009287,2928531,1097231.0205000001,4057136,3005158,1109762.7805750002,3937649,2863375,1119500.7805750002]
[999,"state total",null,7551933454,4743946672,3288603061.8000002,8014672861.3798904,4876428772,3505192038.9270248,8406096436.3857374,4997705374,3725343326.8219399,8811314229.2926865,5110365426,3536496064.2495604,411999998,9088557473.2006893,5250106061,3869526145,173630555,8921047970,5302200670.3241692,3850884455.5488005,20667814,200480583,9119340580.3732376,5413602268,3990504093.3881507,9467117140.6663704,5582113529,4173223954.2949104,9711217584.8007889,5748475145,4300854366.3566036,9866011313.0677662,5817618237,4400335961.8829308]

{"sheet":"dist435","index":17,"n_rows":448,"n_cols":32,"rows_kept":448,"cut":false,"hidden":true,"merged":[]}
[]
[null,"found16prelim"]
[]
[null,null,"Foundation Enrollment",null,null,null,null,null,null,null,null,null,null,null,null,null,null,null,null,null,"Foundation Categories"]
[]
[null,null,null,null,null,null,null,null,"Assumed","Assumed",null,null,null,null,"Low","Low","Total","Wage",null,null,null,null,"Classroom","Other ",null,"instructional ",null,null,null,"employee ",null,"FY16"]
[null,null,null,"K","K",null,"Junior","High  ","Special Ed","Special Ed","LEP","LEP","LEP Kfull",null,"Income","Income","Foundation","Adjustment",null,null,null,"Instructional","& Specialist","Teaching","professional","materials, equip-","guidance &","pupil","operations &","benefits &","sped","Foundation"]
[null,null,"PK","Half","Full","Elem","Middle","School","In School","Tuitioned","PK","K Half","thru G12","Voke","Elem & Jr","K & Sr","Enrollment","Factor",null,null,"Administration","Leadership","Teachers","Services","development","ment  & technology","psychological","services","maintenance","fixed charges","tuition","Budget"]
[]
[1,"ABINGTON                     ",76,136,15,780,502,506,72,19,0,5,34,9,366,127,1955,1,null,null,942123.61999999988,1287762.5,8114634.1700000009,1799159.3499999999,302492.24,1019675.2799999999,544570.23,479737.46000000008,2124455.71,1802100.9400000002,454198.99,18870910.490000002]
[2,"ACTON                        ",0,0,0,0,0,0,0,0,0,0,0,0,0,0,0,1.04,null,null,0,0,0,0,0,0,0,0,0,0,0,0]
[3,"ACUSHNET                     ",13,0,97,486,347,300,46,12,0,0,7,0,217,29,1244,1,null,null,599661.32999999996,819304.91,4939791.4100000011,1151265.9000000001,187438.24000000002,638548.02999999991,343235.44,296319.81,1315313.48,1123629.1500000001,286862.52,11701370.220000003]
[4,"ADAMS                        ",0,0,0,0,0,0,0,0,0,0,0,0,0,0,0,1,null,null,0,0,0,0,0,0,0,0,0,0,0,0]
[5,"AGAWAM                       ",80,0,224,1345,933,1189,151,39,0,0,164,118,858,479,4013,1,null,null,1942325.2,2644045.7100000004,18090802.84,3648519.93,654266.22,2212421.1,1154182.8800000001,1066792.43,4613941.1100000013,3847367.2400000007,932303.19,40806967.850000001]
[6,"ALFORD                       ",0,0,0,0,0,0,0,0,0,0,0,0,0,0,0,1,null,null,0,0,0,0,0,0,0,0,0,0,0,0]
[7,"AMESBURY                     ",53,0,175,922,575,656,89,24,0,0,35,4,428,228,2394,1,null,null,1157660.73,1577005.6099999999,10044466.66,2210752.25,372691.78000000009,1253003.0299999998,667601.27999999991,592501.69000000006,2616077.79,2218564.66,573725.04,23284050.52]
[8,"AMHERST                      ",24,0,118,691,183,0,44,12,0,0,188,0,440,84,1192,1,null,null,575838.64,785373.15999999992,5556260.1199999992,1196491.6000000001,201278.11000000002,536618.04,289053.89,165898.81,1412449.5400000003,1216054.8299999998,286862.52,12222179.260000002]
[9,"ANDOVER                      ",63,341,12,2231,1562,1795,222,59,0,18,128,10,306,145,5950,1.073,null,null,3087773.6022000001,4205751.9810199998,23843094.103750005,5808357.3336799992,923356.12589000002,3157806.33,1820673.8788099997,1669547.23673,6481604.2091799993,5185382.5900000008,1410407.39,57593754.781260006]
[10,"ARLINGTON                    ",38,0,478,2187,1121,1285,199,53,0,0,226,2,410,194,5318,1.03,null,null,2651727.1513999999,3608986.9755000006,20930242.699399997,5138017.8554999996,803958.61019999988,2733735.8400000003,1500022.5985999999,1273254.1008999997,5642039.6108000018,4741330.8099999996,1266976.1299999999,50290292.382299997]
[11,"ASHBURNHAM                   ",0,0,0,0,0,0,0,0,0,0,0,0,0,0,0,1,null,null,0,0,0,0,0,0,0,0,0,0,0,0]
[12,"ASHBY                        ",0,0,0,0,0,0,0,0,0,0,0,0,0,0,0,1,null,null,0,0,0,0,0,0,0,0,0,0,0,0]
[13,"ASHFIELD                     ",0,0,0,0,0,0,1,0,0,0,0,19,0,0,19,1,null,null,9449,12518.53,134591.79999999999,16580.010000000002,4348.41,23612.469999999998,6969.7699999999995,9388.2800000000007,34171.06,24502.33,0,276131.65999999997]
[14,"ASHLAND                      ",17,170,9,938,619,749,93,25,0,14,76,2,278,107,2494,1.0269999999999999,null,null,1239313.0964499998,1687251.4704499999,10122572.260319998,2335442.7669299999,382969.14213999995,1320956.2999999998,728815.8493199998,664090.03699999978,2687843.86,2233077.46,597630.25,23999962.492609996]
[15,"ATHOL                        ",0,0,0,0,0,0,0,0,0,0,0,0,0,0,0,1,null,null,0,0,0,0,0,0,0,0,0,0,0,0]
[16,"ATTLEBORO                    ",196,0,403,2125,1380,860,242,52,0,0,435,991,1438,877,6292,1,null,null,3035556.7600000002,4145611.0200000005,31250630.759999998,5812799.5199999996,1112654.8399999999,3841594.74,1787421.7000000002,1589984.42,7998682.0099999998,6507583.5600000005,1243070.92,68325590.250000015]
[17,"AUBURN                       ",18,0,153,889,578,651,87,23,4,0,60,1,384,203,2343,1,null,null,1131684.6599999999,1543732.52,9729222.6300000008,2153709.5699999998,362603.01999999996,1226548.0100000002,657507.77999999991,584950.04999999993,2544696.7800000003,2159351.52,549819.82999999996,22643826.370000001]
[18,"AVON                         ",12,36,2,242,127,132,20,5,0,0,4,0,158,102,531,1,null,null,256654.28000000003,349860.20999999996,2486652,497609.6,89305.150000000009,273819.85000000003,145672.25,126983.62000000001,626690.31999999995,524435.52,119526.04999999999,5497208.8500000006]
[19,"AYER                         ",0,0,0,0,0,0,0,0,0,0,0,0,0,0,0,1.038,null,null,0,0,0,0,0,0,0,0,0,0,0,0]
[20,"BARNSTABLE                   ",59,0,328,1854,1202,1645,205,55,0,0,432,1,1203,676,5492,1,null,null,2657927.79,3618184.9,24641661.57,5008384.13,891596.4,2905367.3300000005,1568134.5799999998,1402052.7800000003,6256870.7700000005,5256693.080000001,1314786.55,55521659.879999995]
[21,"BARRE                        ",0,0,0,0,0,0,0,0,0,0,0,0,0,0,0,1,null,null,0,0,0,0,0,0,0,0,0,0,0,0]
[22,"BECKET                       ",0,0,0,0,0,0,0,0,0,0,0,9,0,0,9,1,null,null,3283.2000000000003,5929.83,59818.590000000004,4179.24,1869.93,11019.15,3301.47,4447.08,14854.050000000001,10097.1,0,118799.64000000001]
[23,"BEDFORD                      ",17,0,165,836,509,923,96,26,0,0,139,4,201,139,2585,1.079,null,null,1348747.1622299999,1837374.7183999997,11113774.170460001,2512346.4485599999,415194.74372999999,1409022.9499999997,810980.48940999981,766308.11985000002,2914399.98655,2303391.9800000004,621535.46,26053076.229189999]
[24,"BELCHERTOWN                  ",17,0,132,907,606,729,90,24,0,0,17,1,351,173,2401,1,null,null,1162731.7700000003,1581617.52,9766921.1899999995,2198264.36,365767.63,1273205.3300000003,680376.44999999984,624068.79999999993,2566895.7200000002,2180087.81,573725.04,22973661.619999997]
[25,"BELLINGHAM                   ",25,5,180,936,583,655,91,24,0,0,33,21,377,227,2424,1,null,null,1173457.7,1596442.1600000001,10064315.380000001,2242731.1100000003,375399.86000000004,1279720.01,676875.60000000009,603127.87,2638346.2600000007,2238492.4599999995,573725.04,23462633.450000003]
[26,"BELMONT                      ",28,280,26,1599,938,1239,155,41,1,48,175,0,195,112,4156,1.034,null,null,2077739.5148400001,2831025.8963800003,16200645.40006,3933911.8966399999,623228.16578000004,2196375.8000000003,1218525.01364,1101099.89968,4373442.4762600008,3644014.27,980113.61,39180121.943280004]
[27,"BERKLEY                      ",10,0,67,396,254,0,27,7,0,0,1,0,137,10,723,1,null,null,349355.7,476363.05999999994,2710951.72,714642.8899999999,108649.70999999999,325591.40000000002,177505.57,112806.57,762424.63,664081.6,167336.47,6569709.3200000003]
[28,"BERLIN                       ",8,0,18,126,0,0,6,1,0,0,4,0,20,2,152,1.018,null,null,74389.617039999997,101950.94903999999,583969.16444000008,166686.302,22459.360320000003,68564,34313.400240000003,19320.357319999999,157603.17663999999,140913.70000000001,23905.21,1394075.23704]
[29,"BERNARDSTON                  ",0,0,0,0,0,0,0,0,0,0,0,0,0,0,0,1,null,null,0,0,0,0,0,0,0,0,0,0,0,0]
[30,"BEVERLY                      ",94,212,151,1704,937,1382,164,44,0,2,98,0,787,441,4426,1.044,null,null,2232395.9531999999,3044471.2070399998,19646401.247999996,4233950.0805600006,720766.96163999999,2355324.38,1306624.78764,1197232.5988800002,5057916.0559200002,4102432.1799999997,1051829.24,44949344.692879997]
[31,"BILLERICA                    ",87,0,368,2024,1403,1446,199,53,0,0,52,22,786,369,5359,1.0089999999999999,null,null,2612570.6754299998,3562330.32797,21866691.328589991,4973713.9986500004,823921.76348999981,2809428.6900000004,1513198.9850299999,1346351.4412399998,5786003.2937500002,4876331.9499999993,1266976.1299999999,51437518.584149994]
[32,"BLACKSTONE                   ",0,0,0,0,0,0,1,0,0,0,0,15,0,0,15,1,null,null,7989.8,9883.0499999999993,108005.76000000001,14722.57,3517.33,18715.07,5502.45,7411.8,27569.260000000002,20014.73,0,223331.82000000004]
[33,"BLANDFORD                    ",0,0,0,0,0,0,0,0,0,0,0,7,0,0,7,1,null,null,2553.6,4612.09,46525.57,3250.52,1454.39,8570.4499999999989,2567.81,3458.84,11553.15,7853.3000000000011,0,92399.719999999987]
[34,"BOLTON                       ",0,0,0,0,0,0,0,0,0,0,0,1,0,0,1,1.0389999999999999,null,null,379.02719999999999,684.56592999999998,6905.7238899999993,482.47003999999998,215.87303,1224.3499999999999,381.13636999999994,513.39067999999997,1714.81755,1121.9000000000001,0,13623.25469]
[35,"BOSTON                       ",1685,2,3285,16372,10932,15056,2359,617,1373,0,16044,976,30380,19175,64196,1.071,null,null,33106059.202230003,45299203.371449992,400577022.78362995,62242287.49368,13473192.519989999,33614221.129999995,19794941.197919998,16030726.843319997,94749876.661860004,71963516.980000004,14749514.57,805600562.75407994]
[36,"BOURNE                       ",51,137,16,807,516,556,74,20,0,0,10,1,399,168,2001,1,null,null,966275.08000000007,1317740.94,8412434.6699999999,1838003.32,311781.69,1047092.4199999999,559837.21,502594.27,2188094.4400000004,1851411.62,478104.19999999995,19473369.859999999]
[37,"BOXBOROUGH                   ",0,0,0,0,0,0,0,0,0,0,0,0,0,0,0,1.1240000000000001,null,null,0,0,0,0,0,0,0,0,0,0,0,0]
[38,"BOXFORD                      ",46,0,82,505,113,0,26,7,0,0,6,0,15,0,729,1.036,null,null,361592.03415999998,497607.85255999997,2514777.0345600001,768055.5904000001,103457.66396000001,327865.38,175005.73020000002,104050.21451999999,725993.21340000001,635233.66,167336.47,6380974.8437599996]
[39,"BOYLSTON                     ",1,34,0,243,0,0,11,3,0,2,2,19,22,0,283,1,null,null,138305.59000000003,186130.96,1078122.98,297976.51000000007,41301.750000000007,142331.5,65115.25,43191.189999999995,293482.65000000002,262286.29000000004,71715.63,2619960.2999999998]
[40,"BRAINTREE                    ",108,301,26,2099,1395,1634,206,55,0,42,179,0,883,433,5559,1.0349999999999999,null,null,2778862.7335500005,3790512.7402500003,23852148.131249998,5243214.7178999996,888339.77549999999,2931343.05,1633492.4138999998,1478055.8654999998,6233840.6660999991,5103139.1400000006,1314786.55,55247735.783950001]
[41,"BREWSTER                     ",8,0,78,378,0,0,18,5,0,0,14,0,96,23,474,1,null,null,230824.68,312304.42,1911128.56,504931,71593.960000000006,213562.78,105223.06,58598.119999999995,502392.81000000006,451365.49,119526.04999999999,4481450.93]
[42,"BRIDGEWATER                  ",0,0,0,0,0,0,0,0,0,0,0,10,0,0,10,1,null,null,3648,6588.7,66465.100000000006,4643.6000000000004,2077.7000000000003,12243.5,3668.2999999999997,4941.2,16504.5,11219,0,131999.6]
[43,"BRIMFIELD                    ",14,0,37,191,37,0,10,3,0,0,0,2,52,7,274,1,null,null,132686.74000000002,180530.44999999998,1060421.52,281345.62,40843.590000000004,124884.40999999999,63223.090000000004,37821.99,286996.75000000006,254700.65999999997,71715.63,2535170.4500000002]
[44,"BROCKTON                     ",248,6,1189,5544,3282,3822,662,173,0,0,3481,249,9190,5159,17694,1,null,null,8557136.7400000002,11658047.050000001,102959474.13999999,16335238.680000002,3464576.92,9167398.5499999989,4980518.9400000004,4013914.0500000003,24360566.690000001,19846845.350000001,4135601.33,209479318.44]
[45,"BROOKFIELD                   ",6,0,33,175,35,0,9,2,0,0,1,2,95,15,249,1,null,null,118531.06000000001,164058.66,1112143.9200000002,254457.44999999998,40527.200000000004,113602.8,57654.46,34725.980000000003,284775.65999999997,246949.82,47810.42,2475237.4299999997]
[46,"BROOKLINE                    ",42,0,551,2731,1477,1868,274,73,21,0,681,3,478,313,7343,1.052,null,null,3736936.9548799996,5089316.4610799998,30080316.259039998,7162786.6005200008,1147458.3958399999,3798974.3699999996,2153483.3974000001,1830494.9804800001,8052748.4186400007,6602649.6700000018,1745080.3299999998,71400245.83788]
[47,"BUCKLAND                     ",0,0,0,0,0,0,0,0,0,0,0,0,0,0,0,1,null,null,0,0,0,0,0,0,0,0,0,0,0,0]
[48,"BURLINGTON                   ",62,0,229,1248,864,998,129,34,0,0,97,2,294,156,3469,1.0760000000000001,null,null,1803261.1047200004,2459327.4858400007,14419042.2644,3418292.7627600003,551367.99803999998,1825436.14,1054011.8431600002,945209.45620000013,3869553.2285600007,3080727.85,812777.14,34239007.273680001]
[49,"CAMBRIDGE                    ",538,0,575,2331,1238,1426,253,61,12,0,544,499,1908,1280,6888,1.0880000000000001,null,null,3594030.8953600004,4937669.6492799995,37203275.695360012,6909103.3670399999,1309973.7491200003,3867315.51,2096958.16,1815032.8364800001,9297230.6726399995,7044972.4800000004,1458217.81,79533780.825280011]
[50,"CANTON                       ",84,233,12,1269,804,931,119,32,0,8,45,0,377,182,3224,1.056,null,null,1643266.8700800003,2242805.7379200002,13449638.157120001,3116124.4752000002,509373.11040000006,1695436.52,958410.11904000002,866050.83840000001,3574487.6111999997,2889817.23,764966.72,31710377.389359999]
[51,"CARLISLE                     ",2,51,0,339,235,0,23,6,0,1,7,0,6,1,609,1.0449999999999999,null,null,308081.83174999995,418619.92535000003,2061329.9024999996,624472.79290000012,88831.092349999992,273906.29000000004,158122.3149,102546.14259999999,623357.16134999995,527720.91,143431.26,5330419.6237000003]
[52,"CARVER                       ",42,0,116,620,417,474,61,16,0,0,3,6,262,147,1657,1.02,null,null,814311.51240000024,1113582.7560000003,6959601.616799999,1548071.4726000002,259859.21879999997,874981.48,474709.06079999998,428650.23659999995,1824699.3282000001,1516518.4199999997,382483.36,16197468.462199999]
[53,"CHARLEMONT                   ",0,0,0,0,0,0,0,0,0,0,0,5,0,0,5,1,null,null,1824,3294.35,33232.550000000003,2321.8000000000002,1038.8500000000001,6121.75,1834.1499999999999,2470.6,8252.25,5609.5,0,65999.8]
[54,"CHARLTON                     ",0,0,0,0,0,0,0,0,0,0,0,2,0,0,2,1,null,null,729.6,1317.74,13293.02,928.72,415.54,2448.6999999999998,733.66,988.24,3300.9,2243.8000000000002,0,26399.920000000002]
[55,"CHATHAM                      ",0,0,0,0,0,0,0,0,0,0,0,0,0,0,0,1,null,null,0,0,0,0,0,0,0,0,0,0,0,0]
[56,"CHELMSFORD                   ",132,276,16,1827,1230,1649,187,50,0,14,123,0,396,217,5056,1.0049999999999999,null,null,2453357.5187999997,3347905.0741499998,19666306.872749999,4593847.5328499991,747746.57219999982,2708903.6999999997,1460147.9978999996,1361115.7401000001,5247244.9964999994,4460134.12,1195260.5,47241970.625249989]
[57,"CHELSEA                      ",154,0,423,2325,1261,1274,255,68,109,0,1507,2,3907,1926,6924,1.03,null,null,3439114.2976000002,4698538.3927999996,41899572.085999995,6626020.591,1406493.6855000004,3452477.8000000003,1972518.5361999997,1497929.9887999999,9870473.2521999981,7832648.9399999995,1625554.28,84321341.850099981]
[58,"CHESHIRE                     ",0,0,0,0,0,0,0,0,0,0,0,1,0,0,1,1,null,null,364.8,658.87,6646.51,464.36,207.77,1224.3499999999999,366.83,494.12,1650.45,1121.9000000000001,0,13199.960000000001]
[59,"CHESTER                      ",0,0,0,0,0,0,1,0,0,0,0,14,0,0,14,1,null,null,7625,9224.18,101359.25,14258.21,3309.5600000000004,17490.719999999998,5135.62,6917.68,25918.809999999998,18892.830000000002,0,210131.86]
[60,"CHESTERFIELD                 ",0,0,0,0,0,0,1,0,0,0,0,20,0,0,20,1,null,null,9813.7999999999993,13177.4,141238.31,17044.370000000003,4556.18,24836.82,7336.5999999999995,9882.4,35821.51,25624.23,0,289331.62]
[61,"CHICOPEE                     ",270,0,560,2678,1607,1962,294,72,0,0,374,536,3201,2097,7852,1,null,null,3785927.1000000006,5173448.5900000008,42846880.299999997,7185023.8399999999,1464746.5100000002,4472937.29,2237556.29,2039833.6000000003,10381901.780000001,8417176.9600000009,1721175.1199999999,89726607.379999995]
[62,"CHILMARK                     ",0,0,0,0,0,0,0,0,0,0,0,0,0,0,0,1,null,null,0,0,0,0,0,0,0,0,0,0,0,0]
[63,"CLARKSBURG                   ",1,0,10,89,53,27,7,2,0,0,0,0,53,10,180,1,null,null,88141.810000000012,118267.17000000001,769818.70000000007,173575.73,28732.52,88022.7,47287.86,37292.31,201623.91999999998,171689.71000000002,47810.42,1772262.85]
[64,"CLINTON                      ",75,1,139,678,422,464,74,18,1,0,138,98,591,336,1979,1,null,null,953030.38000000012,1302915.81,9711757.3599999994,1819392.71,343110.07000000007,1089462.01,558139.24,490717.88,2426612.62,2003773.16,430293.77999999997,21129205.020000003]
[65,"COHASSET                     ",38,104,0,661,418,402,58,15,0,0,1,0,45,18,1553,1.02,null,null,765341.92440000013,1043690.3363999999,5650951.6841999991,1466895.8639999998,223771.97579999999,804843.32000000007,439617.62340000004,388886.52600000001,1570293.3252000003,1334942.5599999998,358578.14999999997,14047813.289400002]
[66,"COLRAIN                      ",0,0,0,0,0,0,0,0,0,0,0,1,0,0,1,1,null,null,364.8,658.87,6646.51,464.36,207.77,1224.3499999999999,366.83,494.12,1650.45,1121.9000000000001,0,13199.960000000001]
[67,"CONCORD                      ",22,194,0,1177,703,0,76,20,0,5,49,0,110,4,2040,1.0589999999999999,null,null,1043878.17894,1423048.6917299998,7332601.4507099986,2128626.8214299995,307485.80733000004,918399.59,532972.82105999999,340202.90279999998,2157741.6224999996,1799824.7,478104.19999999995,18462886.786499996]
[68,"CONWAY                       ",14,0,11,102,24,0,5,1,0,0,0,1,25,5,145,1,null,null,68002.94,95536.22,552747.78,145658.44999999998,21463.33,65940.399999999994,33770.47,20592.359999999997,150807.98000000001,133333.81,23905.21,1311758.95]
[69,"CUMMINGTON                   ",0,0,0,0,0,0,0,0,0,0,0,9,0,0,9,1,null,null,3283.2000000000003,5929.83,59818.590000000004,4179.24,1869.93,11019.15,3301.47,4447.08,14854.050000000001,10097.1,0,118799.64000000001]
[70,"DALTON                       ",0,0,0,0,0,0,1,0,0,0,0,20,0,0,20,1,null,null,9813.7999999999993,13177.4,141238.31,17044.370000000003,4556.18,24836.82,7336.5999999999995,9882.4,35821.51,25624.23,0,289331.62]
[71,"DANVERS                      ",55,3,239,1369,884,1100,136,36,0,0,38,0,505,264,3660,1,null,null,1767865.3800000001,2410805.62,14813985.18,3352222.4800000004,555182.06000000006,1936153.74,1033194.78,940978.54999999993,3895895.0700000003,3315070.4200000004,860587.55999999994,34881940.840000004]
[72,"DARTMOUTH                    ",59,0,229,1291,980,1089,138,37,0,0,102,0,624,327,3721,1,null,null,1797853.9900000002,2451326.1300000004,15522487.070000002,3388067.06,577826.83000000007,1960859.4199999997,1056744.43,953446.57000000007,4054814.69,3427799.3,884492.77,36075718.260000005]
[73,"DEDHAM                       ",30,155,22,1042,678,707,100,27,0,16,129,2,494,257,2681,1.03,null,null,1336537.4451000001,1819085.1012000002,11740480.0702,2539122.7310000001,435254.18640000006,1394154.99,775401.4482000001,680106.95030000003,3054753.7708000001,2508865.37,645440.66999999993,26929202.733199999]
[74,"DEERFIELD                    ",15,0,44,223,60,0,13,3,0,0,7,3,69,18,345,1,null,null,165958.55000000002,226980.79,1373119.5499999998,352854.45,52764.94,157548.49,81052.48000000001,49016.899999999994,370846.05,326174.01999999996,71715.63,3228031.8499999992]
[75,"DENNIS                       ",0,0,0,0,0,0,0,0,0,0,0,0,0,0,0,1,null,null,0,0,0,0,0,0,0,0,0,0,0,0]
[76,"DIGHTON                      ",0,0,0,0,0,0,0,0,0,0,0,0,0,0,0,1,null,null,0,0,0,0,0,0,0,0,0,0,0,0]
[77,"DOUGLAS                      ",67,0,82,527,393,409,53,14,0,0,1,6,172,99,1452,1,null,null,698200.47000000009,956350.14,5740526.3899999997,1322051.8499999999,218009.75,765270.00999999989,408776.53,368641.12,1531009.69,1302305.81,334672.94,13645814.699999997]
[78,"DOVER                        ",5,0,48,417,0,0,18,5,0,0,12,0,15,1,480,1.0429999999999999,null,null,242842.78515000001,329513.10216999997,1730697.5025199999,531411.96276000002,68844.529179999998,215967.75,110856.98638,63307.169169999994,483091.55628999998,426717.4,119526.04999999999,4322776.7936200006]
[79,"DRACUT                       ",41,1,279,1551,1025,936,144,38,0,0,50,10,806,297,3873,1,null,null,1870745.62,2551144.85,16267614.560000001,3594747.4600000004,605638.65,1996932.85,1068521.43,923347.29,4251887.07,3605272.36,908397.98,37644250.119999997]
[80,"DUDLEY                       ",0,0,0,0,0,0,0,0,0,0,0,1,0,0,1,1,null,null,364.8,658.87,6646.51,464.36,207.77,1224.3499999999999,366.83,494.12,1650.45,1121.9000000000001,0,13199.960000000001]
[81,"DUNSTABLE                    ",0,0,0,0,0,0,0,0,0,0,0,1,0,0,1,1,null,null,364.8,658.87,6646.51,464.36,207.77,1224.3499999999999,366.83,494.12,1650.45,1121.9000000000001,0,13199.960000000001]
[82,"DUXBURY                      ",0,161,2,1124,782,1135,117,31,0,1,7,2,106,85,3134,1.032,null,null,1564052.1717600005,2130296.2166400002,12016229.596560003,2902454.8603200004,462521.02727999998,1710260.7699999998,942578.04624000005,913357.88471999986,3246063.8011200004,2693577.15,741061.51,29322453.03464001]
[83,"EAST BRIDGEWATER             ",17,137,8,864,553,666,81,22,0,0,7,9,301,125,2185,1,null,null,1056058.1400000001,1438972.85,8780552.8499999996,1990749.8900000004,329775.91000000003,1165156.0099999998,620108.13,573726.8899999999,2315892.0499999998,1967723.7899999998,525914.62,20764631.130000003]
[84,"EAST BROOKFIELD              ",0,0,0,0,0,0,1,0,0,0,0,19,0,0,19,1,null,null,9449,12518.53,134591.79999999999,16580.010000000002,4348.41,23612.469999999998,6969.7699999999995,9388.2800000000007,34171.06,24502.33,0,276131.65999999997]
[85,"EASTHAM                      ",4,0,28,151,0,0,7,2,0,0,3,0,61,13,184,1,null,null,89783.44,121232.09999999999,811128.1399999999,196485.47,29357.270000000004,82906.44,40668.850000000006,22827.019999999997,206007.36000000002,182451.06,47810.42,1830657.57]
[86,"EASTHAMPTON                  ",28,0,127,653,415,433,67,17,0,0,23,109,378,194,1774,1,null,null,858650.67999999993,1168835.52,8006553.0999999996,1633034.9300000002,290568.56,998552.99,501546.19999999995,457755.25999999995,2059997.76,1713410.43,406388.57,18095294]
[87,"EAST LONGMEADOW              ",44,157,0,937,640,896,99,26,0,8,51,17,352,192,2646,1,null,null,1279805.5700000003,1743041.6300000004,10875767.75,2387891.81,404238.34000000008,1439894.89,766373.50000000012,727198.84,2839975.8200000008,2400633.8699999996,621535.46,25486357.480000004]
[88,"EASTON                       ",29,226,30,1374,920,1199,138,37,0,4,38,0,300,149,3691,1,null,null,1786912.03,2431561.0299999998,14210385.65,3353316.4600000004,541654.95000000007,1976603.02,1057433.7699999998,988862.47999999986,3800998.5300000007,3249554.41,884492.77,34281775.100000001]
[89,"EDGARTOWN                    ",4,0,35,201,126,0,15,4,0,0,42,0,122,12,406,1,null,null,195947.04,267501.24,1725978.23,397230.67000000004,65609.72,182778.93999999997,101483.68,62114.429999999993,460407.41000000003,395297.48,95620.84,3949969.68]
[90,"EGREMONT                     ",0,0,0,0,0,0,0,0,0,0,0,0,0,0,0,1,null,null,0,0,0,0,0,0,0,0,0,0,0,0]
[91,"ERVING                       ",20,0,10,104,70,61,9,2,0,0,0,0,50,13,255,1,null,null,120720,168011.95,1036584.4799999999,233344.45,38938.69,130656.9,70120.489999999991,60533.68,273248.39,232299.91,47810.42,2412269.36]
[92,"ESSEX                        ",0,0,0,0,0,0,0,0,0,0,0,0,0,0,0,1.026,null,null,0,0,0,0,0,0,0,0,0,0,0,0]
[93,"EVERETT                      ",488,0,449,2213,1399,2064,272,72,0,0,1102,19,3499,2328,7490,1.0389999999999999,null,null,3738820.8031200003,5127401.3508599997,43907608.811249994,7059829.3050999995,1483679.2410799996,3926791.98,2218077.7722,1895686.0777699999,10415569.644539997,8173309.8599999994,1721175.1199999999,89667949.965919986]
[94,"FAIRHAVEN                    ",26,0,134,726,430,455,66,18,1,0,26,0,393,227,1785,1,null,null,862481.08000000007,1175753.6499999999,7762795.8500000006,1656666.09,285112.7,922774.91999999993,492413.02999999997,428541.82000000007,2000731.4000000001,1690234.84,430293.77999999997,17707799.16]
[95,"FALL RIVER                   ",166,0,928,4488,2548,2000,426,108,0,0,814,456,6013,2709,11317,1,null,null,5472948.4600000009,7456432.6199999992,63386978.839999996,10635691.299999999,2157976.58,5981257.2199999997,3093653.38,2543533.9400000004,15231155.079999998,12421870.1,2581762.6799999997,130963260.19999999]
[96,"FALMOUTH                     ",101,0,266,1388,848,795,134,33,0,0,51,176,750,357,3575,1,null,null,1724451.21,2355131.3200000003,15798966.08,3316967.4000000004,578343.69999999995,1957008.23,993981.55999999994,877962.45,4092318.1399999997,3426245.1299999994,788871.92999999993,35910247.149999999]
[97,"FITCHBURG                    ",167,0,373,1778,1109,1400,203,54,0,0,747,0,2509,1412,5491,1,null,null,2650010.6700000004,3617526.5700000003,29977143.279999997,5039713.63,1023617.74,2839163.23,1547912.42,1300583.0900000001,7183213.540000001,5893544.5300000003,1290881.3399999999,62363310.040000007]
[98,"FLORIDA                      ",6,0,7,43,19,13,3,1,0,0,0,0,35,6,85,1,null,null,41079.26,56003.979999999996,393836.89999999997,81011.990000000005,14087.56,41628.25,21980.160000000003,17010.59,98857.930000000008,83592.460000000006,23905.21,872994.29]
[99,"FOXBOROUGH                   ",21,147,22,1001,673,885,100,27,0,1,23,0,319,181,2690,1.046,null,null,1360351.3465999998,1852855.99064,11265600.45592,2547458.13778,423193.0439600001,1442780.6899999997,807324.60910000012,758538.13355999987,2969702.9618200008,2411327.8299999996,645440.66999999993,26484573.869379997]
[100,"FRAMINGHAM                   ",68,0,474,2929,1826,2069,323,86,0,0,1304,5,2719,1151,8641,1.06,null,null,4432938.7408000007,6034893.7706000004,44235090.878600001,8439283.1209999993,1569452.0272000001,4438221.1999999993,2578265.6024000002,2136786.6158000003,11014546.421800002,8684342.1899999995,2055848.0599999998,95619668.628199995]
[101,"FRANKLIN                     ",137,3,370,2321,1528,1729,226,60,0,0,67,0,388,196,6086,1.0389999999999999,null,null,3054556.3078000005,4165584.4113499997,23692414.167279989,5809561.4555799989,916162.60415999987,3193485.6999999997,1774580.1650399996,1593323.1655599999,6429011.6347399997,5325926.8199999994,1434312.5999999999,57388919.031509995]
[102,"FREETOWN                     ",0,0,0,0,0,0,4,0,0,0,0,94,0,0,94,1,null,null,44362.400000000009,61933.78,658004.38000000012,74678.52,21133.5,116488.18,34482.019999999997,46447.28,166392.34000000003,118203.52,0,1342125.9200000004]
[103,"GARDNER                      ",40,0,202,976,566,634,93,25,0,0,107,0,1009,511,2505,1,null,null,1210924.8000000003,1650469.55,12654171.140000001,2327062.9700000002,441776.03,1294237.3899999997,692877.73,596049.04999999993,3100111.36,2568371.1100000003,597630.25,27133681.380000003]
[104,"AQUINNAH",0,0,0,0,0,0,0,0,0,0,0,0,0,0,0,1,null,null,0,0,0,0,0,0,0,0,0,0,0,0]
[105,"GEORGETOWN                   ",29,0,78,514,364,412,51,14,0,0,2,4,87,57,1389,1,null,null,670182.09,914841.1399999999,5223754.2500000009,1263551.2499999998,201673.1,736235.12000000011,393036.24000000005,359335.64,1415973.86,1213597.1800000002,334672.94,12726852.809999999]
[106,"GILL                         ",0,0,0,0,0,0,0,0,0,0,0,0,0,0,0,1,null,null,0,0,0,0,0,0,0,0,0,0,0,0]
[107,"GLOUCESTER                   ",88,0,214,1175,702,875,121,31,0,0,98,129,854,495,3237,1.0389999999999999,null,null,1624543.0791199997,2215940.3725700001,15858112.11145,3084459.7356299991,565343.15282000008,1788878.7199999997,953210.06091999984,868697.20868999988,3993022.7924799994,3188548.6600000006,741061.51,34881817.403679989]
[108,"GOSHEN                       ",0,0,0,0,0,0,0,0,0,0,0,8,0,0,8,1,null,null,2918.4,5270.96,53172.08,3714.88,1662.16,9794.7999999999993,2934.64,3952.96,13203.6,8975.2000000000007,0,105599.68000000001]
[109,"GOSNOLD                      ",1,0,0,2,0,0,0,0,0,0,0,1,0,0,4,1,null,null,1276.81,2306.0500000000002,14199.33,2401.5,506.63,2317.5299999999997,916.41000000000008,800.22,3747.8,3012.4700000000003,0,31484.75]
[110,"GRAFTON                      ",107,0,246,1254,732,840,116,31,0,0,31,2,235,141,3159,1,null,null,1522338.4700000002,2081041.43,11969922.77,2923260.9799999995,460579.64999999997,1643661.9100000001,873666.85,767674.35,3232433.4600000004,2786455.65,741061.51,29002097.030000001]
[111,"GRANBY                       ",8,0,41,273,188,284,30,8,0,0,21,1,131,90,812,1,null,null,391894.08,535002.48,3463203.5599999996,729644.60000000009,126925.72000000002,440858.03999999992,235615.18,223614.31999999998,890873.42999999993,749501.38,191241.68,7978374.4699999979]
[112,"GRANVILLE                    ",0,0,0,0,0,0,0,0,0,0,0,0,0,0,0,1,null,null,0,0,0,0,0,0,0,0,0,0,0,0]
[113,"GREAT BARRINGTON             ",0,0,0,0,0,0,0,0,0,0,0,0,0,0,0,1,null,null,0,0,0,0,0,0,0,0,0,0,0,0]
[114,"GREENFIELD                   ",57,0,163,828,442,522,76,20,0,0,64,0,643,374,2048,1,null,null,988637.37,1349036.61,9734324.040000001,1908871.1199999999,346426.58,1058854.0699999998,563681.77999999991,486411.89999999997,2431007.2200000002,2033004.4200000002,478104.19999999995,21378359.310000002]
[115,"GROTON                       ",0,0,0,0,0,0,0,0,0,0,0,0,0,0,0,1.0309999999999999,null,null,0,0,0,0,0,0,0,0,0,0,0,0]
[116,"GROVELAND                    ",0,0,0,0,0,0,0,0,0,0,0,6,0,0,6,1,null,null,2188.8000000000002,3953.2200000000003,39879.06,2786.16,1246.6200000000001,7346.0999999999995,2200.98,2964.7200000000003,9902.7000000000007,6731.4000000000005,0,79199.760000000009]
[117,"HADLEY                       ",0,0,26,221,147,171,23,6,0,0,24,22,95,33,611,1,null,null,295909,402569.57,2578078.5400000005,556521.15,95402.8,337398.86,175138.4,161279.83000000002,673705.66,566721.31000000006,143431.26,5986156.3800000008]
[118,"HALIFAX                      ",1,0,78,401,99,7,22,6,0,0,4,2,131,18,592,1,null,null,286277.61,389721.61,2346501.0499999998,604311.6399999999,89831.7,269752,138855.62,85658.35,630755.05000000005,555883.54,143431.26,5540979.4299999988]
[119,"HAMILTON                     ",0,0,0,0,0,0,0,0,0,0,0,0,0,0,0,1.0289999999999999,null,null,0,0,0,0,0,0,0,0,0,0,0,0]
[120,"HAMPDEN                      ",0,0,0,0,0,0,0,0,0,0,0,0,0,0,0,1,null,null,0,0,0,0,0,0,0,0,0,0,0,0]
[121,"HANCOCK                      ",2,0,5,26,21,16,3,1,0,0,0,6,0,0,75,1,null,null,37431.220000000008,49415.259999999995,279865.11,70034.77,11007.230000000001,42765.119999999995,21250.329999999998,19306.2,78396.149999999994,66641.25,23905.21,700017.85]
[122,"HANOVER                      ",33,178,2,952,667,801,95,25,0,0,35,3,165,83,2566,1.0249999999999999,null,null,1268983.3227499998,1732590.3409999998,9935535.924499996,2384072.8277499992,382298.04249999992,1367569.75,751605.68599999999,696058.65024999995,2683329.98275,2241912.39,597630.25,24041587.167499997]
[123,"HANSON                       ",0,0,0,0,0,0,0,0,0,0,0,8,0,0,8,1,null,null,2918.4,5270.96,53172.08,3714.88,1662.16,9794.7999999999993,2934.64,3952.96,13203.6,8975.2000000000007,0,105599.68000000001]
[124,"HARDWICK                     ",0,0,0,0,0,0,0,0,0,0,0,1,0,0,1,1,null,null,364.8,658.87,6646.51,464.36,207.77,1224.3499999999999,366.83,494.12,1650.45,1121.9000000000001,0,13199.960000000001]
[125,"HARVARD                      ",1,43,1,315,265,408,38,10,0,2,6,0,31,8,1019,1.056,null,null,519785.67168000003,708290.76384000003,3980135.6390400007,948992.28864000004,152829.56832000002,565481.21,320566.76256,319587.25920000003,1072457.58048,866484.42000000016,239052.09999999998,9693663.2637600005]
[126,"HARWICH                      ",0,0,0,0,0,0,0,0,0,0,0,0,0,0,0,1,null,null,0,0,0,0,0,0,0,0,0,0,0,0]
[127,"HATFIELD                     ",0,0,26,163,75,105,15,4,0,0,0,12,27,24,381,1,null,null,186827.00000000003,251029.47,1507955.66,359123.55000000005,57068.179999999993,208840.97999999998,106416.12000000001,97540.97,402772.35000000009,344713.28,95620.84,3617908.4000000004]
[128,"HAVERHILL                    ",184,379,298,3165,1916,1847,301,80,0,19,536,51,2864,1162,8105,1,null,null,3915627.0099999993,5339485.3900000006,39120071.390000001,7527485.2599999998,1388454.11,4173673.2800000003,2239731.42,1885857.8900000004,9753219.2300000004,8131236.9099999992,1912416.7999999998,85387258.689999998]
[129,"HAWLEY                       ",0,0,0,0,0,0,0,0,0,0,0,5,0,0,5,1,null,null,1824,3294.35,33232.550000000003,2321.8000000000002,1038.8500000000001,6121.75,1834.1499999999999,2470.6,8252.25,5609.5,0,65999.8]
[130,"HEATH                        ",0,0,0,0,0,0,0,0,0,0,0,0,0,0,0,1,null,null,0,0,0,0,0,0,0,0,0,0,0,0]
[131,"HINGHAM                      ",31,210,35,1760,1030,1238,156,42,0,0,1,4,172,108,4189,1.0349999999999999,null,null,2097418.81635,2856266.9369999999,15920368.168049997,3982518.3950999998,619290.99765000003,2214040.8999999994,1219647.1981500001,1116794.6527499999,4346565.8381999992,3624089.8099999996,1004018.82,39001020.533249997]
[132,"HINSDALE                     ",0,0,0,0,0,0,1,0,0,0,0,14,0,0,14,1,null,null,7625,9224.18,101359.25,14258.21,3309.5600000000004,17490.719999999998,5135.62,6917.68,25918.809999999998,18892.830000000002,0,210131.86]
[133,"HOLBROOK                     ",36,1,74,469,279,274,43,12,0,0,53,0,367,199,1168,1.0289999999999999,null,null,580750.48773000005,791538.60638999997,5673837.0981599996,1116255.4441500001,203117.80859999999,597444.55000000005,330416.01599999995,279624.43194000004,1425356.4248699998,1158094.1500000001,286862.52,12443297.537840001]
[134,"HOLDEN                       ",0,0,0,0,0,0,0,0,0,0,0,1,0,0,1,1,null,null,364.8,658.87,6646.51,464.36,207.77,1224.3499999999999,366.83,494.12,1650.45,1121.9000000000001,0,13199.960000000001]
[135,"HOLLAND                      ",1,0,22,107,33,0,6,2,0,0,0,0,53,12,163,1,null,null,79422.41,107066.38,697517.91999999993,165371.04,26052.65,73155.3,38126.050000000003,23076.41,182818.30000000002,158709.87000000002,47810.42,1599126.75]
[136,"HOLLISTON                    ",22,163,10,981,644,774,95,25,0,6,50,10,126,54,2565,1.0509999999999999,null,null,1300788.61607,1775846.3965699996,10049528.365349999,2452569.3634100002,388627.80756000004,1365557.95,766967.96468000009,704169.5480699999,2729172.4157400001,2231087.6700000004,597630.25,24361946.347450003]
[137,"HOLYOKE                      ",139,0,416,1751,1047,1438,249,61,82,0,1468,408,3307,2026,6639,1,null,null,3202245.83,4373909.6000000006,39957773.149999999,6043004.8300000001,1331584.33,3688339.88,1916798.6099999996,1606635.29,9422943.0899999999,7595503.0600000005,1458217.81,80596955.480000004]
[138,"HOPEDALE                     ",13,1,61,389,255,344,40,11,0,0,18,2,102,49,1077,1.038,null,null,540728.18411999999,735884.06922000006,4368848.74608,1016072.91432,165364.47546000005,576324.82999999996,318954.32526000001,295776.42881999997,1160815.3192199999,955054.66,262957.31,10396781.262500001]
[139,"HOPKINTON                    ",16,1,213,1203,866,1148,130,35,2,0,47,2,64,49,3489,1.0880000000000001,null,null,1836589.7068800007,2500733.2819200004,13796478.253440002,3438468.8729600008,537324.21696000011,1873668.01,1090698.2726400001,1019777.3516800002,3770985.8809600002,2986231.07,836682.35,33687637.267440006]
[140,"HUBBARDSTON                  ",0,0,0,0,0,0,0,0,0,0,0,0,0,0,0,1,null,null,0,0,0,0,0,0,0,0,0,0,0,0]
[141,"HUDSON                       ",46,139,20,1060,701,752,103,27,0,17,124,0,564,243,2759,1.046,null,null,1394772.5811399999,1900754.0356200002,12381104.53046,2647264.1628799997,456615.14975999994,1439325.3699999996,813287.70866,719720.94804000005,3204254.2885200009,2587073.16,645440.66999999993,28189612.605080001]
[142,"HULL                         ",45,41,17,354,260,364,38,10,0,0,2,1,232,147,1042,1.0189999999999999,null,null,510123.68913999997,698915.89789999987,4716965.3373299986,949403.93039999984,170549.40840999997,564781.42000000004,307303.95695000002,293489.30261999997,1197013.9400599997,980141.83,239052.09999999998,10627740.812809998]
[143,"HUNTINGTON                   ",0,0,0,0,0,0,1,0,0,0,0,23,0,0,23,1,null,null,10908.2,15154.01,161177.84000000003,18437.45,5179.49,28509.87,8437.09,11364.76,40772.86,28989.93,0,328931.5]
[144,"IPSWICH                      ",28,0,103,689,458,550,70,18,0,0,37,14,170,99,1865,1.044,null,null,941603.10191999993,1282859.5683599999,7633025.2313999999,1783692.5832000002,290111.65811999998,995318.71,552207.5658000001,503521.61760000006,2038620.7000800001,1666922.3400000003,430293.77999999997,18118176.856480002]
[145,"KINGSTON                     ",2,0,126,760,177,16,41,11,0,0,7,5,161,19,1092,1.02,null,null,539872.96439999994,733875.77099999995,4177110.8441999992,1140955.1802000001,163577.451,499974.79,261676.2978,163234.89419999998,1148838.4542000003,1001656.7100000002,262957.31,10093730.667000001]
[146,"LAKEVILLE                    ",0,0,0,0,0,0,1,0,0,0,0,13,0,0,13,1,null,null,7260.2000000000007,8565.31,94712.74,13793.85,3101.79,16266.369999999999,4768.79,6423.56,24268.36,17770.93,0,196931.90000000002]
[147,"LANCASTER                    ",0,0,0,0,0,0,0,0,0,0,0,2,0,0,2,1,null,null,729.6,1317.74,13293.02,928.72,415.54,2448.6999999999998,733.66,988.24,3300.9,2243.8000000000002,0,26399.920000000002]
[148,"LANESBOROUGH                 ",20,0,19,134,36,0,7,2,0,0,0,1,64,6,200,1,null,null,95620.400000000023,131774.1,839234.36,201223.53,31353.690000000002,90689.920000000013,46735.030000000006,28323.8,220213.26,191888.37,47810.42,1924866.88]
[149,"LAWRENCE                     ",452,0,824,3872,2856,2769,558,148,178,0,4517,33,9077,4797,15186,1,null,null,7317427.6800000016,10005602.970000003,93623582.48999998,13895991.220000001,3112412.1300000004,7588061.0999999996,4293503.4899999993,3200562.5500000003,21847938.550000001,17713041.41,3537971.08,186136094.67000002]
[150,"LEE                          ",17,0,35,196,138,196,22,6,0,0,17,10,163,105,601,1,null,null,289560.97000000003,395651.52,2841996.93,539631.96,100828.47,329572.08,173575.96999999997,163107.17000000001,709477.26,587166.89,143431.26,6274000.4799999986]
[151,"LEICESTER                    ",21,0,93,601,375,426,60,15,0,0,21,71,364,198,1598,1,null,null,771603.2100000002,1052544.93,7252786.1199999992,1464861.3599999999,262182.23,887180.42999999993,453072.84999999992,416584.72,1853484.7100000002,1542535.74,358578.14999999997,16315414.450000001]
[152,"LENOX                        ",21,0,27,178,108,179,19,5,0,0,14,4,118,63,521,1,null,null,250305.81000000006,342941.93999999994,2336255.7600000002,468452.89,83795.55,284358.27000000008,150205.85000000003,142034.22000000003,588796.16000000003,492555.56,119526.04999999999,5259228.0599999996]
[153,"LEOMINSTER                   ",137,2,440,2079,1351,1295,239,55,0,0,337,702,1851,1042,6274,1,null,null,3028807.39,4133421.6399999997,31830678.669999998,5751488.8099999996,1116549.3900000001,3719120.33,1795572.01,1637764.44,7970378.629999999,6491326.2299999986,1314786.55,68789894.089999989]
[154,"LEVERETT                     ",0,0,21,68,15,0,4,1,0,0,0,0,27,2,104,1,null,null,50528.2,68522.48000000001,419487,108396.38000000002,15922.469999999998,46875.360000000001,23955.210000000003,13971.779999999999,111732.41,98835.030000000013,23905.21,982131.53]
[155,"LEXINGTON                    ",39,0,370,2352,1571,2121,256,68,0,0,415,0,248,179,6849,1.0820000000000001,null,null,3585856.6219800003,4882277.6439800002,27924563.461120002,6741979.588680001,1074675.3252600001,3640684.4799999995,2122776.0055800001,1927832.3036200004,7541363.6772800004,5996209.8099999987,1625554.28,67063773.197500005]
[156,"LEYDEN                       ",0,0,0,0,0,0,0,0,0,0,0,0,0,0,0,1,null,null,0,0,0,0,0,0,0,0,0,0,0,0]
[157,"LINCOLN                      ",32,0,66,337,183,0,23,6,0,0,16,0,38,4,618,1.0529999999999999,null,null,314281.45476000005,428762.45645999996,2240534.3231699993,647909.54162999999,92802.290489999999,278278.87999999995,158314.01157,97607.52962999999,651226.38633000012,548529.88,143431.26,5601678.0140399989]
[158,"LITTLETON                    ",65,103,17,565,396,483,57,15,2,1,9,1,111,56,1558,1.075,null,null,805276.63049999997,1102446.9107499998,6340284.016499999,1516746.9335,243364.41249999995,828063.14,476128.08874999988,438966.08049999998,1708003.9244999997,1360833.6099999999,358578.14999999997,15178691.897499997]
[159,"LONGMEADOW                   ",24,133,7,1014,697,967,105,28,0,3,32,13,84,64,2811,1,null,null,1359957.03,1851425.5000000005,10426357.690000001,2532138.12,402368.48,1529404.43,814970.51,778488.5,2826063.6099999994,2422466.7000000007,669345.88,25612986.450000003]
[160,"LOWELL                       ",642,1,1036,4302,2520,2724,564,147,0,0,4145,251,7543,3142,15300,1,null,null,7371419.8300000001,10080384.779999999,86615727.219999999,14121246.939999998,2933697.9,7799567.0199999996,4285869.82,3236875.05,20635760.800000001,16943338.5,3514065.8699999996,177537953.73000002]
[161,"LUDLOW                       ",34,0,149,930,625,834,100,26,0,0,60,65,568,356,2680,1,null,null,1294907.1400000001,1765771.77,12044185.850000001,2429210.1199999996,435414.98,1476842.55,771175.67999999993,722535.00000000012,3067967.8300000005,2557892.1599999997,621535.46,27187438.540000007]
[162,"LUNENBURG                    ",41,0,115,628,380,486,61,16,1,0,16,0,160,83,1647,1,null,null,794331.83000000019,1084500.2299999997,6404205.0899999999,1513266.3600000003,243261.59,868597.47,462154.18,417971.07999999996,1707048.76,1463429.8,382483.36,15341249.750000002]
[163,"LYNN                         ",266,0,836,5056,2967,3428,604,151,1,0,2844,771,8205,4686,16036,1,null,null,7750692.0800000001,10565311.220000001,94501926.949999988,14726843.189999999,3169398.13,8729378.7400000002,4565469.0799999991,3831791.3,22389559.590000004,18109799.560000002,3609686.71,191949856.55000001]
[164,"LYNNFIELD                    ",15,158,4,812,551,641,79,21,0,0,9,0,117,70,2104,1.0329999999999999,null,null,1052770.10149,1431669.72903,8115878.863429999,1986976.8119099999,314207.51702999999,1115613.2599999998,617127.59801000007,568583.43646999996,2204915.9082899997,1833341.9599999997,502009.41,19743094.595660001]
[165,"MALDEN                       ",309,1,416,2209,1390,1942,272,72,0,0,1266,16,2754,1681,7395,1.032,null,null,3677488.14,5027580.29256,39990640.005120002,6951290.3054400012,1381930.6425600001,3850442.7899999996,2174039.4974400001,1827835.02504,9700893.1792800017,7755860.6399999997,1721175.1199999999,84059175.637440011]
[166,"MANCHESTER                   ",0,0,0,0,0,0,0,0,0,0,0,0,0,0,0,1.032,null,null,0,0,0,0,0,0,0,0,0,0,0,0]
[167,"MANSFIELD                    ",93,218,8,1470,1126,1374,155,41,0,4,35,0,400,201,4171,1.0609999999999999,null,null,2137798.7037899997,2915435.8635099996,17248233.90518,3987964.0316899996,655656.18598999991,2238354.5900000003,1276866.25367,1201264.2318299999,4600997.1527399989,3688947.39,980113.61,40931631.918399997]
[168,"MARBLEHEAD                   ",27,166,27,1225,835,1020,123,33,1,11,97,0,225,131,3308,1,null,null,1598990.17,2178554.6799999997,12652911.140000001,3003508.11,484886.68,1756479.54,945103.74,867945.72000000009,3402631.6500000004,2912875.4899999998,788871.92999999993,30592758.849999998]
[169,"MARION                       ",20,0,46,306,67,3,16,4,0,0,5,2,74,12,439,1,null,null,210503.4,289244.02999999997,1678254.68,447558.64000000007,65121.57,199920.02000000002,102485.19000000002,62525.009999999995,457361.38000000006,405707.80999999994,95620.84,4014302.5699999994]
[170,"MARLBOROUGH                  ",44,1,258,1550,1171,1254,185,49,17,0,710,1,1558,730,4976,1.0660000000000001,null,null,2562713.0253399997,3494218.5449600001,25682827.900600001,4835847.363880001,912183.07570000039,2569934.3200000003,1509148.9920000003,1271928.6221200002,6401393.2351200003,4997854.55,1171355.29,55409404.919719994]
[171,"MARSHFIELD                   ",128,222,18,1543,1048,1330,156,41,1,5,18,57,399,229,4193,1.0229999999999999,null,null,2071832.6118600001,2825510.4708600002,16936777.186889999,3885845.83794,640238.64729000011,2281425.2000000002,1230924.5760899999,1158002.4762899999,4504033.4133300008,3739345.2499999995,980113.61,40254049.280549996]
[172,"MASHPEE                      ",92,0,106,593,421,474,62,16,0,0,48,0,355,153,1688,1,null,null,812171.72,1112173.02,7235799.2800000012,1543501.5400000003,266204.55,884164.43999999983,474899.85,421810.55,1868068.5800000003,1576898.41,382483.36,16578175.300000003]
[173,"MATTAPOISETT                 ",18,0,54,343,80,6,19,5,1,0,6,11,76,9,510,1,null,null,246293,335694.35999999993,1948318.8,518715.3,75699.28,239667.84,120803.26999999999,76903.13,533319.52,471208.00000000006,119526.04999999999,4686148.55]
[174,"MAYNARD                      ",10,1,104,546,339,346,52,14,0,0,41,2,208,73,1384,1.0629999999999999,null,null,713140.87972999993,968974.14210000006,5933125.0711899986,1369058.30094,223750.04085999998,715507.91999999993,407087.69181999995,352044.30810999987,1570536.5890299997,1262926.4000000001,334672.94,13850824.283779997]
[175,"MEDFIELD                     ",10,139,7,913,635,892,95,25,0,2,14,1,41,35,2538,1.028,null,null,1262196.4208400003,1718696.1146400003,9486013.3854400013,2350673.0234800004,368591.43543999997,1377627.4,757036.22367999994,725961.0070000001,2586733.794280001,2163884.4300000002,597630.25,23395043.4848]
[176,"MEDFORD                      ",101,1,337,1625,1041,1230,184,46,0,0,352,259,1176,667,4896,1.04,null,null,2459382.6608000002,3354175.9264000002,23998913.816799998,4658215.9312000014,857927.13760000025,2731372.86,1452234.5135999999,1302190.5,6072263.5584000004,4840643.2999999989,1099639.6599999999,52826959.864799984]
[177,"MEDWAY                       ",43,112,16,831,594,805,87,23,0,0,7,0,146,73,2331,1.0289999999999999,null,null,1159812.60255,1580026.73199,9076741.1374500003,2162528.97903,347576.27855999995,1260700.7,693965.58503999992,661813.80089999991,2439072.3997499999,2026602.29,549819.82999999996,21958660.335269995]
[178,"MELROSE                      ",20,0,282,1376,930,1016,139,37,0,0,114,4,432,241,3732,1.0289999999999999,null,null,1856899.0313999997,2530211.1252599997,15283922.333189998,3534770.0188500001,579208.29455999995,1950232.96,1076709.62616,951098.54657999985,4065288.8425799995,3373417.8800000008,884492.77,36086251.428580001]
[179,"MENDON                       ",0,0,0,0,0,0,0,0,0,0,0,2,0,0,2,1.022,null,null,745.65120000000002,1346.73028,13585.46644,949.15183999999999,424.68188000000004,2448.6999999999998,749.80052000000001,1009.9812800000001,3373.5198,2243.8000000000002,0,26877.483239999998]
[180,"MERRIMAC                     ",0,0,0,0,0,0,0,0,0,0,0,3,0,0,3,1,null,null,1094.4000000000001,1976.6100000000001,19939.53,1393.08,623.31000000000006,3673.0499999999997,1100.49,1482.3600000000001,4951.3500000000004,3365.7000000000003,0,39599.880000000005]
[181,"METHUEN                      ",121,0,425,2541,1709,1563,267,68,3,0,552,259,2199,1129,7112,1,null,null,3437557.0700000003,4685225.1900000004,34551332.449999996,6561139.7200000007,1229235.3,3816767.5599999996,1995782.9299999997,1714919.19,8675878.8699999992,7183286.7299999986,1625554.28,75476679.289999992]
[182,"MIDDLEBOROUGH                ",55,0,207,1284,821,839,120,32,0,0,20,18,778,326,3217,1,null,null,1556085.3499999999,2119255.6300000004,14042217.669999998,2977000.98,514503.8,1682753.4999999998,894301.08,790965.30000000016,3613907.3000000007,3044385.3000000007,764966.72,32000342.629999999]
[183,"MIDDLEFIELD                  ",0,0,0,0,0,0,0,0,0,0,0,1,0,0,1,1,null,null,364.8,658.87,6646.51,464.36,207.77,1224.3499999999999,366.83,494.12,1650.45,1121.9000000000001,0,13199.960000000001]
[184,"MIDDLETON                    ",63,0,80,480,126,0,26,7,0,0,11,0,54,1,729,1.0329999999999999,null,null,360356.70938999992,495826.68462999997,2620587.3401299994,761713.91187999991,105920.71067000001,327646.82999999996,175738.51553,104503.16608999998,743284.06591000012,646383.58000000007,167336.47,6509297.9842300005]
[185,"MILFORD                      ",55,1,279,1419,951,1086,157,42,0,0,429,28,924,461,4221,1.052,null,null,2146604.6955200001,2925014.1273599998,19871504.886399999,4071707.5614,722834.73352000013,2207173.48,1253900.6184799999,1076741.7144799998,5078097.3860399993,4061119.0699999994,1004018.82,44418717.093200006]
[186,"MILLBURY                     ",68,0,135,676,407,472,65,17,0,0,31,2,332,169,1757,1,null,null,847413.88,1157634.9300000002,7424079.5799999991,1625955.97,274543.08,916434.83,487812.8,428956.23000000004,1926958.0499999998,1634771.2400000002,406388.57,17130949.16]
[187,"MILLIS                       ",12,101,3,482,320,403,48,13,0,1,10,1,131,78,1277,1.0189999999999999,null,null,630834.11325000005,856692.34510999988,5127346.1169999996,1187161.83027,194123.76960999996,681270.6399999999,370869.75777999999,344430.02972000005,1362441.9767499999,1139687.3799999997,310767.73,12205625.68949]
[188,"MILLVILLE                    ",0,0,0,0,0,0,0,0,0,0,0,6,0,0,6,1,null,null,2188.8000000000002,3953.2200000000003,39879.06,2786.16,1246.6200000000001,7346.0999999999995,2200.98,2964.7200000000003,9902.7000000000007,6731.4000000000005,0,79199.760000000009]
[189,"MILTON                       ",87,328,18,1670,913,993,143,38,0,3,56,0,300,198,3860,1.032,null,null,1923120.86472,2623944.02544,15178504.234079998,3700203.2236800003,584256.92376000003,1997984.6900000002,1099036.63536,962492.2819200001,4099979.4868800002,3423584.54,908397.98,36501504.885839999]
[190,"MONROE                       ",0,0,1,4,3,0,0,0,0,0,0,0,0,0,8,1,null,null,2918.4,5270.96,23081.439999999999,5547.64,986.61,3498.16,1977.0900000000001,1255.06,6923.26,5938.16,0,57396.78]
[191,"MONSON                       ",40,0,62,361,298,351,40,11,1,0,3,0,212,79,1096,1,null,null,528046.62000000011,721792.28999999992,4589627.379999999,985349.77,169701.43,585114.16000000015,314373.58,292281.62,1190858.1199999999,1002810.4000000001,262957.31,10642912.68]
[192,"MONTAGUE                     ",0,0,0,0,0,0,0,0,0,0,0,0,0,0,0,1,null,null,0,0,0,0,0,0,0,0,0,0,0,0]
[193,"MONTEREY                     ",0,0,0,0,0,0,0,0,0,0,0,0,0,0,0,1,null,null,0,0,0,0,0,0,0,0,0,0,0,0]
[194,"MONTGOMERY                   ",0,0,0,0,0,0,0,0,0,0,0,3,0,0,3,1,null,null,1094.4000000000001,1976.6100000000001,19939.53,1393.08,623.31000000000006,3673.0499999999997,1100.49,1482.3600000000001,4951.3500000000004,3365.7000000000003,0,39599.880000000005]
[195,"MOUNT WASHINGTON             ",0,0,1,3,0,7,0,0,0,0,0,0,0,0,11,1,null,null,4012.8,7247.57,39452.350000000006,6349.96,1357.91,6646.5599999999995,3447.17,3939.87,9528.85,7860.4,0,89843.44]
[196,"NAHANT                       ",1,0,22,94,74,91,11,3,0,0,0,0,11,1,282,1,null,null,137940.41,185471.90999999997,1027821.0999999997,259247.91,40081.79,150815.19999999998,80647.489999999991,75121.34,281266.24999999994,242528.51,71715.63,2552657.5399999991]
[197,"NANTUCKET                    ",23,0,103,455,307,453,58,15,1,0,221,0,211,117,1552,1,null,null,749604.45000000019,1021907.4899999999,6611263.8600000013,1410605.8099999998,243516.77999999997,817349.06,446027.35,388384.28,1708867,1450347.5,358578.14999999997,15206451.73]
[198,"NATICK                       ",114,0,428,2069,1243,1528,201,54,0,0,89,3,363,186,5417,1.0449999999999999,null,null,2735979.0183000006,3729708.8311999994,21378635.15315,5224642.2233499996,822306.58125000005,2842268.5799999991,1580948.0736500002,1409049.5133,5771006.2509000003,4760596.6500000004,1290881.3399999999,51546022.215100005]
[199,"NEEDHAM                      ",44,345,4,2104,1322,1655,200,53,0,16,74,0,256,184,5362,1.0740000000000001,null,null,2784756.1379400007,3793941.0112200002,21533401.760940004,5256467.6318399999,831648.28062000021,2848611.48,1636915.3515000003,1509168.4537200001,5835986.5830000015,4671672.3200000012,1266976.1299999999,51969545.140780009]
[200,"NEW ASHFORD                  ",1,0,0,9,9,7,1,0,0,0,0,0,0,0,26,1,null,null,11820.21,16801.189999999999,88304,23388.870000000003,3582.7400000000007,13336.8,7289.9400000000005,6611.79,25141.21,21677.119999999999,0,217953.86999999997]
[201,"NEW BEDFORD                  ",533,0,1048,5510,2779,2174,485,129,1,0,1432,0,6808,3130,13211,1,null,null,6364942.5499999998,8703675.370000001,71984794.049999997,12502353.139999999,2469978.66,6516394.4499999983,3530187.07,2695448.4000000004,17332961.109999999,14310822.990000002,3083772.09,149495329.88]
[202,"NEW BRAINTREE                ",0,0,0,0,0,0,0,0,0,0,0,1,0,0,1,1,null,null,364.8,658.87,6646.51,464.36,207.77,1224.3499999999999,366.83,494.12,1650.45,1121.9000000000001,0,13199.960000000001]
[203,"NEWBURY                      ",0,0,0,0,0,0,0,0,0,0,0,2,0,0,2,1.0269999999999999,null,null,749.29919999999993,1353.3189799999998,13651.93154,953.79543999999999,426.75957999999997,2448.6999999999998,753.46881999999994,1014.92248,3390.0242999999996,2243.8000000000002,0,26986.020340000003]
[204,"NEWBURYPORT                  ",57,125,21,948,609,754,91,24,0,2,19,1,136,75,2445,1.034,null,null,1221278.1420400001,1665028.6928000001,9457724.7655000016,2306695.4981399998,364951.30298000004,1299136.4800000002,717645.27009999997,662114.3621400001,2561200.6908400003,2128652.5199999996,573725.04,22958152.764539998]
[205,"NEW MARLBOROUGH              ",0,0,0,0,0,0,0,0,0,0,0,0,0,0,0,1,null,null,0,0,0,0,0,0,0,0,0,0,0,0]
[206,"NEW SALEM                    ",0,0,0,0,0,0,0,0,0,0,0,0,0,0,0,1,null,null,0,0,0,0,0,0,0,0,0,0,0,0]
[207,"NEWTON                       ",199,0,807,4399,2724,3392,478,122,0,0,878,411,952,678,12711,1.0509999999999999,null,null,6460993.4818900004,8801671.1046300009,53821684.849569999,12247284.250159999,2028631.17191,6938584.209999999,3799853.5993900001,3399361.9777099993,14318797.788059998,11583000.620000001,2916435.62,126316298.67331998]
[208,"NORFOLK                      ",26,87,9,600,137,0,30,8,0,0,0,0,43,5,803,1.0369999999999999,null,null,402801.42261000001,548307.2583799999,2852967.56244,855635.79307999997,116365.72096999999,361404.33999999997,193288.05809000001,118008.38081999999,816579.45910999994,710606.37000000011,191241.68,7167206.0455]
[209,"NORTH ADAMS                  ",124,0,122,632,354,361,56,15,1,0,12,1,657,316,1545,1,null,null,742198.66000000015,1017625.34,7781224.4200000009,1440560.1300000001,271681.56999999995,790456.71000000008,419428.30000000005,355369.9,1906703.52,1580887.69,358578.14999999997,16664714.390000004]
[210,"NORTHAMPTON                  ",68,0,148,949,638,905,102,27,15,0,85,0,534,275,2767,1,null,null,1334016.3800000001,1822764.2700000003,11935798.640000001,2502056.3299999996,435882.64999999997,1482834.3599999999,794384.82000000007,736440.44,3058748.78,2575390,645440.66999999993,27323757.340000004]
[211,"NORTH ANDOVER                ",111,0,327,1721,1204,1453,179,48,0,0,67,6,529,283,4834,1,null,null,2334802.5100000002,3184648.7,19087540.429999996,4410876.6300000008,722535.12000000011,2562108.9699999997,1369568.92,1246934.26,5071434.8600000013,4324973.4400000004,1147450.08,45462873.919999987]
[212,"NORTH ATTLEBOROUGH           ",139,236,63,1772,1194,1235,168,45,0,2,105,0,554,257,4558,1,null,null,2198871.19,3002801.9099999997,18024668.359999999,4177235.2600000002,684749.70000000019,2375656.6199999996,1278072.92,1134368.2899999998,4805171.2800000012,4100993.1300000004,1075734.45,42858323.110000007]
[213,"NORTHBOROUGH                 ",16,135,16,899,660,9,65,17,0,10,89,1,171,14,1755,1,null,null,846502.90999999992,1155988.22,6250195.0799999991,1703386.1100000003,257628.79,793077.7300000001,442059.67,284638.59999999998,1808073.72,1578506.97,406388.57,15526446.370000001]
[214,"NORTHBRIDGE                  ",32,0,181,982,565,649,90,24,0,0,36,6,518,284,2435,1,null,null,1175317.52,1604348.6099999999,10543955.73,2254234.34,386864.16000000003,1271237.02,675335.00000000012,595497.5199999999,2715909.15,2295173.69,573725.04,24091597.779999997]
[215,"NORTH BROOKFIELD             ",21,0,45,263,147,169,23,6,0,0,0,0,170,66,635,1,null,null,304482.01,418053.12,2802467.9200000004,585908.87,101704.47999999998,329834.30999999994,175029.5,154362.22999999998,713696.03,601694.4,143431.26,6330664.1299999999]
[216,"NORTHFIELD                   ",0,0,0,0,0,0,0,0,0,0,0,2,0,0,2,1,null,null,729.6,1317.74,13293.02,928.72,415.54,2448.6999999999998,733.66,988.24,3300.9,2243.8000000000002,0,26399.920000000002]
[217,"NORTH READING                ",46,151,10,914,651,814,93,25,0,0,7,6,152,75,2501,1.052,null,null,1272167.5780400003,1733175.7018400005,9903396.3948000018,2380568.4119600002,380976.14024000004,1344219.5399999998,755476.54720000003,710087.49172000005,2674672.5698400005,2175970.23,597630.25,23928340.855640002]
[218,"NORTON                       ",35,136,43,981,671,812,97,26,0,1,16,1,330,161,2611,1,null,null,1261819.1300000001,1719651.56,10425704.26,2375169.04,392781.73,1389039.62,743324.96,687600.35000000009,2756490.6700000009,2343772.5499999989,621535.46,24716889.330000006]
[219,"NORWELL                      ",42,130,8,825,590,688,82,22,0,2,4,0,76,44,2202,1.0449999999999999,null,null,1113073.9752,1516120.0774499997,8397404.7090999987,2090727.8007,327765.29500000004,1172065.2100000002,656806.93209999998,609743.86275000009,2300053.9242999996,1893595.99,525914.62,20603272.396599997]
[220,"NORWOOD                      ",43,0,227,1243,723,1055,130,35,0,0,222,0,647,367,3492,1.0489999999999999,null,null,1771904.3248700001,2413166.6161800004,15897862.085890001,3352816.9050399996,580403.83250000002,1849005.3699999999,1040011.6434999998,933765.01072999998,4072910.5917599997,3281711.63,836682.35,36030240.360470004]
[221,"OAK BLUFFS                   ",8,0,46,209,116,0,16,4,0,0,59,0,138,24,434,1,null,null,208679.28000000003,285949.62,1916624.09,426214.92000000004,71650.850000000006,195372.33999999997,108148.65,64388.32,502803.99000000011,431071.35000000003,95620.84,4306524.25]
[222,"OAKHAM                       ",0,0,0,0,0,0,0,0,0,0,0,1,0,0,1,1,null,null,364.8,658.87,6646.51,464.36,207.77,1224.3499999999999,366.83,494.12,1650.45,1121.9000000000001,0,13199.960000000001]
[223,"ORANGE                       ",57,0,86,420,89,0,22,6,0,0,1,1,341,17,626,1,null,null,298681.36999999994,412123.47000000003,3007157.2599999993,635776.96,106038.43000000002,281995.78999999998,144206.87,84809.62999999999,744306.93,639139.17000000004,143431.26,6497667.1399999978]
[224,"ORLEANS                      ",5,0,31,187,0,0,8,2,0,0,2,0,46,9,223,1,null,null,106346.05000000002,146598.6,885235.72,234230.02000000002,33182.160000000003,100091.15999999999,49059.880000000005,27724.77,232846.26,209314.63,47810.42,2072439.67]
[225,"OTIS                         ",0,0,0,0,0,0,0,0,0,0,0,0,0,0,0,1,null,null,0,0,0,0,0,0,0,0,0,0,0,0]
[226,"OXFORD                       ",16,0,140,775,506,500,72,19,0,0,5,0,454,243,1934,1,null,null,934643.15999999992,1274254.6600000001,8442524.1899999995,1791957.18,310127.95000000007,1002052.2999999999,535860.93000000005,470757.8,2176266.7399999998,1833686.6600000001,454198.99,19226330.559999999]
[227,"PALMER                       ",16,0,103,597,384,392,56,15,0,0,17,0,505,178,1501,1,null,null,726328.76,988963.95000000019,6973204.3100000005,1390328.64,249730.51,778781.31,416788.39,366237.12,1752442.78,1465346.4800000002,358578.14999999997,15466730.400000002]
[228,"PAXTON                       ",0,0,0,0,0,0,0,0,0,0,0,0,0,0,0,1,null,null,0,0,0,0,0,0,0,0,0,0,0,0]
[229,"PEABODY                      ",247,0,383,2066,1245,1366,223,55,0,0,400,386,1416,799,5970,1,null,null,2877624.4699999997,3933125.6999999997,28150186.23,5481115.9100000001,1007386.69,3350504.66,1689595.9699999997,1500287.4000000001,7143550.25,5919423.6699999999,1314786.55,62367587.499999993]
[230,"PELHAM                       ",0,0,16,49,8,0,3,1,0,0,0,0,15,4,73,1,null,null,36701.600000000006,48097.51,291551.53000000003,78138.11,11146.880000000001,32970.17,16630.64,9541.91,78220.800000000017,69707.289999999994,23905.21,696611.65]
[231,"PEMBROKE                     ",19,180,23,1171,787,1044,119,31,0,2,13,40,345,221,3179,1.0269999999999999,null,null,1578692.9284099999,2150763.2210999997,13137004.85214,2955283.0095099998,492931.6342599999,1736889.7600000002,941142.16325999971,893938.20334000001,3466989.2307699993,2858755.49,741061.51,30953452.00279]
[232,"PEPPERELL                    ",0,0,0,0,0,0,0,0,0,0,0,0,0,0,0,1,null,null,0,0,0,0,0,0,0,0,0,0,0,0]
[233,"PERU                         ",0,0,0,0,0,0,0,0,0,0,0,8,0,0,8,1,null,null,2918.4,5270.96,53172.08,3714.88,1662.16,9794.7999999999993,2934.64,3952.96,13203.6,8975.2000000000007,0,105599.68000000001]
[234,"PETERSHAM                    ",0,0,9,45,4,0,2,1,0,0,0,0,28,5,58,1,null,null,28711.8,38214.460000000006,276764.89999999997,59626.359999999993,9750.1200000000008,26061.299999999996,13041.88,7547.81,68418.929999999993,59189.540000000008,23905.21,611232.30999999994]
[235,"PHILLIPSTON                  ",0,0,0,0,0,0,0,0,0,0,0,0,0,0,0,1,null,null,0,0,0,0,0,0,0,0,0,0,0,0]
[236,"PITTSFIELD                   ",164,0,466,2260,1340,1435,233,57,0,0,248,361,2403,1357,6192,1,null,null,2989005.2399999998,4079723.86,32437887.689999998,5720489.6699999999,1123166.2,3449721.55,1740830.56,1551525.6800000002,7951182.4900000012,6498981.6600000011,1362596.97,68905111.570000008]
[237,"PLAINFIELD                   ",0,0,0,0,0,0,0,0,0,0,0,3,0,0,3,1,null,null,1094.4000000000001,1976.6100000000001,19939.53,1393.08,623.31000000000006,3673.0499999999997,1100.49,1482.3600000000001,4951.3500000000004,3365.7000000000003,0,39599.880000000005]
[238,"PLAINVILLE                   ",15,0,85,520,89,0,26,7,1,0,10,0,101,21,713,1,null,null,342825.17,469115.52,2668488.7600000002,732705.25000000012,104181.04000000001,320431.64,163768.37,96757.099999999991,731062.8600000001,653670.9800000001,167336.47,6450343.1600000001]
[239,"PLYMOUTH                     ",138,517,20,3029,1978,1998,307,74,0,2,67,643,1653,869,8064,1.03,null,null,4017878.7856999999,5472185.5759000005,37782681.357299998,7593572.5252999999,1369519.9918000002,4663632.37,2379089.5092000002,2230462.8988000001,9737936.9516000003,7815914.0300000003,1768985.54,84831859.535599992]
[240,"PLYMPTON                     ",0,0,19,163,38,1,8,2,0,0,0,6,39,0,227,1,null,null,107987.60000000002,149563.49,867130.15,227604.96000000002,33596.229999999996,107043.7,53698.630000000005,34647.189999999995,236905.30000000005,208628.19,47810.42,2074615.8599999996]
[241,"PRINCETON                    ",0,0,0,0,0,0,0,0,0,0,0,0,0,0,0,1,null,null,0,0,0,0,0,0,0,0,0,0,0,0]
[242,"PROVINCETOWN                 ",1,0,8,44,32,39,5,1,0,0,5,0,31,12,129,1,null,null,61983.61,84664.800000000017,569354.31000000006,118561.35000000002,20710.660000000007,68170.73,36675.26,33299.35,145334.09,122202.9,23905.21,1284862.27]
[243,"QUINCY                       ",268,0,471,2930,1909,1313,357,79,0,0,1263,1275,3024,1899,9295,1.0429999999999999,null,null,4681588.3976400001,6387538.5035699997,52352563.762659997,8928675.2296700012,1816827.7958599997,5537330.5399999991,2768859.8599199997,2389339.2049099999,13005443.259409999,10080568.049999999,1888511.5899999999,109837246.19363996]
[244,"RANDOLPH                     ",62,1,204,1063,740,815,122,33,0,0,441,0,1179,586,3295,1.0309999999999999,null,null,1641448.1201299999,2237937.6034300001,17016391.703219999,3111809.9557799995,597380.98899999994,1697095.9200000002,958854.1872599998,803335.56975999987,4192092.3331400007,3372247.3,788871.92999999993,36417465.611719996]
[245,"RAYNHAM                      ",0,0,0,0,0,0,0,0,0,0,0,0,0,0,0,1,null,null,0,0,0,0,0,0,0,0,0,0,0,0]
[246,"READING                      ",30,291,27,1656,1075,1291,158,42,0,4,24,9,272,115,4245,1.024,null,null,2101203.8553599999,2863693.1481599999,16323695.677439999,3968092.1190400007,629265.7664000002,2257069.09,1233237.1865600001,1136398.3974400002,4417569.28,3703895.8499999996,1004018.82,39638139.190400004]
[247,"REHOBOTH                     ",0,0,0,0,0,0,0,0,0,0,0,2,0,0,2,1,null,null,729.6,1317.74,13293.02,928.72,415.54,2448.6999999999998,733.66,988.24,3300.9,2243.8000000000002,0,26399.920000000002]
[248,"REVERE                       ",93,0,338,2290,1597,1724,266,71,0,0,1136,3,3649,1950,7135,1.0189999999999999,null,null,3516737.2674699989,4790021.9411199996,41154569.527309999,6659233.5583199998,1395415.37996,3667442.5199999996,2059636.8549799998,1710528.84082,9792859.88215,7838116.4399999995,1697269.91,84281832.122129992]
[249,"RICHMOND                     ",0,0,5,40,25,52,5,1,0,0,0,1,32,3,123,1,null,null,59977.200000000012,81041.00999999998,547045.41999999993,112248.59000000003,19460.560000000001,69963.63,36650.540000000008,37230.26,136753.19,114636.57999999997,23905.21,1238912.1900000002]
[250,"ROCHESTER                    ",26,0,50,309,92,1,17,5,0,0,3,8,84,9,476,1,null,null,229036.65999999997,313622.25,1827219.53,477665.58999999997,71048.240000000005,220646.6,112881.27999999998,70601.840000000011,500107.31999999995,439810.2,119526.04999999999,4382165.5599999996]
[251,"ROCKLAND                     ",68,0,185,862,578,605,86,23,0,0,56,6,719,325,2326,1.0620000000000001,null,null,1192589.5521600002,1627548.9415200001,11468234.236140002,2279520.8305200008,411430.62006000004,1210631.2100000002,687439.21626000002,600398.13167999999,2888393.8815000001,2273066.5699999998,549819.82999999996,25189073.019840002]
[252,"ROCKPORT                     ",15,0,49,263,194,259,29,8,0,0,4,0,138,80,777,1.018,null,null,383201.61710000009,520821.65734000003,3351391.84192,716458.33198000002,123383.03538,417638.84,227205.67922000002,213287.76646000004,865821.69446000014,716371.7,191241.68,7726823.8438600004]
[253,"ROWE                         ",6,0,2,22,21,18,2,1,0,0,0,4,12,2,70,1,null,null,33089.46,46120.93,287701.56000000006,58403.26,10681.83,39179.549999999996,20151.05,18693.939999999999,75728.840000000011,62674.52,23905.21,676330.15]
[254,"ROWLEY                       ",0,0,0,0,0,0,0,0,0,0,0,2,0,0,2,1.0289999999999999,null,null,750.75839999999994,1355.9544599999999,13678.51758,955.65287999999998,427.59066000000001,2448.6999999999998,754.93613999999991,1016.8989599999999,3396.6261,2243.8000000000002,0,27029.435180000004]
[255,"ROYALSTON                    ",0,0,0,0,0,0,0,0,0,0,0,0,0,0,0,1,null,null,0,0,0,0,0,0,0,0,0,0,0,0]
[256,"RUSSELL                      ",0,0,0,0,0,0,1,0,0,0,0,14,0,0,14,1,null,null,7625,9224.18,101359.25,14258.21,3309.5600000000004,17490.719999999998,5135.62,6917.68,25918.809999999998,18892.830000000002,0,210131.86]
[257,"RUTLAND                      ",0,0,0,0,0,0,0,0,0,0,0,1,0,0,1,1,null,null,364.8,658.87,6646.51,464.36,207.77,1224.3499999999999,366.83,494.12,1650.45,1121.9000000000001,0,13199.960000000001]
[258,"SALEM                        ",61,1,348,1590,965,850,178,42,0,0,483,403,1679,1003,4671,1,null,null,2257532.62,3076923.21,24815655.539999999,4327448.22,860968.63000000012,2644526.9099999997,1316229.95,1131016.1500000001,6119341.6600000001,4988768.12,1004018.82,52542429.829999998]
[259,"SALISBURY                    ",0,0,0,0,0,0,0,0,0,0,0,6,0,0,6,1,null,null,2188.8000000000002,3953.2200000000003,39879.06,2786.16,1246.6200000000001,7346.0999999999995,2200.98,2964.7200000000003,9902.7000000000007,6731.4000000000005,0,79199.760000000009]
[260,"SANDISFIELD                  ",0,0,0,0,0,0,0,0,0,0,0,0,0,0,0,1,null,null,0,0,0,0,0,0,0,0,0,0,0,0]
[261,"SANDWICH                     ",61,167,4,1107,771,968,110,29,0,0,12,0,357,137,2977,1,null,null,1435621.28,1960798.2600000002,11755404.579999998,2690589.08,443608.51000000007,1593771.0199999998,853520.17000000016,800637.65,3112972.6999999997,2647629.9899999998,693251.09,27987804.329999994]
[262,"SAUGUS                       ",94,27,118,1046,729,782,105,28,0,3,88,29,632,284,2855,1.0129999999999999,null,null,1393895.9723099996,1904861.0027999999,12630276.429479999,2636904.4195399997,462474.84778999997,1512698.9599999997,816689.10919999983,730897.77451999998,3251017.4557999996,2695324.6500000004,669345.88,28704386.50144]
[263,"SAVOY                        ",0,0,5,22,24,11,2,1,0,0,0,0,13,4,62,1,null,null,30171.000000000004,40849.939999999995,248548.45,54968.700000000004,9539.5300000000007,30696.449999999997,16993.93,13901.52,66941.88,56336.060000000005,23905.21,592852.67000000004]
[264,"SCITUATE                     ",71,171,13,1151,787,917,111,30,0,0,17,1,212,103,3008,1.026,null,null,1489716.9313200004,2032735.1058000003,11648774.762640001,2804756.2442999999,448521.93288000009,1595082.49,876731.38451999996,807654.53916000004,3147650.2665000004,2628954.0399999996,717156.29999999993,28197733.99712]
[265,"SEEKONK                      ",8,102,6,733,531,581,72,19,0,0,25,0,304,113,1931,1,null,null,933549.70000000007,1272278.52,7852285.919999999,1755948.56,294610.14999999997,1021992.93,550381.27,505642.38000000006,2067386.3499999999,1751839.9100000001,454198.99,18460114.679999996]
[266,"SHARON                       ",15,187,23,1234,835,1134,128,34,0,1,85,0,173,92,3414,1.036,null,null,1712265.2030400001,2329337.10604,13331049.616359999,3203092.25404,511863.45084,1834489.4299999997,1019309.8328000001,956439.43723999988,3591937.22132,2972985.48,812777.14,32275546.17168]
[267,"SHEFFIELD                    ",0,0,0,0,0,0,0,0,0,0,0,7,0,0,7,1,null,null,2553.6,4612.09,46525.57,3250.52,1454.39,8570.4499999999989,2567.81,3458.84,11553.15,7853.3000000000011,0,92399.719999999987]
[268,"SHELBURNE                    ",0,0,0,0,0,0,0,0,0,0,0,0,0,0,0,1,null,null,0,0,0,0,0,0,0,0,0,0,0,0]
[269,"SHERBORN                     ",6,0,51,310,0,0,14,4,0,0,11,3,12,2,378,1.0249999999999999,null,null,187795.23149999999,255279.21224999998,1355784.1049999995,408986.95150000002,53679.680499999988,172546.81,86449.58649999999,49525.058249999995,377272.5085,337565.1,95620.84,3380505.0839999993]
[270,"SHIRLEY                      ",0,0,0,0,0,0,0,0,0,0,0,0,0,0,0,1.0449999999999999,null,null,0,0,0,0,0,0,0,0,0,0,0,0]
[271,"SHREWSBURY                   ",52,302,30,2185,1495,1795,225,58,0,18,167,135,606,325,5993,1,null,null,2898787.7,3948609.77,24100947.240000002,5440197.4900000002,907716.58,3276480.42,1722816.5599999998,1601840.2,6395772.4499999993,5416461.0999999996,1386502.18,57096131.690000013]
[272,"SHUTESBURY                   ",1,0,20,97,27,0,5,1,0,0,1,0,31,7,146,1,null,null,68185.209999999992,95865.59,571489.68000000005,145549.98999999996,21986.220000000005,65371.889999999992,34024.82,20435.099999999999,154282.79,135636.59,23905.21,1336733.0899999999]
[273,"SOMERSET                     ",17,0,153,992,645,0,67,18,0,0,3,0,320,38,1802,1,null,null,871200.37,1186954.3900000001,6717774.919999999,1775850.35,270260.47999999998,811179.92999999993,443209.34,282869.27,1896487.8699999999,1651178.5599999998,430293.77999999997,16337259.259999998]
[274,"SOMERVILLE                   ",315,0,380,1614,1043,834,202,48,0,0,891,476,2185,1404,5396,1.0289999999999999,null,null,2673065.7649499997,3658027.7651399998,31128875.233470004,5122387.1899199998,1065988.16646,3023422.1599999997,1563537.90222,1282575.2249099999,7574871.6579900002,5968557.1399999997,1147450.08,64208758.285060003]
[275,"SOUTHAMPTON                  ",17,0,51,314,64,0,19,4,0,0,13,39,76,7,490,1,null,null,236479.17000000004,322516.95,1995706.5900000003,498812.61000000004,75735.700000000026,251386.44999999998,118948.78,81087.429999999993,538965.67000000004,468026.45000000007,95620.84,4683286.6400000006]
[276,"SOUTHBOROUGH                 ",22,106,5,630,485,10,47,13,0,7,75,1,42,2,1274,1.0640000000000001,null,null,655043.32207999995,892772.20367999992,4588870.8784799995,1309763.9116800001,193717.20256000006,576716.34,343243.87832000002,221676.51576000004,1359599.5436799999,1121928.28,310767.73,11574099.806239998]
[277,"SOUTHBRIDGE                  ",51,0,93,794,539,597,90,24,0,0,387,1,1151,526,2437,1,null,null,1175864.9099999999,1605337.0100000002,13247673.65,2224235.7399999998,453203.70000000007,1254314.3800000001,690942.69999999984,576279.57000000007,3180532.1100000003,2608745.15,573725.04,27590853.959999993]
[278,"SOUTH HADLEY                 ",69,0,139,654,451,573,71,18,0,0,29,40,404,241,1921,1,null,null,924683.29,1265360.18,8519932.8300000001,1746826.5899999999,309436.53000000003,1046435.8099999999,547245.41,504312.23,2179134.81,1822521.7000000002,430293.77999999997,19296183.16]
[279,"SOUTHWICK                    ",0,0,0,0,0,0,0,0,0,0,0,0,0,0,0,1,null,null,0,0,0,0,0,0,0,0,0,0,0,0]
[280,"SPENCER                      ",0,0,0,0,0,0,0,0,0,0,0,6,0,0,6,1,null,null,2188.8000000000002,3953.2200000000003,39879.06,2786.16,1246.6200000000001,7346.0999999999995,2200.98,2964.7200000000003,9902.7000000000007,6731.4000000000005,0,79199.760000000009]
[281,"SPRINGFIELD                  ",1109,0,1953,9154,5511,6196,1077,273,1,0,4441,1159,15271,8630,28970,1,null,null,13966932.310000001,19086810.579999998,170195604.39000002,26642148.419999998,5708068.8199999994,15581906.560000001,8174076.6899999995,6818038.1700000009,40279420.480000004,32612902.68,6526122.3300000001,345592031.43000001]
[282,"STERLING                     ",0,0,0,0,0,0,0,0,0,0,0,0,0,0,0,1,null,null,0,0,0,0,0,0,0,0,0,0,0,0]
[283,"STOCKBRIDGE                  ",0,0,0,0,0,0,0,0,0,0,0,0,0,0,0,1,null,null,0,0,0,0,0,0,0,0,0,0,0,0]
[284,"STONEHAM                     ",34,0,153,858,601,683,89,23,0,0,50,16,376,201,2378,1.032,null,null,1186271.9668800002,1616930.4069599998,10198077.455999998,2248336.7378399996,380016.31151999999,1262754.2000000002,694444.29648000002,627621.67728000006,2669882.0090400004,2189627.15,549819.82999999996,23623782.041999996]
[285,"STOUGHTON                    ",96,0,275,1274,928,1045,138,37,0,0,153,1,860,492,3724,1.0329999999999999,null,null,1858502.4882799997,2534602.2278799997,17121662.755089998,3519946.5496399999,623604.79724999995,1951632.8499999999,1085806.7224099999,961886.32762999996,4376279.1811699998,3556212.05,884492.77,38474628.719349995]
[286,"STOW                         ",0,0,0,0,0,0,0,0,0,0,0,1,0,0,1,1.042,null,null,380.1216,686.54254000000003,6925.6634200000008,483.86312000000004,216.49634000000003,1224.3499999999999,382.23685999999998,514.87304000000006,1719.7689,1121.9000000000001,0,13655.815820000002]
[287,"STURBRIDGE                   ",33,0,111,674,131,0,34,9,0,0,0,1,152,25,934,1,null,null,448806.53,615055.30999999994,3523315.79,958673.41999999993,137225.14000000001,420872.67,214902.46,128137.68,963136.14999999991,858594.04,215146.88999999998,8483866.0799999982]
[288,"SUDBURY                      ",11,246,0,1554,1032,0,102,27,0,0,12,0,132,5,2727,1.0569999999999999,null,null,1394633.2502900003,1898805.7293799997,9616369.4418399986,2831737.9444199996,407921.45659999998,1227899.5799999998,713878.11865999992,462772.08278,2862522.1603999995,2388595.06,645440.66999999993,24450575.494369991]
[289,"SUNDERLAND                   ",6,0,17,111,24,0,6,2,0,0,20,0,56,12,175,1,null,null,83982.46,115302.28,777275.34000000008,173904.86000000004,28481.459999999995,78621.2,41674.639999999999,24077.75,199865.00000000003,173226.99,47810.42,1744222.4]
[290,"SUTTON                       ",36,0,100,540,378,443,55,15,0,0,8,3,99,71,1490,1,null,null,719798.3600000001,981716.47999999986,5653014.4900000002,1359980.8099999998,217461.68,789363.73,421215.36,383587.4,1526579.0300000003,1308527.1399999999,358578.14999999997,13719822.630000001]
[291,"SWAMPSCOTT                   ",25,0,139,795,501,599,79,21,0,0,73,0,232,154,2120,1,null,null,1024973.85,1396475.09,8468670.4099999983,1949857.5900000003,319936.43000000005,1111589.3,595778.85,530455.02,2245101.88,1917435.18,502009.41,20062283.009999998]
[292,"SWANSEA                      ",23,0,153,836,516,548,77,21,0,0,11,0,479,228,2076,1,null,null,1003887.0300000001,1367484.8,8996903.4199999999,1922456.0899999996,330294.65000000008,1078268.8999999999,575188.31000000006,506851.11000000004,2317784.3800000004,1957039.9699999997,502009.41,20558168.07]
[293,"TAUNTON                      ",270,0,567,3125,1919,1164,299,70,0,0,246,760,2889,1289,7916,1,null,null,3816827.7,5215616.2699999996,40368764.349999994,7403697.6899999995,1420012.01,4469606.33,2180647.15,1865525.9100000001,10111043.630000001,8270039.9999999991,1673364.7,86795145.73999998]
[294,"TEMPLETON                    ",0,0,0,0,0,0,0,0,0,0,0,0,0,0,0,1,null,null,0,0,0,0,0,0,0,0,0,0,0,0]
[295,"TEWKSBURY                    ",36,234,4,1390,994,1072,135,36,0,1,31,8,500,223,3635,1.0089999999999999,null,null,1772219.8290799998,2416216.3493299996,14719475.234399997,3338599.0167599991,555416.07727999985,1924042.1500000001,1041689.9956899999,953792.29256999993,3899122.0062799999,3280072.01,860587.55999999994,34761232.521389998]
[296,"TISBURY                      ",5,0,26,170,117,0,14,4,0,0,62,0,119,15,378,1,null,null,183032.45000000004,248723.45,1663413.22,366238.10000000003,62556.570000000007,169966.93,96018.91,57999.399999999994,438985.69000000006,374795.43,95620.84,3757350.99]
[297,"TOLLAND                      ",0,0,0,0,0,0,0,0,0,0,0,0,0,0,0,1,null,null,0,0,0,0,0,0,0,0,0,0,0,0]
[298,"TOPSFIELD                    ",37,79,0,409,88,0,20,5,0,0,2,0,19,0,558,1.032,null,null,274656.23232000001,378734.88744000002,1931623.0689599998,585678.53472000011,79166.164800000013,250556.37,133127.64911999999,80338.362000000008,555546.66312000004,487302.07999999996,119526.04999999999,4876256.0624799998]
[299,"TOWNSEND                     ",0,0,0,0,0,0,0,0,0,0,0,0,0,0,0,1,null,null,0,0,0,0,0,0,0,0,0,0,0,0]
[300,"TRURO                        ",18,0,11,75,51,51,7,2,0,0,0,0,41,6,197,1,null,null,94525.98000000001,129797.48000000001,803908.68,180117.77000000002,29993.539999999997,101971.89,54516.899999999994,47716.67,210477.89,179012.9,47810.42,1879850.1199999996]
[301,"TYNGSBOROUGH                 ",31,90,13,649,458,566,65,17,0,0,3,0,180,69,1750,1,null,null,844678.41,1152693.6700000002,6797904.2400000002,1584854.7500000002,258298.96999999997,936244.19000000006,501360.19000000006,469775.14,1812580.7799999998,1545333.66,406388.57,16310112.57]
[302,"TYRINGHAM                    ",0,0,1,12,3,11,1,0,0,0,0,1,0,0,28,1,null,null,12732.2,18448.36,105211.61000000002,25076.010000000002,3934.0099999999998,16266.53,8137.7699999999995,8234.02,27798.31,23894.82,0,249733.64]
[303,"UPTON                        ",0,0,0,0,0,0,0,0,0,0,0,2,0,0,2,1.028,null,null,750.02880000000005,1354.63672,13665.224560000001,954.7241600000001,427.17512000000005,2448.6999999999998,754.20248000000004,1015.9107200000001,3393.3252000000002,2243.8000000000002,0,27007.727760000002]
[304,"UXBRIDGE                     ",32,1,149,721,496,528,72,19,0,0,10,13,293,149,1934,1,null,null,934460.92999999993,1273925.31,7893659.4699999997,1780233.48,296241.86999999994,1019412.1499999999,541413.31000000006,483975.99000000005,2081330.64,1767219.8,454198.99,18526071.940000001]
[305,"WAKEFIELD                    ",100,217,12,1273,842,1051,124,33,0,2,31,5,286,146,3374,1.0509999999999999,null,null,1708874.0911099999,2336057.2165400004,13657564.911150001,3217643.83598,520811.62562999985,1798195.8900000001,1009447.42227,933630.79415999993,3655764.0112799997,2973387.69,788871.92999999993,32600249.418120001]
[306,"WALES                        ",1,0,17,109,22,0,6,1,0,0,0,2,49,5,151,1,null,null,72527.010000000009,99159.94,647256.37999999989,157801.14000000001,24025.88,69482.22,34981.26,21532.65,168979.97,147741,23905.21,1467392.6599999997]
[307,"WALPOLE                      ",21,246,16,1457,935,1194,143,38,2,8,93,0,414,232,3834,1.0369999999999999,null,null,1922790.3323900001,2619233.3726099995,15807026.465399999,3621448.4105299995,596391.37213999976,2039569.9700000004,1133906.9033599999,1044677.92726,4185110.2375499997,3439064.4700000007,908397.98,37317617.441239998]
[308,"WALTHAM                      ",108,0,276,1651,1041,975,201,48,0,0,873,428,1556,872,5298,1.0840000000000001,null,null,2774653.7491199998,3783912.0792000005,29345047.652279999,5278075.3813200006,1030118.3382800001,2979651.8099999996,1637118.7939600002,1383509.3300800002,7318109.1813200004,5541097.1699999999,1147450.08,62218743.565559998]
[309,"WARE                         ",46,0,98,551,358,329,51,14,0,0,15,1,512,191,1375,1,null,null,665257.46000000008,905946.48,6550737.6600000001,1279077.3099999998,233214.78999999998,706194.10999999987,377936.45,324607.57999999996,1636747.8499999999,1364714.3599999999,334672.94,14379106.989999996]
[310,"WAREHAM                      ",75,1,238,1121,670,469,107,25,0,0,14,264,943,494,2815,1,null,null,1358897.56,1854060.5599999998,14120316.800000001,2636219.9500000007,498757.15000000008,1598749.5499999998,776160.27,678796.41000000015,3550770.4300000006,2909074.02,597630.25,30579432.949999999]
[311,"WARREN                       ",0,0,0,0,0,0,0,0,0,0,0,0,0,0,0,1,null,null,0,0,0,0,0,0,0,0,0,0,0,0]
[312,"WARWICK                      ",0,0,0,0,0,0,0,0,0,0,0,0,0,0,0,1,null,null,0,0,0,0,0,0,0,0,0,0,0,0]
[313,"WASHINGTON                   ",0,0,0,0,0,0,0,0,0,0,0,1,0,0,1,1,null,null,364.8,658.87,6646.51,464.36,207.77,1224.3499999999999,366.83,494.12,1650.45,1121.9000000000001,0,13199.960000000001]
[314,"WATERTOWN                    ",55,0,191,867,555,709,97,25,0,0,177,63,478,230,2590,1.054,null,null,1319420.1245000004,1798275.9235600003,11940153.7314,2500337.2183000003,436115.24532000005,1401849.85,775778.92956000008,691906.58444000012,3073175.362100001,2453172.44,597630.25,26987815.659180008]
[315,"WAYLAND                      ",13,163,0,959,671,870,98,26,0,2,30,0,150,70,2620,1.0289999999999999,null,null,1304381.1858000001,1775623.2811799997,10140962.8299,2438678.3853599997,389915.97561000008,1407755.2800000003,776624.67140999995,731865.00302999991,2736185.5613399991,2277662.69,621535.46,24601190.323630001]
[316,"WEBSTER                      ",56,0,146,747,469,489,74,19,0,0,85,26,768,355,1990,1,null,null,960107.96,1311151.58,9931992.0799999982,1841815.34,348342.47000000003,1044817.27,553505.99,479336.68,2449461.7100000004,2027154.7899999998,454198.99,21401884.859999996]
[317,"WELLESLEY                    ",108,0,321,1920,1176,1503,188,50,0,0,100,7,190,121,5081,1.0680000000000001,null,null,2619575.7470400003,3575363.9026799998,20040603.223680001,4974385.6432799995,776725.29984000023,2687387.24,1529204.9277600001,1384036.8996000001,5451975.6882000007,4407158.7000000011,1195260.5,48641677.772080004]
[318,"WELLFLEET                    ",9,0,14,105,0,0,4,1,0,0,0,0,31,4,124,1,null,null,57641.89,81370.490000000005,498815.74,126762.26000000002,18461.839999999997,55402.17,27150.06,15392.869999999999,129551.78000000001,115795.43000000001,23905.21,1150249.74]
[319,"WENDELL                      ",0,0,0,0,0,0,0,0,0,0,0,0,0,0,0,1,null,null,0,0,0,0,0,0,0,0,0,0,0,0]
[320,"WENHAM                       ",0,0,0,0,0,0,0,0,0,0,0,0,0,0,0,1.0269999999999999,null,null,0,0,0,0,0,0,0,0,0,0,0,0]
[321,"WESTBOROUGH                  ",99,198,1,1170,839,1037,129,34,0,56,274,0,247,125,3498,1,null,null,1686293.49,2304399.5900000003,13645164.880000001,3161039.2700000005,519637.26000000007,1846558.06,1004365.64,898366.5,3646535.33,3118405.75,812777.14,32643542.910000004]
[322,"WEST BOYLSTON                ",29,0,53,323,204,220,34,8,0,0,17,64,131,79,896,1,null,null,432426.29000000004,590018.2300000001,3885728.0300000003,822832.22000000009,143010.91,511563.82999999996,254697.88999999998,234551.06,1015877.0000000001,848205.5199999999,191241.68,8930152.6600000001]
[323,"WEST BRIDGEWATER             ",16,61,3,395,272,304,38,10,0,0,8,3,148,105,1024,1,null,null,494227.97000000009,674353.83,4220339.8499999996,932613.99999999988,157924.44999999998,542961.1100000001,290511.82999999996,266477.39,1108794.67,937525.53,239052.09999999998,9864782.7299999986]
[324,"WEST BROOKFIELD              ",0,0,0,0,0,0,1,0,0,0,0,25,0,0,25,1,null,null,11637.8,16471.75,174470.86,19366.169999999998,5595.03,30958.569999999996,9170.75,12353,44073.760000000002,31233.730000000003,0,355331.41999999993]
[325,"WESTFIELD                    ",176,0,342,1931,1250,1302,210,51,0,0,225,436,1450,862,5574,1,null,null,2690542.76,3672542.2600000002,26924149.390000001,5104098.04,957369.22999999986,3195578.68,1588218.5099999998,1447082.24,6802149.1100000003,5593827.75,1219165.71,59194723.68]
[326,"WESTFORD                     ",49,255,11,1742,1315,1656,183,49,0,4,32,0,182,90,4911,1.016,null,null,2413305.5315200007,3286814.0918399994,18369613.623920001,4491815.74584,712634.74440000008,2645499.02,1443753.6885599999,1368843.8358400001,5000816.3635999998,4220547.4300000006,1171355.29,45124999.36552]
[327,"WESTHAMPTON                  ",5,0,15,82,23,0,6,1,0,0,2,12,14,1,137,1,null,null,67419.850000000006,89935.78,540563.17999999993,143320.42000000001,20995.63,71231.259999999995,33591.69,23408.340000000004,149642.26,130403.00000000003,23905.21,1294416.6200000001]
[328,"WESTMINSTER                  ",0,0,0,0,0,0,0,0,0,0,0,0,0,0,0,1,null,null,0,0,0,0,0,0,0,0,0,0,0,0]
[329,"WEST NEWBURY                 ",0,0,0,0,0,0,0,0,0,0,0,1,0,0,1,1,null,null,364.8,658.87,6646.51,464.36,207.77,1224.3499999999999,366.83,494.12,1650.45,1121.9000000000001,0,13199.960000000001]
[330,"WESTON                       ",14,0,134,758,562,708,84,22,0,0,80,0,61,45,2249,1.0489999999999999,null,null,1140600.9248600001,1554406.8363000001,8704886.4468399994,2140854.8389599998,338039.43178000004,1198563.1400000001,676835.75901999988,621565.29174000002,2372133.3237599996,1946006.34,525914.62,21219806.953260001]
[331,"WESTPORT                     ",65,0,109,630,431,338,57,15,0,0,7,1,319,145,1549,1,null,null,746175.05,1020260.52,6475006.3099999996,1442697.71,242515.65,786520.8,422132.57,355804.33,1702013.5800000003,1444228.6600000001,358578.14999999997,14995933.330000002]
[332,"WEST SPRINGFIELD             ",101,0,242,1321,845,1069,147,38,0,0,328,82,1384,818,3938,1,null,null,1902194.01,2594301.1299999994,20000790.66,3601025.7700000005,697518.54,2118188.7600000002,1120186.1399999999,991712.07,4910566.01,4046142.7399999998,908397.98,42891023.810000002]
[333,"WEST STOCKBRIDGE             ",0,0,0,0,0,0,0,0,0,0,0,0,0,0,0,1,null,null,0,0,0,0,0,0,0,0,0,0,0,0]
[334,"WEST TISBURY                 ",0,0,0,0,0,0,0,0,0,0,0,0,0,0,0,1,null,null,0,0,0,0,0,0,0,0,0,0,0,0]
[335,"WESTWOOD                     ",21,194,7,1167,801,985,116,31,0,4,30,0,115,75,3100,1.0609999999999999,null,null,1592366.2322299997,2166740.94826,12125192.338889997,2989906.3394599999,470919.39645999996,1654333.0300000003,940904.28534000006,876020.22024999978,3304615.8518000003,2677937.6700000004,741061.51,29539997.822689999]
[336,"WEYMOUTH                     ",112,379,52,2488,1455,1592,249,60,0,22,187,525,1379,740,6556,1.0349999999999999,null,null,3280382.7682500002,4470397.7197499992,31292848.684349999,6219840.1693500001,1127464.4263499998,3784541.2700000005,1938193.4434499997,1796987.5861500001,8016455.207249999,6407764.8499999996,1434312.5999999999,69769188.724899977]
[337,"WHATELY                      ",1,0,13,62,12,0,3,1,0,0,0,1,29,9,89,1,null,null,42356.010000000009,58310.000000000007,388874.42000000004,88969.610000000015,14265.07,40534.939999999995,20476.290000000005,12379.960000000001,100294.21,86888.12000000001,23905.21,877253.83999999985]
[338,"WHITMAN                      ",0,0,0,0,0,0,0,0,0,0,0,9,0,0,9,1,null,null,3283.2000000000003,5929.83,59818.590000000004,4179.24,1869.93,11019.15,3301.47,4447.08,14854.050000000001,10097.1,0,118799.64000000001]
[339,"WILBRAHAM                    ",0,0,0,0,0,0,0,0,0,0,0,0,0,0,0,1,null,null,0,0,0,0,0,0,0,0,0,0,0,0]
[340,"WILLIAMSBURG                 ",3,0,21,118,32,0,6,2,0,0,2,10,33,4,185,1,null,null,87448.030000000013,121561.53,732867.52,179219.46,27964.54,90646.049999999988,44505.18,29508.780000000002,198158.96000000002,171705.54,47810.42,1731396.01]
[341,"WILLIAMSTOWN                 ",13,0,60,267,58,0,15,4,0,0,5,0,80,14,397,1,null,null,192481.53000000003,261242.02000000002,1555310.9399999997,410376.21,59832.85,178624.91999999998,91752.07,53927.87999999999,419865.21,372388.29,95620.84,3691422.7599999993]
[342,"WILMINGTON                   ",67,0,205,1390,854,973,130,35,0,0,32,8,298,126,3496,1.0609999999999999,null,null,1793722.4302699997,2443568.3256199998,14155885.64969,3419968.9176800004,543196.27613000001,1835536.8699999999,1036743.9591099999,928520.95115999994,3813411.8235999993,3088304.2600000002,836682.35,33895541.813259996]
[343,"WINCHENDON                   ",84,0,88,510,405,394,53,14,1,0,18,0,408,236,1458,1,null,null,700389.46000000008,960303.45,6668765.25,1327898.98,241278.59999999998,759235.69,409155.73,362169.54,1693152.7999999998,1411512.0199999998,334672.94,14868534.459999999]
[344,"WINCHESTER                   ",33,281,11,1719,1074,1220,162,43,0,22,143,4,172,130,4340,1.038,null,null,2178782.5316400002,2967474.4771800004,16746746.958419999,4134686.8658399996,650681.41697999998,2277226.7699999996,1269661.9091400004,1136971.51464,4566881.9879400004,3792477.0499999993,1027924.0299999999,40749515.511779994]
[345,"WINDSOR                      ",0,0,0,0,0,0,0,0,0,0,0,3,0,0,3,1,null,null,1094.4000000000001,1976.6100000000001,19939.53,1393.08,623.31000000000006,3673.0499999999997,1100.49,1482.3600000000001,4951.3500000000004,3365.7000000000003,0,39599.880000000005]
[346,"WINTHROP                     ",26,0,139,643,479,517,72,19,2,0,148,6,370,169,1946,1.0209999999999999,null,null,958740.33889999997,1309086.5443599997,8540973.4543099981,1814944.6495399999,315039.16782000003,1016482.37,561954.29557999992,488304.47078999988,2211933.4226199999,1829343.93,454198.99,19501001.633919992]
[347,"WOBURN",163,0,349,1744,1045,1343,177,47,0,0,205,21,936,472,4789,1.05,null,null,2426375.3114999998,3312749.8005000004,21687321.411000002,4623191.1495000003,794734.4160000002,2524677.94,1411391.5619999997,1250803.5645000001,5581209.4065000005,4494531.1300000008,1123544.8699999999,49230530.561499998]
[348,"WORCESTER                    ",761,0,1250,6711,4128,4411,1022,248,642,0,8331,1919,12251,7400,27452,1,null,null,13211933.650000002,18086976.82,162527446.88999999,25003373.699999996,5470608.1500000004,15028961.049999999,7895615.8099999987,6170385.7000000002,38759689.210000001,31385023.660000004,5928492.0800000001,329468506.71999997]
[349,"WORTHINGTON                  ",3,0,4,35,29,30,5,1,0,0,0,15,13,4,115,1,null,null,56876.430000000008,75440.62999999999,501532.68,107277.93000000001,18508.16,71493.829999999987,33897.08,33522.170000000006,132764.98000000001,109652.49999999999,23905.21,1164871.5999999999]
[350,"WRENTHAM                     ",38,106,4,712,161,0,35,9,0,1,8,0,88,8,958,1.0169999999999999,null,null,467902.03122,641593.51874999993,3451451.0622300003,994121.91377999994,138535.98407999997,430930.44999999995,226619.95076999997,137973.31865999996,972159.31061999977,857762.00000000012,215146.88999999998,8534196.4301100001]
[351,"YARMOUTH                     ",0,0,0,0,0,0,0,0,0,0,0,0,0,0,0,1,null,null,0,0,0,0,0,0,0,0,0,0,0,0]
[406,"NORTHAMPTON SMITH            ",0,0,0,0,0,0,5,0,0,0,0,97,0,204,97,1,null,null,47974.6,63910.39,1105153.78,83828.76999999999,34360.870000000003,120511.05,35582.51,47929.64,259793.36,181041.09,0,1980086.0600000003]
[600,"ACTON BOXBOROUGH             ",100,285,14,1865,1341,1941,206,55,0,25,177,0,241,136,5544,1.04,null,null,2786406.0120000006,3798203.1984000006,21756967.086400002,5170804.1944000004,833211.93280000007,3005112.75,1679888.8392,1595383.4208,5846983.5319999997,4812209.8299999982,1314786.55,52599957.345999993]
[603,"ADAMS CHESHIRE               ",44,0,114,542,340,373,52,14,0,0,7,0,453,231,1398,1,null,null,676165.6399999999,921100.47999999986,6580069.4199999999,1296454.46,234890.2,727358.33000000007,387420.84,341079.39,1648312.6200000003,1375914.99,334672.94,14523439.310000001]
[605,"AMHERST PELHAM               ",0,0,0,0,461,966,58,15,0,0,61,44,137,278,1532,1,null,null,742673,1009388.84,6997472.1900000004,1214427.32,248231.47999999998,978268.14,523251.16,605846.87,1750412.9000000004,1405468.25,358578.14999999997,15834018.300000003]
[610,"ASHBURNHAM WESTMINSTER       ",60,0,132,826,547,680,83,22,0,0,38,0,333,194,2253,1,null,null,1086264,1484434.4100000001,9263675.6699999999,2054666.81,345411.93,1192616.27,637833.66999999993,580728.84,2423877.16,2056200.54,525914.62,21651623.919999998]
[615,"ATHOL ROYALSTON              ",50,0,117,637,416,502,63,17,0,0,20,0,544,294,1717,1,null,null,827786.1,1131280.0399999998,8118856.9500000002,1570507.77,288751.90000000002,904541.24,482989.69999999995,435799.37,2026280.0700000003,1685957.0400000003,406388.57,17879138.75]
[616,"AYER SHIRLEY",18,6,123,667,447,439,65,17,0,0,51,0,383,200,1739,1.038,null,null,872799.22752000019,1189314.5019,7838435.1916200006,1672308.9599400002,288737.95842000004,898331.38000000012,501436.32378000004,434613.83856,2026175.1695999999,1647625.7200000002,406388.57,17776166.841340002]
[618,"BERKSHIRE HILLS              ",18,0,76,354,245,331,41,10,0,0,31,40,184,122,1086,1,null,null,524580.78,715532.91,4769927.2300000004,986732.57000000007,173900.25000000003,607545.59999999998,313369.21000000002,293759.19,1228020.31,1026222.6600000001,239052.09999999998,10878642.810000001]
[620,"BERLIN BOYLSTON              ",0,0,0,0,229,298,20,5,0,0,6,0,38,20,533,1,null,null,257383.4,351177.70999999996,2111724.7599999998,425164.08,79586.490000000005,318247.57,178083.38999999998,197105.02000000002,558489.74,455946.18,119526.04999999999,5052434.3899999997]
[622,"BLACKSTONE MILLVILLE         ",61,1,127,687,440,472,66,18,0,0,42,0,335,198,1800,1,null,null,867771.02,1185307.44,7624581.4799999995,1658045.06,282500.22000000003,933575.8,499954.98000000004,436963.41,1982410.13,1678735.1800000002,430293.77999999997,17580138.500000004]
[625,"BRIDGEWATER RAYNHAM          ",80,1,336,2005,1374,1556,201,54,0,0,95,0,755,367,5407,1,null,null,2614331.0100000002,3562181.06,21839144.619999997,4954390.2699999996,821397.51,2842662.1999999997,1524208.29,1371698.32,5764019.0499999998,4904124.01,1290881.3399999999,51489037.679999992]
[632,"CHESTERFIELD GOSHEN",1,0,20,94,21,0,5,1,0,0,0,0,37,9,136,1,null,null,64537.210000000006,89276.89,562340.12999999989,139259.15,21166.610000000004,60999.189999999995,31316.89,18624.66,148531.44,130309.75999999998,23905.21,1290267.1399999999]
[635,"CENTRAL BERKSHIRE            ",50,0,101,569,447,552,63,17,1,0,6,0,375,197,1701,1,null,null,821766.92,1120408.69,7423019.8099999996,1537564.3800000001,270913.78000000003,910444.78999999992,487985.65000000008,455056.69,1901101.2599999998,1593029.0299999998,406388.57,16927679.569999997]
[640,"CONCORD CARLISLE             ",0,0,0,0,0,1292,49,13,0,0,9,0,0,62,1301,1.0589999999999999,null,null,667920.19559999998,907764.07233,5958653.8022999996,1044312.3583499999,198212.15103000001,925011.49000000011,504696.13376999996,677319.19124999992,1390930.3972199999,1074294.0699999998,310767.73,13659881.591850001]
[645,"DENNIS YARMOUTH              ",27,4,225,1217,798,936,127,34,0,0,217,0,1057,480,3409,1,null,null,1648786.9100000001,2245758.5499999998,16085455.540000001,3130024.63,573268.37,1780440.41,960788.51,842652.04,4022841.74,3357708.1999999997,812777.14,35460502.040000007]
[650,"DIGHTON REHOBOTH             ",57,0,170,1103,753,628,111,27,0,0,4,242,366,181,2929,1,null,null,1415773.7700000003,1929501.08,12304552.090000002,2697043.87,460254.53,1674617.22,826783.63,753824.81,3276328.89,2739362.0400000005,645440.66999999993,28723482.600000001]
[655,"DOVER SHERBORN               ",0,0,0,0,522,681,45,12,0,0,5,0,25,27,1208,1.0429999999999999,null,null,609313.299,830139.30327999999,4766820.4698099997,1001303.3527700001,182725.86094000001,722638.03,421400.41131999996,468313.08068999997,1282257.5143699998,1008240.5999999999,286862.52,11580014.44218]
[658,"DUDLEY CHARLTON              ",68,0,245,1422,1027,1068,144,38,4,0,72,0,684,329,3870,1,null,null,1870016.3599999999,2549827.2599999998,16112680.039999999,3551155.5999999996,600974.43000000005,2022820.5,1087906.49,968446.56,4217243.9700000007,3571242.0500000007,908397.98,37460711.239999987]
[660,"NAUSET                       ",0,0,0,0,540,710,48,13,0,0,24,0,166,218,1274,1,null,null,618341,839400.38,5618363.1800000006,1018610.8600000001,205307.34000000003,760156.03999999992,425492.62,469684.96,1440725.8599999999,1160451.3799999999,310767.73,12867301.350000001]
[662,"FARMINGTON RIVER",4,0,14,95,55,69,10,2,0,0,3,16,37,11,254,1,null,null,122872.84,167353,1077568.48,235665.28,39759.469999999994,145261.60999999999,72555.25,68041.539999999994,282084.38,237061.69999999998,47810.42,2496033.9699999997]
[665,"FREETOWN LAKEVILLE           ",19,170,5,1098,780,780,103,28,0,0,2,0,358,104,2760,1,null,null,1336499.29,1818152.7100000002,10792527.01,2526466.71,411524.68000000005,1447327.5699999998,778218.67999999993,705561.38,2887817.82,2462790.7400000002,669345.88,25836232.469999995]
[670,"FRONTIER                     ",0,0,0,0,205,358,21,6,0,0,3,0,56,81,566,1,null,null,274457.40000000002,372920.42,2451343.3000000003,445575.85000000003,88657.12000000001,348769.49999999994,192192.18,221215.93,622142.18999999994,502266.32000000007,143431.26,5662971.4700000007]
[672,"GATEWAY                      ",43,0,67,334,247,239,35,9,0,0,6,36,219,98,951,1,null,null,457526.02999999997,626256.14999999991,4221371.4000000004,868413.15,154000.77999999997,518910.35999999993,267795.18,241154.54000000004,1087612.3799999999,907278.08000000019,215146.88999999998,9565464.9400000013]
[673,"GROTON DUNSTABLE             ",21,135,10,867,649,880,93,25,0,1,10,0,127,42,2496,1.0309999999999999,null,null,1244515.5429799999,1694502.1119999997,9591394.10317,2308934.45946,369057.99719999993,1354189.6599999997,748242.01245000004,718305.3809499999,2589815.2022100003,2149674.38,597630.25,23366261.100419998]
[674,"GILL MONTAGUE                ",22,0,80,430,237,277,40,11,10,0,49,0,343,192,1089,1,null,null,525675.41999999993,717509.59000000008,5191663.16,1008690.6000000001,184590.31000000003,562856.4800000001,301303.28999999998,259110.05,1295339.69,1082179.5399999998,262957.31,11391875.439999999]
[675,"HAMILTON WENHAM              ",14,0,140,638,438,543,67,18,0,0,19,0,97,53,1785,1.0289999999999999,null,null,890271.39305999991,1210189.4275799999,6868155.2194499988,1684385.2983300001,265234.27853999997,946431.87,520154.06688,474585.20318999997,1861233.1896900001,1556601.8199999998,430293.77999999997,16707535.546719998]
[680,"HAMPDEN WILBRAHAM            ",71,0,167,1053,737,1108,116,31,0,0,10,31,338,223,3142,1,null,null,1516136.51,2069840.46,12676259.209999999,2820045.6999999993,472975,1729368.62,912421.67999999993,877891.95,3324991.97,2813431.2100000004,741061.51,29954423.82]
[683,"HAMPSHIRE                    ",0,0,0,0,241,487,28,7,0,0,6,0,50,75,734,1,null,null,355886.2,483610.57999999996,3094580.41,581755.76,112107.62,458525.33,250925.81999999998,293065.06,786703.42,639109.54,167336.47,7223606.21]
[685,"HAWLEMONT                    ",20,0,15,51,17,0,3,1,0,0,0,0,35,19,93,1,null,null,43997.8,61275.01,433874.81,91681.39,15721.450000000003,41715.669999999991,21682.15,12519.75,110327.46999999999,94153.800000000017,23905.21,950854.51]
[690,"KING PHILIP                  ",0,0,0,0,816,1356,82,22,0,0,2,0,62,76,2174,1.0169999999999999,null,null,1072860.1488000001,1456733.8974599999,8630164.9375199992,1752284.75562,323012.48202000005,1335083.94,749318.29793999984,859508.98685999983,2266702.1497799996,1824680.6,525914.62,20796264.816]
[695,"LINCOLN SUDBURY              ",0,0,0,0,0,1667,63,17,0,0,9,0,0,85,1676,1.0569999999999999,null,null,859160.04159999988,1167209.2888400001,7669968.4082699995,1341354.0025899999,255035.28540000002,1192273.9699999997,649145.21895999997,871896.83875,1789679.7809799998,1384293.47,406388.57,17586404.875390001]
[698,"MANCHESTER ESSEX",19,0,80,583,353,419,54,14,0,0,13,0,84,49,1458,1.032,null,null,725399.60088000004,991032.81984000013,5619319.7323199995,1382917.6680000001,217248.14663999999,766144.42999999993,421723.05383999995,380492.04287999996,1524494.4868800002,1272934.9999999998,334672.94,13636379.92128]
[700,"MARTHAS VINEYARD             ",0,0,0,0,0,570,29,6,0,0,16,144,0,156,730,1,null,null,354427,480975.1,3819691.77,566655.01,125094.59999999999,592242.30000000005,266598.69999999995,354900.72,905552.41000000015,705967.33,143431.26,8315536.1999999993]
[705,"MASCONOMET                   ",0,0,0,0,661,1346,75,20,0,0,6,0,17,42,2013,1.032,null,null,1004686.4688,1368747.0799200002,8052321.5181600014,1630555.42824,298643.14248000004,1259611.03,710983.38647999999,833352.11568000005,2095692.6993599997,1666029.3,478104.19999999995,19398726.369120002]
[710,"MENDON UPTON                 ",51,0,128,872,616,631,85,23,0,0,22,0,150,94,2295,1.028,null,null,1140007.2922800002,1554107.2391600001,8850977.5083999988,2164039.5618000003,343315.35180000006,1198606.4399999997,661633.72196,590580.51048000006,2409154.4220399996,2013392.2100000002,549819.82999999996,21475634.087919995]
[712,"MONOMOY",47,0,130,659,431,560,69,19,0,0,70,0,378,166,1874,1,null,null,905019.66999999993,1234393.18,8050010.5099999988,1709364.1300000001,294899.13,990290.35999999987,530651.49,478124.02999999997,2069419.1199999999,1747706.0699999998,454198.99,18464076.679999996]
[715,"MOUNT GREYLOCK               ",0,0,0,0,184,302,18,5,0,0,1,0,50,80,487,1,null,null,235566.99999999997,320869.69,2124183.91,383309.18,76953.05,298482.99,164919.21,188782.94999999998,540010.02999999991,435090,119526.04999999999,4887694.0600000005]
[717,"MOHAWK TRAIL                 ",20,1,74,310,256,285,35,9,0,0,3,0,199,120,939,1,null,null,453148.21,618349.6,4078442.8899999997,854522.17,149755.58000000002,497397.15,267064.18,244132.51,1050889.9499999997,881660.44,215146.88999999998,9310509.5699999984]
[720,"NARRAGANSETT                 ",28,0,92,444,340,406,49,13,0,0,1,14,307,152,1311,1,null,null,634356.68000000005,863778.71,5804150.2999999998,1192070.0100000002,211010.66999999998,707943.63000000012,374766.87,348035.63,1483431.6500000001,1240275.1600000004,310767.73,13170587.040000001]
[725,"NASHOBA                      ",128,222,20,1204,802,1041,120,32,0,0,35,0,174,119,3277,1.0389999999999999,null,null,1639706.8893000002,2243324.3708600001,12782054.270099996,3084313.4548200001,491763.52095999994,1748041.1099999999,970790.16949999996,899594.34650999994,3450923.1606099997,2850214.18,764966.72,30925692.192659996]
[728,"NEW SALEM WENDELL            ",18,0,16,80,16,0,4,1,0,0,0,0,61,13,121,1,null,null,56729.98000000001,79723.360000000001,585486.24,121351.74,20656.32,54309.04,27764.92,16110,144955.52000000002,124069.84000000001,23905.21,1255062.1700000002]
[730,"NORTHBORO SOUTHBORO          ",0,0,0,0,0,1473,56,15,0,0,19,0,0,106,1492,1,null,null,723045.4,983034.04,6528341.2199999997,1130752.72,216971.28,1058467.7699999998,545900.55999999994,730331.37,1522571.6800000002,1243283.7099999997,358578.14999999997,15041277.899999999]
[735,"NORTH MIDDLESEX              ",81,1,221,1261,883,1001,127,34,0,0,14,0,465,204,3422,1,null,null,1653347.42,2253994.6800000002,13663957.960000001,3132597.41,515507.74,1802960.5899999999,964500.61999999988,874004.31,3617492.1500000008,3080655.4800000004,812777.14,32371795.500000004]
[740,"OLD ROCHESTER                ",0,0,0,0,455,723,44,12,0,0,2,0,69,111,1180,1,null,null,571460.80000000005,777466.6,4826504.97,932538.34000000008,178557.54,721064.19,398950,455008.54000000004,1253007.7099999997,1018355.79,286862.52,11419777]
[745,"PENTUCKET                    ",80,148,6,961,717,772,95,25,0,0,3,0,203,82,2573,1,null,null,1240768.68,1695273.6500000001,9713405.0199999996,2335786.9500000002,374791.02,1360879.3899999997,731528.84,672059.48,2630059.41,2250490.5100000002,597630.25,23602673.200000003]
[750,"PIONEER                      ",37,0,43,268,182,239,27,7,0,0,0,0,171,98,751,1,null,null,359387.97,494482.12,3304090.3800000004,677526.80999999994,119929.47,400322.89,213367.57,197630.97999999998,841591.58000000007,705383.9,167336.47,7481050.1399999997]
[753,"QUABBIN                      ",77,0,154,790,562,669,82,22,0,0,5,0,474,292,2219,1,null,null,1071160.77,1461703.4800000002,9669963.0800000001,2025460.3400000003,353870.82000000007,1174294.6499999999,627321.74,572122.97,2483243.4300000002,2086590.0600000003,525914.62,22051645.960000001]
[755,"RALPH C MAHAR                ",0,0,0,0,248,449,26,7,0,0,2,0,137,247,699,1,null,null,338082.6,460550.13,3519471.01,550021.88,122283.93,432551.17999999993,237864.16999999998,275263.7,858116.66999999993,679175.69,167336.47,7640717.4299999988]
[760,"SILVER LAKE                  ",38,0,0,0,611,966,71,16,0,0,2,259,121,188,1857,1.02,null,null,914412.23159999994,1247992.2156,8663801.8476000018,1506519.7326000002,310013.598,1294150.94,645583.64279999991,752908.73639999994,2226338.0166000002,1724945.7600000005,382483.36,19669150.081200004]
[763,"SOMERSET BERKLEY",0,0,0,0,0,877,35,9,0,0,0,45,0,101,922,1,null,null,447128.80000000005,607478.14,4226072.37,699987.01,139631.36000000002,680923.73,338217.25999999995,455578.64,988506.88,795693.29,215146.88999999998,9594364.370000001]
[765,"SOUTHERN BERKSHIRE           ",20,0,65,266,162,236,28,7,1,0,8,5,167,97,753,1,null,null,362635.22000000003,495799.78,3341222.21,689234.59000000008,120851.54,404695.45999999996,213264.46999999997,196367.22,849022.92000000016,713128.99,167336.47,7553558.8699999992]
[766,"SOUTHWICK TOLLAND GRANVILLE",21,0,84,503,374,501,61,15,0,0,30,108,259,151,1611,1,null,null,778863.41000000015,1061110.24,7133362.5200000005,1446735.2699999996,259137.23,942014.47,472975.97000000003,459248.83,1839241.5100000002,1524029.7199999997,358578.14999999997,16275297.320000002]
[767,"SPENCER EAST BROOKFIELD      ",96,0,137,710,424,302,68,16,0,0,12,186,475,262,1819,1,null,null,875067.3600000001,1198485.01,8696773.6000000015,1692143.02,311834.16000000003,1044814.99,503354.6,442883.60000000003,2224060.89,1830399.8900000001,382483.36,19202300.48]
[770,"TANTASQUA                    ",0,0,0,0,500,738,64,12,0,0,1,372,150,336,1611,1,null,null,779045.60000000009,1061439.57,8321089.7700000014,1291869.58,289724.17000000004,1213253.27,553788.92999999993,655744.39,2104701.77,1625622.1,286862.52,18183141.670000002]
[773,"TRITON                       ",131,128,48,978,674,786,96,26,0,0,11,0,423,190,2627,1.0269999999999999,null,null,1299485.0675300001,1777247.4804499999,11033423.993149998,2453279.6069599991,412031.05462999997,1388296.49,762855.4664899999,696379.44076999987,2891402.1717099994,2386875.6999999997,621535.46,25722811.931689996]
[774,"UPISLAND",6,0,39,212,96,0,14,4,0,0,15,0,66,14,365,1,null,null,178472.46000000002,240487.58000000002,1415295.9899999998,368409.18000000005,55633.75,164501.05999999997,88321.17,54024.27,390398.97000000003,342055.87999999995,95620.84,3393221.15]
[775,"WACHUSETT                    ",77,348,71,2638,1857,2151,263,70,0,10,116,0,646,313,7051,1,null,null,3410454.2499999995,4645365.1100000003,27307160.140000001,6416182.1500000004,1042632.1600000001,3739334.84,2010127.3800000004,1847513.8,7316536.5399999991,6248113.1800000006,1673364.7,65656784.250000007]
[778,"QUABOAG",50,0,99,447,348,350,47,13,0,0,8,0,406,255,1277,1,null,null,616918.10000000009,841377.24,6072697.2299999995,1169121.6099999999,217025.88000000003,666665.08000000007,358094.42,318047.43000000005,1522957.2000000002,1263537.3099999998,310767.73,13357209.230000002]
[780,"WHITMAN HANSON               ",105,231,10,1562,1020,1193,147,39,0,4,8,0,697,324,3964,1,null,null,1914016.64,2611103.5099999998,16459396.1,3619169.8500000006,611756.51000000013,2097333.66,1121551.9099999999,1029845.9,4292938.87,3632943.8099999996,932303.19,38322359.950000003]
[801,"ASSABET VALLEY               ",0,0,0,0,0,0,35,0,0,0,0,743,0,402,743,1.0660000000000001,null,null,382874.58040000004,521850.07705999998,6454228.8215599991,657210.77837999992,205149.6213,921935.74999999988,290543.29954000004,391361.81656000001,1592047.3134800005,1056005.57,0,12473207.628280001]
[805,"BLACKSTONE VALLEY            ",0,0,0,0,0,0,57,0,0,0,0,1204,0,167,1204,1.028,null,null,599050.34640000004,815491.30544000003,9065813.5641200021,1029283.0776400001,290913.18544000003,1494057.14,454029.89296000003,611578.25344,2279651.4744000002,1578459.6800000002,0,18218327.919840004]
[806,"BLUE HILLS                   ",0,0,0,0,0,0,41,0,0,0,0,870,0,325,870,1.056,null,null,444159.72480000003,605317.04640000011,7170730.2057600003,762471.25152000005,228764.84928000005,1079527.1200000001,337014.0576,453957.92640000005,1782143.7849600001,1196359.1800000002,0,14060445.146720001]
[810,"BRISTOL PLYMOUTH             ",0,0,0,0,0,0,64,0,0,0,0,1346,0,494,1346,1,null,null,652160,886839.02,10492320.859999999,1121487.44,334859.42000000004,1670363.5799999998,493753.18,665085.52,2608882.6000000006,1850295.6600000001,0,20776047.279999997]
[815,"CAPE COD                     ",0,0,0,0,0,0,31,0,0,0,0,652,0,281,652,1,null,null,315901.40000000002,429583.24,5168092.57,543234.99,164699.64000000001,809120.62,239173.16,322166.24,1281242.2000000002,907782.64,0,10180996.700000001]
[817,"ESSEX NORTH SHORE",0,0,0,0,0,0,37,0,0,0,0,789,0,321,789,1,null,null,380985.80000000005,519848.43,6210650.7000000011,653395.33000000007,197961.61,978955.48999999987,289428.87,389860.68,1541020.5100000002,1091636.7200000002,0,12253744.140000001]
[818,"FRANKLIN COUNTY              ",0,0,0,0,0,0,23,0,0,0,0,478,0,251,478,1,null,null,232283.8,314939.86,3883531.7500000005,400378.99,123546.82,593285.15999999992,175344.74,236189.36000000002,958970.12,678804.90000000014,0,7597275.5000000019]
[821,"GREATER FALL RIVER           ",0,0,0,0,0,29,70,0,0,0,0,1445,0,775,1474,1,null,null,713961.2,971174.38,11890571.660000002,1227468.54,378287.18000000005,1813962.7099999997,540707.41999999993,728332.88,2932687.43,2078044.7600000002,0,23275198.160000004]
[823,"GREATER LAWRENCE             ",0,0,0,0,0,2,71,0,0,0,0,1488,0,1070,1490,1.073,null,null,775044.85340000002,1053381.5899,13610879.31951,1333369.3193099999,431212.81923999998,1848069.2999999998,586476.79909999995,789984.23239999998,3333271.1200500005,2192214.81,0,25953904.162909999]
[825,"GREATER NEW BEDFORD          ",0,0,0,0,0,0,102,0,0,0,0,2143,0,1229,2143,1,null,null,1038582,1411958.41,17614575.91,1786354.8199999998,559649.45000000007,2659463.69,786116.69,1058899.1599999999,4339712.28,3068320.5500000003,0,34323632.960000001]
[828,"GREATER LOWELL               ",0,0,0,0,0,49,104,0,0,0,0,2146,0,1284,2195,1,null,null,1062587.2000000002,1446219.65,17955645.670000002,1826015.8800000001,570522.25,2698118.7399999998,805191.85,1084593.3999999999,4416588.7300000004,3127082.47,0,34992565.840000004]
[829,"SOUTH MIDDLESEX              ",0,0,0,0,0,15,34,0,0,0,0,690,0,444,705,1.06,null,null,363356.55200000003,492373.55099999998,6189276.7710000006,626584.63480000012,196558.92700000003,867189.97999999986,274132.05900000001,369255.87599999999,1520093.6890000002,1015308.7100000002,0,11914130.749800004]
[830,"MINUTEMAN                    ",0,0,0,0,0,0,20,0,0,0,0,414,0,211,414,1.0820000000000001,null,null,217896.62240000002,295139.49875999999,3625882.8207600005,375874.29208000004,115400.06080000002,513877.3,164320.76484000002,221340.06576,896017.38957999996,586408.21000000008,0,7012157.0249800012]
[832,"MONTACHUSETT                 ",0,0,0,0,0,0,71,0,0,0,0,1486,0,460,1486,1,null,null,720856.60000000009,979080.82,11411172.07,1240798.0299999998,364718.80000000005,1844221.3199999998,545109.38,734262.32,2845360.31,2020284.3300000003,0,22705863.98]
[851,"NORTHERN BERKSHIRE           ",0,0,0,0,0,0,23,0,0,0,0,475,0,187,475,1,null,null,231189.4,312963.25,3732172.0600000005,398985.91000000003,119095.03,589612.11,174244.25,234707,927152.21,657780.96000000008,0,7377902.1800000016]
[852,"NASHOBA VALLEY               ",0,0,0,0,0,0,33,0,0,0,0,704,0,214,704,1.016,null,null,345345.10560000007,471265.99167999998,5479030.7792800004,592222.38680000009,175054.05680000002,873486.46,262380.29311999999,353426.24767999997,1366077.7250400002,954007.93,0,10872296.976]
[853,"NORTHEAST METROPOLITAN       ",0,0,0,0,0,0,59,0,0,0,0,1233,0,636,1233,1.0509999999999999,null,null,628864.37860000005,853818.43220999988,10500870.13116,1082770.5844099999,334083.41944999999,1530262.9299999997,475368.76088999992,640321.70795999991,2593793.7783799996,1746769.0300000003,0,20386923.15306]
[855,"OLD COLONY                   ",0,0,0,0,0,0,23,0,0,0,0,479,0,151,479,1,null,null,232648.6,315598.73,3684834.2600000002,400843.35,117772.59,594509.50999999989,175711.56999999998,236683.48,918641.57000000007,652335.80000000016,0,7329579.46]
[860,"PATHFINDER                   ",0,0,0,0,0,0,28,0,0,0,0,588,0,306,588,1,null,null,285000.8,387415.56,4769127.6000000006,490244.44,151695.52000000002,729712.75999999989,215696.03999999998,290542.56,1177670.6199999999,833320.10000000009,0,9330426]
[871,"SHAWSHEEN VALLEY             ",0,0,0,0,0,0,66,0,0,0,0,1389,0,265,1389,1.0089999999999999,null,null,678937.93799999997,923406.96386999998,10417419.743249999,1167381.9833399998,333874.37678999995,1723710.27,514112.61182999995,692509.67411999998,2612649.1655400004,1841726.43,0,20905729.156739995]
[872,"SOUTHEASTERN                 ",0,0,0,0,0,0,67,0,0,0,0,1416,0,775,1416,1,null,null,685249.4,932959.92,11559517.529999999,1177264.1499999999,367415.08,1757117.5399999998,519431.27999999997,699673.92,2850812.62,2015918.06,0,22565359.5]
[873,"SOUTH SHORE                  ",0,0,0,0,0,0,28,0,0,0,0,588,0,209,588,1.0249999999999999,null,null,292125.81999999995,397100.94899999996,4684192.5180000002,502500.55099999998,149540.3045,729712.75999999989,221088.44099999996,297806.12399999995,1165374.7647499999,806556.83000000007,0,9245999.0622499995]
[876,"SOUTHERN WORCESTER           ",0,0,0,0,0,0,55,0,0,0,0,1148,0,390,1148,1,null,null,557269.4,756382.76,8887981.1300000008,959729.63,283892.66000000003,1424793.9,421120.83999999997,567249.76,2213122.75,1570788.75,0,17642331.580000002]
[878,"TRI COUNTY                   ",0,0,0,0,0,0,45,0,0,0,0,954,0,321,954,1.0389999999999999,null,null,479311.68779999996,653075.89721999993,7661367.5294699995,822962.90151,244632.4461,1183771.7999999998,363604.09697999997,489774.70871999994,1907442.7887599999,1302240.0600000003,0,15108183.91656]
[879,"UPPER CAPE COD               ",0,0,0,0,0,0,34,0,0,0,0,722,0,236,722,1,null,null,348990.80000000005,475704.14,5565867.7999999998,599011.69999999995,177753.97999999998,895874.58,264851.26,356754.64,1386320.6800000002,983458.38000000012,0,11054587.960000001]
[885,"WHITTIER                     ",0,0,0,0,0,0,56,0,0,0,0,1169,0,520,1169,1,null,null,567448,770219.03,9302813.1500000004,977238.36,296433.21000000002,1450855.0699999998,428824.26999999996,577626.28,2305167.41,1633403.18,0,18310027.960000001]
[910,"BRISTOL COUNTY               ",0,0,0,0,0,0,18,0,0,0,0,384,0,112,384,1,null,null,185403.6,253006.08000000002,2931791.0999999996,317943.3,93697.56,476447.16,140862.72,189742.08000000002,731414.46000000008,519063.66000000003,0,5839371.7199999997]
[915,"NORFOLK COUNTY               ",0,0,0,0,0,0,13,0,0,0,0,271,0,74,271,1.0369999999999999,null,null,136461.11139999999,185160.25948999997,2137427.2753999997,235072.10649000001,68382.362129999994,336346.50999999995,103089.13440999998,138861.06123999998,533950.30448000005,365873.23000000004,0,4240623.3550399998]
[999,"STATE TOTAL",{"$f":"SUM(C10:C447)","v":20388},{"$f":"SUM(D10:D447)","v":14182},43907,315823,203998,235474,35349,8830,2495,495,76696,47324,235513,141297,942121,1,null,null,{"$f":"SUM(U10:U447)","v":465078667.89662039},{"$f":"SUM(V10:V447)","v":634578503.25992966},4594296186.9884901,879474086.37449062,163824663.87563008,523304276.82000011,275252164.93133992,245879671.53015006,1158885040.1300495,938520996.93999898,211083004.30000007,10090177263.046698]

{"sheet":"leas","index":18,"n_rows":445,"n_cols":6,"rows_kept":445,"cut":false,"hidden":true,"merged":[[1,0,1,4]]}
[]
["leas"]
[26,63]
["lea_order","reg_order","lea_list and reg_list ","LEA","District"]
[1,null,{"$f":"PROPER(D5&\" \"&E5)","v":"1 Abington"},1,"ABINGTON"]
[2,null,{"$f":"PROPER(D6&\" \"&E6)","v":"2 Acton"},2,"ACTON"]
[3,null,"3 Acushnet",3,"ACUSHNET"]
[4,null,"4 Adams",4,"ADAMS"]
[5,null,"5 Agawam",5,"AGAWAM"]
[6,null,"6 Alford",6,"ALFORD"]
[7,null,"7 Amesbury",7,"AMESBURY"]
[8,null,"8 Amherst",8,"AMHERST"]
[9,null,"9 Andover",9,"ANDOVER"]
[10,null,"10 Arlington",10,"ARLINGTON"]
[11,null,"11 Ashburnham",11,"ASHBURNHAM"]
[12,null,"12 Ashby",12,"ASHBY"]
[13,null,"13 Ashfield",13,"ASHFIELD"]
[14,null,"14 Ashland",14,"ASHLAND"]
[15,null,"15 Athol",15,"ATHOL"]
[16,null,"16 Attleboro",16,"ATTLEBORO"]
[17,null,"17 Auburn",17,"AUBURN"]
[18,null,"18 Avon",18,"AVON"]
[19,null,"19 Ayer",19,"AYER"]
[20,null,"20 Barnstable",20,"BARNSTABLE"]
[21,null,"21 Barre",21,"BARRE"]
[22,null,"22 Becket",22,"BECKET"]
[23,null,"23 Bedford",23,"BEDFORD"]
[24,null,"24 Belchertown",24,"BELCHERTOWN"]
[25,null,"25 Bellingham",25,"BELLINGHAM"]
[26,null,"26 Belmont",26,"BELMONT"]
[27,null,"27 Berkley",27,"BERKLEY"]
[28,null,"28 Berlin",28,"BERLIN"]
[29,null,"29 Bernardston",29,"BERNARDSTON"]
[30,null,"30 Beverly",30,"BEVERLY"]
[31,null,"31 Billerica",31,"BILLERICA"]
[32,null,"32 Blackstone",32,"BLACKSTONE"]
[33,null,"33 Blandford",33,"BLANDFORD"]
[34,null,"34 Bolton",34,"BOLTON"]
[35,null,"35 Boston",35,"BOSTON"]
[36,null,"36 Bourne",36,"BOURNE"]
[37,null,"37 Boxborough",37,"BOXBOROUGH"]
[38,null,"38 Boxford",38,"BOXFORD"]
[39,null,"39 Boylston",39,"BOYLSTON"]
[40,null,"40 Braintree",40,"BRAINTREE"]
[41,null,"41 Brewster",41,"BREWSTER"]
[42,null,"42 Bridgewater",42,"BRIDGEWATER"]
[43,null,"43 Brimfield",43,"BRIMFIELD"]
[44,null,"44 Brockton",44,"BROCKTON"]
[45,null,"45 Brookfield",45,"BROOKFIELD"]
[46,null,"46 Brookline",46,"BROOKLINE"]
[47,null,"47 Buckland",47,"BUCKLAND"]
[48,null,"48 Burlington",48,"BURLINGTON"]
[49,null,"49 Cambridge",49,"CAMBRIDGE"]
[50,null,"50 Canton",50,"CANTON"]
[51,null,"51 Carlisle",51,"CARLISLE"]
[52,null,"52 Carver",52,"CARVER"]
[53,null,"53 Charlemont",53,"CHARLEMONT"]
[54,null,"54 Charlton",54,"CHARLTON"]
[55,null,"55 Chatham",55,"CHATHAM"]
[56,null,"56 Chelmsford",56,"CHELMSFORD"]
[57,null,"57 Chelsea",57,"CHELSEA"]
[58,null,"58 Cheshire",58,"CHESHIRE"]
[59,null,"59 Chester",59,"CHESTER"]
[60,null,"60 Chesterfield",60,"CHESTERFIELD"]
[61,null,"61 Chicopee",61,"CHICOPEE"]
[62,null,"62 Chilmark",62,"CHILMARK"]
[63,null,"63 Clarksburg",63,"CLARKSBURG"]
[64,null,"64 Clinton",64,"CLINTON"]
[65,null,"65 Cohasset",65,"COHASSET"]
[66,null,{"$f":"PROPER(D70&\" \"&E70)","v":"66 Colrain"},66,"COLRAIN"]
[67,null,"67 Concord",67,"CONCORD"]
[68,null,"68 Conway",68,"CONWAY"]
[69,null,"69 Cummington",69,"CUMMINGTON"]
[70,null,"70 Dalton",70,"DALTON"]
[71,null,"71 Danvers",71,"DANVERS"]
[72,null,"72 Dartmouth",72,"DARTMOUTH"]
[73,null,"73 Dedham",73,"DEDHAM"]
[74,null,"74 Deerfield",74,"DEERFIELD"]
[75,null,"75 Dennis",75,"DENNIS"]
[76,null,"76 Dighton",76,"DIGHTON"]
[77,null,"77 Douglas",77,"DOUGLAS"]
[78,null,"78 Dover",78,"DOVER"]
[79,null,"79 Dracut",79,"DRACUT"]
[80,null,"80 Dudley",80,"DUDLEY"]
[81,null,"81 Dunstable",81,"DUNSTABLE"]
[82,null,"82 Duxbury",82,"DUXBURY"]
[83,null,"83 East Bridgewater",83,"EAST BRIDGEWATER"]
[84,null,"84 East Brookfield",84,"EAST BROOKFIELD"]
[85,null,"85 Eastham",85,"EASTHAM"]
[86,null,"86 Easthampton",86,"EASTHAMPTON"]
[87,null,"87 East Longmeadow",87,"EAST LONGMEADOW"]
[88,null,"88 Easton",88,"EASTON"]
[89,null,"89 Edgartown",89,"EDGARTOWN"]
[90,null,"90 Egremont",90,"EGREMONT"]
[91,null,"91 Erving",91,"ERVING"]
[92,null,"92 Essex",92,"ESSEX"]
[93,null,"93 Everett",93,"EVERETT"]
[94,null,"94 Fairhaven",94,"FAIRHAVEN"]
[95,null,"95 Fall River",95,"FALL RIVER"]
[96,null,"96 Falmouth",96,"FALMOUTH"]
[97,null,"97 Fitchburg",97,"FITCHBURG"]
[98,null,"98 Florida",98,"FLORIDA"]
[99,null,"99 Foxborough",99,"FOXBOROUGH"]
[100,null,"100 Framingham",100,"FRAMINGHAM"]
[101,null,"101 Franklin",101,"FRANKLIN"]
[102,null,"102 Freetown",102,"FREETOWN"]
[103,null,"103 Gardner",103,"GARDNER"]
[104,null,"104 Aquinnah",104,"AQUINNAH"]
[105,null,"105 Georgetown",105,"GEORGETOWN"]
[106,null,"106 Gill",106,"GILL"]
[107,null,"107 Gloucester",107,"GLOUCESTER"]
[108,null,"108 Goshen",108,"GOSHEN"]
[109,null,"109 Gosnold",109,"GOSNOLD"]
[110,null,"110 Grafton",110,"GRAFTON"]
[111,null,"111 Granby",111,"GRANBY"]
[112,null,"112 Granville",112,"GRANVILLE"]
[113,null,"113 Great Barrington",113,"GREAT BARRINGTON"]
[114,null,"114 Greenfield",114,"GREENFIELD"]
[115,null,"115 Groton",115,"GROTON"]
[116,null,"116 Groveland",116,"GROVELAND"]
[117,null,"117 Hadley",117,"HADLEY"]
[118,null,"118 Halifax",118,"HALIFAX"]
[119,null,"119 Hamilton",119,"HAMILTON"]
[120,null,"120 Hampden",120,"HAMPDEN"]
[121,null,"121 Hancock",121,"HANCOCK"]
[122,null,"122 Hanover",122,"HANOVER"]
[123,null,"123 Hanson",123,"HANSON"]
[124,null,"124 Hardwick",124,"HARDWICK"]
[125,null,"125 Harvard",125,"HARVARD"]
[126,null,"126 Harwich",126,"HARWICH"]
[127,null,"127 Hatfield",127,"HATFIELD"]
[128,null,"128 Haverhill",128,"HAVERHILL"]
[129,null,"129 Hawley",129,"HAWLEY"]
[130,null,{"$f":"PROPER(D134&\" \"&E134)","v":"130 Heath"},130,"HEATH"]
[131,null,"131 Hingham",131,"HINGHAM"]
[132,null,"132 Hinsdale",132,"HINSDALE"]
[133,null,"133 Holbrook",133,"HOLBROOK"]
[134,null,"134 Holden",134,"HOLDEN"]
[135,null,"135 Holland",135,"HOLLAND"]
[136,null,"136 Holliston",136,"HOLLISTON"]
[137,null,"137 Holyoke",137,"HOLYOKE"]
[138,null,"138 Hopedale",138,"HOPEDALE"]
[139,null,"139 Hopkinton",139,"HOPKINTON"]
[140,null,"140 Hubbardston",140,"HUBBARDSTON"]
[141,null,"141 Hudson",141,"HUDSON"]
[142,null,"142 Hull",142,"HULL"]
[143,null,"143 Huntington",143,"HUNTINGTON"]
[144,null,"144 Ipswich",144,"IPSWICH"]
[145,null,"145 Kingston",145,"KINGSTON"]
[146,null,"146 Lakeville",146,"LAKEVILLE"]
[147,null,"147 Lancaster",147,"LANCASTER"]
[148,null,"148 Lanesborough",148,"LANESBOROUGH"]
[149,null,"149 Lawrence",149,"LAWRENCE"]
[150,null,"150 Lee",150,"LEE"]
[151,null,"151 Leicester",151,"LEICESTER"]
[152,null,"152 Lenox",152,"LENOX"]
[153,null,"153 Leominster",153,"LEOMINSTER"]
[154,null,"154 Leverett",154,"LEVERETT"]
[155,null,"155 Lexington",155,"LEXINGTON"]
[156,null,"156 Leyden",156,"LEYDEN"]
[157,null,"157 Lincoln",157,"LINCOLN"]
[158,null,"158 Littleton",158,"LITTLETON"]
[159,null,"159 Longmeadow",159,"LONGMEADOW"]
[160,null,"160 Lowell",160,"LOWELL"]
[161,null,"161 Ludlow",161,"LUDLOW"]
[162,null,"162 Lunenburg",162,"LUNENBURG"]
[163,null,"163 Lynn",163,"LYNN"]
[164,null,"164 Lynnfield",164,"LYNNFIELD"]
[165,null,"165 Malden",165,"MALDEN"]
[166,null,"166 Manchester",166,"MANCHESTER"]
[167,null,"167 Mansfield",167,"MANSFIELD"]
[168,null,"168 Marblehead",168,"MARBLEHEAD"]
[169,null,"169 Marion",169,"MARION"]
[170,null,"170 Marlborough",170,"MARLBOROUGH"]
[171,null,"171 Marshfield",171,"MARSHFIELD"]
[172,null,"172 Mashpee",172,"MASHPEE"]
[173,null,"173 Mattapoisett",173,"MATTAPOISETT"]
[174,null,"174 Maynard",174,"MAYNARD"]
[175,null,"175 Medfield",175,"MEDFIELD"]
[176,null,"176 Medford",176,"MEDFORD"]
[177,null,"177 Medway",177,"MEDWAY"]
[178,null,"178 Melrose",178,"MELROSE"]
[179,null,"179 Mendon",179,"MENDON"]
[180,null,"180 Merrimac",180,"MERRIMAC"]
[181,null,"181 Methuen",181,"METHUEN"]
[182,null,"182 Middleborough",182,"MIDDLEBOROUGH"]
[183,null,"183 Middlefield",183,"MIDDLEFIELD"]
[184,null,"184 Middleton",184,"MIDDLETON"]
[185,null,"185 Milford",185,"MILFORD"]
[186,null,"186 Millbury",186,"MILLBURY"]
[187,null,"187 Millis",187,"MILLIS"]
[188,null,"188 Millville",188,"MILLVILLE"]
[189,null,"189 Milton",189,"MILTON"]
[190,null,"190 Monroe",190,"MONROE"]
[191,null,"191 Monson",191,"MONSON"]
[192,null,"192 Montague",192,"MONTAGUE"]
[193,null,"193 Monterey",193,"MONTEREY"]
[194,null,{"$f":"PROPER(D198&\" \"&E198)","v":"194 Montgomery"},194,"MONTGOMERY"]
[195,null,"195 Mount Washington",195,"MOUNT WASHINGTON"]
[196,null,"196 Nahant",196,"NAHANT"]
[197,null,"197 Nantucket",197,"NANTUCKET"]
[198,null,"198 Natick",198,"NATICK"]
[199,null,"199 Needham",199,"NEEDHAM"]
[200,null,"200 New Ashford",200,"NEW ASHFORD"]
[201,null,"201 New Bedford",201,"NEW BEDFORD"]
[202,null,"202 New Braintree",202,"NEW BRAINTREE"]
[203,null,"203 Newbury",203,"NEWBURY"]
[204,null,"204 Newburyport",204,"NEWBURYPORT"]
[205,null,"205 New Marlborough",205,"NEW MARLBOROUGH"]
[206,null,"206 New Salem",206,"NEW SALEM"]
[207,null,"207 Newton",207,"NEWTON"]
[208,null,"208 Norfolk",208,"NORFOLK"]
[209,null,"209 North Adams",209,"NORTH ADAMS"]
[210,null,"210 Northampton",210,"NORTHAMPTON"]
[211,null,"211 North Andover",211,"NORTH ANDOVER"]
[212,null,"212 North Attleborough",212,"NORTH ATTLEBOROUGH"]
[213,null,"213 Northborough",213,"NORTHBOROUGH"]
[214,null,"214 Northbridge",214,"NORTHBRIDGE"]
[215,null,"215 North Brookfield",215,"NORTH BROOKFIELD"]
[216,null,"216 Northfield",216,"NORTHFIELD"]
[217,null,"217 North Reading",217,"NORTH READING"]
[218,null,"218 Norton",218,"NORTON"]
[219,null,"219 Norwell",219,"NORWELL"]
[220,null,"220 Norwood",220,"NORWOOD"]
[221,null,"221 Oak Bluffs",221,"OAK BLUFFS"]
[222,null,"222 Oakham",222,"OAKHAM"]
[223,null,"223 Orange",223,"ORANGE"]
[224,null,"224 Orleans",224,"ORLEANS"]
[225,null,"225 Otis",225,"OTIS"]
[226,null,"226 Oxford",226,"OXFORD"]
[227,null,"227 Palmer",227,"PALMER"]
[228,null,"228 Paxton",228,"PAXTON"]
[229,null,"229 Peabody",229,"PEABODY"]
[230,null,"230 Pelham",230,"PELHAM"]
[231,null,"231 Pembroke",231,"PEMBROKE"]
[232,null,"232 Pepperell",232,"PEPPERELL"]
[233,null,"233 Peru",233,"PERU"]
[234,null,"234 Petersham",234,"PETERSHAM"]
[235,null,"235 Phillipston",235,"PHILLIPSTON"]
[236,null,"236 Pittsfield",236,"PITTSFIELD"]
[237,null,"237 Plainfield",237,"PLAINFIELD"]
[238,null,"238 Plainville",238,"PLAINVILLE"]
[239,null,"239 Plymouth",239,"PLYMOUTH"]
[240,null,"240 Plympton",240,"PLYMPTON"]
[241,null,"241 Princeton",241,"PRINCETON"]
[242,null,"242 Provincetown",242,"PROVINCETOWN"]
[243,null,"243 Quincy",243,"QUINCY"]
[244,null,"244 Randolph",244,"RANDOLPH"]
[245,null,"245 Raynham",245,"RAYNHAM"]
[246,null,"246 Reading",246,"READING"]
[247,null,"247 Rehoboth",247,"REHOBOTH"]
[248,null,"248 Revere",248,"REVERE"]
[249,null,"249 Richmond",249,"RICHMOND"]
[250,null,"250 Rochester",250,"ROCHESTER"]
[251,null,"251 Rockland",251,"ROCKLAND"]
[252,null,"252 Rockport",252,"ROCKPORT"]
[253,null,"253 Rowe",253,"ROWE"]
[254,null,"254 Rowley",254,"ROWLEY"]
[255,null,"255 Royalston",255,"ROYALSTON"]
[256,null,"256 Russell",256,"RUSSELL"]
[257,null,"257 Rutland",257,"RUTLAND"]
[258,null,{"$f":"PROPER(D262&\" \"&E262)","v":"258 Salem"},258,"SALEM"]
[259,null,"259 Salisbury",259,"SALISBURY"]
[260,null,"260 Sandisfield",260,"SANDISFIELD"]
[261,null,"261 Sandwich",261,"SANDWICH"]
[262,null,"262 Saugus",262,"SAUGUS"]
[263,null,"263 Savoy",263,"SAVOY"]
[264,null,"264 Scituate",264,"SCITUATE"]
[265,null,"265 Seekonk",265,"SEEKONK"]
[266,null,"266 Sharon",266,"SHARON"]
[267,null,"267 Sheffield",267,"SHEFFIELD"]
[268,null,"268 Shelburne",268,"SHELBURNE"]
[269,null,"269 Sherborn",269,"SHERBORN"]
[270,null,"270 Shirley",270,"SHIRLEY"]
[271,null,"271 Shrewsbury",271,"SHREWSBURY"]
[272,null,"272 Shutesbury",272,"SHUTESBURY"]
[273,null,"273 Somerset",273,"SOMERSET"]
[274,null,"274 Somerville",274,"SOMERVILLE"]
[275,null,"275 Southampton",275,"SOUTHAMPTON"]
[276,null,"276 Southborough",276,"SOUTHBOROUGH"]
[277,null,"277 Southbridge",277,"SOUTHBRIDGE"]
[278,null,"278 South Hadley",278,"SOUTH HADLEY"]
[279,null,"279 Southwick",279,"SOUTHWICK"]
[280,null,"280 Spencer",280,"SPENCER"]
[281,null,"281 Springfield",281,"SPRINGFIELD"]
[282,null,"282 Sterling",282,"STERLING"]
[283,null,"283 Stockbridge",283,"STOCKBRIDGE"]
[284,null,"284 Stoneham",284,"STONEHAM"]
[285,null,"285 Stoughton",285,"STOUGHTON"]
[286,null,"286 Stow",286,"STOW"]
[287,null,"287 Sturbridge",287,"STURBRIDGE"]
[288,null,"288 Sudbury",288,"SUDBURY"]
[289,null,"289 Sunderland",289,"SUNDERLAND"]
[290,null,"290 Sutton",290,"SUTTON"]
[291,null,"291 Swampscott",291,"SWAMPSCOTT"]
[292,null,"292 Swansea",292,"SWANSEA"]
[293,null,"293 Taunton",293,"TAUNTON"]
[294,null,"294 Templeton",294,"TEMPLETON"]
[295,null,"295 Tewksbury",295,"TEWKSBURY"]
[296,null,"296 Tisbury",296,"TISBURY"]
[297,null,"297 Tolland",297,"TOLLAND"]
[298,null,"298 Topsfield",298,"TOPSFIELD"]
[299,null,"299 Townsend",299,"TOWNSEND"]
[300,null,"300 Truro",300,"TRURO"]
[301,null,"301 Tyngsborough",301,"TYNGSBOROUGH"]
[302,null,"302 Tyringham",302,"TYRINGHAM"]
[303,null,"303 Upton",303,"UPTON"]
[304,null,"304 Uxbridge",304,"UXBRIDGE"]
[305,null,"305 Wakefield",305,"WAKEFIELD"]
[306,null,"306 Wales",306,"WALES"]
[307,null,"307 Walpole",307,"WALPOLE"]
[308,null,"308 Waltham",308,"WALTHAM"]
[309,null,"309 Ware",309,"WARE"]
[310,null,"310 Wareham",310,"WAREHAM"]
[311,null,"311 Warren",311,"WARREN"]
[312,null,"312 Warwick",312,"WARWICK"]
[313,null,"313 Washington",313,"WASHINGTON"]
[314,null,"314 Watertown",314,"WATERTOWN"]
[315,null,"315 Wayland",315,"WAYLAND"]
[316,null,"316 Webster",316,"WEBSTER"]
[317,null,"317 Wellesley",317,"WELLESLEY"]
[318,null,"318 Wellfleet",318,"WELLFLEET"]
[319,null,"319 Wendell",319,"WENDELL"]
[320,null,"320 Wenham",320,"WENHAM"]
[321,null,"321 Westborough",321,"WESTBOROUGH"]
[322,null,{"$f":"PROPER(D326&\" \"&E326)","v":"322 West Boylston"},322,"WEST BOYLSTON"]
[323,null,"323 West Bridgewater",323,"WEST BRIDGEWATER"]
[324,null,"324 West Brookfield",324,"WEST BROOKFIELD"]
[325,null,"325 Westfield",325,"WESTFIELD"]
[326,null,"326 Westford",326,"WESTFORD"]
[327,null,"327 Westhampton",327,"WESTHAMPTON"]
[328,null,"328 Westminster",328,"WESTMINSTER"]
[329,null,"329 West Newbury",329,"WEST NEWBURY"]
[330,null,"330 Weston",330,"WESTON"]
[331,null,"331 Westport",331,"WESTPORT"]
[332,null,"332 West Springfield",332,"WEST SPRINGFIELD"]
[333,null,"333 West Stockbridge",333,"WEST STOCKBRIDGE"]
[334,null,"334 West Tisbury",334,"WEST TISBURY"]
[335,null,"335 Westwood",335,"WESTWOOD"]
[336,null,"336 Weymouth",336,"WEYMOUTH"]
[337,null,"337 Whately",337,"WHATELY"]
[338,null,"338 Whitman",338,"WHITMAN"]
[339,null,"339 Wilbraham",339,"WILBRAHAM"]
[340,null,"340 Williamsburg",340,"WILLIAMSBURG"]
[341,null,"341 Williamstown",341,"WILLIAMSTOWN"]
[342,null,"342 Wilmington",342,"WILMINGTON"]
[343,null,"343 Winchendon",343,"WINCHENDON"]
[344,null,"344 Winchester",344,"WINCHESTER"]
[345,null,"345 Windsor",345,"WINDSOR"]
[346,null,"346 Winthrop",346,"WINTHROP"]
[347,null,"347 Woburn",347,"WOBURN"]
[348,null,"348 Worcester",348,"WORCESTER"]
[349,null,"349 Worthington",349,"WORTHINGTON"]
[350,null,"350 Wrentham",350,"WRENTHAM"]
[351,null,"351 Yarmouth",351,"YARMOUTH"]
[352,null,"352 Devens",352,"DEVENS"]
[353,null,"353 Southfield",353,"SOUTHFIELD"]
[354,1,"406 Northampton Smith",406,"NORTHAMPTON SMITH","regdistricts"]
[355,2,"600 Acton Boxborough",600,"ACTON BOXBOROUGH"]
[356,3,"603 Adams Cheshire",603,"ADAMS CHESHIRE"]
[357,4,"605 Amherst Pelham",605,"AMHERST PELHAM"]
[358,5,"610 Ashburnham Westminster",610,"ASHBURNHAM WESTMINSTER"]
[359,6,"615 Athol Royalston",615,"ATHOL ROYALSTON"]
[360,7,"616 Ayer Shirley",616,"AYER SHIRLEY"]
[361,8,"618 Berkshire Hills",618,"BERKSHIRE HILLS"]
[362,9,"620 Berlin Boylston",620,"BERLIN BOYLSTON"]
[363,10,"622 Blackstone Millville",622,"BLACKSTONE MILLVILLE"]
[364,11,"625 Bridgewater Raynham",625,"BRIDGEWATER RAYNHAM"]
[365,12,"632 Chesterfield Goshen",632,"CHESTERFIELD GOSHEN"]
[366,13,"635 Central Berkshire",635,"CENTRAL BERKSHIRE"]
[367,14,"640 Concord Carlisle",640,"CONCORD CARLISLE"]
[368,15,"645 Dennis Yarmouth",645,"DENNIS YARMOUTH"]
[369,16,"650 Dighton Rehoboth",650,"DIGHTON REHOBOTH"]
[370,17,"655 Dover Sherborn",655,"DOVER SHERBORN"]
[371,18,"658 Dudley Charlton",658,"DUDLEY CHARLTON"]
[372,19,"660 Nauset",660,"NAUSET"]
[373,20,"662 Farmington River",662,"FARMINGTON RIVER"]
[374,21,"665 Freetown Lakeville",665,"FREETOWN LAKEVILLE"]
[375,22,"670 Frontier",670,"FRONTIER"]
[376,23,"672 Gateway",672,"GATEWAY"]
[377,24,"673 Groton Dunstable",673,"GROTON DUNSTABLE"]
[378,25,"674 Gill Montague",674,"GILL MONTAGUE"]
[379,26,"675 Hamilton Wenham",675,"HAMILTON WENHAM"]
[380,27,"680 Hampden Wilbraham",680,"HAMPDEN WILBRAHAM"]
[381,28,"683 Hampshire",683,"HAMPSHIRE"]
[382,29,"685 Hawlemont",685,"HAWLEMONT"]
[383,30,"690 King Philip",690,"KING PHILIP"]
[384,31,"695 Lincoln Sudbury",695,"LINCOLN SUDBURY"]
[385,32,"698 Manchester Essex",698,"MANCHESTER ESSEX"]
[386,33,{"$f":"PROPER(D390&\" \"&E390)","v":"700 Marthas Vineyard"},700,"MARTHAS VINEYARD"]
[387,34,"705 Masconomet",705,"MASCONOMET"]
[388,35,"710 Mendon Upton",710,"MENDON UPTON"]
[389,36,"712 Monomoy",712,"MONOMOY"]
[390,37,"715 Mount Greylock",715,"MOUNT GREYLOCK"]
[391,38,"717 Mohawk Trail",717,"MOHAWK TRAIL"]
[392,39,"720 Narragansett",720,"NARRAGANSETT"]
[393,40,"725 Nashoba",725,"NASHOBA"]
[394,41,"728 New Salem Wendell",728,"NEW SALEM WENDELL"]
[395,42,"730 Northboro Southboro",730,"NORTHBORO SOUTHBORO"]
[396,43,"735 North Middlesex",735,"NORTH MIDDLESEX"]
[397,44,"740 Old Rochester",740,"OLD ROCHESTER"]
[398,45,"745 Pentucket",745,"PENTUCKET"]
[399,46,"750 Pioneer",750,"PIONEER"]
[400,47,"753 Quabbin",753,"QUABBIN"]
[401,48,"755 Ralph C Mahar",755,"RALPH C MAHAR"]
[402,49,"760 Silver Lake",760,"SILVER LAKE"]
[403,50,"763 Somerset Berkley",763,"SOMERSET BERKLEY"]
[404,51,"765 Southern Berkshire",765,"SOUTHERN BERKSHIRE"]
[405,52,"766 Southwick Tolland Granville",766,"SOUTHWICK TOLLAND GRANVILLE"]
[406,53,"767 Spencer East Brookfield",767,"SPENCER EAST BROOKFIELD"]
[407,54,"770 Tantasqua",770,"TANTASQUA"]
[408,55,"773 Triton",773,"TRITON"]
[409,56,"774 Upisland",774,"UPISLAND"]
[410,57,"775 Wachusett",775,"WACHUSETT"]
[411,58,"778 Quaboag",778,"QUABOAG"]
[412,59,"780 Whitman Hanson",780,"WHITMAN HANSON"]
[413,60,"801 Assabet Valley",801,"ASSABET VALLEY"]
[414,61,"805 Blackstone Valley",805,"BLACKSTONE VALLEY"]
[415,62,"806 Blue Hills",806,"BLUE HILLS"]
[416,63,"810 Bristol Plymouth",810,"BRISTOL PLYMOUTH"]
[417,64,"815 Cape Cod",815,"CAPE COD"]
[418,65,"817 Essex North Shore",817,"ESSEX NORTH SHORE"]
[419,66,"818 Franklin County",818,"FRANKLIN COUNTY"]
[420,67,"821 Greater Fall River",821,"GREATER FALL RIVER"]
[421,68,"823 Greater Lawrence",823,"GREATER LAWRENCE"]
[422,69,"825 Greater New Bedford",825,"GREATER NEW BEDFORD"]
[423,70,"828 Greater Lowell",828,"GREATER LOWELL"]
[424,71,"829 South Middlesex",829,"SOUTH MIDDLESEX"]
[425,72,"830 Minuteman",830,"MINUTEMAN"]
[426,73,"832 Montachusett",832,"MONTACHUSETT"]
[427,74,"851 Northern Berkshire",851,"NORTHERN BERKSHIRE"]
[428,75,"852 Nashoba Valley",852,"NASHOBA VALLEY"]
[429,76,"853 Northeast Metropolitan",853,"NORTHEAST METROPOLITAN"]
[430,77,"855 Old Colony",855,"OLD COLONY"]
[431,78,"860 Pathfinder",860,"PATHFINDER"]
[432,79,"871 Shawsheen Valley",871,"SHAWSHEEN VALLEY"]
[433,80,"872 Southeastern",872,"SOUTHEASTERN"]
[434,81,"873 South Shore",873,"SOUTH SHORE"]
[435,82,"876 Southern Worcester",876,"SOUTHERN WORCESTER"]
[436,83,"878 Tri County",878,"TRI COUNTY"]
[437,84,"879 Upper Cape Cod",879,"UPPER CAPE COD"]
[438,85,"885 Whittier",885,"WHITTIER"]
[439,86,"910 Bristol County",910,"BRISTOL COUNTY"]
[440,87,"915 Norfolk County",915,"NORFOLK COUNTY"]
[441,null,"999 Total",999,"TOTAL"]